{"text_format":"1","workbook":"xlsx","n_sheets":4,"sheets":["PIVOT","DB FPP","SIP","Sheet2"],"not_rendered":{"charts":0,"images":2,"macros":1,"external_links":0,"defined_names":4,"comments":0,"pivot_tables":0},"unopened":[],"bounds":{"document_bytes":16777216,"sheet_cells":100000,"rows_first":2000,"rows_last":500,"rows_between":2000,"halvings":0,"cell_chars":16384,"cell_head_chars":4096},"cells_cut":0,"cells_raw":0,"read":"whole","date_system":"1900"}

{"sheet":"PIVOT","index":0,"n_rows":465,"n_cols":12,"rows_kept":465,"cut":false,"hidden":false,"merged":[]}
[]
[null,"DepoName","DEPO B"]
[null,"BULAN","APRIL"]
[null,"OFF/ON","OFF FAKTUR"]
[null,"Status","Confirmed"]
[]
[]
["NO","FPPGroupCode","NO Claim","Activity","Location","PeriodeStart","PeriodeEnd","Amount_FPPDepo","AmountClaim","Sisah Budget FPP","Status Claim","OFF/ON"]
[{"$f":"IF(LEN($B9),ROW(A1),\"\")","v":""},{"$f":"IFERROR(INDEX(Table2[FPPGroupCode],_xlfn.AGGREGATE(15,6,(ROW(Table2[FPPGroupCode])-2)/(Table2[DepoName]=$C$2)/(IF($C$3<>\"\",Table2[BULAN]=$C$3,TRUE))/(IF($C$4<>\"\",Table2[OFF/ON]=$C$4,TRUE))/(IF($C$5<>\"\",Table2[Status]=$C$5,TRUE))/(IF($C$6<>\"\",Table2[FPPDate]=$C$6,TRUE))/(IF($C$7<>\"\",Table2[ProposalCode]=$C$7,TRUE)),ROW(A1))),\"\")","v":""},{"$f":"IFERROR(VLOOKUP($B9,SIP!$D$3:$Q$12237,14,0),0)","v":0},{"$f":"IFERROR(INDEX(Table2[Activity],_xlfn.AGGREGATE(15,6,(ROW(Table2[FPPGroupCode])-2)/(Table2[DepoName]=$C$2)/(IF($C$3<>\"\",Table2[BULAN]=$C$3,TRUE))/(IF($C$4<>\"\",Table2[OFF/ON]=$C$4,TRUE))/(IF($C$5<>\"\",Table2[Status]=$C$5,TRUE))/(IF($C$6<>\"\",Table2[]=$C$6,TRUE))/(IF($C$7<>\"\",Table2[ProposalCode]=$C$7,TRUE)),ROW(B1))),\"\")","v":""},{"$f":"IFERROR(INDEX(Table2[Location],_xlfn.AGGREGATE(15,6,(ROW(Table2[FPPGroupCode])-2)/(Table2[DepoName]=$C$2)/(IF($C$3<>\"\",Table2[BULAN]=$C$3,TRUE))/(IF($C$4<>\"\",Table2[OFF/ON]=$C$4,TRUE))/(IF($C$5<>\"\",Table2[Status]=$C$5,TRUE))/(IF($C$6<>\"\",Table2[FPPDate]=$C$6,TRUE))/(IF($C$7<>\"\",Table2[ProposalCode]=$C$7,TRUE)),ROW(D1))),\"\")","v":""},{"$f":"IFERROR(INDEX(Table2[PeriodeStart],_xlfn.AGGREGATE(15,6,(ROW(Table2[FPPGroupCode])-2)/(Table2[DepoName]=$C$2)/(IF($C$3<>\"\",Table2[BULAN]=$C$3,TRUE))/(IF($C$4<>\"\",Table2[OFF/ON]=$C$4,TRUE))/(IF($C$5<>\"\",Table2[Status]=$C$5,TRUE))/(IF($C$6<>\"\",Table2[FPPDate]=$C$6,TRUE))/(IF($C$7<>\"\",Table2[ProposalCode]=$C$7,TRUE)),ROW(E1))),\"\")","v":""},{"$f":"IFERROR(INDEX(Table2[PeriodeEnd],_xlfn.AGGREGATE(15,6,(ROW(Table2[FPPGroupCode])-2)/(Table2[DepoName]=$C$2)/(IF($C$3<>\"\",Table2[BULAN]=$C$3,TRUE))/(IF($C$4<>\"\",Table2[OFF/ON]=$C$4,TRUE))/(IF($C$5<>\"\",Table2[Status]=$C$5,TRUE))/(IF($C$6<>\"\",Table2[FPPDate]=$C$6,TRUE))/(IF($C$7<>\"\",Table2[ProposalCode]=$C$7,TRUE)),ROW(F1))),\"\")","v":""},{"$f":"IFERROR(INDEX(Table2[Amount_FPPDepo],_xlfn.AGGREGATE(15,6,(ROW(Table2[FPPGroupCode])-2)/(Table2[DepoName]=$C$2)/(IF($C$3<>\"\",Table2[BULAN]=$C$3,TRUE))/(IF($C$4<>\"\",Table2[OFF/ON]=$C$4,TRUE))/(IF($C$5<>\"\",Table2[Status]=$C$5,TRUE))/(IF($C$6<>\"\",Table2[FPPDate]=$C$6,TRUE))/(IF($C$7<>\"\",Table2[ProposalCode]=$C$7,TRUE)),ROW(G1))),\"\")","v":""},{"$f":"IFERROR(VLOOKUP($B9,SIP!$D$5776:$P$6032,12,0),0)","v":0},{"$f":"IFERROR(H9-I9,0)","v":0},{"$f":"IFERROR(VLOOKUP($B9,SIP!$D$5776:$P$6032,8,0),0)","v":0},{"$f":"IFERROR(INDEX(Table2[OFF/ON],_xlfn.AGGREGATE(15,6,(ROW(Table2[FPPGroupCode])-2)/(Table2[DepoName]=$C$2)/(IF($C$3<>\"\",Table2[BULAN]=$C$3,TRUE))/(IF($C$4<>\"\",Table2[OFF/ON]=$C$4,TRUE))/(IF($C$5<>\"\",Table2[Status]=$C$5,TRUE))/(IF($C$6<>\"\",Table2[FPPDate]=$C$6,TRUE))/(IF($C$7<>\"\",Table2[ProposalCode]=$C$7,TRUE)),ROW(K1))),\"\")","v":""}]
[{"$f":"IF(LEN($B10),ROW(A2),\"\")","v":""},{"$f":"IFERROR(INDEX(Table2[FPPGroupCode],_xlfn.AGGREGATE(15,6,(ROW(Table2[FPPGroupCode])-2)/(Table2[DepoName]=$C$2)/(IF($C$3<>\"\",Table2[BULAN]=$C$3,TRUE))/(IF($C$4<>\"\",Table2[OFF/ON]=$C$4,TRUE))/(IF($C$5<>\"\",Table2[Status]=$C$5,TRUE))/(IF($C$6<>\"\",Table2[FPPDate]=$C$6,TRUE))/(IF($C$7<>\"\",Table2[ProposalCode]=$C$7,TRUE)),ROW(A2))),\"\")","v":""},{"$f":"IFERROR(VLOOKUP($B10,SIP!$D$3:$Q$12237,14,0),0)","v":0},{"$f":"IFERROR(INDEX(Table2[Activity],_xlfn.AGGREGATE(15,6,(ROW(Table2[FPPGroupCode])-2)/(Table2[DepoName]=$C$2)/(IF($C$3<>\"\",Table2[BULAN]=$C$3,TRUE))/(IF($C$4<>\"\",Table2[OFF/ON]=$C$4,TRUE))/(IF($C$5<>\"\",Table2[Status]=$C$5,TRUE))/(IF($C$6<>\"\",Table2[]=$C$6,TRUE))/(IF($C$7<>\"\",Table2[ProposalCode]=$C$7,TRUE)),ROW(B2))),\"\")","v":""},{"$f":"IFERROR(INDEX(Table2[Location],_xlfn.AGGREGATE(15,6,(ROW(Table2[FPPGroupCode])-2)/(Table2[DepoName]=$C$2)/(IF($C$3<>\"\",Table2[BULAN]=$C$3,TRUE))/(IF($C$4<>\"\",Table2[OFF/ON]=$C$4,TRUE))/(IF($C$5<>\"\",Table2[Status]=$C$5,TRUE))/(IF($C$6<>\"\",Table2[FPPDate]=$C$6,TRUE))/(IF($C$7<>\"\",Table2[ProposalCode]=$C$7,TRUE)),ROW(D2))),\"\")","v":""},{"$f":"IFERROR(INDEX(Table2[PeriodeStart],_xlfn.AGGREGATE(15,6,(ROW(Table2[FPPGroupCode])-2)/(Table2[DepoName]=$C$2)/(IF($C$3<>\"\",Table2[BULAN]=$C$3,TRUE))/(IF($C$4<>\"\",Table2[OFF/ON]=$C$4,TRUE))/(IF($C$5<>\"\",Table2[Status]=$C$5,TRUE))/(IF($C$6<>\"\",Table2[FPPDate]=$C$6,TRUE))/(IF($C$7<>\"\",Table2[ProposalCode]=$C$7,TRUE)),ROW(E2))),\"\")","v":""},{"$f":"IFERROR(INDEX(Table2[PeriodeEnd],_xlfn.AGGREGATE(15,6,(ROW(Table2[FPPGroupCode])-2)/(Table2[DepoName]=$C$2)/(IF($C$3<>\"\",Table2[BULAN]=$C$3,TRUE))/(IF($C$4<>\"\",Table2[OFF/ON]=$C$4,TRUE))/(IF($C$5<>\"\",Table2[Status]=$C$5,TRUE))/(IF($C$6<>\"\",Table2[FPPDate]=$C$6,TRUE))/(IF($C$7<>\"\",Table2[ProposalCode]=$C$7,TRUE)),ROW(F2))),\"\")","v":""},{"$f":"IFERROR(INDEX(Table2[Amount_FPPDepo],_xlfn.AGGREGATE(15,6,(ROW(Table2[FPPGroupCode])-2)/(Table2[DepoName]=$C$2)/(IF($C$3<>\"\",Table2[BULAN]=$C$3,TRUE))/(IF($C$4<>\"\",Table2[OFF/ON]=$C$4,TRUE))/(IF($C$5<>\"\",Table2[Status]=$C$5,TRUE))/(IF($C$6<>\"\",Table2[FPPDate]=$C$6,TRUE))/(IF($C$7<>\"\",Table2[ProposalCode]=$C$7,TRUE)),ROW(G2))),\"\")","v":""},{"$f":"IFERROR(VLOOKUP($B10,SIP!$D$5776:$P$6032,12,0),0)","v":0},{"$f":"IFERROR(H10-I10,0)","v":0},{"$f":"IFERROR(VLOOKUP($B10,SIP!$D$5776:$P$6032,8,0),0)","v":0},{"$f":"IFERROR(INDEX(Table2[OFF/ON],_xlfn.AGGREGATE(15,6,(ROW(Table2[FPPGroupCode])-2)/(Table2[DepoName]=$C$2)/(IF($C$3<>\"\",Table2[BULAN]=$C$3,TRUE))/(IF($C$4<>\"\",Table2[OFF/ON]=$C$4,TRUE))/(IF($C$5<>\"\",Table2[Status]=$C$5,TRUE))/(IF($C$6<>\"\",Table2[FPPDate]=$C$6,TRUE))/(IF($C$7<>\"\",Table2[ProposalCode]=$C$7,TRUE)),ROW(K2))),\"\")","v":""}]
[{"$f":"IF(LEN($B11),ROW(A3),\"\")","v":""},{"$f":"IFERROR(INDEX(Table2[FPPGroupCode],_xlfn.AGGREGATE(15,6,(ROW(Table2[FPPGroupCode])-2)/(Table2[DepoName]=$C$2)/(IF($C$3<>\"\",Table2[BULAN]=$C$3,TRUE))/(IF($C$4<>\"\",Table2[OFF/ON]=$C$4,TRUE))/(IF($C$5<>\"\",Table2[Status]=$C$5,TRUE))/(IF($C$6<>\"\",Table2[FPPDate]=$C$6,TRUE))/(IF($C$7<>\"\",Table2[ProposalCode]=$C$7,TRUE)),ROW(A3))),\"\")","v":""},{"$f":"IFERROR(VLOOKUP($B11,SIP!$D$3:$Q$12237,14,0),0)","v":0},{"$f":"IFERROR(INDEX(Table2[Activity],_xlfn.AGGREGATE(15,6,(ROW(Table2[FPPGroupCode])-2)/(Table2[DepoName]=$C$2)/(IF($C$3<>\"\",Table2[BULAN]=$C$3,TRUE))/(IF($C$4<>\"\",Table2[OFF/ON]=$C$4,TRUE))/(IF($C$5<>\"\",Table2[Status]=$C$5,TRUE))/(IF($C$6<>\"\",Table2[]=$C$6,TRUE))/(IF($C$7<>\"\",Table2[ProposalCode]=$C$7,TRUE)),ROW(B3))),\"\")","v":""},{"$f":"IFERROR(INDEX(Table2[Location],_xlfn.AGGREGATE(15,6,(ROW(Table2[FPPGroupCode])-2)/(Table2[DepoName]=$C$2)/(IF($C$3<>\"\",Table2[BULAN]=$C$3,TRUE))/(IF($C$4<>\"\",Table2[OFF/ON]=$C$4,TRUE))/(IF($C$5<>\"\",Table2[Status]=$C$5,TRUE))/(IF($C$6<>\"\",Table2[FPPDate]=$C$6,TRUE))/(IF($C$7<>\"\",Table2[ProposalCode]=$C$7,TRUE)),ROW(D3))),\"\")","v":""},{"$f":"IFERROR(INDEX(Table2[PeriodeStart],_xlfn.AGGREGATE(15,6,(ROW(Table2[FPPGroupCode])-2)/(Table2[DepoName]=$C$2)/(IF($C$3<>\"\",Table2[BULAN]=$C$3,TRUE))/(IF($C$4<>\"\",Table2[OFF/ON]=$C$4,TRUE))/(IF($C$5<>\"\",Table2[Status]=$C$5,TRUE))/(IF($C$6<>\"\",Table2[FPPDate]=$C$6,TRUE))/(IF($C$7<>\"\",Table2[ProposalCode]=$C$7,TRUE)),ROW(E3))),\"\")","v":""},{"$f":"IFERROR(INDEX(Table2[PeriodeEnd],_xlfn.AGGREGATE(15,6,(ROW(Table2[FPPGroupCode])-2)/(Table2[DepoName]=$C$2)/(IF($C$3<>\"\",Table2[BULAN]=$C$3,TRUE))/(IF($C$4<>\"\",Table2[OFF/ON]=$C$4,TRUE))/(IF($C$5<>\"\",Table2[Status]=$C$5,TRUE))/(IF($C$6<>\"\",Table2[FPPDate]=$C$6,TRUE))/(IF($C$7<>\"\",Table2[ProposalCode]=$C$7,TRUE)),ROW(F3))),\"\")","v":""},{"$f":"IFERROR(INDEX(Table2[Amount_FPPDepo],_xlfn.AGGREGATE(15,6,(ROW(Table2[FPPGroupCode])-2)/(Table2[DepoName]=$C$2)/(IF($C$3<>\"\",Table2[BULAN]=$C$3,TRUE))/(IF($C$4<>\"\",Table2[OFF/ON]=$C$4,TRUE))/(IF($C$5<>\"\",Table2[Status]=$C$5,TRUE))/(IF($C$6<>\"\",Table2[FPPDate]=$C$6,TRUE))/(IF($C$7<>\"\",Table2[ProposalCode]=$C$7,TRUE)),ROW(G3))),\"\")","v":""},{"$f":"IFERROR(VLOOKUP($B11,SIP!$D$5776:$P$6032,12,0),0)","v":0},{"$f":"IFERROR(H11-I11,0)","v":0},{"$f":"IFERROR(VLOOKUP($B11,SIP!$D$5776:$P$6032,8,0),0)","v":0},{"$f":"IFERROR(INDEX(Table2[OFF/ON],_xlfn.AGGREGATE(15,6,(ROW(Table2[FPPGroupCode])-2)/(Table2[DepoName]=$C$2)/(IF($C$3<>\"\",Table2[BULAN]=$C$3,TRUE))/(IF($C$4<>\"\",Table2[OFF/ON]=$C$4,TRUE))/(IF($C$5<>\"\",Table2[Status]=$C$5,TRUE))/(IF($C$6<>\"\",Table2[FPPDate]=$C$6,TRUE))/(IF($C$7<>\"\",Table2[ProposalCode]=$C$7,TRUE)),ROW(K3))),\"\")","v":""}]
[{"$f":"IF(LEN($B12),ROW(A4),\"\")","v":""},{"$f":"IFERROR(INDEX(Table2[FPPGroupCode],_xlfn.AGGREGATE(15,6,(ROW(Table2[FPPGroupCode])-2)/(Table2[DepoName]=$C$2)/(IF($C$3<>\"\",Table2[BULAN]=$C$3,TRUE))/(IF($C$4<>\"\",Table2[OFF/ON]=$C$4,TRUE))/(IF($C$5<>\"\",Table2[Status]=$C$5,TRUE))/(IF($C$6<>\"\",Table2[FPPDate]=$C$6,TRUE))/(IF($C$7<>\"\",Table2[ProposalCode]=$C$7,TRUE)),ROW(A4))),\"\")","v":""},{"$f":"IFERROR(VLOOKUP($B12,SIP!$D$3:$Q$12237,14,0),0)","v":0},{"$f":"IFERROR(INDEX(Table2[Activity],_xlfn.AGGREGATE(15,6,(ROW(Table2[FPPGroupCode])-2)/(Table2[DepoName]=$C$2)/(IF($C$3<>\"\",Table2[BULAN]=$C$3,TRUE))/(IF($C$4<>\"\",Table2[OFF/ON]=$C$4,TRUE))/(IF($C$5<>\"\",Table2[Status]=$C$5,TRUE))/(IF($C$6<>\"\",Table2[]=$C$6,TRUE))/(IF($C$7<>\"\",Table2[ProposalCode]=$C$7,TRUE)),ROW(B4))),\"\")","v":""},{"$f":"IFERROR(INDEX(Table2[Location],_xlfn.AGGREGATE(15,6,(ROW(Table2[FPPGroupCode])-2)/(Table2[DepoName]=$C$2)/(IF($C$3<>\"\",Table2[BULAN]=$C$3,TRUE))/(IF($C$4<>\"\",Table2[OFF/ON]=$C$4,TRUE))/(IF($C$5<>\"\",Table2[Status]=$C$5,TRUE))/(IF($C$6<>\"\",Table2[FPPDate]=$C$6,TRUE))/(IF($C$7<>\"\",Table2[ProposalCode]=$C$7,TRUE)),ROW(D4))),\"\")","v":""},{"$f":"IFERROR(INDEX(Table2[PeriodeStart],_xlfn.AGGREGATE(15,6,(ROW(Table2[FPPGroupCode])-2)/(Table2[DepoName]=$C$2)/(IF($C$3<>\"\",Table2[BULAN]=$C$3,TRUE))/(IF($C$4<>\"\",Table2[OFF/ON]=$C$4,TRUE))/(IF($C$5<>\"\",Table2[Status]=$C$5,TRUE))/(IF($C$6<>\"\",Table2[FPPDate]=$C$6,TRUE))/(IF($C$7<>\"\",Table2[ProposalCode]=$C$7,TRUE)),ROW(E4))),\"\")","v":""},{"$f":"IFERROR(INDEX(Table2[PeriodeEnd],_xlfn.AGGREGATE(15,6,(ROW(Table2[FPPGroupCode])-2)/(Table2[DepoName]=$C$2)/(IF($C$3<>\"\",Table2[BULAN]=$C$3,TRUE))/(IF($C$4<>\"\",Table2[OFF/ON]=$C$4,TRUE))/(IF($C$5<>\"\",Table2[Status]=$C$5,TRUE))/(IF($C$6<>\"\",Table2[FPPDate]=$C$6,TRUE))/(IF($C$7<>\"\",Table2[ProposalCode]=$C$7,TRUE)),ROW(F4))),\"\")","v":""},{"$f":"IFERROR(INDEX(Table2[Amount_FPPDepo],_xlfn.AGGREGATE(15,6,(ROW(Table2[FPPGroupCode])-2)/(Table2[DepoName]=$C$2)/(IF($C$3<>\"\",Table2[BULAN]=$C$3,TRUE))/(IF($C$4<>\"\",Table2[OFF/ON]=$C$4,TRUE))/(IF($C$5<>\"\",Table2[Status]=$C$5,TRUE))/(IF($C$6<>\"\",Table2[FPPDate]=$C$6,TRUE))/(IF($C$7<>\"\",Table2[ProposalCode]=$C$7,TRUE)),ROW(G4))),\"\")","v":""},{"$f":"IFERROR(VLOOKUP($B12,SIP!$D$5776:$P$6032,12,0),0)","v":0},{"$f":"IFERROR(H12-I12,0)","v":0},{"$f":"IFERROR(VLOOKUP($B12,SIP!$D$5776:$P$6032,8,0),0)","v":0},{"$f":"IFERROR(INDEX(Table2[OFF/ON],_xlfn.AGGREGATE(15,6,(ROW(Table2[FPPGroupCode])-2)/(Table2[DepoName]=$C$2)/(IF($C$3<>\"\",Table2[BULAN]=$C$3,TRUE))/(IF($C$4<>\"\",Table2[OFF/ON]=$C$4,TRUE))/(IF($C$5<>\"\",Table2[Status]=$C$5,TRUE))/(IF($C$6<>\"\",Table2[FPPDate]=$C$6,TRUE))/(IF($C$7<>\"\",Table2[ProposalCode]=$C$7,TRUE)),ROW(K4))),\"\")","v":""}]
[{"$f":"IF(LEN($B13),ROW(A5),\"\")","v":""},{"$f":"IFERROR(INDEX(Table2[FPPGroupCode],_xlfn.AGGREGATE(15,6,(ROW(Table2[FPPGroupCode])-2)/(Table2[DepoName]=$C$2)/(IF($C$3<>\"\",Table2[BULAN]=$C$3,TRUE))/(IF($C$4<>\"\",Table2[OFF/ON]=$C$4,TRUE))/(IF($C$5<>\"\",Table2[Status]=$C$5,TRUE))/(IF($C$6<>\"\",Table2[FPPDate]=$C$6,TRUE))/(IF($C$7<>\"\",Table2[ProposalCode]=$C$7,TRUE)),ROW(A5))),\"\")","v":""},{"$f":"IFERROR(VLOOKUP($B13,SIP!$D$3:$Q$12237,14,0),0)","v":0},{"$f":"IFERROR(INDEX(Table2[Activity],_xlfn.AGGREGATE(15,6,(ROW(Table2[FPPGroupCode])-2)/(Table2[DepoName]=$C$2)/(IF($C$3<>\"\",Table2[BULAN]=$C$3,TRUE))/(IF($C$4<>\"\",Table2[OFF/ON]=$C$4,TRUE))/(IF($C$5<>\"\",Table2[Status]=$C$5,TRUE))/(IF($C$6<>\"\",Table2[]=$C$6,TRUE))/(IF($C$7<>\"\",Table2[ProposalCode]=$C$7,TRUE)),ROW(B5))),\"\")","v":""},{"$f":"IFERROR(INDEX(Table2[Location],_xlfn.AGGREGATE(15,6,(ROW(Table2[FPPGroupCode])-2)/(Table2[DepoName]=$C$2)/(IF($C$3<>\"\",Table2[BULAN]=$C$3,TRUE))/(IF($C$4<>\"\",Table2[OFF/ON]=$C$4,TRUE))/(IF($C$5<>\"\",Table2[Status]=$C$5,TRUE))/(IF($C$6<>\"\",Table2[FPPDate]=$C$6,TRUE))/(IF($C$7<>\"\",Table2[ProposalCode]=$C$7,TRUE)),ROW(D5))),\"\")","v":""},{"$f":"IFERROR(INDEX(Table2[PeriodeStart],_xlfn.AGGREGATE(15,6,(ROW(Table2[FPPGroupCode])-2)/(Table2[DepoName]=$C$2)/(IF($C$3<>\"\",Table2[BULAN]=$C$3,TRUE))/(IF($C$4<>\"\",Table2[OFF/ON]=$C$4,TRUE))/(IF($C$5<>\"\",Table2[Status]=$C$5,TRUE))/(IF($C$6<>\"\",Table2[FPPDate]=$C$6,TRUE))/(IF($C$7<>\"\",Table2[ProposalCode]=$C$7,TRUE)),ROW(E5))),\"\")","v":""},{"$f":"IFERROR(INDEX(Table2[PeriodeEnd],_xlfn.AGGREGATE(15,6,(ROW(Table2[FPPGroupCode])-2)/(Table2[DepoName]=$C$2)/(IF($C$3<>\"\",Table2[BULAN]=$C$3,TRUE))/(IF($C$4<>\"\",Table2[OFF/ON]=$C$4,TRUE))/(IF($C$5<>\"\",Table2[Status]=$C$5,TRUE))/(IF($C$6<>\"\",Table2[FPPDate]=$C$6,TRUE))/(IF($C$7<>\"\",Table2[ProposalCode]=$C$7,TRUE)),ROW(F5))),\"\")","v":""},{"$f":"IFERROR(INDEX(Table2[Amount_FPPDepo],_xlfn.AGGREGATE(15,6,(ROW(Table2[FPPGroupCode])-2)/(Table2[DepoName]=$C$2)/(IF($C$3<>\"\",Table2[BULAN]=$C$3,TRUE))/(IF($C$4<>\"\",Table2[OFF/ON]=$C$4,TRUE))/(IF($C$5<>\"\",Table2[Status]=$C$5,TRUE))/(IF($C$6<>\"\",Table2[FPPDate]=$C$6,TRUE))/(IF($C$7<>\"\",Table2[ProposalCode]=$C$7,TRUE)),ROW(G5))),\"\")","v":""},{"$f":"IFERROR(VLOOKUP($B13,SIP!$D$5776:$P$6032,12,0),0)","v":0},{"$f":"IFERROR(H13-I13,0)","v":0},{"$f":"IFERROR(VLOOKUP($B13,SIP!$D$5776:$P$6032,8,0),0)","v":0},{"$f":"IFERROR(INDEX(Table2[OFF/ON],_xlfn.AGGREGATE(15,6,(ROW(Table2[FPPGroupCode])-2)/(Table2[DepoName]=$C$2)/(IF($C$3<>\"\",Table2[BULAN]=$C$3,TRUE))/(IF($C$4<>\"\",Table2[OFF/ON]=$C$4,TRUE))/(IF($C$5<>\"\",Table2[Status]=$C$5,TRUE))/(IF($C$6<>\"\",Table2[FPPDate]=$C$6,TRUE))/(IF($C$7<>\"\",Table2[ProposalCode]=$C$7,TRUE)),ROW(K5))),\"\")","v":""}]
[{"$f":"IF(LEN($B14),ROW(A6),\"\")","v":""},{"$f":"IFERROR(INDEX(Table2[FPPGroupCode],_xlfn.AGGREGATE(15,6,(ROW(Table2[FPPGroupCode])-2)/(Table2[DepoName]=$C$2)/(IF($C$3<>\"\",Table2[BULAN]=$C$3,TRUE))/(IF($C$4<>\"\",Table2[OFF/ON]=$C$4,TRUE))/(IF($C$5<>\"\",Table2[Status]=$C$5,TRUE))/(IF($C$6<>\"\",Table2[FPPDate]=$C$6,TRUE))/(IF($C$7<>\"\",Table2[ProposalCode]=$C$7,TRUE)),ROW(A6))),\"\")","v":""},{"$f":"IFERROR(VLOOKUP($B14,SIP!$D$3:$Q$12237,14,0),0)","v":0},{"$f":"IFERROR(INDEX(Table2[Activity],_xlfn.AGGREGATE(15,6,(ROW(Table2[FPPGroupCode])-2)/(Table2[DepoName]=$C$2)/(IF($C$3<>\"\",Table2[BULAN]=$C$3,TRUE))/(IF($C$4<>\"\",Table2[OFF/ON]=$C$4,TRUE))/(IF($C$5<>\"\",Table2[Status]=$C$5,TRUE))/(IF($C$6<>\"\",Table2[]=$C$6,TRUE))/(IF($C$7<>\"\",Table2[ProposalCode]=$C$7,TRUE)),ROW(B6))),\"\")","v":""},{"$f":"IFERROR(INDEX(Table2[Location],_xlfn.AGGREGATE(15,6,(ROW(Table2[FPPGroupCode])-2)/(Table2[DepoName]=$C$2)/(IF($C$3<>\"\",Table2[BULAN]=$C$3,TRUE))/(IF($C$4<>\"\",Table2[OFF/ON]=$C$4,TRUE))/(IF($C$5<>\"\",Table2[Status]=$C$5,TRUE))/(IF($C$6<>\"\",Table2[FPPDate]=$C$6,TRUE))/(IF($C$7<>\"\",Table2[ProposalCode]=$C$7,TRUE)),ROW(D6))),\"\")","v":""},{"$f":"IFERROR(INDEX(Table2[PeriodeStart],_xlfn.AGGREGATE(15,6,(ROW(Table2[FPPGroupCode])-2)/(Table2[DepoName]=$C$2)/(IF($C$3<>\"\",Table2[BULAN]=$C$3,TRUE))/(IF($C$4<>\"\",Table2[OFF/ON]=$C$4,TRUE))/(IF($C$5<>\"\",Table2[Status]=$C$5,TRUE))/(IF($C$6<>\"\",Table2[FPPDate]=$C$6,TRUE))/(IF($C$7<>\"\",Table2[ProposalCode]=$C$7,TRUE)),ROW(E6))),\"\")","v":""},{"$f":"IFERROR(INDEX(Table2[PeriodeEnd],_xlfn.AGGREGATE(15,6,(ROW(Table2[FPPGroupCode])-2)/(Table2[DepoName]=$C$2)/(IF($C$3<>\"\",Table2[BULAN]=$C$3,TRUE))/(IF($C$4<>\"\",Table2[OFF/ON]=$C$4,TRUE))/(IF($C$5<>\"\",Table2[Status]=$C$5,TRUE))/(IF($C$6<>\"\",Table2[FPPDate]=$C$6,TRUE))/(IF($C$7<>\"\",Table2[ProposalCode]=$C$7,TRUE)),ROW(F6))),\"\")","v":""},{"$f":"IFERROR(INDEX(Table2[Amount_FPPDepo],_xlfn.AGGREGATE(15,6,(ROW(Table2[FPPGroupCode])-2)/(Table2[DepoName]=$C$2)/(IF($C$3<>\"\",Table2[BULAN]=$C$3,TRUE))/(IF($C$4<>\"\",Table2[OFF/ON]=$C$4,TRUE))/(IF($C$5<>\"\",Table2[Status]=$C$5,TRUE))/(IF($C$6<>\"\",Table2[FPPDate]=$C$6,TRUE))/(IF($C$7<>\"\",Table2[ProposalCode]=$C$7,TRUE)),ROW(G6))),\"\")","v":""},{"$f":"IFERROR(VLOOKUP($B14,SIP!$D$5776:$P$6032,12,0),0)","v":0},{"$f":"IFERROR(H14-I14,0)","v":0},{"$f":"IFERROR(VLOOKUP($B14,SIP!$D$5776:$P$6032,8,0),0)","v":0},{"$f":"IFERROR(INDEX(Table2[OFF/ON],_xlfn.AGGREGATE(15,6,(ROW(Table2[FPPGroupCode])-2)/(Table2[DepoName]=$C$2)/(IF($C$3<>\"\",Table2[BULAN]=$C$3,TRUE))/(IF($C$4<>\"\",Table2[OFF/ON]=$C$4,TRUE))/(IF($C$5<>\"\",Table2[Status]=$C$5,TRUE))/(IF($C$6<>\"\",Table2[FPPDate]=$C$6,TRUE))/(IF($C$7<>\"\",Table2[ProposalCode]=$C$7,TRUE)),ROW(K6))),\"\")","v":""}]
[{"$f":"IF(LEN($B15),ROW(A7),\"\")","v":""},{"$f":"IFERROR(INDEX(Table2[FPPGroupCode],_xlfn.AGGREGATE(15,6,(ROW(Table2[FPPGroupCode])-2)/(Table2[DepoName]=$C$2)/(IF($C$3<>\"\",Table2[BULAN]=$C$3,TRUE))/(IF($C$4<>\"\",Table2[OFF/ON]=$C$4,TRUE))/(IF($C$5<>\"\",Table2[Status]=$C$5,TRUE))/(IF($C$6<>\"\",Table2[FPPDate]=$C$6,TRUE))/(IF($C$7<>\"\",Table2[ProposalCode]=$C$7,TRUE)),ROW(A7))),\"\")","v":""},{"$f":"IFERROR(VLOOKUP($B15,SIP!$D$3:$Q$12237,14,0),0)","v":0},{"$f":"IFERROR(INDEX(Table2[Activity],_xlfn.AGGREGATE(15,6,(ROW(Table2[FPPGroupCode])-2)/(Table2[DepoName]=$C$2)/(IF($C$3<>\"\",Table2[BULAN]=$C$3,TRUE))/(IF($C$4<>\"\",Table2[OFF/ON]=$C$4,TRUE))/(IF($C$5<>\"\",Table2[Status]=$C$5,TRUE))/(IF($C$6<>\"\",Table2[]=$C$6,TRUE))/(IF($C$7<>\"\",Table2[ProposalCode]=$C$7,TRUE)),ROW(B7))),\"\")","v":""},{"$f":"IFERROR(INDEX(Table2[Location],_xlfn.AGGREGATE(15,6,(ROW(Table2[FPPGroupCode])-2)/(Table2[DepoName]=$C$2)/(IF($C$3<>\"\",Table2[BULAN]=$C$3,TRUE))/(IF($C$4<>\"\",Table2[OFF/ON]=$C$4,TRUE))/(IF($C$5<>\"\",Table2[Status]=$C$5,TRUE))/(IF($C$6<>\"\",Table2[FPPDate]=$C$6,TRUE))/(IF($C$7<>\"\",Table2[ProposalCode]=$C$7,TRUE)),ROW(D7))),\"\")","v":""},{"$f":"IFERROR(INDEX(Table2[PeriodeStart],_xlfn.AGGREGATE(15,6,(ROW(Table2[FPPGroupCode])-2)/(Table2[DepoName]=$C$2)/(IF($C$3<>\"\",Table2[BULAN]=$C$3,TRUE))/(IF($C$4<>\"\",Table2[OFF/ON]=$C$4,TRUE))/(IF($C$5<>\"\",Table2[Status]=$C$5,TRUE))/(IF($C$6<>\"\",Table2[FPPDate]=$C$6,TRUE))/(IF($C$7<>\"\",Table2[ProposalCode]=$C$7,TRUE)),ROW(E7))),\"\")","v":""},{"$f":"IFERROR(INDEX(Table2[PeriodeEnd],_xlfn.AGGREGATE(15,6,(ROW(Table2[FPPGroupCode])-2)/(Table2[DepoName]=$C$2)/(IF($C$3<>\"\",Table2[BULAN]=$C$3,TRUE))/(IF($C$4<>\"\",Table2[OFF/ON]=$C$4,TRUE))/(IF($C$5<>\"\",Table2[Status]=$C$5,TRUE))/(IF($C$6<>\"\",Table2[FPPDate]=$C$6,TRUE))/(IF($C$7<>\"\",Table2[ProposalCode]=$C$7,TRUE)),ROW(F7))),\"\")","v":""},{"$f":"IFERROR(INDEX(Table2[Amount_FPPDepo],_xlfn.AGGREGATE(15,6,(ROW(Table2[FPPGroupCode])-2)/(Table2[DepoName]=$C$2)/(IF($C$3<>\"\",Table2[BULAN]=$C$3,TRUE))/(IF($C$4<>\"\",Table2[OFF/ON]=$C$4,TRUE))/(IF($C$5<>\"\",Table2[Status]=$C$5,TRUE))/(IF($C$6<>\"\",Table2[FPPDate]=$C$6,TRUE))/(IF($C$7<>\"\",Table2[ProposalCode]=$C$7,TRUE)),ROW(G7))),\"\")","v":""},{"$f":"IFERROR(VLOOKUP($B15,SIP!$D$5776:$P$6032,12,0),0)","v":0},{"$f":"IFERROR(H15-I15,0)","v":0},{"$f":"IFERROR(VLOOKUP($B15,SIP!$D$5776:$P$6032,8,0),0)","v":0},{"$f":"IFERROR(INDEX(Table2[OFF/ON],_xlfn.AGGREGATE(15,6,(ROW(Table2[FPPGroupCode])-2)/(Table2[DepoName]=$C$2)/(IF($C$3<>\"\",Table2[BULAN]=$C$3,TRUE))/(IF($C$4<>\"\",Table2[OFF/ON]=$C$4,TRUE))/(IF($C$5<>\"\",Table2[Status]=$C$5,TRUE))/(IF($C$6<>\"\",Table2[FPPDate]=$C$6,TRUE))/(IF($C$7<>\"\",Table2[ProposalCode]=$C$7,TRUE)),ROW(K7))),\"\")","v":""}]
[{"$f":"IF(LEN($B16),ROW(A8),\"\")","v":""},{"$f":"IFERROR(INDEX(Table2[FPPGroupCode],_xlfn.AGGREGATE(15,6,(ROW(Table2[FPPGroupCode])-2)/(Table2[DepoName]=$C$2)/(IF($C$3<>\"\",Table2[BULAN]=$C$3,TRUE))/(IF($C$4<>\"\",Table2[OFF/ON]=$C$4,TRUE))/(IF($C$5<>\"\",Table2[Status]=$C$5,TRUE))/(IF($C$6<>\"\",Table2[FPPDate]=$C$6,TRUE))/(IF($C$7<>\"\",Table2[ProposalCode]=$C$7,TRUE)),ROW(A8))),\"\")","v":""},{"$f":"IFERROR(VLOOKUP($B16,SIP!$D$3:$Q$12237,14,0),0)","v":0},{"$f":"IFERROR(INDEX(Table2[Activity],_xlfn.AGGREGATE(15,6,(ROW(Table2[FPPGroupCode])-2)/(Table2[DepoName]=$C$2)/(IF($C$3<>\"\",Table2[BULAN]=$C$3,TRUE))/(IF($C$4<>\"\",Table2[OFF/ON]=$C$4,TRUE))/(IF($C$5<>\"\",Table2[Status]=$C$5,TRUE))/(IF($C$6<>\"\",Table2[]=$C$6,TRUE))/(IF($C$7<>\"\",Table2[ProposalCode]=$C$7,TRUE)),ROW(B8))),\"\")","v":""},{"$f":"IFERROR(INDEX(Table2[Location],_xlfn.AGGREGATE(15,6,(ROW(Table2[FPPGroupCode])-2)/(Table2[DepoName]=$C$2)/(IF($C$3<>\"\",Table2[BULAN]=$C$3,TRUE))/(IF($C$4<>\"\",Table2[OFF/ON]=$C$4,TRUE))/(IF($C$5<>\"\",Table2[Status]=$C$5,TRUE))/(IF($C$6<>\"\",Table2[FPPDate]=$C$6,TRUE))/(IF($C$7<>\"\",Table2[ProposalCode]=$C$7,TRUE)),ROW(D8))),\"\")","v":""},{"$f":"IFERROR(INDEX(Table2[PeriodeStart],_xlfn.AGGREGATE(15,6,(ROW(Table2[FPPGroupCode])-2)/(Table2[DepoName]=$C$2)/(IF($C$3<>\"\",Table2[BULAN]=$C$3,TRUE))/(IF($C$4<>\"\",Table2[OFF/ON]=$C$4,TRUE))/(IF($C$5<>\"\",Table2[Status]=$C$5,TRUE))/(IF($C$6<>\"\",Table2[FPPDate]=$C$6,TRUE))/(IF($C$7<>\"\",Table2[ProposalCode]=$C$7,TRUE)),ROW(E8))),\"\")","v":""},{"$f":"IFERROR(INDEX(Table2[PeriodeEnd],_xlfn.AGGREGATE(15,6,(ROW(Table2[FPPGroupCode])-2)/(Table2[DepoName]=$C$2)/(IF($C$3<>\"\",Table2[BULAN]=$C$3,TRUE))/(IF($C$4<>\"\",Table2[OFF/ON]=$C$4,TRUE))/(IF($C$5<>\"\",Table2[Status]=$C$5,TRUE))/(IF($C$6<>\"\",Table2[FPPDate]=$C$6,TRUE))/(IF($C$7<>\"\",Table2[ProposalCode]=$C$7,TRUE)),ROW(F8))),\"\")","v":""},{"$f":"IFERROR(INDEX(Table2[Amount_FPPDepo],_xlfn.AGGREGATE(15,6,(ROW(Table2[FPPGroupCode])-2)/(Table2[DepoName]=$C$2)/(IF($C$3<>\"\",Table2[BULAN]=$C$3,TRUE))/(IF($C$4<>\"\",Table2[OFF/ON]=$C$4,TRUE))/(IF($C$5<>\"\",Table2[Status]=$C$5,TRUE))/(IF($C$6<>\"\",Table2[FPPDate]=$C$6,TRUE))/(IF($C$7<>\"\",Table2[ProposalCode]=$C$7,TRUE)),ROW(G8))),\"\")","v":""},{"$f":"IFERROR(VLOOKUP($B16,SIP!$D$5776:$P$6032,12,0),0)","v":0},{"$f":"IFERROR(H16-I16,0)","v":0},{"$f":"IFERROR(VLOOKUP($B16,SIP!$D$5776:$P$6032,8,0),0)","v":0},{"$f":"IFERROR(INDEX(Table2[OFF/ON],_xlfn.AGGREGATE(15,6,(ROW(Table2[FPPGroupCode])-2)/(Table2[DepoName]=$C$2)/(IF($C$3<>\"\",Table2[BULAN]=$C$3,TRUE))/(IF($C$4<>\"\",Table2[OFF/ON]=$C$4,TRUE))/(IF($C$5<>\"\",Table2[Status]=$C$5,TRUE))/(IF($C$6<>\"\",Table2[FPPDate]=$C$6,TRUE))/(IF($C$7<>\"\",Table2[ProposalCode]=$C$7,TRUE)),ROW(K8))),\"\")","v":""}]
[{"$f":"IF(LEN($B17),ROW(A9),\"\")","v":""},{"$f":"IFERROR(INDEX(Table2[FPPGroupCode],_xlfn.AGGREGATE(15,6,(ROW(Table2[FPPGroupCode])-2)/(Table2[DepoName]=$C$2)/(IF($C$3<>\"\",Table2[BULAN]=$C$3,TRUE))/(IF($C$4<>\"\",Table2[OFF/ON]=$C$4,TRUE))/(IF($C$5<>\"\",Table2[Status]=$C$5,TRUE))/(IF($C$6<>\"\",Table2[FPPDate]=$C$6,TRUE))/(IF($C$7<>\"\",Table2[ProposalCode]=$C$7,TRUE)),ROW(A9))),\"\")","v":""},{"$f":"IFERROR(VLOOKUP($B17,SIP!$D$3:$Q$12237,14,0),0)","v":0},{"$f":"IFERROR(INDEX(Table2[Activity],_xlfn.AGGREGATE(15,6,(ROW(Table2[FPPGroupCode])-2)/(Table2[DepoName]=$C$2)/(IF($C$3<>\"\",Table2[BULAN]=$C$3,TRUE))/(IF($C$4<>\"\",Table2[OFF/ON]=$C$4,TRUE))/(IF($C$5<>\"\",Table2[Status]=$C$5,TRUE))/(IF($C$6<>\"\",Table2[]=$C$6,TRUE))/(IF($C$7<>\"\",Table2[ProposalCode]=$C$7,TRUE)),ROW(B9))),\"\")","v":""},{"$f":"IFERROR(INDEX(Table2[Location],_xlfn.AGGREGATE(15,6,(ROW(Table2[FPPGroupCode])-2)/(Table2[DepoName]=$C$2)/(IF($C$3<>\"\",Table2[BULAN]=$C$3,TRUE))/(IF($C$4<>\"\",Table2[OFF/ON]=$C$4,TRUE))/(IF($C$5<>\"\",Table2[Status]=$C$5,TRUE))/(IF($C$6<>\"\",Table2[FPPDate]=$C$6,TRUE))/(IF($C$7<>\"\",Table2[ProposalCode]=$C$7,TRUE)),ROW(D9))),\"\")","v":""},{"$f":"IFERROR(INDEX(Table2[PeriodeStart],_xlfn.AGGREGATE(15,6,(ROW(Table2[FPPGroupCode])-2)/(Table2[DepoName]=$C$2)/(IF($C$3<>\"\",Table2[BULAN]=$C$3,TRUE))/(IF($C$4<>\"\",Table2[OFF/ON]=$C$4,TRUE))/(IF($C$5<>\"\",Table2[Status]=$C$5,TRUE))/(IF($C$6<>\"\",Table2[FPPDate]=$C$6,TRUE))/(IF($C$7<>\"\",Table2[ProposalCode]=$C$7,TRUE)),ROW(E9))),\"\")","v":""},{"$f":"IFERROR(INDEX(Table2[PeriodeEnd],_xlfn.AGGREGATE(15,6,(ROW(Table2[FPPGroupCode])-2)/(Table2[DepoName]=$C$2)/(IF($C$3<>\"\",Table2[BULAN]=$C$3,TRUE))/(IF($C$4<>\"\",Table2[OFF/ON]=$C$4,TRUE))/(IF($C$5<>\"\",Table2[Status]=$C$5,TRUE))/(IF($C$6<>\"\",Table2[FPPDate]=$C$6,TRUE))/(IF($C$7<>\"\",Table2[ProposalCode]=$C$7,TRUE)),ROW(F9))),\"\")","v":""},{"$f":"IFERROR(INDEX(Table2[Amount_FPPDepo],_xlfn.AGGREGATE(15,6,(ROW(Table2[FPPGroupCode])-2)/(Table2[DepoName]=$C$2)/(IF($C$3<>\"\",Table2[BULAN]=$C$3,TRUE))/(IF($C$4<>\"\",Table2[OFF/ON]=$C$4,TRUE))/(IF($C$5<>\"\",Table2[Status]=$C$5,TRUE))/(IF($C$6<>\"\",Table2[FPPDate]=$C$6,TRUE))/(IF($C$7<>\"\",Table2[ProposalCode]=$C$7,TRUE)),ROW(G9))),\"\")","v":""},{"$f":"IFERROR(VLOOKUP($B17,SIP!$D$5776:$P$6032,12,0),0)","v":0},{"$f":"IFERROR(H17-I17,0)","v":0},{"$f":"IFERROR(VLOOKUP($B17,SIP!$D$5776:$P$6032,8,0),0)","v":0},{"$f":"IFERROR(INDEX(Table2[OFF/ON],_xlfn.AGGREGATE(15,6,(ROW(Table2[FPPGroupCode])-2)/(Table2[DepoName]=$C$2)/(IF($C$3<>\"\",Table2[BULAN]=$C$3,TRUE))/(IF($C$4<>\"\",Table2[OFF/ON]=$C$4,TRUE))/(IF($C$5<>\"\",Table2[Status]=$C$5,TRUE))/(IF($C$6<>\"\",Table2[FPPDate]=$C$6,TRUE))/(IF($C$7<>\"\",Table2[ProposalCode]=$C$7,TRUE)),ROW(K9))),\"\")","v":""}]
[{"$f":"IF(LEN($B18),ROW(A10),\"\")","v":""},{"$f":"IFERROR(INDEX(Table2[FPPGroupCode],_xlfn.AGGREGATE(15,6,(ROW(Table2[FPPGroupCode])-2)/(Table2[DepoName]=$C$2)/(IF($C$3<>\"\",Table2[BULAN]=$C$3,TRUE))/(IF($C$4<>\"\",Table2[OFF/ON]=$C$4,TRUE))/(IF($C$5<>\"\",Table2[Status]=$C$5,TRUE))/(IF($C$6<>\"\",Table2[FPPDate]=$C$6,TRUE))/(IF($C$7<>\"\",Table2[ProposalCode]=$C$7,TRUE)),ROW(A10))),\"\")","v":""},{"$f":"IFERROR(VLOOKUP($B18,SIP!$D$3:$Q$12237,14,0),0)","v":0},{"$f":"IFERROR(INDEX(Table2[Activity],_xlfn.AGGREGATE(15,6,(ROW(Table2[FPPGroupCode])-2)/(Table2[DepoName]=$C$2)/(IF($C$3<>\"\",Table2[BULAN]=$C$3,TRUE))/(IF($C$4<>\"\",Table2[OFF/ON]=$C$4,TRUE))/(IF($C$5<>\"\",Table2[Status]=$C$5,TRUE))/(IF($C$6<>\"\",Table2[]=$C$6,TRUE))/(IF($C$7<>\"\",Table2[ProposalCode]=$C$7,TRUE)),ROW(B10))),\"\")","v":""},{"$f":"IFERROR(INDEX(Table2[Location],_xlfn.AGGREGATE(15,6,(ROW(Table2[FPPGroupCode])-2)/(Table2[DepoName]=$C$2)/(IF($C$3<>\"\",Table2[BULAN]=$C$3,TRUE))/(IF($C$4<>\"\",Table2[OFF/ON]=$C$4,TRUE))/(IF($C$5<>\"\",Table2[Status]=$C$5,TRUE))/(IF($C$6<>\"\",Table2[FPPDate]=$C$6,TRUE))/(IF($C$7<>\"\",Table2[ProposalCode]=$C$7,TRUE)),ROW(D10))),\"\")","v":""},{"$f":"IFERROR(INDEX(Table2[PeriodeStart],_xlfn.AGGREGATE(15,6,(ROW(Table2[FPPGroupCode])-2)/(Table2[DepoName]=$C$2)/(IF($C$3<>\"\",Table2[BULAN]=$C$3,TRUE))/(IF($C$4<>\"\",Table2[OFF/ON]=$C$4,TRUE))/(IF($C$5<>\"\",Table2[Status]=$C$5,TRUE))/(IF($C$6<>\"\",Table2[FPPDate]=$C$6,TRUE))/(IF($C$7<>\"\",Table2[ProposalCode]=$C$7,TRUE)),ROW(E10))),\"\")","v":""},{"$f":"IFERROR(INDEX(Table2[PeriodeEnd],_xlfn.AGGREGATE(15,6,(ROW(Table2[FPPGroupCode])-2)/(Table2[DepoName]=$C$2)/(IF($C$3<>\"\",Table2[BULAN]=$C$3,TRUE))/(IF($C$4<>\"\",Table2[OFF/ON]=$C$4,TRUE))/(IF($C$5<>\"\",Table2[Status]=$C$5,TRUE))/(IF($C$6<>\"\",Table2[FPPDate]=$C$6,TRUE))/(IF($C$7<>\"\",Table2[ProposalCode]=$C$7,TRUE)),ROW(F10))),\"\")","v":""},{"$f":"IFERROR(INDEX(Table2[Amount_FPPDepo],_xlfn.AGGREGATE(15,6,(ROW(Table2[FPPGroupCode])-2)/(Table2[DepoName]=$C$2)/(IF($C$3<>\"\",Table2[BULAN]=$C$3,TRUE))/(IF($C$4<>\"\",Table2[OFF/ON]=$C$4,TRUE))/(IF($C$5<>\"\",Table2[Status]=$C$5,TRUE))/(IF($C$6<>\"\",Table2[FPPDate]=$C$6,TRUE))/(IF($C$7<>\"\",Table2[ProposalCode]=$C$7,TRUE)),ROW(G10))),\"\")","v":""},{"$f":"IFERROR(VLOOKUP($B18,SIP!$D$5776:$P$6032,12,0),0)","v":0},{"$f":"IFERROR(H18-I18,0)","v":0},{"$f":"IFERROR(VLOOKUP($B18,SIP!$D$5776:$P$6032,8,0),0)","v":0},{"$f":"IFERROR(INDEX(Table2[OFF/ON],_xlfn.AGGREGATE(15,6,(ROW(Table2[FPPGroupCode])-2)/(Table2[DepoName]=$C$2)/(IF($C$3<>\"\",Table2[BULAN]=$C$3,TRUE))/(IF($C$4<>\"\",Table2[OFF/ON]=$C$4,TRUE))/(IF($C$5<>\"\",Table2[Status]=$C$5,TRUE))/(IF($C$6<>\"\",Table2[FPPDate]=$C$6,TRUE))/(IF($C$7<>\"\",Table2[ProposalCode]=$C$7,TRUE)),ROW(K10))),\"\")","v":""}]
[{"$f":"IF(LEN($B19),ROW(A11),\"\")","v":""},{"$f":"IFERROR(INDEX(Table2[FPPGroupCode],_xlfn.AGGREGATE(15,6,(ROW(Table2[FPPGroupCode])-2)/(Table2[DepoName]=$C$2)/(IF($C$3<>\"\",Table2[BULAN]=$C$3,TRUE))/(IF($C$4<>\"\",Table2[OFF/ON]=$C$4,TRUE))/(IF($C$5<>\"\",Table2[Status]=$C$5,TRUE))/(IF($C$6<>\"\",Table2[FPPDate]=$C$6,TRUE))/(IF($C$7<>\"\",Table2[ProposalCode]=$C$7,TRUE)),ROW(A11))),\"\")","v":""},{"$f":"IFERROR(VLOOKUP($B19,SIP!$D$3:$Q$12237,14,0),0)","v":0},{"$f":"IFERROR(INDEX(Table2[Activity],_xlfn.AGGREGATE(15,6,(ROW(Table2[FPPGroupCode])-2)/(Table2[DepoName]=$C$2)/(IF($C$3<>\"\",Table2[BULAN]=$C$3,TRUE))/(IF($C$4<>\"\",Table2[OFF/ON]=$C$4,TRUE))/(IF($C$5<>\"\",Table2[Status]=$C$5,TRUE))/(IF($C$6<>\"\",Table2[]=$C$6,TRUE))/(IF($C$7<>\"\",Table2[ProposalCode]=$C$7,TRUE)),ROW(B11))),\"\")","v":""},{"$f":"IFERROR(INDEX(Table2[Location],_xlfn.AGGREGATE(15,6,(ROW(Table2[FPPGroupCode])-2)/(Table2[DepoName]=$C$2)/(IF($C$3<>\"\",Table2[BULAN]=$C$3,TRUE))/(IF($C$4<>\"\",Table2[OFF/ON]=$C$4,TRUE))/(IF($C$5<>\"\",Table2[Status]=$C$5,TRUE))/(IF($C$6<>\"\",Table2[FPPDate]=$C$6,TRUE))/(IF($C$7<>\"\",Table2[ProposalCode]=$C$7,TRUE)),ROW(D11))),\"\")","v":""},{"$f":"IFERROR(INDEX(Table2[PeriodeStart],_xlfn.AGGREGATE(15,6,(ROW(Table2[FPPGroupCode])-2)/(Table2[DepoName]=$C$2)/(IF($C$3<>\"\",Table2[BULAN]=$C$3,TRUE))/(IF($C$4<>\"\",Table2[OFF/ON]=$C$4,TRUE))/(IF($C$5<>\"\",Table2[Status]=$C$5,TRUE))/(IF($C$6<>\"\",Table2[FPPDate]=$C$6,TRUE))/(IF($C$7<>\"\",Table2[ProposalCode]=$C$7,TRUE)),ROW(E11))),\"\")","v":""},{"$f":"IFERROR(INDEX(Table2[PeriodeEnd],_xlfn.AGGREGATE(15,6,(ROW(Table2[FPPGroupCode])-2)/(Table2[DepoName]=$C$2)/(IF($C$3<>\"\",Table2[BULAN]=$C$3,TRUE))/(IF($C$4<>\"\",Table2[OFF/ON]=$C$4,TRUE))/(IF($C$5<>\"\",Table2[Status]=$C$5,TRUE))/(IF($C$6<>\"\",Table2[FPPDate]=$C$6,TRUE))/(IF($C$7<>\"\",Table2[ProposalCode]=$C$7,TRUE)),ROW(F11))),\"\")","v":""},{"$f":"IFERROR(INDEX(Table2[Amount_FPPDepo],_xlfn.AGGREGATE(15,6,(ROW(Table2[FPPGroupCode])-2)/(Table2[DepoName]=$C$2)/(IF($C$3<>\"\",Table2[BULAN]=$C$3,TRUE))/(IF($C$4<>\"\",Table2[OFF/ON]=$C$4,TRUE))/(IF($C$5<>\"\",Table2[Status]=$C$5,TRUE))/(IF($C$6<>\"\",Table2[FPPDate]=$C$6,TRUE))/(IF($C$7<>\"\",Table2[ProposalCode]=$C$7,TRUE)),ROW(G11))),\"\")","v":""},{"$f":"IFERROR(VLOOKUP($B19,SIP!$D$5776:$P$6032,12,0),0)","v":0},{"$f":"IFERROR(H19-I19,0)","v":0},{"$f":"IFERROR(VLOOKUP($B19,SIP!$D$5776:$P$6032,8,0),0)","v":0},{"$f":"IFERROR(INDEX(Table2[OFF/ON],_xlfn.AGGREGATE(15,6,(ROW(Table2[FPPGroupCode])-2)/(Table2[DepoName]=$C$2)/(IF($C$3<>\"\",Table2[BULAN]=$C$3,TRUE))/(IF($C$4<>\"\",Table2[OFF/ON]=$C$4,TRUE))/(IF($C$5<>\"\",Table2[Status]=$C$5,TRUE))/(IF($C$6<>\"\",Table2[FPPDate]=$C$6,TRUE))/(IF($C$7<>\"\",Table2[ProposalCode]=$C$7,TRUE)),ROW(K11))),\"\")","v":""}]
[{"$f":"IF(LEN($B20),ROW(A12),\"\")","v":""},{"$f":"IFERROR(INDEX(Table2[FPPGroupCode],_xlfn.AGGREGATE(15,6,(ROW(Table2[FPPGroupCode])-2)/(Table2[DepoName]=$C$2)/(IF($C$3<>\"\",Table2[BULAN]=$C$3,TRUE))/(IF($C$4<>\"\",Table2[OFF/ON]=$C$4,TRUE))/(IF($C$5<>\"\",Table2[Status]=$C$5,TRUE))/(IF($C$6<>\"\",Table2[FPPDate]=$C$6,TRUE))/(IF($C$7<>\"\",Table2[ProposalCode]=$C$7,TRUE)),ROW(A12))),\"\")","v":""},{"$f":"IFERROR(VLOOKUP($B20,SIP!$D$3:$Q$12237,14,0),0)","v":0},{"$f":"IFERROR(INDEX(Table2[Activity],_xlfn.AGGREGATE(15,6,(ROW(Table2[FPPGroupCode])-2)/(Table2[DepoName]=$C$2)/(IF($C$3<>\"\",Table2[BULAN]=$C$3,TRUE))/(IF($C$4<>\"\",Table2[OFF/ON]=$C$4,TRUE))/(IF($C$5<>\"\",Table2[Status]=$C$5,TRUE))/(IF($C$6<>\"\",Table2[]=$C$6,TRUE))/(IF($C$7<>\"\",Table2[ProposalCode]=$C$7,TRUE)),ROW(B12))),\"\")","v":""},{"$f":"IFERROR(INDEX(Table2[Location],_xlfn.AGGREGATE(15,6,(ROW(Table2[FPPGroupCode])-2)/(Table2[DepoName]=$C$2)/(IF($C$3<>\"\",Table2[BULAN]=$C$3,TRUE))/(IF($C$4<>\"\",Table2[OFF/ON]=$C$4,TRUE))/(IF($C$5<>\"\",Table2[Status]=$C$5,TRUE))/(IF($C$6<>\"\",Table2[FPPDate]=$C$6,TRUE))/(IF($C$7<>\"\",Table2[ProposalCode]=$C$7,TRUE)),ROW(D12))),\"\")","v":""},{"$f":"IFERROR(INDEX(Table2[PeriodeStart],_xlfn.AGGREGATE(15,6,(ROW(Table2[FPPGroupCode])-2)/(Table2[DepoName]=$C$2)/(IF($C$3<>\"\",Table2[BULAN]=$C$3,TRUE))/(IF($C$4<>\"\",Table2[OFF/ON]=$C$4,TRUE))/(IF($C$5<>\"\",Table2[Status]=$C$5,TRUE))/(IF($C$6<>\"\",Table2[FPPDate]=$C$6,TRUE))/(IF($C$7<>\"\",Table2[ProposalCode]=$C$7,TRUE)),ROW(E12))),\"\")","v":""},{"$f":"IFERROR(INDEX(Table2[PeriodeEnd],_xlfn.AGGREGATE(15,6,(ROW(Table2[FPPGroupCode])-2)/(Table2[DepoName]=$C$2)/(IF($C$3<>\"\",Table2[BULAN]=$C$3,TRUE))/(IF($C$4<>\"\",Table2[OFF/ON]=$C$4,TRUE))/(IF($C$5<>\"\",Table2[Status]=$C$5,TRUE))/(IF($C$6<>\"\",Table2[FPPDate]=$C$6,TRUE))/(IF($C$7<>\"\",Table2[ProposalCode]=$C$7,TRUE)),ROW(F12))),\"\")","v":""},{"$f":"IFERROR(INDEX(Table2[Amount_FPPDepo],_xlfn.AGGREGATE(15,6,(ROW(Table2[FPPGroupCode])-2)/(Table2[DepoName]=$C$2)/(IF($C$3<>\"\",Table2[BULAN]=$C$3,TRUE))/(IF($C$4<>\"\",Table2[OFF/ON]=$C$4,TRUE))/(IF($C$5<>\"\",Table2[Status]=$C$5,TRUE))/(IF($C$6<>\"\",Table2[FPPDate]=$C$6,TRUE))/(IF($C$7<>\"\",Table2[ProposalCode]=$C$7,TRUE)),ROW(G12))),\"\")","v":""},{"$f":"IFERROR(VLOOKUP($B20,SIP!$D$5776:$P$6032,12,0),0)","v":0},{"$f":"IFERROR(H20-I20,0)","v":0},{"$f":"IFERROR(VLOOKUP($B20,SIP!$D$5776:$P$6032,8,0),0)","v":0},{"$f":"IFERROR(INDEX(Table2[OFF/ON],_xlfn.AGGREGATE(15,6,(ROW(Table2[FPPGroupCode])-2)/(Table2[DepoName]=$C$2)/(IF($C$3<>\"\",Table2[BULAN]=$C$3,TRUE))/(IF($C$4<>\"\",Table2[OFF/ON]=$C$4,TRUE))/(IF($C$5<>\"\",Table2[Status]=$C$5,TRUE))/(IF($C$6<>\"\",Table2[FPPDate]=$C$6,TRUE))/(IF($C$7<>\"\",Table2[ProposalCode]=$C$7,TRUE)),ROW(K12))),\"\")","v":""}]
[{"$f":"IF(LEN($B21),ROW(A13),\"\")","v":""},{"$f":"IFERROR(INDEX(Table2[FPPGroupCode],_xlfn.AGGREGATE(15,6,(ROW(Table2[FPPGroupCode])-2)/(Table2[DepoName]=$C$2)/(IF($C$3<>\"\",Table2[BULAN]=$C$3,TRUE))/(IF($C$4<>\"\",Table2[OFF/ON]=$C$4,TRUE))/(IF($C$5<>\"\",Table2[Status]=$C$5,TRUE))/(IF($C$6<>\"\",Table2[FPPDate]=$C$6,TRUE))/(IF($C$7<>\"\",Table2[ProposalCode]=$C$7,TRUE)),ROW(A13))),\"\")","v":""},{"$f":"IFERROR(VLOOKUP($B21,SIP!$D$3:$Q$12237,14,0),0)","v":0},{"$f":"IFERROR(INDEX(Table2[Activity],_xlfn.AGGREGATE(15,6,(ROW(Table2[FPPGroupCode])-2)/(Table2[DepoName]=$C$2)/(IF($C$3<>\"\",Table2[BULAN]=$C$3,TRUE))/(IF($C$4<>\"\",Table2[OFF/ON]=$C$4,TRUE))/(IF($C$5<>\"\",Table2[Status]=$C$5,TRUE))/(IF($C$6<>\"\",Table2[]=$C$6,TRUE))/(IF($C$7<>\"\",Table2[ProposalCode]=$C$7,TRUE)),ROW(B13))),\"\")","v":""},{"$f":"IFERROR(INDEX(Table2[Location],_xlfn.AGGREGATE(15,6,(ROW(Table2[FPPGroupCode])-2)/(Table2[DepoName]=$C$2)/(IF($C$3<>\"\",Table2[BULAN]=$C$3,TRUE))/(IF($C$4<>\"\",Table2[OFF/ON]=$C$4,TRUE))/(IF($C$5<>\"\",Table2[Status]=$C$5,TRUE))/(IF($C$6<>\"\",Table2[FPPDate]=$C$6,TRUE))/(IF($C$7<>\"\",Table2[ProposalCode]=$C$7,TRUE)),ROW(D13))),\"\")","v":""},{"$f":"IFERROR(INDEX(Table2[PeriodeStart],_xlfn.AGGREGATE(15,6,(ROW(Table2[FPPGroupCode])-2)/(Table2[DepoName]=$C$2)/(IF($C$3<>\"\",Table2[BULAN]=$C$3,TRUE))/(IF($C$4<>\"\",Table2[OFF/ON]=$C$4,TRUE))/(IF($C$5<>\"\",Table2[Status]=$C$5,TRUE))/(IF($C$6<>\"\",Table2[FPPDate]=$C$6,TRUE))/(IF($C$7<>\"\",Table2[ProposalCode]=$C$7,TRUE)),ROW(E13))),\"\")","v":""},{"$f":"IFERROR(INDEX(Table2[PeriodeEnd],_xlfn.AGGREGATE(15,6,(ROW(Table2[FPPGroupCode])-2)/(Table2[DepoName]=$C$2)/(IF($C$3<>\"\",Table2[BULAN]=$C$3,TRUE))/(IF($C$4<>\"\",Table2[OFF/ON]=$C$4,TRUE))/(IF($C$5<>\"\",Table2[Status]=$C$5,TRUE))/(IF($C$6<>\"\",Table2[FPPDate]=$C$6,TRUE))/(IF($C$7<>\"\",Table2[ProposalCode]=$C$7,TRUE)),ROW(F13))),\"\")","v":""},{"$f":"IFERROR(INDEX(Table2[Amount_FPPDepo],_xlfn.AGGREGATE(15,6,(ROW(Table2[FPPGroupCode])-2)/(Table2[DepoName]=$C$2)/(IF($C$3<>\"\",Table2[BULAN]=$C$3,TRUE))/(IF($C$4<>\"\",Table2[OFF/ON]=$C$4,TRUE))/(IF($C$5<>\"\",Table2[Status]=$C$5,TRUE))/(IF($C$6<>\"\",Table2[FPPDate]=$C$6,TRUE))/(IF($C$7<>\"\",Table2[ProposalCode]=$C$7,TRUE)),ROW(G13))),\"\")","v":""},{"$f":"IFERROR(VLOOKUP($B21,SIP!$D$5776:$P$6032,12,0),0)","v":0},{"$f":"IFERROR(H21-I21,0)","v":0},{"$f":"IFERROR(VLOOKUP($B21,SIP!$D$5776:$P$6032,8,0),0)","v":0},{"$f":"IFERROR(INDEX(Table2[OFF/ON],_xlfn.AGGREGATE(15,6,(ROW(Table2[FPPGroupCode])-2)/(Table2[DepoName]=$C$2)/(IF($C$3<>\"\",Table2[BULAN]=$C$3,TRUE))/(IF($C$4<>\"\",Table2[OFF/ON]=$C$4,TRUE))/(IF($C$5<>\"\",Table2[Status]=$C$5,TRUE))/(IF($C$6<>\"\",Table2[FPPDate]=$C$6,TRUE))/(IF($C$7<>\"\",Table2[ProposalCode]=$C$7,TRUE)),ROW(K13))),\"\")","v":""}]
[{"$f":"IF(LEN($B22),ROW(A14),\"\")","v":""},{"$f":"IFERROR(INDEX(Table2[FPPGroupCode],_xlfn.AGGREGATE(15,6,(ROW(Table2[FPPGroupCode])-2)/(Table2[DepoName]=$C$2)/(IF($C$3<>\"\",Table2[BULAN]=$C$3,TRUE))/(IF($C$4<>\"\",Table2[OFF/ON]=$C$4,TRUE))/(IF($C$5<>\"\",Table2[Status]=$C$5,TRUE))/(IF($C$6<>\"\",Table2[FPPDate]=$C$6,TRUE))/(IF($C$7<>\"\",Table2[ProposalCode]=$C$7,TRUE)),ROW(A14))),\"\")","v":""},{"$f":"IFERROR(VLOOKUP($B22,SIP!$D$3:$Q$12237,14,0),0)","v":0},{"$f":"IFERROR(INDEX(Table2[Activity],_xlfn.AGGREGATE(15,6,(ROW(Table2[FPPGroupCode])-2)/(Table2[DepoName]=$C$2)/(IF($C$3<>\"\",Table2[BULAN]=$C$3,TRUE))/(IF($C$4<>\"\",Table2[OFF/ON]=$C$4,TRUE))/(IF($C$5<>\"\",Table2[Status]=$C$5,TRUE))/(IF($C$6<>\"\",Table2[]=$C$6,TRUE))/(IF($C$7<>\"\",Table2[ProposalCode]=$C$7,TRUE)),ROW(B14))),\"\")","v":""},{"$f":"IFERROR(INDEX(Table2[Location],_xlfn.AGGREGATE(15,6,(ROW(Table2[FPPGroupCode])-2)/(Table2[DepoName]=$C$2)/(IF($C$3<>\"\",Table2[BULAN]=$C$3,TRUE))/(IF($C$4<>\"\",Table2[OFF/ON]=$C$4,TRUE))/(IF($C$5<>\"\",Table2[Status]=$C$5,TRUE))/(IF($C$6<>\"\",Table2[FPPDate]=$C$6,TRUE))/(IF($C$7<>\"\",Table2[ProposalCode]=$C$7,TRUE)),ROW(D14))),\"\")","v":""},{"$f":"IFERROR(INDEX(Table2[PeriodeStart],_xlfn.AGGREGATE(15,6,(ROW(Table2[FPPGroupCode])-2)/(Table2[DepoName]=$C$2)/(IF($C$3<>\"\",Table2[BULAN]=$C$3,TRUE))/(IF($C$4<>\"\",Table2[OFF/ON]=$C$4,TRUE))/(IF($C$5<>\"\",Table2[Status]=$C$5,TRUE))/(IF($C$6<>\"\",Table2[FPPDate]=$C$6,TRUE))/(IF($C$7<>\"\",Table2[ProposalCode]=$C$7,TRUE)),ROW(E14))),\"\")","v":""},{"$f":"IFERROR(INDEX(Table2[PeriodeEnd],_xlfn.AGGREGATE(15,6,(ROW(Table2[FPPGroupCode])-2)/(Table2[DepoName]=$C$2)/(IF($C$3<>\"\",Table2[BULAN]=$C$3,TRUE))/(IF($C$4<>\"\",Table2[OFF/ON]=$C$4,TRUE))/(IF($C$5<>\"\",Table2[Status]=$C$5,TRUE))/(IF($C$6<>\"\",Table2[FPPDate]=$C$6,TRUE))/(IF($C$7<>\"\",Table2[ProposalCode]=$C$7,TRUE)),ROW(F14))),\"\")","v":""},{"$f":"IFERROR(INDEX(Table2[Amount_FPPDepo],_xlfn.AGGREGATE(15,6,(ROW(Table2[FPPGroupCode])-2)/(Table2[DepoName]=$C$2)/(IF($C$3<>\"\",Table2[BULAN]=$C$3,TRUE))/(IF($C$4<>\"\",Table2[OFF/ON]=$C$4,TRUE))/(IF($C$5<>\"\",Table2[Status]=$C$5,TRUE))/(IF($C$6<>\"\",Table2[FPPDate]=$C$6,TRUE))/(IF($C$7<>\"\",Table2[ProposalCode]=$C$7,TRUE)),ROW(G14))),\"\")","v":""},{"$f":"IFERROR(VLOOKUP($B22,SIP!$D$5776:$P$6032,12,0),0)","v":0},{"$f":"IFERROR(H22-I22,0)","v":0},{"$f":"IFERROR(VLOOKUP($B22,SIP!$D$5776:$P$6032,8,0),0)","v":0},{"$f":"IFERROR(INDEX(Table2[OFF/ON],_xlfn.AGGREGATE(15,6,(ROW(Table2[FPPGroupCode])-2)/(Table2[DepoName]=$C$2)/(IF($C$3<>\"\",Table2[BULAN]=$C$3,TRUE))/(IF($C$4<>\"\",Table2[OFF/ON]=$C$4,TRUE))/(IF($C$5<>\"\",Table2[Status]=$C$5,TRUE))/(IF($C$6<>\"\",Table2[FPPDate]=$C$6,TRUE))/(IF($C$7<>\"\",Table2[ProposalCode]=$C$7,TRUE)),ROW(K14))),\"\")","v":""}]
[{"$f":"IF(LEN($B23),ROW(A15),\"\")","v":""},{"$f":"IFERROR(INDEX(Table2[FPPGroupCode],_xlfn.AGGREGATE(15,6,(ROW(Table2[FPPGroupCode])-2)/(Table2[DepoName]=$C$2)/(IF($C$3<>\"\",Table2[BULAN]=$C$3,TRUE))/(IF($C$4<>\"\",Table2[OFF/ON]=$C$4,TRUE))/(IF($C$5<>\"\",Table2[Status]=$C$5,TRUE))/(IF($C$6<>\"\",Table2[FPPDate]=$C$6,TRUE))/(IF($C$7<>\"\",Table2[ProposalCode]=$C$7,TRUE)),ROW(A15))),\"\")","v":""},{"$f":"IFERROR(VLOOKUP($B23,SIP!$D$3:$Q$12237,14,0),0)","v":0},{"$f":"IFERROR(INDEX(Table2[Activity],_xlfn.AGGREGATE(15,6,(ROW(Table2[FPPGroupCode])-2)/(Table2[DepoName]=$C$2)/(IF($C$3<>\"\",Table2[BULAN]=$C$3,TRUE))/(IF($C$4<>\"\",Table2[OFF/ON]=$C$4,TRUE))/(IF($C$5<>\"\",Table2[Status]=$C$5,TRUE))/(IF($C$6<>\"\",Table2[]=$C$6,TRUE))/(IF($C$7<>\"\",Table2[ProposalCode]=$C$7,TRUE)),ROW(B15))),\"\")","v":""},{"$f":"IFERROR(INDEX(Table2[Location],_xlfn.AGGREGATE(15,6,(ROW(Table2[FPPGroupCode])-2)/(Table2[DepoName]=$C$2)/(IF($C$3<>\"\",Table2[BULAN]=$C$3,TRUE))/(IF($C$4<>\"\",Table2[OFF/ON]=$C$4,TRUE))/(IF($C$5<>\"\",Table2[Status]=$C$5,TRUE))/(IF($C$6<>\"\",Table2[FPPDate]=$C$6,TRUE))/(IF($C$7<>\"\",Table2[ProposalCode]=$C$7,TRUE)),ROW(D15))),\"\")","v":""},{"$f":"IFERROR(INDEX(Table2[PeriodeStart],_xlfn.AGGREGATE(15,6,(ROW(Table2[FPPGroupCode])-2)/(Table2[DepoName]=$C$2)/(IF($C$3<>\"\",Table2[BULAN]=$C$3,TRUE))/(IF($C$4<>\"\",Table2[OFF/ON]=$C$4,TRUE))/(IF($C$5<>\"\",Table2[Status]=$C$5,TRUE))/(IF($C$6<>\"\",Table2[FPPDate]=$C$6,TRUE))/(IF($C$7<>\"\",Table2[ProposalCode]=$C$7,TRUE)),ROW(E15))),\"\")","v":""},{"$f":"IFERROR(INDEX(Table2[PeriodeEnd],_xlfn.AGGREGATE(15,6,(ROW(Table2[FPPGroupCode])-2)/(Table2[DepoName]=$C$2)/(IF($C$3<>\"\",Table2[BULAN]=$C$3,TRUE))/(IF($C$4<>\"\",Table2[OFF/ON]=$C$4,TRUE))/(IF($C$5<>\"\",Table2[Status]=$C$5,TRUE))/(IF($C$6<>\"\",Table2[FPPDate]=$C$6,TRUE))/(IF($C$7<>\"\",Table2[ProposalCode]=$C$7,TRUE)),ROW(F15))),\"\")","v":""},{"$f":"IFERROR(INDEX(Table2[Amount_FPPDepo],_xlfn.AGGREGATE(15,6,(ROW(Table2[FPPGroupCode])-2)/(Table2[DepoName]=$C$2)/(IF($C$3<>\"\",Table2[BULAN]=$C$3,TRUE))/(IF($C$4<>\"\",Table2[OFF/ON]=$C$4,TRUE))/(IF($C$5<>\"\",Table2[Status]=$C$5,TRUE))/(IF($C$6<>\"\",Table2[FPPDate]=$C$6,TRUE))/(IF($C$7<>\"\",Table2[ProposalCode]=$C$7,TRUE)),ROW(G15))),\"\")","v":""},{"$f":"IFERROR(VLOOKUP($B23,SIP!$D$5776:$P$6032,12,0),0)","v":0},{"$f":"IFERROR(H23-I23,0)","v":0},{"$f":"IFERROR(VLOOKUP($B23,SIP!$D$5776:$P$6032,8,0),0)","v":0},{"$f":"IFERROR(INDEX(Table2[OFF/ON],_xlfn.AGGREGATE(15,6,(ROW(Table2[FPPGroupCode])-2)/(Table2[DepoName]=$C$2)/(IF($C$3<>\"\",Table2[BULAN]=$C$3,TRUE))/(IF($C$4<>\"\",Table2[OFF/ON]=$C$4,TRUE))/(IF($C$5<>\"\",Table2[Status]=$C$5,TRUE))/(IF($C$6<>\"\",Table2[FPPDate]=$C$6,TRUE))/(IF($C$7<>\"\",Table2[ProposalCode]=$C$7,TRUE)),ROW(K15))),\"\")","v":""}]
[{"$f":"IF(LEN($B24),ROW(A16),\"\")","v":""},{"$f":"IFERROR(INDEX(Table2[FPPGroupCode],_xlfn.AGGREGATE(15,6,(ROW(Table2[FPPGroupCode])-2)/(Table2[DepoName]=$C$2)/(IF($C$3<>\"\",Table2[BULAN]=$C$3,TRUE))/(IF($C$4<>\"\",Table2[OFF/ON]=$C$4,TRUE))/(IF($C$5<>\"\",Table2[Status]=$C$5,TRUE))/(IF($C$6<>\"\",Table2[FPPDate]=$C$6,TRUE))/(IF($C$7<>\"\",Table2[ProposalCode]=$C$7,TRUE)),ROW(A16))),\"\")","v":""},{"$f":"IFERROR(VLOOKUP($B24,SIP!$D$3:$Q$12237,14,0),0)","v":0},{"$f":"IFERROR(INDEX(Table2[Activity],_xlfn.AGGREGATE(15,6,(ROW(Table2[FPPGroupCode])-2)/(Table2[DepoName]=$C$2)/(IF($C$3<>\"\",Table2[BULAN]=$C$3,TRUE))/(IF($C$4<>\"\",Table2[OFF/ON]=$C$4,TRUE))/(IF($C$5<>\"\",Table2[Status]=$C$5,TRUE))/(IF($C$6<>\"\",Table2[]=$C$6,TRUE))/(IF($C$7<>\"\",Table2[ProposalCode]=$C$7,TRUE)),ROW(B16))),\"\")","v":""},{"$f":"IFERROR(INDEX(Table2[Location],_xlfn.AGGREGATE(15,6,(ROW(Table2[FPPGroupCode])-2)/(Table2[DepoName]=$C$2)/(IF($C$3<>\"\",Table2[BULAN]=$C$3,TRUE))/(IF($C$4<>\"\",Table2[OFF/ON]=$C$4,TRUE))/(IF($C$5<>\"\",Table2[Status]=$C$5,TRUE))/(IF($C$6<>\"\",Table2[FPPDate]=$C$6,TRUE))/(IF($C$7<>\"\",Table2[ProposalCode]=$C$7,TRUE)),ROW(D16))),\"\")","v":""},{"$f":"IFERROR(INDEX(Table2[PeriodeStart],_xlfn.AGGREGATE(15,6,(ROW(Table2[FPPGroupCode])-2)/(Table2[DepoName]=$C$2)/(IF($C$3<>\"\",Table2[BULAN]=$C$3,TRUE))/(IF($C$4<>\"\",Table2[OFF/ON]=$C$4,TRUE))/(IF($C$5<>\"\",Table2[Status]=$C$5,TRUE))/(IF($C$6<>\"\",Table2[FPPDate]=$C$6,TRUE))/(IF($C$7<>\"\",Table2[ProposalCode]=$C$7,TRUE)),ROW(E16))),\"\")","v":""},{"$f":"IFERROR(INDEX(Table2[PeriodeEnd],_xlfn.AGGREGATE(15,6,(ROW(Table2[FPPGroupCode])-2)/(Table2[DepoName]=$C$2)/(IF($C$3<>\"\",Table2[BULAN]=$C$3,TRUE))/(IF($C$4<>\"\",Table2[OFF/ON]=$C$4,TRUE))/(IF($C$5<>\"\",Table2[Status]=$C$5,TRUE))/(IF($C$6<>\"\",Table2[FPPDate]=$C$6,TRUE))/(IF($C$7<>\"\",Table2[ProposalCode]=$C$7,TRUE)),ROW(F16))),\"\")","v":""},{"$f":"IFERROR(INDEX(Table2[Amount_FPPDepo],_xlfn.AGGREGATE(15,6,(ROW(Table2[FPPGroupCode])-2)/(Table2[DepoName]=$C$2)/(IF($C$3<>\"\",Table2[BULAN]=$C$3,TRUE))/(IF($C$4<>\"\",Table2[OFF/ON]=$C$4,TRUE))/(IF($C$5<>\"\",Table2[Status]=$C$5,TRUE))/(IF($C$6<>\"\",Table2[FPPDate]=$C$6,TRUE))/(IF($C$7<>\"\",Table2[ProposalCode]=$C$7,TRUE)),ROW(G16))),\"\")","v":""},{"$f":"IFERROR(VLOOKUP($B24,SIP!$D$5776:$P$6032,12,0),0)","v":0},{"$f":"IFERROR(H24-I24,0)","v":0},{"$f":"IFERROR(VLOOKUP($B24,SIP!$D$5776:$P$6032,8,0),0)","v":0},{"$f":"IFERROR(INDEX(Table2[OFF/ON],_xlfn.AGGREGATE(15,6,(ROW(Table2[FPPGroupCode])-2)/(Table2[DepoName]=$C$2)/(IF($C$3<>\"\",Table2[BULAN]=$C$3,TRUE))/(IF($C$4<>\"\",Table2[OFF/ON]=$C$4,TRUE))/(IF($C$5<>\"\",Table2[Status]=$C$5,TRUE))/(IF($C$6<>\"\",Table2[FPPDate]=$C$6,TRUE))/(IF($C$7<>\"\",Table2[ProposalCode]=$C$7,TRUE)),ROW(K16))),\"\")","v":""}]
[{"$f":"IF(LEN($B25),ROW(A17),\"\")","v":""},{"$f":"IFERROR(INDEX(Table2[FPPGroupCode],_xlfn.AGGREGATE(15,6,(ROW(Table2[FPPGroupCode])-2)/(Table2[DepoName]=$C$2)/(IF($C$3<>\"\",Table2[BULAN]=$C$3,TRUE))/(IF($C$4<>\"\",Table2[OFF/ON]=$C$4,TRUE))/(IF($C$5<>\"\",Table2[Status]=$C$5,TRUE))/(IF($C$6<>\"\",Table2[FPPDate]=$C$6,TRUE))/(IF($C$7<>\"\",Table2[ProposalCode]=$C$7,TRUE)),ROW(A17))),\"\")","v":""},{"$f":"IFERROR(VLOOKUP($B25,SIP!$D$3:$Q$12237,14,0),0)","v":0},{"$f":"IFERROR(INDEX(Table2[Activity],_xlfn.AGGREGATE(15,6,(ROW(Table2[FPPGroupCode])-2)/(Table2[DepoName]=$C$2)/(IF($C$3<>\"\",Table2[BULAN]=$C$3,TRUE))/(IF($C$4<>\"\",Table2[OFF/ON]=$C$4,TRUE))/(IF($C$5<>\"\",Table2[Status]=$C$5,TRUE))/(IF($C$6<>\"\",Table2[]=$C$6,TRUE))/(IF($C$7<>\"\",Table2[ProposalCode]=$C$7,TRUE)),ROW(B17))),\"\")","v":""},{"$f":"IFERROR(INDEX(Table2[Location],_xlfn.AGGREGATE(15,6,(ROW(Table2[FPPGroupCode])-2)/(Table2[DepoName]=$C$2)/(IF($C$3<>\"\",Table2[BULAN]=$C$3,TRUE))/(IF($C$4<>\"\",Table2[OFF/ON]=$C$4,TRUE))/(IF($C$5<>\"\",Table2[Status]=$C$5,TRUE))/(IF($C$6<>\"\",Table2[FPPDate]=$C$6,TRUE))/(IF($C$7<>\"\",Table2[ProposalCode]=$C$7,TRUE)),ROW(D17))),\"\")","v":""},{"$f":"IFERROR(INDEX(Table2[PeriodeStart],_xlfn.AGGREGATE(15,6,(ROW(Table2[FPPGroupCode])-2)/(Table2[DepoName]=$C$2)/(IF($C$3<>\"\",Table2[BULAN]=$C$3,TRUE))/(IF($C$4<>\"\",Table2[OFF/ON]=$C$4,TRUE))/(IF($C$5<>\"\",Table2[Status]=$C$5,TRUE))/(IF($C$6<>\"\",Table2[FPPDate]=$C$6,TRUE))/(IF($C$7<>\"\",Table2[ProposalCode]=$C$7,TRUE)),ROW(E17))),\"\")","v":""},{"$f":"IFERROR(INDEX(Table2[PeriodeEnd],_xlfn.AGGREGATE(15,6,(ROW(Table2[FPPGroupCode])-2)/(Table2[DepoName]=$C$2)/(IF($C$3<>\"\",Table2[BULAN]=$C$3,TRUE))/(IF($C$4<>\"\",Table2[OFF/ON]=$C$4,TRUE))/(IF($C$5<>\"\",Table2[Status]=$C$5,TRUE))/(IF($C$6<>\"\",Table2[FPPDate]=$C$6,TRUE))/(IF($C$7<>\"\",Table2[ProposalCode]=$C$7,TRUE)),ROW(F17))),\"\")","v":""},{"$f":"IFERROR(INDEX(Table2[Amount_FPPDepo],_xlfn.AGGREGATE(15,6,(ROW(Table2[FPPGroupCode])-2)/(Table2[DepoName]=$C$2)/(IF($C$3<>\"\",Table2[BULAN]=$C$3,TRUE))/(IF($C$4<>\"\",Table2[OFF/ON]=$C$4,TRUE))/(IF($C$5<>\"\",Table2[Status]=$C$5,TRUE))/(IF($C$6<>\"\",Table2[FPPDate]=$C$6,TRUE))/(IF($C$7<>\"\",Table2[ProposalCode]=$C$7,TRUE)),ROW(G17))),\"\")","v":""},{"$f":"IFERROR(VLOOKUP($B25,SIP!$D$5776:$P$6032,12,0),0)","v":0},{"$f":"IFERROR(H25-I25,0)","v":0},{"$f":"IFERROR(VLOOKUP($B25,SIP!$D$5776:$P$6032,8,0),0)","v":0},{"$f":"IFERROR(INDEX(Table2[OFF/ON],_xlfn.AGGREGATE(15,6,(ROW(Table2[FPPGroupCode])-2)/(Table2[DepoName]=$C$2)/(IF($C$3<>\"\",Table2[BULAN]=$C$3,TRUE))/(IF($C$4<>\"\",Table2[OFF/ON]=$C$4,TRUE))/(IF($C$5<>\"\",Table2[Status]=$C$5,TRUE))/(IF($C$6<>\"\",Table2[FPPDate]=$C$6,TRUE))/(IF($C$7<>\"\",Table2[ProposalCode]=$C$7,TRUE)),ROW(K17))),\"\")","v":""}]
[{"$f":"IF(LEN($B26),ROW(A18),\"\")","v":""},{"$f":"IFERROR(INDEX(Table2[FPPGroupCode],_xlfn.AGGREGATE(15,6,(ROW(Table2[FPPGroupCode])-2)/(Table2[DepoName]=$C$2)/(IF($C$3<>\"\",Table2[BULAN]=$C$3,TRUE))/(IF($C$4<>\"\",Table2[OFF/ON]=$C$4,TRUE))/(IF($C$5<>\"\",Table2[Status]=$C$5,TRUE))/(IF($C$6<>\"\",Table2[FPPDate]=$C$6,TRUE))/(IF($C$7<>\"\",Table2[ProposalCode]=$C$7,TRUE)),ROW(A18))),\"\")","v":""},{"$f":"IFERROR(VLOOKUP($B26,SIP!$D$3:$Q$12237,14,0),0)","v":0},{"$f":"IFERROR(INDEX(Table2[Activity],_xlfn.AGGREGATE(15,6,(ROW(Table2[FPPGroupCode])-2)/(Table2[DepoName]=$C$2)/(IF($C$3<>\"\",Table2[BULAN]=$C$3,TRUE))/(IF($C$4<>\"\",Table2[OFF/ON]=$C$4,TRUE))/(IF($C$5<>\"\",Table2[Status]=$C$5,TRUE))/(IF($C$6<>\"\",Table2[]=$C$6,TRUE))/(IF($C$7<>\"\",Table2[ProposalCode]=$C$7,TRUE)),ROW(B18))),\"\")","v":""},{"$f":"IFERROR(INDEX(Table2[Location],_xlfn.AGGREGATE(15,6,(ROW(Table2[FPPGroupCode])-2)/(Table2[DepoName]=$C$2)/(IF($C$3<>\"\",Table2[BULAN]=$C$3,TRUE))/(IF($C$4<>\"\",Table2[OFF/ON]=$C$4,TRUE))/(IF($C$5<>\"\",Table2[Status]=$C$5,TRUE))/(IF($C$6<>\"\",Table2[FPPDate]=$C$6,TRUE))/(IF($C$7<>\"\",Table2[ProposalCode]=$C$7,TRUE)),ROW(D18))),\"\")","v":""},{"$f":"IFERROR(INDEX(Table2[PeriodeStart],_xlfn.AGGREGATE(15,6,(ROW(Table2[FPPGroupCode])-2)/(Table2[DepoName]=$C$2)/(IF($C$3<>\"\",Table2[BULAN]=$C$3,TRUE))/(IF($C$4<>\"\",Table2[OFF/ON]=$C$4,TRUE))/(IF($C$5<>\"\",Table2[Status]=$C$5,TRUE))/(IF($C$6<>\"\",Table2[FPPDate]=$C$6,TRUE))/(IF($C$7<>\"\",Table2[ProposalCode]=$C$7,TRUE)),ROW(E18))),\"\")","v":""},{"$f":"IFERROR(INDEX(Table2[PeriodeEnd],_xlfn.AGGREGATE(15,6,(ROW(Table2[FPPGroupCode])-2)/(Table2[DepoName]=$C$2)/(IF($C$3<>\"\",Table2[BULAN]=$C$3,TRUE))/(IF($C$4<>\"\",Table2[OFF/ON]=$C$4,TRUE))/(IF($C$5<>\"\",Table2[Status]=$C$5,TRUE))/(IF($C$6<>\"\",Table2[FPPDate]=$C$6,TRUE))/(IF($C$7<>\"\",Table2[ProposalCode]=$C$7,TRUE)),ROW(F18))),\"\")","v":""},{"$f":"IFERROR(INDEX(Table2[Amount_FPPDepo],_xlfn.AGGREGATE(15,6,(ROW(Table2[FPPGroupCode])-2)/(Table2[DepoName]=$C$2)/(IF($C$3<>\"\",Table2[BULAN]=$C$3,TRUE))/(IF($C$4<>\"\",Table2[OFF/ON]=$C$4,TRUE))/(IF($C$5<>\"\",Table2[Status]=$C$5,TRUE))/(IF($C$6<>\"\",Table2[FPPDate]=$C$6,TRUE))/(IF($C$7<>\"\",Table2[ProposalCode]=$C$7,TRUE)),ROW(G18))),\"\")","v":""},{"$f":"IFERROR(VLOOKUP($B26,SIP!$D$5776:$P$6032,12,0),0)","v":0},{"$f":"IFERROR(H26-I26,0)","v":0},{"$f":"IFERROR(VLOOKUP($B26,SIP!$D$5776:$P$6032,8,0),0)","v":0},{"$f":"IFERROR(INDEX(Table2[OFF/ON],_xlfn.AGGREGATE(15,6,(ROW(Table2[FPPGroupCode])-2)/(Table2[DepoName]=$C$2)/(IF($C$3<>\"\",Table2[BULAN]=$C$3,TRUE))/(IF($C$4<>\"\",Table2[OFF/ON]=$C$4,TRUE))/(IF($C$5<>\"\",Table2[Status]=$C$5,TRUE))/(IF($C$6<>\"\",Table2[FPPDate]=$C$6,TRUE))/(IF($C$7<>\"\",Table2[ProposalCode]=$C$7,TRUE)),ROW(K18))),\"\")","v":""}]
[{"$f":"IF(LEN($B27),ROW(A19),\"\")","v":""},{"$f":"IFERROR(INDEX(Table2[FPPGroupCode],_xlfn.AGGREGATE(15,6,(ROW(Table2[FPPGroupCode])-2)/(Table2[DepoName]=$C$2)/(IF($C$3<>\"\",Table2[BULAN]=$C$3,TRUE))/(IF($C$4<>\"\",Table2[OFF/ON]=$C$4,TRUE))/(IF($C$5<>\"\",Table2[Status]=$C$5,TRUE))/(IF($C$6<>\"\",Table2[FPPDate]=$C$6,TRUE))/(IF($C$7<>\"\",Table2[ProposalCode]=$C$7,TRUE)),ROW(A19))),\"\")","v":""},{"$f":"IFERROR(VLOOKUP($B27,SIP!$D$3:$Q$12237,14,0),0)","v":0},{"$f":"IFERROR(INDEX(Table2[Activity],_xlfn.AGGREGATE(15,6,(ROW(Table2[FPPGroupCode])-2)/(Table2[DepoName]=$C$2)/(IF($C$3<>\"\",Table2[BULAN]=$C$3,TRUE))/(IF($C$4<>\"\",Table2[OFF/ON]=$C$4,TRUE))/(IF($C$5<>\"\",Table2[Status]=$C$5,TRUE))/(IF($C$6<>\"\",Table2[]=$C$6,TRUE))/(IF($C$7<>\"\",Table2[ProposalCode]=$C$7,TRUE)),ROW(B19))),\"\")","v":""},{"$f":"IFERROR(INDEX(Table2[Location],_xlfn.AGGREGATE(15,6,(ROW(Table2[FPPGroupCode])-2)/(Table2[DepoName]=$C$2)/(IF($C$3<>\"\",Table2[BULAN]=$C$3,TRUE))/(IF($C$4<>\"\",Table2[OFF/ON]=$C$4,TRUE))/(IF($C$5<>\"\",Table2[Status]=$C$5,TRUE))/(IF($C$6<>\"\",Table2[FPPDate]=$C$6,TRUE))/(IF($C$7<>\"\",Table2[ProposalCode]=$C$7,TRUE)),ROW(D19))),\"\")","v":""},{"$f":"IFERROR(INDEX(Table2[PeriodeStart],_xlfn.AGGREGATE(15,6,(ROW(Table2[FPPGroupCode])-2)/(Table2[DepoName]=$C$2)/(IF($C$3<>\"\",Table2[BULAN]=$C$3,TRUE))/(IF($C$4<>\"\",Table2[OFF/ON]=$C$4,TRUE))/(IF($C$5<>\"\",Table2[Status]=$C$5,TRUE))/(IF($C$6<>\"\",Table2[FPPDate]=$C$6,TRUE))/(IF($C$7<>\"\",Table2[ProposalCode]=$C$7,TRUE)),ROW(E19))),\"\")","v":""},{"$f":"IFERROR(INDEX(Table2[PeriodeEnd],_xlfn.AGGREGATE(15,6,(ROW(Table2[FPPGroupCode])-2)/(Table2[DepoName]=$C$2)/(IF($C$3<>\"\",Table2[BULAN]=$C$3,TRUE))/(IF($C$4<>\"\",Table2[OFF/ON]=$C$4,TRUE))/(IF($C$5<>\"\",Table2[Status]=$C$5,TRUE))/(IF($C$6<>\"\",Table2[FPPDate]=$C$6,TRUE))/(IF($C$7<>\"\",Table2[ProposalCode]=$C$7,TRUE)),ROW(F19))),\"\")","v":""},{"$f":"IFERROR(INDEX(Table2[Amount_FPPDepo],_xlfn.AGGREGATE(15,6,(ROW(Table2[FPPGroupCode])-2)/(Table2[DepoName]=$C$2)/(IF($C$3<>\"\",Table2[BULAN]=$C$3,TRUE))/(IF($C$4<>\"\",Table2[OFF/ON]=$C$4,TRUE))/(IF($C$5<>\"\",Table2[Status]=$C$5,TRUE))/(IF($C$6<>\"\",Table2[FPPDate]=$C$6,TRUE))/(IF($C$7<>\"\",Table2[ProposalCode]=$C$7,TRUE)),ROW(G19))),\"\")","v":""},{"$f":"IFERROR(VLOOKUP($B27,SIP!$D$5776:$P$6032,12,0),0)","v":0},{"$f":"IFERROR(H27-I27,0)","v":0},{"$f":"IFERROR(VLOOKUP($B27,SIP!$D$5776:$P$6032,8,0),0)","v":0},{"$f":"IFERROR(INDEX(Table2[OFF/ON],_xlfn.AGGREGATE(15,6,(ROW(Table2[FPPGroupCode])-2)/(Table2[DepoName]=$C$2)/(IF($C$3<>\"\",Table2[BULAN]=$C$3,TRUE))/(IF($C$4<>\"\",Table2[OFF/ON]=$C$4,TRUE))/(IF($C$5<>\"\",Table2[Status]=$C$5,TRUE))/(IF($C$6<>\"\",Table2[FPPDate]=$C$6,TRUE))/(IF($C$7<>\"\",Table2[ProposalCode]=$C$7,TRUE)),ROW(K19))),\"\")","v":""}]
[{"$f":"IF(LEN($B28),ROW(A20),\"\")","v":""},{"$f":"IFERROR(INDEX(Table2[FPPGroupCode],_xlfn.AGGREGATE(15,6,(ROW(Table2[FPPGroupCode])-2)/(Table2[DepoName]=$C$2)/(IF($C$3<>\"\",Table2[BULAN]=$C$3,TRUE))/(IF($C$4<>\"\",Table2[OFF/ON]=$C$4,TRUE))/(IF($C$5<>\"\",Table2[Status]=$C$5,TRUE))/(IF($C$6<>\"\",Table2[FPPDate]=$C$6,TRUE))/(IF($C$7<>\"\",Table2[ProposalCode]=$C$7,TRUE)),ROW(A20))),\"\")","v":""},{"$f":"IFERROR(VLOOKUP($B28,SIP!$D$3:$Q$12237,14,0),0)","v":0},{"$f":"IFERROR(INDEX(Table2[Activity],_xlfn.AGGREGATE(15,6,(ROW(Table2[FPPGroupCode])-2)/(Table2[DepoName]=$C$2)/(IF($C$3<>\"\",Table2[BULAN]=$C$3,TRUE))/(IF($C$4<>\"\",Table2[OFF/ON]=$C$4,TRUE))/(IF($C$5<>\"\",Table2[Status]=$C$5,TRUE))/(IF($C$6<>\"\",Table2[]=$C$6,TRUE))/(IF($C$7<>\"\",Table2[ProposalCode]=$C$7,TRUE)),ROW(B20))),\"\")","v":""},{"$f":"IFERROR(INDEX(Table2[Location],_xlfn.AGGREGATE(15,6,(ROW(Table2[FPPGroupCode])-2)/(Table2[DepoName]=$C$2)/(IF($C$3<>\"\",Table2[BULAN]=$C$3,TRUE))/(IF($C$4<>\"\",Table2[OFF/ON]=$C$4,TRUE))/(IF($C$5<>\"\",Table2[Status]=$C$5,TRUE))/(IF($C$6<>\"\",Table2[FPPDate]=$C$6,TRUE))/(IF($C$7<>\"\",Table2[ProposalCode]=$C$7,TRUE)),ROW(D20))),\"\")","v":""},{"$f":"IFERROR(INDEX(Table2[PeriodeStart],_xlfn.AGGREGATE(15,6,(ROW(Table2[FPPGroupCode])-2)/(Table2[DepoName]=$C$2)/(IF($C$3<>\"\",Table2[BULAN]=$C$3,TRUE))/(IF($C$4<>\"\",Table2[OFF/ON]=$C$4,TRUE))/(IF($C$5<>\"\",Table2[Status]=$C$5,TRUE))/(IF($C$6<>\"\",Table2[FPPDate]=$C$6,TRUE))/(IF($C$7<>\"\",Table2[ProposalCode]=$C$7,TRUE)),ROW(E20))),\"\")","v":""},{"$f":"IFERROR(INDEX(Table2[PeriodeEnd],_xlfn.AGGREGATE(15,6,(ROW(Table2[FPPGroupCode])-2)/(Table2[DepoName]=$C$2)/(IF($C$3<>\"\",Table2[BULAN]=$C$3,TRUE))/(IF($C$4<>\"\",Table2[OFF/ON]=$C$4,TRUE))/(IF($C$5<>\"\",Table2[Status]=$C$5,TRUE))/(IF($C$6<>\"\",Table2[FPPDate]=$C$6,TRUE))/(IF($C$7<>\"\",Table2[ProposalCode]=$C$7,TRUE)),ROW(F20))),\"\")","v":""},{"$f":"IFERROR(INDEX(Table2[Amount_FPPDepo],_xlfn.AGGREGATE(15,6,(ROW(Table2[FPPGroupCode])-2)/(Table2[DepoName]=$C$2)/(IF($C$3<>\"\",Table2[BULAN]=$C$3,TRUE))/(IF($C$4<>\"\",Table2[OFF/ON]=$C$4,TRUE))/(IF($C$5<>\"\",Table2[Status]=$C$5,TRUE))/(IF($C$6<>\"\",Table2[FPPDate]=$C$6,TRUE))/(IF($C$7<>\"\",Table2[ProposalCode]=$C$7,TRUE)),ROW(G20))),\"\")","v":""},{"$f":"IFERROR(VLOOKUP($B28,SIP!$D$5776:$P$6032,12,0),0)","v":0},{"$f":"IFERROR(H28-I28,0)","v":0},{"$f":"IFERROR(VLOOKUP($B28,SIP!$D$5776:$P$6032,8,0),0)","v":0},{"$f":"IFERROR(INDEX(Table2[OFF/ON],_xlfn.AGGREGATE(15,6,(ROW(Table2[FPPGroupCode])-2)/(Table2[DepoName]=$C$2)/(IF($C$3<>\"\",Table2[BULAN]=$C$3,TRUE))/(IF($C$4<>\"\",Table2[OFF/ON]=$C$4,TRUE))/(IF($C$5<>\"\",Table2[Status]=$C$5,TRUE))/(IF($C$6<>\"\",Table2[FPPDate]=$C$6,TRUE))/(IF($C$7<>\"\",Table2[ProposalCode]=$C$7,TRUE)),ROW(K20))),\"\")","v":""}]
[{"$f":"IF(LEN($B29),ROW(A21),\"\")","v":""},{"$f":"IFERROR(INDEX(Table2[FPPGroupCode],_xlfn.AGGREGATE(15,6,(ROW(Table2[FPPGroupCode])-2)/(Table2[DepoName]=$C$2)/(IF($C$3<>\"\",Table2[BULAN]=$C$3,TRUE))/(IF($C$4<>\"\",Table2[OFF/ON]=$C$4,TRUE))/(IF($C$5<>\"\",Table2[Status]=$C$5,TRUE))/(IF($C$6<>\"\",Table2[FPPDate]=$C$6,TRUE))/(IF($C$7<>\"\",Table2[ProposalCode]=$C$7,TRUE)),ROW(A21))),\"\")","v":""},{"$f":"IFERROR(VLOOKUP($B29,SIP!$D$3:$Q$12237,14,0),0)","v":0},{"$f":"IFERROR(INDEX(Table2[Activity],_xlfn.AGGREGATE(15,6,(ROW(Table2[FPPGroupCode])-2)/(Table2[DepoName]=$C$2)/(IF($C$3<>\"\",Table2[BULAN]=$C$3,TRUE))/(IF($C$4<>\"\",Table2[OFF/ON]=$C$4,TRUE))/(IF($C$5<>\"\",Table2[Status]=$C$5,TRUE))/(IF($C$6<>\"\",Table2[]=$C$6,TRUE))/(IF($C$7<>\"\",Table2[ProposalCode]=$C$7,TRUE)),ROW(B21))),\"\")","v":""},{"$f":"IFERROR(INDEX(Table2[Location],_xlfn.AGGREGATE(15,6,(ROW(Table2[FPPGroupCode])-2)/(Table2[DepoName]=$C$2)/(IF($C$3<>\"\",Table2[BULAN]=$C$3,TRUE))/(IF($C$4<>\"\",Table2[OFF/ON]=$C$4,TRUE))/(IF($C$5<>\"\",Table2[Status]=$C$5,TRUE))/(IF($C$6<>\"\",Table2[FPPDate]=$C$6,TRUE))/(IF($C$7<>\"\",Table2[ProposalCode]=$C$7,TRUE)),ROW(D21))),\"\")","v":""},{"$f":"IFERROR(INDEX(Table2[PeriodeStart],_xlfn.AGGREGATE(15,6,(ROW(Table2[FPPGroupCode])-2)/(Table2[DepoName]=$C$2)/(IF($C$3<>\"\",Table2[BULAN]=$C$3,TRUE))/(IF($C$4<>\"\",Table2[OFF/ON]=$C$4,TRUE))/(IF($C$5<>\"\",Table2[Status]=$C$5,TRUE))/(IF($C$6<>\"\",Table2[FPPDate]=$C$6,TRUE))/(IF($C$7<>\"\",Table2[ProposalCode]=$C$7,TRUE)),ROW(E21))),\"\")","v":""},{"$f":"IFERROR(INDEX(Table2[PeriodeEnd],_xlfn.AGGREGATE(15,6,(ROW(Table2[FPPGroupCode])-2)/(Table2[DepoName]=$C$2)/(IF($C$3<>\"\",Table2[BULAN]=$C$3,TRUE))/(IF($C$4<>\"\",Table2[OFF/ON]=$C$4,TRUE))/(IF($C$5<>\"\",Table2[Status]=$C$5,TRUE))/(IF($C$6<>\"\",Table2[FPPDate]=$C$6,TRUE))/(IF($C$7<>\"\",Table2[ProposalCode]=$C$7,TRUE)),ROW(F21))),\"\")","v":""},{"$f":"IFERROR(INDEX(Table2[Amount_FPPDepo],_xlfn.AGGREGATE(15,6,(ROW(Table2[FPPGroupCode])-2)/(Table2[DepoName]=$C$2)/(IF($C$3<>\"\",Table2[BULAN]=$C$3,TRUE))/(IF($C$4<>\"\",Table2[OFF/ON]=$C$4,TRUE))/(IF($C$5<>\"\",Table2[Status]=$C$5,TRUE))/(IF($C$6<>\"\",Table2[FPPDate]=$C$6,TRUE))/(IF($C$7<>\"\",Table2[ProposalCode]=$C$7,TRUE)),ROW(G21))),\"\")","v":""},{"$f":"IFERROR(VLOOKUP($B29,SIP!$D$5776:$P$6032,12,0),0)","v":0},{"$f":"IFERROR(H29-I29,0)","v":0},{"$f":"IFERROR(VLOOKUP($B29,SIP!$D$5776:$P$6032,8,0),0)","v":0},{"$f":"IFERROR(INDEX(Table2[OFF/ON],_xlfn.AGGREGATE(15,6,(ROW(Table2[FPPGroupCode])-2)/(Table2[DepoName]=$C$2)/(IF($C$3<>\"\",Table2[BULAN]=$C$3,TRUE))/(IF($C$4<>\"\",Table2[OFF/ON]=$C$4,TRUE))/(IF($C$5<>\"\",Table2[Status]=$C$5,TRUE))/(IF($C$6<>\"\",Table2[FPPDate]=$C$6,TRUE))/(IF($C$7<>\"\",Table2[ProposalCode]=$C$7,TRUE)),ROW(K21))),\"\")","v":""}]
[{"$f":"IF(LEN($B30),ROW(A22),\"\")","v":""},{"$f":"IFERROR(INDEX(Table2[FPPGroupCode],_xlfn.AGGREGATE(15,6,(ROW(Table2[FPPGroupCode])-2)/(Table2[DepoName]=$C$2)/(IF($C$3<>\"\",Table2[BULAN]=$C$3,TRUE))/(IF($C$4<>\"\",Table2[OFF/ON]=$C$4,TRUE))/(IF($C$5<>\"\",Table2[Status]=$C$5,TRUE))/(IF($C$6<>\"\",Table2[FPPDate]=$C$6,TRUE))/(IF($C$7<>\"\",Table2[ProposalCode]=$C$7,TRUE)),ROW(A22))),\"\")","v":""},{"$f":"IFERROR(VLOOKUP($B30,SIP!$D$3:$Q$12237,14,0),0)","v":0},{"$f":"IFERROR(INDEX(Table2[Activity],_xlfn.AGGREGATE(15,6,(ROW(Table2[FPPGroupCode])-2)/(Table2[DepoName]=$C$2)/(IF($C$3<>\"\",Table2[BULAN]=$C$3,TRUE))/(IF($C$4<>\"\",Table2[OFF/ON]=$C$4,TRUE))/(IF($C$5<>\"\",Table2[Status]=$C$5,TRUE))/(IF($C$6<>\"\",Table2[]=$C$6,TRUE))/(IF($C$7<>\"\",Table2[ProposalCode]=$C$7,TRUE)),ROW(B22))),\"\")","v":""},{"$f":"IFERROR(INDEX(Table2[Location],_xlfn.AGGREGATE(15,6,(ROW(Table2[FPPGroupCode])-2)/(Table2[DepoName]=$C$2)/(IF($C$3<>\"\",Table2[BULAN]=$C$3,TRUE))/(IF($C$4<>\"\",Table2[OFF/ON]=$C$4,TRUE))/(IF($C$5<>\"\",Table2[Status]=$C$5,TRUE))/(IF($C$6<>\"\",Table2[FPPDate]=$C$6,TRUE))/(IF($C$7<>\"\",Table2[ProposalCode]=$C$7,TRUE)),ROW(D22))),\"\")","v":""},{"$f":"IFERROR(INDEX(Table2[PeriodeStart],_xlfn.AGGREGATE(15,6,(ROW(Table2[FPPGroupCode])-2)/(Table2[DepoName]=$C$2)/(IF($C$3<>\"\",Table2[BULAN]=$C$3,TRUE))/(IF($C$4<>\"\",Table2[OFF/ON]=$C$4,TRUE))/(IF($C$5<>\"\",Table2[Status]=$C$5,TRUE))/(IF($C$6<>\"\",Table2[FPPDate]=$C$6,TRUE))/(IF($C$7<>\"\",Table2[ProposalCode]=$C$7,TRUE)),ROW(E22))),\"\")","v":""},{"$f":"IFERROR(INDEX(Table2[PeriodeEnd],_xlfn.AGGREGATE(15,6,(ROW(Table2[FPPGroupCode])-2)/(Table2[DepoName]=$C$2)/(IF($C$3<>\"\",Table2[BULAN]=$C$3,TRUE))/(IF($C$4<>\"\",Table2[OFF/ON]=$C$4,TRUE))/(IF($C$5<>\"\",Table2[Status]=$C$5,TRUE))/(IF($C$6<>\"\",Table2[FPPDate]=$C$6,TRUE))/(IF($C$7<>\"\",Table2[ProposalCode]=$C$7,TRUE)),ROW(F22))),\"\")","v":""},{"$f":"IFERROR(INDEX(Table2[Amount_FPPDepo],_xlfn.AGGREGATE(15,6,(ROW(Table2[FPPGroupCode])-2)/(Table2[DepoName]=$C$2)/(IF($C$3<>\"\",Table2[BULAN]=$C$3,TRUE))/(IF($C$4<>\"\",Table2[OFF/ON]=$C$4,TRUE))/(IF($C$5<>\"\",Table2[Status]=$C$5,TRUE))/(IF($C$6<>\"\",Table2[FPPDate]=$C$6,TRUE))/(IF($C$7<>\"\",Table2[ProposalCode]=$C$7,TRUE)),ROW(G22))),\"\")","v":""},{"$f":"IFERROR(VLOOKUP($B30,SIP!$D$5776:$P$6032,12,0),0)","v":0},{"$f":"IFERROR(H30-I30,0)","v":0},{"$f":"IFERROR(VLOOKUP($B30,SIP!$D$5776:$P$6032,8,0),0)","v":0},{"$f":"IFERROR(INDEX(Table2[OFF/ON],_xlfn.AGGREGATE(15,6,(ROW(Table2[FPPGroupCode])-2)/(Table2[DepoName]=$C$2)/(IF($C$3<>\"\",Table2[BULAN]=$C$3,TRUE))/(IF($C$4<>\"\",Table2[OFF/ON]=$C$4,TRUE))/(IF($C$5<>\"\",Table2[Status]=$C$5,TRUE))/(IF($C$6<>\"\",Table2[FPPDate]=$C$6,TRUE))/(IF($C$7<>\"\",Table2[ProposalCode]=$C$7,TRUE)),ROW(K22))),\"\")","v":""}]
[{"$f":"IF(LEN($B31),ROW(A23),\"\")","v":""},{"$f":"IFERROR(INDEX(Table2[FPPGroupCode],_xlfn.AGGREGATE(15,6,(ROW(Table2[FPPGroupCode])-2)/(Table2[DepoName]=$C$2)/(IF($C$3<>\"\",Table2[BULAN]=$C$3,TRUE))/(IF($C$4<>\"\",Table2[OFF/ON]=$C$4,TRUE))/(IF($C$5<>\"\",Table2[Status]=$C$5,TRUE))/(IF($C$6<>\"\",Table2[FPPDate]=$C$6,TRUE))/(IF($C$7<>\"\",Table2[ProposalCode]=$C$7,TRUE)),ROW(A23))),\"\")","v":""},{"$f":"IFERROR(VLOOKUP($B31,SIP!$D$3:$Q$12237,14,0),0)","v":0},{"$f":"IFERROR(INDEX(Table2[Activity],_xlfn.AGGREGATE(15,6,(ROW(Table2[FPPGroupCode])-2)/(Table2[DepoName]=$C$2)/(IF($C$3<>\"\",Table2[BULAN]=$C$3,TRUE))/(IF($C$4<>\"\",Table2[OFF/ON]=$C$4,TRUE))/(IF($C$5<>\"\",Table2[Status]=$C$5,TRUE))/(IF($C$6<>\"\",Table2[]=$C$6,TRUE))/(IF($C$7<>\"\",Table2[ProposalCode]=$C$7,TRUE)),ROW(B23))),\"\")","v":""},{"$f":"IFERROR(INDEX(Table2[Location],_xlfn.AGGREGATE(15,6,(ROW(Table2[FPPGroupCode])-2)/(Table2[DepoName]=$C$2)/(IF($C$3<>\"\",Table2[BULAN]=$C$3,TRUE))/(IF($C$4<>\"\",Table2[OFF/ON]=$C$4,TRUE))/(IF($C$5<>\"\",Table2[Status]=$C$5,TRUE))/(IF($C$6<>\"\",Table2[FPPDate]=$C$6,TRUE))/(IF($C$7<>\"\",Table2[ProposalCode]=$C$7,TRUE)),ROW(D23))),\"\")","v":""},{"$f":"IFERROR(INDEX(Table2[PeriodeStart],_xlfn.AGGREGATE(15,6,(ROW(Table2[FPPGroupCode])-2)/(Table2[DepoName]=$C$2)/(IF($C$3<>\"\",Table2[BULAN]=$C$3,TRUE))/(IF($C$4<>\"\",Table2[OFF/ON]=$C$4,TRUE))/(IF($C$5<>\"\",Table2[Status]=$C$5,TRUE))/(IF($C$6<>\"\",Table2[FPPDate]=$C$6,TRUE))/(IF($C$7<>\"\",Table2[ProposalCode]=$C$7,TRUE)),ROW(E23))),\"\")","v":""},{"$f":"IFERROR(INDEX(Table2[PeriodeEnd],_xlfn.AGGREGATE(15,6,(ROW(Table2[FPPGroupCode])-2)/(Table2[DepoName]=$C$2)/(IF($C$3<>\"\",Table2[BULAN]=$C$3,TRUE))/(IF($C$4<>\"\",Table2[OFF/ON]=$C$4,TRUE))/(IF($C$5<>\"\",Table2[Status]=$C$5,TRUE))/(IF($C$6<>\"\",Table2[FPPDate]=$C$6,TRUE))/(IF($C$7<>\"\",Table2[ProposalCode]=$C$7,TRUE)),ROW(F23))),\"\")","v":""},{"$f":"IFERROR(INDEX(Table2[Amount_FPPDepo],_xlfn.AGGREGATE(15,6,(ROW(Table2[FPPGroupCode])-2)/(Table2[DepoName]=$C$2)/(IF($C$3<>\"\",Table2[BULAN]=$C$3,TRUE))/(IF($C$4<>\"\",Table2[OFF/ON]=$C$4,TRUE))/(IF($C$5<>\"\",Table2[Status]=$C$5,TRUE))/(IF($C$6<>\"\",Table2[FPPDate]=$C$6,TRUE))/(IF($C$7<>\"\",Table2[ProposalCode]=$C$7,TRUE)),ROW(G23))),\"\")","v":""},{"$f":"IFERROR(VLOOKUP($B31,SIP!$D$5776:$P$6032,12,0),0)","v":0},{"$f":"IFERROR(H31-I31,0)","v":0},{"$f":"IFERROR(VLOOKUP($B31,SIP!$D$5776:$P$6032,8,0),0)","v":0},{"$f":"IFERROR(INDEX(Table2[OFF/ON],_xlfn.AGGREGATE(15,6,(ROW(Table2[FPPGroupCode])-2)/(Table2[DepoName]=$C$2)/(IF($C$3<>\"\",Table2[BULAN]=$C$3,TRUE))/(IF($C$4<>\"\",Table2[OFF/ON]=$C$4,TRUE))/(IF($C$5<>\"\",Table2[Status]=$C$5,TRUE))/(IF($C$6<>\"\",Table2[FPPDate]=$C$6,TRUE))/(IF($C$7<>\"\",Table2[ProposalCode]=$C$7,TRUE)),ROW(K23))),\"\")","v":""}]
[{"$f":"IF(LEN($B32),ROW(A24),\"\")","v":""},{"$f":"IFERROR(INDEX(Table2[FPPGroupCode],_xlfn.AGGREGATE(15,6,(ROW(Table2[FPPGroupCode])-2)/(Table2[DepoName]=$C$2)/(IF($C$3<>\"\",Table2[BULAN]=$C$3,TRUE))/(IF($C$4<>\"\",Table2[OFF/ON]=$C$4,TRUE))/(IF($C$5<>\"\",Table2[Status]=$C$5,TRUE))/(IF($C$6<>\"\",Table2[FPPDate]=$C$6,TRUE))/(IF($C$7<>\"\",Table2[ProposalCode]=$C$7,TRUE)),ROW(A24))),\"\")","v":""},{"$f":"IFERROR(VLOOKUP($B32,SIP!$D$3:$Q$12237,14,0),0)","v":0},{"$f":"IFERROR(INDEX(Table2[Activity],_xlfn.AGGREGATE(15,6,(ROW(Table2[FPPGroupCode])-2)/(Table2[DepoName]=$C$2)/(IF($C$3<>\"\",Table2[BULAN]=$C$3,TRUE))/(IF($C$4<>\"\",Table2[OFF/ON]=$C$4,TRUE))/(IF($C$5<>\"\",Table2[Status]=$C$5,TRUE))/(IF($C$6<>\"\",Table2[]=$C$6,TRUE))/(IF($C$7<>\"\",Table2[ProposalCode]=$C$7,TRUE)),ROW(B24))),\"\")","v":""},{"$f":"IFERROR(INDEX(Table2[Location],_xlfn.AGGREGATE(15,6,(ROW(Table2[FPPGroupCode])-2)/(Table2[DepoName]=$C$2)/(IF($C$3<>\"\",Table2[BULAN]=$C$3,TRUE))/(IF($C$4<>\"\",Table2[OFF/ON]=$C$4,TRUE))/(IF($C$5<>\"\",Table2[Status]=$C$5,TRUE))/(IF($C$6<>\"\",Table2[FPPDate]=$C$6,TRUE))/(IF($C$7<>\"\",Table2[ProposalCode]=$C$7,TRUE)),ROW(D24))),\"\")","v":""},{"$f":"IFERROR(INDEX(Table2[PeriodeStart],_xlfn.AGGREGATE(15,6,(ROW(Table2[FPPGroupCode])-2)/(Table2[DepoName]=$C$2)/(IF($C$3<>\"\",Table2[BULAN]=$C$3,TRUE))/(IF($C$4<>\"\",Table2[OFF/ON]=$C$4,TRUE))/(IF($C$5<>\"\",Table2[Status]=$C$5,TRUE))/(IF($C$6<>\"\",Table2[FPPDate]=$C$6,TRUE))/(IF($C$7<>\"\",Table2[ProposalCode]=$C$7,TRUE)),ROW(E24))),\"\")","v":""},{"$f":"IFERROR(INDEX(Table2[PeriodeEnd],_xlfn.AGGREGATE(15,6,(ROW(Table2[FPPGroupCode])-2)/(Table2[DepoName]=$C$2)/(IF($C$3<>\"\",Table2[BULAN]=$C$3,TRUE))/(IF($C$4<>\"\",Table2[OFF/ON]=$C$4,TRUE))/(IF($C$5<>\"\",Table2[Status]=$C$5,TRUE))/(IF($C$6<>\"\",Table2[FPPDate]=$C$6,TRUE))/(IF($C$7<>\"\",Table2[ProposalCode]=$C$7,TRUE)),ROW(F24))),\"\")","v":""},{"$f":"IFERROR(INDEX(Table2[Amount_FPPDepo],_xlfn.AGGREGATE(15,6,(ROW(Table2[FPPGroupCode])-2)/(Table2[DepoName]=$C$2)/(IF($C$3<>\"\",Table2[BULAN]=$C$3,TRUE))/(IF($C$4<>\"\",Table2[OFF/ON]=$C$4,TRUE))/(IF($C$5<>\"\",Table2[Status]=$C$5,TRUE))/(IF($C$6<>\"\",Table2[FPPDate]=$C$6,TRUE))/(IF($C$7<>\"\",Table2[ProposalCode]=$C$7,TRUE)),ROW(G24))),\"\")","v":""},{"$f":"IFERROR(VLOOKUP($B32,SIP!$D$5776:$P$6032,12,0),0)","v":0},{"$f":"IFERROR(H32-I32,0)","v":0},{"$f":"IFERROR(VLOOKUP($B32,SIP!$D$5776:$P$6032,8,0),0)","v":0},{"$f":"IFERROR(INDEX(Table2[OFF/ON],_xlfn.AGGREGATE(15,6,(ROW(Table2[FPPGroupCode])-2)/(Table2[DepoName]=$C$2)/(IF($C$3<>\"\",Table2[BULAN]=$C$3,TRUE))/(IF($C$4<>\"\",Table2[OFF/ON]=$C$4,TRUE))/(IF($C$5<>\"\",Table2[Status]=$C$5,TRUE))/(IF($C$6<>\"\",Table2[FPPDate]=$C$6,TRUE))/(IF($C$7<>\"\",Table2[ProposalCode]=$C$7,TRUE)),ROW(K24))),\"\")","v":""}]
[{"$f":"IF(LEN($B33),ROW(A25),\"\")","v":""},{"$f":"IFERROR(INDEX(Table2[FPPGroupCode],_xlfn.AGGREGATE(15,6,(ROW(Table2[FPPGroupCode])-2)/(Table2[DepoName]=$C$2)/(IF($C$3<>\"\",Table2[BULAN]=$C$3,TRUE))/(IF($C$4<>\"\",Table2[OFF/ON]=$C$4,TRUE))/(IF($C$5<>\"\",Table2[Status]=$C$5,TRUE))/(IF($C$6<>\"\",Table2[FPPDate]=$C$6,TRUE))/(IF($C$7<>\"\",Table2[ProposalCode]=$C$7,TRUE)),ROW(A25))),\"\")","v":""},{"$f":"IFERROR(VLOOKUP($B33,SIP!$D$3:$Q$12237,14,0),0)","v":0},{"$f":"IFERROR(INDEX(Table2[Activity],_xlfn.AGGREGATE(15,6,(ROW(Table2[FPPGroupCode])-2)/(Table2[DepoName]=$C$2)/(IF($C$3<>\"\",Table2[BULAN]=$C$3,TRUE))/(IF($C$4<>\"\",Table2[OFF/ON]=$C$4,TRUE))/(IF($C$5<>\"\",Table2[Status]=$C$5,TRUE))/(IF($C$6<>\"\",Table2[]=$C$6,TRUE))/(IF($C$7<>\"\",Table2[ProposalCode]=$C$7,TRUE)),ROW(B25))),\"\")","v":""},{"$f":"IFERROR(INDEX(Table2[Location],_xlfn.AGGREGATE(15,6,(ROW(Table2[FPPGroupCode])-2)/(Table2[DepoName]=$C$2)/(IF($C$3<>\"\",Table2[BULAN]=$C$3,TRUE))/(IF($C$4<>\"\",Table2[OFF/ON]=$C$4,TRUE))/(IF($C$5<>\"\",Table2[Status]=$C$5,TRUE))/(IF($C$6<>\"\",Table2[FPPDate]=$C$6,TRUE))/(IF($C$7<>\"\",Table2[ProposalCode]=$C$7,TRUE)),ROW(D25))),\"\")","v":""},{"$f":"IFERROR(INDEX(Table2[PeriodeStart],_xlfn.AGGREGATE(15,6,(ROW(Table2[FPPGroupCode])-2)/(Table2[DepoName]=$C$2)/(IF($C$3<>\"\",Table2[BULAN]=$C$3,TRUE))/(IF($C$4<>\"\",Table2[OFF/ON]=$C$4,TRUE))/(IF($C$5<>\"\",Table2[Status]=$C$5,TRUE))/(IF($C$6<>\"\",Table2[FPPDate]=$C$6,TRUE))/(IF($C$7<>\"\",Table2[ProposalCode]=$C$7,TRUE)),ROW(E25))),\"\")","v":""},{"$f":"IFERROR(INDEX(Table2[PeriodeEnd],_xlfn.AGGREGATE(15,6,(ROW(Table2[FPPGroupCode])-2)/(Table2[DepoName]=$C$2)/(IF($C$3<>\"\",Table2[BULAN]=$C$3,TRUE))/(IF($C$4<>\"\",Table2[OFF/ON]=$C$4,TRUE))/(IF($C$5<>\"\",Table2[Status]=$C$5,TRUE))/(IF($C$6<>\"\",Table2[FPPDate]=$C$6,TRUE))/(IF($C$7<>\"\",Table2[ProposalCode]=$C$7,TRUE)),ROW(F25))),\"\")","v":""},{"$f":"IFERROR(INDEX(Table2[Amount_FPPDepo],_xlfn.AGGREGATE(15,6,(ROW(Table2[FPPGroupCode])-2)/(Table2[DepoName]=$C$2)/(IF($C$3<>\"\",Table2[BULAN]=$C$3,TRUE))/(IF($C$4<>\"\",Table2[OFF/ON]=$C$4,TRUE))/(IF($C$5<>\"\",Table2[Status]=$C$5,TRUE))/(IF($C$6<>\"\",Table2[FPPDate]=$C$6,TRUE))/(IF($C$7<>\"\",Table2[ProposalCode]=$C$7,TRUE)),ROW(G25))),\"\")","v":""},{"$f":"IFERROR(VLOOKUP($B33,SIP!$D$5776:$P$6032,12,0),0)","v":0},{"$f":"IFERROR(H33-I33,0)","v":0},{"$f":"IFERROR(VLOOKUP($B33,SIP!$D$5776:$P$6032,8,0),0)","v":0},{"$f":"IFERROR(INDEX(Table2[OFF/ON],_xlfn.AGGREGATE(15,6,(ROW(Table2[FPPGroupCode])-2)/(Table2[DepoName]=$C$2)/(IF($C$3<>\"\",Table2[BULAN]=$C$3,TRUE))/(IF($C$4<>\"\",Table2[OFF/ON]=$C$4,TRUE))/(IF($C$5<>\"\",Table2[Status]=$C$5,TRUE))/(IF($C$6<>\"\",Table2[FPPDate]=$C$6,TRUE))/(IF($C$7<>\"\",Table2[ProposalCode]=$C$7,TRUE)),ROW(K25))),\"\")","v":""}]
[{"$f":"IF(LEN($B34),ROW(A26),\"\")","v":""},{"$f":"IFERROR(INDEX(Table2[FPPGroupCode],_xlfn.AGGREGATE(15,6,(ROW(Table2[FPPGroupCode])-2)/(Table2[DepoName]=$C$2)/(IF($C$3<>\"\",Table2[BULAN]=$C$3,TRUE))/(IF($C$4<>\"\",Table2[OFF/ON]=$C$4,TRUE))/(IF($C$5<>\"\",Table2[Status]=$C$5,TRUE))/(IF($C$6<>\"\",Table2[FPPDate]=$C$6,TRUE))/(IF($C$7<>\"\",Table2[ProposalCode]=$C$7,TRUE)),ROW(A26))),\"\")","v":""},{"$f":"IFERROR(VLOOKUP($B34,SIP!$D$3:$Q$12237,14,0),0)","v":0},{"$f":"IFERROR(INDEX(Table2[Activity],_xlfn.AGGREGATE(15,6,(ROW(Table2[FPPGroupCode])-2)/(Table2[DepoName]=$C$2)/(IF($C$3<>\"\",Table2[BULAN]=$C$3,TRUE))/(IF($C$4<>\"\",Table2[OFF/ON]=$C$4,TRUE))/(IF($C$5<>\"\",Table2[Status]=$C$5,TRUE))/(IF($C$6<>\"\",Table2[]=$C$6,TRUE))/(IF($C$7<>\"\",Table2[ProposalCode]=$C$7,TRUE)),ROW(B26))),\"\")","v":""},{"$f":"IFERROR(INDEX(Table2[Location],_xlfn.AGGREGATE(15,6,(ROW(Table2[FPPGroupCode])-2)/(Table2[DepoName]=$C$2)/(IF($C$3<>\"\",Table2[BULAN]=$C$3,TRUE))/(IF($C$4<>\"\",Table2[OFF/ON]=$C$4,TRUE))/(IF($C$5<>\"\",Table2[Status]=$C$5,TRUE))/(IF($C$6<>\"\",Table2[FPPDate]=$C$6,TRUE))/(IF($C$7<>\"\",Table2[ProposalCode]=$C$7,TRUE)),ROW(D26))),\"\")","v":""},{"$f":"IFERROR(INDEX(Table2[PeriodeStart],_xlfn.AGGREGATE(15,6,(ROW(Table2[FPPGroupCode])-2)/(Table2[DepoName]=$C$2)/(IF($C$3<>\"\",Table2[BULAN]=$C$3,TRUE))/(IF($C$4<>\"\",Table2[OFF/ON]=$C$4,TRUE))/(IF($C$5<>\"\",Table2[Status]=$C$5,TRUE))/(IF($C$6<>\"\",Table2[FPPDate]=$C$6,TRUE))/(IF($C$7<>\"\",Table2[ProposalCode]=$C$7,TRUE)),ROW(E26))),\"\")","v":""},{"$f":"IFERROR(INDEX(Table2[PeriodeEnd],_xlfn.AGGREGATE(15,6,(ROW(Table2[FPPGroupCode])-2)/(Table2[DepoName]=$C$2)/(IF($C$3<>\"\",Table2[BULAN]=$C$3,TRUE))/(IF($C$4<>\"\",Table2[OFF/ON]=$C$4,TRUE))/(IF($C$5<>\"\",Table2[Status]=$C$5,TRUE))/(IF($C$6<>\"\",Table2[FPPDate]=$C$6,TRUE))/(IF($C$7<>\"\",Table2[ProposalCode]=$C$7,TRUE)),ROW(F26))),\"\")","v":""},{"$f":"IFERROR(INDEX(Table2[Amount_FPPDepo],_xlfn.AGGREGATE(15,6,(ROW(Table2[FPPGroupCode])-2)/(Table2[DepoName]=$C$2)/(IF($C$3<>\"\",Table2[BULAN]=$C$3,TRUE))/(IF($C$4<>\"\",Table2[OFF/ON]=$C$4,TRUE))/(IF($C$5<>\"\",Table2[Status]=$C$5,TRUE))/(IF($C$6<>\"\",Table2[FPPDate]=$C$6,TRUE))/(IF($C$7<>\"\",Table2[ProposalCode]=$C$7,TRUE)),ROW(G26))),\"\")","v":""},{"$f":"IFERROR(VLOOKUP($B34,SIP!$D$5776:$P$6032,12,0),0)","v":0},{"$f":"IFERROR(H34-I34,0)","v":0},{"$f":"IFERROR(VLOOKUP($B34,SIP!$D$5776:$P$6032,8,0),0)","v":0},{"$f":"IFERROR(INDEX(Table2[OFF/ON],_xlfn.AGGREGATE(15,6,(ROW(Table2[FPPGroupCode])-2)/(Table2[DepoName]=$C$2)/(IF($C$3<>\"\",Table2[BULAN]=$C$3,TRUE))/(IF($C$4<>\"\",Table2[OFF/ON]=$C$4,TRUE))/(IF($C$5<>\"\",Table2[Status]=$C$5,TRUE))/(IF($C$6<>\"\",Table2[FPPDate]=$C$6,TRUE))/(IF($C$7<>\"\",Table2[ProposalCode]=$C$7,TRUE)),ROW(K26))),\"\")","v":""}]
[{"$f":"IF(LEN($B35),ROW(A27),\"\")","v":""},{"$f":"IFERROR(INDEX(Table2[FPPGroupCode],_xlfn.AGGREGATE(15,6,(ROW(Table2[FPPGroupCode])-2)/(Table2[DepoName]=$C$2)/(IF($C$3<>\"\",Table2[BULAN]=$C$3,TRUE))/(IF($C$4<>\"\",Table2[OFF/ON]=$C$4,TRUE))/(IF($C$5<>\"\",Table2[Status]=$C$5,TRUE))/(IF($C$6<>\"\",Table2[FPPDate]=$C$6,TRUE))/(IF($C$7<>\"\",Table2[ProposalCode]=$C$7,TRUE)),ROW(A27))),\"\")","v":""},{"$f":"IFERROR(VLOOKUP($B35,SIP!$D$3:$Q$12237,14,0),0)","v":0},{"$f":"IFERROR(INDEX(Table2[Activity],_xlfn.AGGREGATE(15,6,(ROW(Table2[FPPGroupCode])-2)/(Table2[DepoName]=$C$2)/(IF($C$3<>\"\",Table2[BULAN]=$C$3,TRUE))/(IF($C$4<>\"\",Table2[OFF/ON]=$C$4,TRUE))/(IF($C$5<>\"\",Table2[Status]=$C$5,TRUE))/(IF($C$6<>\"\",Table2[]=$C$6,TRUE))/(IF($C$7<>\"\",Table2[ProposalCode]=$C$7,TRUE)),ROW(B27))),\"\")","v":""},{"$f":"IFERROR(INDEX(Table2[Location],_xlfn.AGGREGATE(15,6,(ROW(Table2[FPPGroupCode])-2)/(Table2[DepoName]=$C$2)/(IF($C$3<>\"\",Table2[BULAN]=$C$3,TRUE))/(IF($C$4<>\"\",Table2[OFF/ON]=$C$4,TRUE))/(IF($C$5<>\"\",Table2[Status]=$C$5,TRUE))/(IF($C$6<>\"\",Table2[FPPDate]=$C$6,TRUE))/(IF($C$7<>\"\",Table2[ProposalCode]=$C$7,TRUE)),ROW(D27))),\"\")","v":""},{"$f":"IFERROR(INDEX(Table2[PeriodeStart],_xlfn.AGGREGATE(15,6,(ROW(Table2[FPPGroupCode])-2)/(Table2[DepoName]=$C$2)/(IF($C$3<>\"\",Table2[BULAN]=$C$3,TRUE))/(IF($C$4<>\"\",Table2[OFF/ON]=$C$4,TRUE))/(IF($C$5<>\"\",Table2[Status]=$C$5,TRUE))/(IF($C$6<>\"\",Table2[FPPDate]=$C$6,TRUE))/(IF($C$7<>\"\",Table2[ProposalCode]=$C$7,TRUE)),ROW(E27))),\"\")","v":""},{"$f":"IFERROR(INDEX(Table2[PeriodeEnd],_xlfn.AGGREGATE(15,6,(ROW(Table2[FPPGroupCode])-2)/(Table2[DepoName]=$C$2)/(IF($C$3<>\"\",Table2[BULAN]=$C$3,TRUE))/(IF($C$4<>\"\",Table2[OFF/ON]=$C$4,TRUE))/(IF($C$5<>\"\",Table2[Status]=$C$5,TRUE))/(IF($C$6<>\"\",Table2[FPPDate]=$C$6,TRUE))/(IF($C$7<>\"\",Table2[ProposalCode]=$C$7,TRUE)),ROW(F27))),\"\")","v":""},{"$f":"IFERROR(INDEX(Table2[Amount_FPPDepo],_xlfn.AGGREGATE(15,6,(ROW(Table2[FPPGroupCode])-2)/(Table2[DepoName]=$C$2)/(IF($C$3<>\"\",Table2[BULAN]=$C$3,TRUE))/(IF($C$4<>\"\",Table2[OFF/ON]=$C$4,TRUE))/(IF($C$5<>\"\",Table2[Status]=$C$5,TRUE))/(IF($C$6<>\"\",Table2[FPPDate]=$C$6,TRUE))/(IF($C$7<>\"\",Table2[ProposalCode]=$C$7,TRUE)),ROW(G27))),\"\")","v":""},{"$f":"IFERROR(VLOOKUP($B35,SIP!$D$5776:$P$6032,12,0),0)","v":0},{"$f":"IFERROR(H35-I35,0)","v":0},{"$f":"IFERROR(VLOOKUP($B35,SIP!$D$5776:$P$6032,8,0),0)","v":0},{"$f":"IFERROR(INDEX(Table2[OFF/ON],_xlfn.AGGREGATE(15,6,(ROW(Table2[FPPGroupCode])-2)/(Table2[DepoName]=$C$2)/(IF($C$3<>\"\",Table2[BULAN]=$C$3,TRUE))/(IF($C$4<>\"\",Table2[OFF/ON]=$C$4,TRUE))/(IF($C$5<>\"\",Table2[Status]=$C$5,TRUE))/(IF($C$6<>\"\",Table2[FPPDate]=$C$6,TRUE))/(IF($C$7<>\"\",Table2[ProposalCode]=$C$7,TRUE)),ROW(K27))),\"\")","v":""}]
[{"$f":"IF(LEN($B36),ROW(A28),\"\")","v":""},{"$f":"IFERROR(INDEX(Table2[FPPGroupCode],_xlfn.AGGREGATE(15,6,(ROW(Table2[FPPGroupCode])-2)/(Table2[DepoName]=$C$2)/(IF($C$3<>\"\",Table2[BULAN]=$C$3,TRUE))/(IF($C$4<>\"\",Table2[OFF/ON]=$C$4,TRUE))/(IF($C$5<>\"\",Table2[Status]=$C$5,TRUE))/(IF($C$6<>\"\",Table2[FPPDate]=$C$6,TRUE))/(IF($C$7<>\"\",Table2[ProposalCode]=$C$7,TRUE)),ROW(A28))),\"\")","v":""},{"$f":"IFERROR(VLOOKUP($B36,SIP!$D$3:$Q$12237,14,0),0)","v":0},{"$f":"IFERROR(INDEX(Table2[Activity],_xlfn.AGGREGATE(15,6,(ROW(Table2[FPPGroupCode])-2)/(Table2[DepoName]=$C$2)/(IF($C$3<>\"\",Table2[BULAN]=$C$3,TRUE))/(IF($C$4<>\"\",Table2[OFF/ON]=$C$4,TRUE))/(IF($C$5<>\"\",Table2[Status]=$C$5,TRUE))/(IF($C$6<>\"\",Table2[]=$C$6,TRUE))/(IF($C$7<>\"\",Table2[ProposalCode]=$C$7,TRUE)),ROW(B28))),\"\")","v":""},{"$f":"IFERROR(INDEX(Table2[Location],_xlfn.AGGREGATE(15,6,(ROW(Table2[FPPGroupCode])-2)/(Table2[DepoName]=$C$2)/(IF($C$3<>\"\",Table2[BULAN]=$C$3,TRUE))/(IF($C$4<>\"\",Table2[OFF/ON]=$C$4,TRUE))/(IF($C$5<>\"\",Table2[Status]=$C$5,TRUE))/(IF($C$6<>\"\",Table2[FPPDate]=$C$6,TRUE))/(IF($C$7<>\"\",Table2[ProposalCode]=$C$7,TRUE)),ROW(D28))),\"\")","v":""},{"$f":"IFERROR(INDEX(Table2[PeriodeStart],_xlfn.AGGREGATE(15,6,(ROW(Table2[FPPGroupCode])-2)/(Table2[DepoName]=$C$2)/(IF($C$3<>\"\",Table2[BULAN]=$C$3,TRUE))/(IF($C$4<>\"\",Table2[OFF/ON]=$C$4,TRUE))/(IF($C$5<>\"\",Table2[Status]=$C$5,TRUE))/(IF($C$6<>\"\",Table2[FPPDate]=$C$6,TRUE))/(IF($C$7<>\"\",Table2[ProposalCode]=$C$7,TRUE)),ROW(E28))),\"\")","v":""},{"$f":"IFERROR(INDEX(Table2[PeriodeEnd],_xlfn.AGGREGATE(15,6,(ROW(Table2[FPPGroupCode])-2)/(Table2[DepoName]=$C$2)/(IF($C$3<>\"\",Table2[BULAN]=$C$3,TRUE))/(IF($C$4<>\"\",Table2[OFF/ON]=$C$4,TRUE))/(IF($C$5<>\"\",Table2[Status]=$C$5,TRUE))/(IF($C$6<>\"\",Table2[FPPDate]=$C$6,TRUE))/(IF($C$7<>\"\",Table2[ProposalCode]=$C$7,TRUE)),ROW(F28))),\"\")","v":""},{"$f":"IFERROR(INDEX(Table2[Amount_FPPDepo],_xlfn.AGGREGATE(15,6,(ROW(Table2[FPPGroupCode])-2)/(Table2[DepoName]=$C$2)/(IF($C$3<>\"\",Table2[BULAN]=$C$3,TRUE))/(IF($C$4<>\"\",Table2[OFF/ON]=$C$4,TRUE))/(IF($C$5<>\"\",Table2[Status]=$C$5,TRUE))/(IF($C$6<>\"\",Table2[FPPDate]=$C$6,TRUE))/(IF($C$7<>\"\",Table2[ProposalCode]=$C$7,TRUE)),ROW(G28))),\"\")","v":""},{"$f":"IFERROR(VLOOKUP($B36,SIP!$D$5776:$P$6032,12,0),0)","v":0},{"$f":"IFERROR(H36-I36,0)","v":0},{"$f":"IFERROR(VLOOKUP($B36,SIP!$D$5776:$P$6032,8,0),0)","v":0},{"$f":"IFERROR(INDEX(Table2[OFF/ON],_xlfn.AGGREGATE(15,6,(ROW(Table2[FPPGroupCode])-2)/(Table2[DepoName]=$C$2)/(IF($C$3<>\"\",Table2[BULAN]=$C$3,TRUE))/(IF($C$4<>\"\",Table2[OFF/ON]=$C$4,TRUE))/(IF($C$5<>\"\",Table2[Status]=$C$5,TRUE))/(IF($C$6<>\"\",Table2[FPPDate]=$C$6,TRUE))/(IF($C$7<>\"\",Table2[ProposalCode]=$C$7,TRUE)),ROW(K28))),\"\")","v":""}]
[{"$f":"IF(LEN($B37),ROW(A29),\"\")","v":""},{"$f":"IFERROR(INDEX(Table2[FPPGroupCode],_xlfn.AGGREGATE(15,6,(ROW(Table2[FPPGroupCode])-2)/(Table2[DepoName]=$C$2)/(IF($C$3<>\"\",Table2[BULAN]=$C$3,TRUE))/(IF($C$4<>\"\",Table2[OFF/ON]=$C$4,TRUE))/(IF($C$5<>\"\",Table2[Status]=$C$5,TRUE))/(IF($C$6<>\"\",Table2[FPPDate]=$C$6,TRUE))/(IF($C$7<>\"\",Table2[ProposalCode]=$C$7,TRUE)),ROW(A29))),\"\")","v":""},{"$f":"IFERROR(VLOOKUP($B37,SIP!$D$3:$Q$12237,14,0),0)","v":0},{"$f":"IFERROR(INDEX(Table2[Activity],_xlfn.AGGREGATE(15,6,(ROW(Table2[FPPGroupCode])-2)/(Table2[DepoName]=$C$2)/(IF($C$3<>\"\",Table2[BULAN]=$C$3,TRUE))/(IF($C$4<>\"\",Table2[OFF/ON]=$C$4,TRUE))/(IF($C$5<>\"\",Table2[Status]=$C$5,TRUE))/(IF($C$6<>\"\",Table2[]=$C$6,TRUE))/(IF($C$7<>\"\",Table2[ProposalCode]=$C$7,TRUE)),ROW(B29))),\"\")","v":""},{"$f":"IFERROR(INDEX(Table2[Location],_xlfn.AGGREGATE(15,6,(ROW(Table2[FPPGroupCode])-2)/(Table2[DepoName]=$C$2)/(IF($C$3<>\"\",Table2[BULAN]=$C$3,TRUE))/(IF($C$4<>\"\",Table2[OFF/ON]=$C$4,TRUE))/(IF($C$5<>\"\",Table2[Status]=$C$5,TRUE))/(IF($C$6<>\"\",Table2[FPPDate]=$C$6,TRUE))/(IF($C$7<>\"\",Table2[ProposalCode]=$C$7,TRUE)),ROW(D29))),\"\")","v":""},{"$f":"IFERROR(INDEX(Table2[PeriodeStart],_xlfn.AGGREGATE(15,6,(ROW(Table2[FPPGroupCode])-2)/(Table2[DepoName]=$C$2)/(IF($C$3<>\"\",Table2[BULAN]=$C$3,TRUE))/(IF($C$4<>\"\",Table2[OFF/ON]=$C$4,TRUE))/(IF($C$5<>\"\",Table2[Status]=$C$5,TRUE))/(IF($C$6<>\"\",Table2[FPPDate]=$C$6,TRUE))/(IF($C$7<>\"\",Table2[ProposalCode]=$C$7,TRUE)),ROW(E29))),\"\")","v":""},{"$f":"IFERROR(INDEX(Table2[PeriodeEnd],_xlfn.AGGREGATE(15,6,(ROW(Table2[FPPGroupCode])-2)/(Table2[DepoName]=$C$2)/(IF($C$3<>\"\",Table2[BULAN]=$C$3,TRUE))/(IF($C$4<>\"\",Table2[OFF/ON]=$C$4,TRUE))/(IF($C$5<>\"\",Table2[Status]=$C$5,TRUE))/(IF($C$6<>\"\",Table2[FPPDate]=$C$6,TRUE))/(IF($C$7<>\"\",Table2[ProposalCode]=$C$7,TRUE)),ROW(F29))),\"\")","v":""},{"$f":"IFERROR(INDEX(Table2[Amount_FPPDepo],_xlfn.AGGREGATE(15,6,(ROW(Table2[FPPGroupCode])-2)/(Table2[DepoName]=$C$2)/(IF($C$3<>\"\",Table2[BULAN]=$C$3,TRUE))/(IF($C$4<>\"\",Table2[OFF/ON]=$C$4,TRUE))/(IF($C$5<>\"\",Table2[Status]=$C$5,TRUE))/(IF($C$6<>\"\",Table2[FPPDate]=$C$6,TRUE))/(IF($C$7<>\"\",Table2[ProposalCode]=$C$7,TRUE)),ROW(G29))),\"\")","v":""},{"$f":"IFERROR(VLOOKUP($B37,SIP!$D$5776:$P$6032,12,0),0)","v":0},{"$f":"IFERROR(H37-I37,0)","v":0},{"$f":"IFERROR(VLOOKUP($B37,SIP!$D$5776:$P$6032,8,0),0)","v":0},{"$f":"IFERROR(INDEX(Table2[OFF/ON],_xlfn.AGGREGATE(15,6,(ROW(Table2[FPPGroupCode])-2)/(Table2[DepoName]=$C$2)/(IF($C$3<>\"\",Table2[BULAN]=$C$3,TRUE))/(IF($C$4<>\"\",Table2[OFF/ON]=$C$4,TRUE))/(IF($C$5<>\"\",Table2[Status]=$C$5,TRUE))/(IF($C$6<>\"\",Table2[FPPDate]=$C$6,TRUE))/(IF($C$7<>\"\",Table2[ProposalCode]=$C$7,TRUE)),ROW(K29))),\"\")","v":""}]
[{"$f":"IF(LEN($B38),ROW(A30),\"\")","v":""},{"$f":"IFERROR(INDEX(Table2[FPPGroupCode],_xlfn.AGGREGATE(15,6,(ROW(Table2[FPPGroupCode])-2)/(Table2[DepoName]=$C$2)/(IF($C$3<>\"\",Table2[BULAN]=$C$3,TRUE))/(IF($C$4<>\"\",Table2[OFF/ON]=$C$4,TRUE))/(IF($C$5<>\"\",Table2[Status]=$C$5,TRUE))/(IF($C$6<>\"\",Table2[FPPDate]=$C$6,TRUE))/(IF($C$7<>\"\",Table2[ProposalCode]=$C$7,TRUE)),ROW(A30))),\"\")","v":""},{"$f":"IFERROR(VLOOKUP($B38,SIP!$D$3:$Q$12237,14,0),0)","v":0},{"$f":"IFERROR(INDEX(Table2[Activity],_xlfn.AGGREGATE(15,6,(ROW(Table2[FPPGroupCode])-2)/(Table2[DepoName]=$C$2)/(IF($C$3<>\"\",Table2[BULAN]=$C$3,TRUE))/(IF($C$4<>\"\",Table2[OFF/ON]=$C$4,TRUE))/(IF($C$5<>\"\",Table2[Status]=$C$5,TRUE))/(IF($C$6<>\"\",Table2[]=$C$6,TRUE))/(IF($C$7<>\"\",Table2[ProposalCode]=$C$7,TRUE)),ROW(B30))),\"\")","v":""},{"$f":"IFERROR(INDEX(Table2[Location],_xlfn.AGGREGATE(15,6,(ROW(Table2[FPPGroupCode])-2)/(Table2[DepoName]=$C$2)/(IF($C$3<>\"\",Table2[BULAN]=$C$3,TRUE))/(IF($C$4<>\"\",Table2[OFF/ON]=$C$4,TRUE))/(IF($C$5<>\"\",Table2[Status]=$C$5,TRUE))/(IF($C$6<>\"\",Table2[FPPDate]=$C$6,TRUE))/(IF($C$7<>\"\",Table2[ProposalCode]=$C$7,TRUE)),ROW(D30))),\"\")","v":""},{"$f":"IFERROR(INDEX(Table2[PeriodeStart],_xlfn.AGGREGATE(15,6,(ROW(Table2[FPPGroupCode])-2)/(Table2[DepoName]=$C$2)/(IF($C$3<>\"\",Table2[BULAN]=$C$3,TRUE))/(IF($C$4<>\"\",Table2[OFF/ON]=$C$4,TRUE))/(IF($C$5<>\"\",Table2[Status]=$C$5,TRUE))/(IF($C$6<>\"\",Table2[FPPDate]=$C$6,TRUE))/(IF($C$7<>\"\",Table2[ProposalCode]=$C$7,TRUE)),ROW(E30))),\"\")","v":""},{"$f":"IFERROR(INDEX(Table2[PeriodeEnd],_xlfn.AGGREGATE(15,6,(ROW(Table2[FPPGroupCode])-2)/(Table2[DepoName]=$C$2)/(IF($C$3<>\"\",Table2[BULAN]=$C$3,TRUE))/(IF($C$4<>\"\",Table2[OFF/ON]=$C$4,TRUE))/(IF($C$5<>\"\",Table2[Status]=$C$5,TRUE))/(IF($C$6<>\"\",Table2[FPPDate]=$C$6,TRUE))/(IF($C$7<>\"\",Table2[ProposalCode]=$C$7,TRUE)),ROW(F30))),\"\")","v":""},{"$f":"IFERROR(INDEX(Table2[Amount_FPPDepo],_xlfn.AGGREGATE(15,6,(ROW(Table2[FPPGroupCode])-2)/(Table2[DepoName]=$C$2)/(IF($C$3<>\"\",Table2[BULAN]=$C$3,TRUE))/(IF($C$4<>\"\",Table2[OFF/ON]=$C$4,TRUE))/(IF($C$5<>\"\",Table2[Status]=$C$5,TRUE))/(IF($C$6<>\"\",Table2[FPPDate]=$C$6,TRUE))/(IF($C$7<>\"\",Table2[ProposalCode]=$C$7,TRUE)),ROW(G30))),\"\")","v":""},{"$f":"IFERROR(VLOOKUP($B38,SIP!$D$5776:$P$6032,12,0),0)","v":0},{"$f":"IFERROR(H38-I38,0)","v":0},{"$f":"IFERROR(VLOOKUP($B38,SIP!$D$5776:$P$6032,8,0),0)","v":0},{"$f":"IFERROR(INDEX(Table2[OFF/ON],_xlfn.AGGREGATE(15,6,(ROW(Table2[FPPGroupCode])-2)/(Table2[DepoName]=$C$2)/(IF($C$3<>\"\",Table2[BULAN]=$C$3,TRUE))/(IF($C$4<>\"\",Table2[OFF/ON]=$C$4,TRUE))/(IF($C$5<>\"\",Table2[Status]=$C$5,TRUE))/(IF($C$6<>\"\",Table2[FPPDate]=$C$6,TRUE))/(IF($C$7<>\"\",Table2[ProposalCode]=$C$7,TRUE)),ROW(K30))),\"\")","v":""}]
[{"$f":"IF(LEN($B39),ROW(A31),\"\")","v":""},{"$f":"IFERROR(INDEX(Table2[FPPGroupCode],_xlfn.AGGREGATE(15,6,(ROW(Table2[FPPGroupCode])-2)/(Table2[DepoName]=$C$2)/(IF($C$3<>\"\",Table2[BULAN]=$C$3,TRUE))/(IF($C$4<>\"\",Table2[OFF/ON]=$C$4,TRUE))/(IF($C$5<>\"\",Table2[Status]=$C$5,TRUE))/(IF($C$6<>\"\",Table2[FPPDate]=$C$6,TRUE))/(IF($C$7<>\"\",Table2[ProposalCode]=$C$7,TRUE)),ROW(A31))),\"\")","v":""},{"$f":"IFERROR(VLOOKUP($B39,SIP!$D$3:$Q$12237,14,0),0)","v":0},{"$f":"IFERROR(INDEX(Table2[Activity],_xlfn.AGGREGATE(15,6,(ROW(Table2[FPPGroupCode])-2)/(Table2[DepoName]=$C$2)/(IF($C$3<>\"\",Table2[BULAN]=$C$3,TRUE))/(IF($C$4<>\"\",Table2[OFF/ON]=$C$4,TRUE))/(IF($C$5<>\"\",Table2[Status]=$C$5,TRUE))/(IF($C$6<>\"\",Table2[]=$C$6,TRUE))/(IF($C$7<>\"\",Table2[ProposalCode]=$C$7,TRUE)),ROW(B31))),\"\")","v":""},{"$f":"IFERROR(INDEX(Table2[Location],_xlfn.AGGREGATE(15,6,(ROW(Table2[FPPGroupCode])-2)/(Table2[DepoName]=$C$2)/(IF($C$3<>\"\",Table2[BULAN]=$C$3,TRUE))/(IF($C$4<>\"\",Table2[OFF/ON]=$C$4,TRUE))/(IF($C$5<>\"\",Table2[Status]=$C$5,TRUE))/(IF($C$6<>\"\",Table2[FPPDate]=$C$6,TRUE))/(IF($C$7<>\"\",Table2[ProposalCode]=$C$7,TRUE)),ROW(D31))),\"\")","v":""},{"$f":"IFERROR(INDEX(Table2[PeriodeStart],_xlfn.AGGREGATE(15,6,(ROW(Table2[FPPGroupCode])-2)/(Table2[DepoName]=$C$2)/(IF($C$3<>\"\",Table2[BULAN]=$C$3,TRUE))/(IF($C$4<>\"\",Table2[OFF/ON]=$C$4,TRUE))/(IF($C$5<>\"\",Table2[Status]=$C$5,TRUE))/(IF($C$6<>\"\",Table2[FPPDate]=$C$6,TRUE))/(IF($C$7<>\"\",Table2[ProposalCode]=$C$7,TRUE)),ROW(E31))),\"\")","v":""},{"$f":"IFERROR(INDEX(Table2[PeriodeEnd],_xlfn.AGGREGATE(15,6,(ROW(Table2[FPPGroupCode])-2)/(Table2[DepoName]=$C$2)/(IF($C$3<>\"\",Table2[BULAN]=$C$3,TRUE))/(IF($C$4<>\"\",Table2[OFF/ON]=$C$4,TRUE))/(IF($C$5<>\"\",Table2[Status]=$C$5,TRUE))/(IF($C$6<>\"\",Table2[FPPDate]=$C$6,TRUE))/(IF($C$7<>\"\",Table2[ProposalCode]=$C$7,TRUE)),ROW(F31))),\"\")","v":""},{"$f":"IFERROR(INDEX(Table2[Amount_FPPDepo],_xlfn.AGGREGATE(15,6,(ROW(Table2[FPPGroupCode])-2)/(Table2[DepoName]=$C$2)/(IF($C$3<>\"\",Table2[BULAN]=$C$3,TRUE))/(IF($C$4<>\"\",Table2[OFF/ON]=$C$4,TRUE))/(IF($C$5<>\"\",Table2[Status]=$C$5,TRUE))/(IF($C$6<>\"\",Table2[FPPDate]=$C$6,TRUE))/(IF($C$7<>\"\",Table2[ProposalCode]=$C$7,TRUE)),ROW(G31))),\"\")","v":""},{"$f":"IFERROR(VLOOKUP($B39,SIP!$D$5776:$P$6032,12,0),0)","v":0},{"$f":"IFERROR(H39-I39,0)","v":0},{"$f":"IFERROR(VLOOKUP($B39,SIP!$D$5776:$P$6032,8,0),0)","v":0},{"$f":"IFERROR(INDEX(Table2[OFF/ON],_xlfn.AGGREGATE(15,6,(ROW(Table2[FPPGroupCode])-2)/(Table2[DepoName]=$C$2)/(IF($C$3<>\"\",Table2[BULAN]=$C$3,TRUE))/(IF($C$4<>\"\",Table2[OFF/ON]=$C$4,TRUE))/(IF($C$5<>\"\",Table2[Status]=$C$5,TRUE))/(IF($C$6<>\"\",Table2[FPPDate]=$C$6,TRUE))/(IF($C$7<>\"\",Table2[ProposalCode]=$C$7,TRUE)),ROW(K31))),\"\")","v":""}]
[{"$f":"IF(LEN($B40),ROW(A32),\"\")","v":""},{"$f":"IFERROR(INDEX(Table2[FPPGroupCode],_xlfn.AGGREGATE(15,6,(ROW(Table2[FPPGroupCode])-2)/(Table2[DepoName]=$C$2)/(IF($C$3<>\"\",Table2[BULAN]=$C$3,TRUE))/(IF($C$4<>\"\",Table2[OFF/ON]=$C$4,TRUE))/(IF($C$5<>\"\",Table2[Status]=$C$5,TRUE))/(IF($C$6<>\"\",Table2[FPPDate]=$C$6,TRUE))/(IF($C$7<>\"\",Table2[ProposalCode]=$C$7,TRUE)),ROW(A32))),\"\")","v":""},{"$f":"IFERROR(VLOOKUP($B40,SIP!$D$3:$Q$12237,14,0),0)","v":0},{"$f":"IFERROR(INDEX(Table2[Activity],_xlfn.AGGREGATE(15,6,(ROW(Table2[FPPGroupCode])-2)/(Table2[DepoName]=$C$2)/(IF($C$3<>\"\",Table2[BULAN]=$C$3,TRUE))/(IF($C$4<>\"\",Table2[OFF/ON]=$C$4,TRUE))/(IF($C$5<>\"\",Table2[Status]=$C$5,TRUE))/(IF($C$6<>\"\",Table2[]=$C$6,TRUE))/(IF($C$7<>\"\",Table2[ProposalCode]=$C$7,TRUE)),ROW(B32))),\"\")","v":""},{"$f":"IFERROR(INDEX(Table2[Location],_xlfn.AGGREGATE(15,6,(ROW(Table2[FPPGroupCode])-2)/(Table2[DepoName]=$C$2)/(IF($C$3<>\"\",Table2[BULAN]=$C$3,TRUE))/(IF($C$4<>\"\",Table2[OFF/ON]=$C$4,TRUE))/(IF($C$5<>\"\",Table2[Status]=$C$5,TRUE))/(IF($C$6<>\"\",Table2[FPPDate]=$C$6,TRUE))/(IF($C$7<>\"\",Table2[ProposalCode]=$C$7,TRUE)),ROW(D32))),\"\")","v":""},{"$f":"IFERROR(INDEX(Table2[PeriodeStart],_xlfn.AGGREGATE(15,6,(ROW(Table2[FPPGroupCode])-2)/(Table2[DepoName]=$C$2)/(IF($C$3<>\"\",Table2[BULAN]=$C$3,TRUE))/(IF($C$4<>\"\",Table2[OFF/ON]=$C$4,TRUE))/(IF($C$5<>\"\",Table2[Status]=$C$5,TRUE))/(IF($C$6<>\"\",Table2[FPPDate]=$C$6,TRUE))/(IF($C$7<>\"\",Table2[ProposalCode]=$C$7,TRUE)),ROW(E32))),\"\")","v":""},{"$f":"IFERROR(INDEX(Table2[PeriodeEnd],_xlfn.AGGREGATE(15,6,(ROW(Table2[FPPGroupCode])-2)/(Table2[DepoName]=$C$2)/(IF($C$3<>\"\",Table2[BULAN]=$C$3,TRUE))/(IF($C$4<>\"\",Table2[OFF/ON]=$C$4,TRUE))/(IF($C$5<>\"\",Table2[Status]=$C$5,TRUE))/(IF($C$6<>\"\",Table2[FPPDate]=$C$6,TRUE))/(IF($C$7<>\"\",Table2[ProposalCode]=$C$7,TRUE)),ROW(F32))),\"\")","v":""},{"$f":"IFERROR(INDEX(Table2[Amount_FPPDepo],_xlfn.AGGREGATE(15,6,(ROW(Table2[FPPGroupCode])-2)/(Table2[DepoName]=$C$2)/(IF($C$3<>\"\",Table2[BULAN]=$C$3,TRUE))/(IF($C$4<>\"\",Table2[OFF/ON]=$C$4,TRUE))/(IF($C$5<>\"\",Table2[Status]=$C$5,TRUE))/(IF($C$6<>\"\",Table2[FPPDate]=$C$6,TRUE))/(IF($C$7<>\"\",Table2[ProposalCode]=$C$7,TRUE)),ROW(G32))),\"\")","v":""},{"$f":"IFERROR(VLOOKUP($B40,SIP!$D$5776:$P$6032,12,0),0)","v":0},{"$f":"IFERROR(H40-I40,0)","v":0},{"$f":"IFERROR(VLOOKUP($B40,SIP!$D$5776:$P$6032,8,0),0)","v":0},{"$f":"IFERROR(INDEX(Table2[OFF/ON],_xlfn.AGGREGATE(15,6,(ROW(Table2[FPPGroupCode])-2)/(Table2[DepoName]=$C$2)/(IF($C$3<>\"\",Table2[BULAN]=$C$3,TRUE))/(IF($C$4<>\"\",Table2[OFF/ON]=$C$4,TRUE))/(IF($C$5<>\"\",Table2[Status]=$C$5,TRUE))/(IF($C$6<>\"\",Table2[FPPDate]=$C$6,TRUE))/(IF($C$7<>\"\",Table2[ProposalCode]=$C$7,TRUE)),ROW(K32))),\"\")","v":""}]
[{"$f":"IF(LEN($B41),ROW(A33),\"\")","v":""},{"$f":"IFERROR(INDEX(Table2[FPPGroupCode],_xlfn.AGGREGATE(15,6,(ROW(Table2[FPPGroupCode])-2)/(Table2[DepoName]=$C$2)/(IF($C$3<>\"\",Table2[BULAN]=$C$3,TRUE))/(IF($C$4<>\"\",Table2[OFF/ON]=$C$4,TRUE))/(IF($C$5<>\"\",Table2[Status]=$C$5,TRUE))/(IF($C$6<>\"\",Table2[FPPDate]=$C$6,TRUE))/(IF($C$7<>\"\",Table2[ProposalCode]=$C$7,TRUE)),ROW(A33))),\"\")","v":""},{"$f":"IFERROR(VLOOKUP($B41,SIP!$D$3:$Q$12237,14,0),0)","v":0},{"$f":"IFERROR(INDEX(Table2[Activity],_xlfn.AGGREGATE(15,6,(ROW(Table2[FPPGroupCode])-2)/(Table2[DepoName]=$C$2)/(IF($C$3<>\"\",Table2[BULAN]=$C$3,TRUE))/(IF($C$4<>\"\",Table2[OFF/ON]=$C$4,TRUE))/(IF($C$5<>\"\",Table2[Status]=$C$5,TRUE))/(IF($C$6<>\"\",Table2[]=$C$6,TRUE))/(IF($C$7<>\"\",Table2[ProposalCode]=$C$7,TRUE)),ROW(B33))),\"\")","v":""},{"$f":"IFERROR(INDEX(Table2[Location],_xlfn.AGGREGATE(15,6,(ROW(Table2[FPPGroupCode])-2)/(Table2[DepoName]=$C$2)/(IF($C$3<>\"\",Table2[BULAN]=$C$3,TRUE))/(IF($C$4<>\"\",Table2[OFF/ON]=$C$4,TRUE))/(IF($C$5<>\"\",Table2[Status]=$C$5,TRUE))/(IF($C$6<>\"\",Table2[FPPDate]=$C$6,TRUE))/(IF($C$7<>\"\",Table2[ProposalCode]=$C$7,TRUE)),ROW(D33))),\"\")","v":""},{"$f":"IFERROR(INDEX(Table2[PeriodeStart],_xlfn.AGGREGATE(15,6,(ROW(Table2[FPPGroupCode])-2)/(Table2[DepoName]=$C$2)/(IF($C$3<>\"\",Table2[BULAN]=$C$3,TRUE))/(IF($C$4<>\"\",Table2[OFF/ON]=$C$4,TRUE))/(IF($C$5<>\"\",Table2[Status]=$C$5,TRUE))/(IF($C$6<>\"\",Table2[FPPDate]=$C$6,TRUE))/(IF($C$7<>\"\",Table2[ProposalCode]=$C$7,TRUE)),ROW(E33))),\"\")","v":""},{"$f":"IFERROR(INDEX(Table2[PeriodeEnd],_xlfn.AGGREGATE(15,6,(ROW(Table2[FPPGroupCode])-2)/(Table2[DepoName]=$C$2)/(IF($C$3<>\"\",Table2[BULAN]=$C$3,TRUE))/(IF($C$4<>\"\",Table2[OFF/ON]=$C$4,TRUE))/(IF($C$5<>\"\",Table2[Status]=$C$5,TRUE))/(IF($C$6<>\"\",Table2[FPPDate]=$C$6,TRUE))/(IF($C$7<>\"\",Table2[ProposalCode]=$C$7,TRUE)),ROW(F33))),\"\")","v":""},{"$f":"IFERROR(INDEX(Table2[Amount_FPPDepo],_xlfn.AGGREGATE(15,6,(ROW(Table2[FPPGroupCode])-2)/(Table2[DepoName]=$C$2)/(IF($C$3<>\"\",Table2[BULAN]=$C$3,TRUE))/(IF($C$4<>\"\",Table2[OFF/ON]=$C$4,TRUE))/(IF($C$5<>\"\",Table2[Status]=$C$5,TRUE))/(IF($C$6<>\"\",Table2[FPPDate]=$C$6,TRUE))/(IF($C$7<>\"\",Table2[ProposalCode]=$C$7,TRUE)),ROW(G33))),\"\")","v":""},{"$f":"IFERROR(VLOOKUP($B41,SIP!$D$5776:$P$6032,12,0),0)","v":0},{"$f":"IFERROR(H41-I41,0)","v":0},{"$f":"IFERROR(VLOOKUP($B41,SIP!$D$5776:$P$6032,8,0),0)","v":0},{"$f":"IFERROR(INDEX(Table2[OFF/ON],_xlfn.AGGREGATE(15,6,(ROW(Table2[FPPGroupCode])-2)/(Table2[DepoName]=$C$2)/(IF($C$3<>\"\",Table2[BULAN]=$C$3,TRUE))/(IF($C$4<>\"\",Table2[OFF/ON]=$C$4,TRUE))/(IF($C$5<>\"\",Table2[Status]=$C$5,TRUE))/(IF($C$6<>\"\",Table2[FPPDate]=$C$6,TRUE))/(IF($C$7<>\"\",Table2[ProposalCode]=$C$7,TRUE)),ROW(K33))),\"\")","v":""}]
[{"$f":"IF(LEN($B42),ROW(A34),\"\")","v":""},{"$f":"IFERROR(INDEX(Table2[FPPGroupCode],_xlfn.AGGREGATE(15,6,(ROW(Table2[FPPGroupCode])-2)/(Table2[DepoName]=$C$2)/(IF($C$3<>\"\",Table2[BULAN]=$C$3,TRUE))/(IF($C$4<>\"\",Table2[OFF/ON]=$C$4,TRUE))/(IF($C$5<>\"\",Table2[Status]=$C$5,TRUE))/(IF($C$6<>\"\",Table2[FPPDate]=$C$6,TRUE))/(IF($C$7<>\"\",Table2[ProposalCode]=$C$7,TRUE)),ROW(A34))),\"\")","v":""},{"$f":"IFERROR(VLOOKUP($B42,SIP!$D$3:$Q$12237,14,0),0)","v":0},{"$f":"IFERROR(INDEX(Table2[Activity],_xlfn.AGGREGATE(15,6,(ROW(Table2[FPPGroupCode])-2)/(Table2[DepoName]=$C$2)/(IF($C$3<>\"\",Table2[BULAN]=$C$3,TRUE))/(IF($C$4<>\"\",Table2[OFF/ON]=$C$4,TRUE))/(IF($C$5<>\"\",Table2[Status]=$C$5,TRUE))/(IF($C$6<>\"\",Table2[]=$C$6,TRUE))/(IF($C$7<>\"\",Table2[ProposalCode]=$C$7,TRUE)),ROW(B34))),\"\")","v":""},{"$f":"IFERROR(INDEX(Table2[Location],_xlfn.AGGREGATE(15,6,(ROW(Table2[FPPGroupCode])-2)/(Table2[DepoName]=$C$2)/(IF($C$3<>\"\",Table2[BULAN]=$C$3,TRUE))/(IF($C$4<>\"\",Table2[OFF/ON]=$C$4,TRUE))/(IF($C$5<>\"\",Table2[Status]=$C$5,TRUE))/(IF($C$6<>\"\",Table2[FPPDate]=$C$6,TRUE))/(IF($C$7<>\"\",Table2[ProposalCode]=$C$7,TRUE)),ROW(D34))),\"\")","v":""},{"$f":"IFERROR(INDEX(Table2[PeriodeStart],_xlfn.AGGREGATE(15,6,(ROW(Table2[FPPGroupCode])-2)/(Table2[DepoName]=$C$2)/(IF($C$3<>\"\",Table2[BULAN]=$C$3,TRUE))/(IF($C$4<>\"\",Table2[OFF/ON]=$C$4,TRUE))/(IF($C$5<>\"\",Table2[Status]=$C$5,TRUE))/(IF($C$6<>\"\",Table2[FPPDate]=$C$6,TRUE))/(IF($C$7<>\"\",Table2[ProposalCode]=$C$7,TRUE)),ROW(E34))),\"\")","v":""},{"$f":"IFERROR(INDEX(Table2[PeriodeEnd],_xlfn.AGGREGATE(15,6,(ROW(Table2[FPPGroupCode])-2)/(Table2[DepoName]=$C$2)/(IF($C$3<>\"\",Table2[BULAN]=$C$3,TRUE))/(IF($C$4<>\"\",Table2[OFF/ON]=$C$4,TRUE))/(IF($C$5<>\"\",Table2[Status]=$C$5,TRUE))/(IF($C$6<>\"\",Table2[FPPDate]=$C$6,TRUE))/(IF($C$7<>\"\",Table2[ProposalCode]=$C$7,TRUE)),ROW(F34))),\"\")","v":""},{"$f":"IFERROR(INDEX(Table2[Amount_FPPDepo],_xlfn.AGGREGATE(15,6,(ROW(Table2[FPPGroupCode])-2)/(Table2[DepoName]=$C$2)/(IF($C$3<>\"\",Table2[BULAN]=$C$3,TRUE))/(IF($C$4<>\"\",Table2[OFF/ON]=$C$4,TRUE))/(IF($C$5<>\"\",Table2[Status]=$C$5,TRUE))/(IF($C$6<>\"\",Table2[FPPDate]=$C$6,TRUE))/(IF($C$7<>\"\",Table2[ProposalCode]=$C$7,TRUE)),ROW(G34))),\"\")","v":""},{"$f":"IFERROR(VLOOKUP($B42,SIP!$D$5776:$P$6032,12,0),0)","v":0},{"$f":"IFERROR(H42-I42,0)","v":0},{"$f":"IFERROR(VLOOKUP($B42,SIP!$D$5776:$P$6032,8,0),0)","v":0},{"$f":"IFERROR(INDEX(Table2[OFF/ON],_xlfn.AGGREGATE(15,6,(ROW(Table2[FPPGroupCode])-2)/(Table2[DepoName]=$C$2)/(IF($C$3<>\"\",Table2[BULAN]=$C$3,TRUE))/(IF($C$4<>\"\",Table2[OFF/ON]=$C$4,TRUE))/(IF($C$5<>\"\",Table2[Status]=$C$5,TRUE))/(IF($C$6<>\"\",Table2[FPPDate]=$C$6,TRUE))/(IF($C$7<>\"\",Table2[ProposalCode]=$C$7,TRUE)),ROW(K34))),\"\")","v":""}]
[{"$f":"IF(LEN($B43),ROW(A35),\"\")","v":""},{"$f":"IFERROR(INDEX(Table2[FPPGroupCode],_xlfn.AGGREGATE(15,6,(ROW(Table2[FPPGroupCode])-2)/(Table2[DepoName]=$C$2)/(IF($C$3<>\"\",Table2[BULAN]=$C$3,TRUE))/(IF($C$4<>\"\",Table2[OFF/ON]=$C$4,TRUE))/(IF($C$5<>\"\",Table2[Status]=$C$5,TRUE))/(IF($C$6<>\"\",Table2[FPPDate]=$C$6,TRUE))/(IF($C$7<>\"\",Table2[ProposalCode]=$C$7,TRUE)),ROW(A35))),\"\")","v":""},{"$f":"IFERROR(VLOOKUP($B43,SIP!$D$3:$Q$12237,14,0),0)","v":0},{"$f":"IFERROR(INDEX(Table2[Activity],_xlfn.AGGREGATE(15,6,(ROW(Table2[FPPGroupCode])-2)/(Table2[DepoName]=$C$2)/(IF($C$3<>\"\",Table2[BULAN]=$C$3,TRUE))/(IF($C$4<>\"\",Table2[OFF/ON]=$C$4,TRUE))/(IF($C$5<>\"\",Table2[Status]=$C$5,TRUE))/(IF($C$6<>\"\",Table2[]=$C$6,TRUE))/(IF($C$7<>\"\",Table2[ProposalCode]=$C$7,TRUE)),ROW(B35))),\"\")","v":""},{"$f":"IFERROR(INDEX(Table2[Location],_xlfn.AGGREGATE(15,6,(ROW(Table2[FPPGroupCode])-2)/(Table2[DepoName]=$C$2)/(IF($C$3<>\"\",Table2[BULAN]=$C$3,TRUE))/(IF($C$4<>\"\",Table2[OFF/ON]=$C$4,TRUE))/(IF($C$5<>\"\",Table2[Status]=$C$5,TRUE))/(IF($C$6<>\"\",Table2[FPPDate]=$C$6,TRUE))/(IF($C$7<>\"\",Table2[ProposalCode]=$C$7,TRUE)),ROW(D35))),\"\")","v":""},{"$f":"IFERROR(INDEX(Table2[PeriodeStart],_xlfn.AGGREGATE(15,6,(ROW(Table2[FPPGroupCode])-2)/(Table2[DepoName]=$C$2)/(IF($C$3<>\"\",Table2[BULAN]=$C$3,TRUE))/(IF($C$4<>\"\",Table2[OFF/ON]=$C$4,TRUE))/(IF($C$5<>\"\",Table2[Status]=$C$5,TRUE))/(IF($C$6<>\"\",Table2[FPPDate]=$C$6,TRUE))/(IF($C$7<>\"\",Table2[ProposalCode]=$C$7,TRUE)),ROW(E35))),\"\")","v":""},{"$f":"IFERROR(INDEX(Table2[PeriodeEnd],_xlfn.AGGREGATE(15,6,(ROW(Table2[FPPGroupCode])-2)/(Table2[DepoName]=$C$2)/(IF($C$3<>\"\",Table2[BULAN]=$C$3,TRUE))/(IF($C$4<>\"\",Table2[OFF/ON]=$C$4,TRUE))/(IF($C$5<>\"\",Table2[Status]=$C$5,TRUE))/(IF($C$6<>\"\",Table2[FPPDate]=$C$6,TRUE))/(IF($C$7<>\"\",Table2[ProposalCode]=$C$7,TRUE)),ROW(F35))),\"\")","v":""},{"$f":"IFERROR(INDEX(Table2[Amount_FPPDepo],_xlfn.AGGREGATE(15,6,(ROW(Table2[FPPGroupCode])-2)/(Table2[DepoName]=$C$2)/(IF($C$3<>\"\",Table2[BULAN]=$C$3,TRUE))/(IF($C$4<>\"\",Table2[OFF/ON]=$C$4,TRUE))/(IF($C$5<>\"\",Table2[Status]=$C$5,TRUE))/(IF($C$6<>\"\",Table2[FPPDate]=$C$6,TRUE))/(IF($C$7<>\"\",Table2[ProposalCode]=$C$7,TRUE)),ROW(G35))),\"\")","v":""},{"$f":"IFERROR(VLOOKUP($B43,SIP!$D$5776:$P$6032,12,0),0)","v":0},{"$f":"IFERROR(H43-I43,0)","v":0},{"$f":"IFERROR(VLOOKUP($B43,SIP!$D$5776:$P$6032,8,0),0)","v":0},{"$f":"IFERROR(INDEX(Table2[OFF/ON],_xlfn.AGGREGATE(15,6,(ROW(Table2[FPPGroupCode])-2)/(Table2[DepoName]=$C$2)/(IF($C$3<>\"\",Table2[BULAN]=$C$3,TRUE))/(IF($C$4<>\"\",Table2[OFF/ON]=$C$4,TRUE))/(IF($C$5<>\"\",Table2[Status]=$C$5,TRUE))/(IF($C$6<>\"\",Table2[FPPDate]=$C$6,TRUE))/(IF($C$7<>\"\",Table2[ProposalCode]=$C$7,TRUE)),ROW(K35))),\"\")","v":""}]
[{"$f":"IF(LEN($B44),ROW(A36),\"\")","v":""},{"$f":"IFERROR(INDEX(Table2[FPPGroupCode],_xlfn.AGGREGATE(15,6,(ROW(Table2[FPPGroupCode])-2)/(Table2[DepoName]=$C$2)/(IF($C$3<>\"\",Table2[BULAN]=$C$3,TRUE))/(IF($C$4<>\"\",Table2[OFF/ON]=$C$4,TRUE))/(IF($C$5<>\"\",Table2[Status]=$C$5,TRUE))/(IF($C$6<>\"\",Table2[FPPDate]=$C$6,TRUE))/(IF($C$7<>\"\",Table2[ProposalCode]=$C$7,TRUE)),ROW(A36))),\"\")","v":""},{"$f":"IFERROR(VLOOKUP($B44,SIP!$D$3:$Q$12237,14,0),0)","v":0},{"$f":"IFERROR(INDEX(Table2[Activity],_xlfn.AGGREGATE(15,6,(ROW(Table2[FPPGroupCode])-2)/(Table2[DepoName]=$C$2)/(IF($C$3<>\"\",Table2[BULAN]=$C$3,TRUE))/(IF($C$4<>\"\",Table2[OFF/ON]=$C$4,TRUE))/(IF($C$5<>\"\",Table2[Status]=$C$5,TRUE))/(IF($C$6<>\"\",Table2[]=$C$6,TRUE))/(IF($C$7<>\"\",Table2[ProposalCode]=$C$7,TRUE)),ROW(B36))),\"\")","v":""},{"$f":"IFERROR(INDEX(Table2[Location],_xlfn.AGGREGATE(15,6,(ROW(Table2[FPPGroupCode])-2)/(Table2[DepoName]=$C$2)/(IF($C$3<>\"\",Table2[BULAN]=$C$3,TRUE))/(IF($C$4<>\"\",Table2[OFF/ON]=$C$4,TRUE))/(IF($C$5<>\"\",Table2[Status]=$C$5,TRUE))/(IF($C$6<>\"\",Table2[FPPDate]=$C$6,TRUE))/(IF($C$7<>\"\",Table2[ProposalCode]=$C$7,TRUE)),ROW(D36))),\"\")","v":""},{"$f":"IFERROR(INDEX(Table2[PeriodeStart],_xlfn.AGGREGATE(15,6,(ROW(Table2[FPPGroupCode])-2)/(Table2[DepoName]=$C$2)/(IF($C$3<>\"\",Table2[BULAN]=$C$3,TRUE))/(IF($C$4<>\"\",Table2[OFF/ON]=$C$4,TRUE))/(IF($C$5<>\"\",Table2[Status]=$C$5,TRUE))/(IF($C$6<>\"\",Table2[FPPDate]=$C$6,TRUE))/(IF($C$7<>\"\",Table2[ProposalCode]=$C$7,TRUE)),ROW(E36))),\"\")","v":""},{"$f":"IFERROR(INDEX(Table2[PeriodeEnd],_xlfn.AGGREGATE(15,6,(ROW(Table2[FPPGroupCode])-2)/(Table2[DepoName]=$C$2)/(IF($C$3<>\"\",Table2[BULAN]=$C$3,TRUE))/(IF($C$4<>\"\",Table2[OFF/ON]=$C$4,TRUE))/(IF($C$5<>\"\",Table2[Status]=$C$5,TRUE))/(IF($C$6<>\"\",Table2[FPPDate]=$C$6,TRUE))/(IF($C$7<>\"\",Table2[ProposalCode]=$C$7,TRUE)),ROW(F36))),\"\")","v":""},{"$f":"IFERROR(INDEX(Table2[Amount_FPPDepo],_xlfn.AGGREGATE(15,6,(ROW(Table2[FPPGroupCode])-2)/(Table2[DepoName]=$C$2)/(IF($C$3<>\"\",Table2[BULAN]=$C$3,TRUE))/(IF($C$4<>\"\",Table2[OFF/ON]=$C$4,TRUE))/(IF($C$5<>\"\",Table2[Status]=$C$5,TRUE))/(IF($C$6<>\"\",Table2[FPPDate]=$C$6,TRUE))/(IF($C$7<>\"\",Table2[ProposalCode]=$C$7,TRUE)),ROW(G36))),\"\")","v":""},{"$f":"IFERROR(VLOOKUP($B44,SIP!$D$5776:$P$6032,12,0),0)","v":0},{"$f":"IFERROR(H44-I44,0)","v":0},{"$f":"IFERROR(VLOOKUP($B44,SIP!$D$5776:$P$6032,8,0),0)","v":0},{"$f":"IFERROR(INDEX(Table2[OFF/ON],_xlfn.AGGREGATE(15,6,(ROW(Table2[FPPGroupCode])-2)/(Table2[DepoName]=$C$2)/(IF($C$3<>\"\",Table2[BULAN]=$C$3,TRUE))/(IF($C$4<>\"\",Table2[OFF/ON]=$C$4,TRUE))/(IF($C$5<>\"\",Table2[Status]=$C$5,TRUE))/(IF($C$6<>\"\",Table2[FPPDate]=$C$6,TRUE))/(IF($C$7<>\"\",Table2[ProposalCode]=$C$7,TRUE)),ROW(K36))),\"\")","v":""}]
[{"$f":"IF(LEN($B45),ROW(A37),\"\")","v":""},{"$f":"IFERROR(INDEX(Table2[FPPGroupCode],_xlfn.AGGREGATE(15,6,(ROW(Table2[FPPGroupCode])-2)/(Table2[DepoName]=$C$2)/(IF($C$3<>\"\",Table2[BULAN]=$C$3,TRUE))/(IF($C$4<>\"\",Table2[OFF/ON]=$C$4,TRUE))/(IF($C$5<>\"\",Table2[Status]=$C$5,TRUE))/(IF($C$6<>\"\",Table2[FPPDate]=$C$6,TRUE))/(IF($C$7<>\"\",Table2[ProposalCode]=$C$7,TRUE)),ROW(A37))),\"\")","v":""},{"$f":"IFERROR(VLOOKUP($B45,SIP!$D$3:$Q$12237,14,0),0)","v":0},{"$f":"IFERROR(INDEX(Table2[Activity],_xlfn.AGGREGATE(15,6,(ROW(Table2[FPPGroupCode])-2)/(Table2[DepoName]=$C$2)/(IF($C$3<>\"\",Table2[BULAN]=$C$3,TRUE))/(IF($C$4<>\"\",Table2[OFF/ON]=$C$4,TRUE))/(IF($C$5<>\"\",Table2[Status]=$C$5,TRUE))/(IF($C$6<>\"\",Table2[]=$C$6,TRUE))/(IF($C$7<>\"\",Table2[ProposalCode]=$C$7,TRUE)),ROW(B37))),\"\")","v":""},{"$f":"IFERROR(INDEX(Table2[Location],_xlfn.AGGREGATE(15,6,(ROW(Table2[FPPGroupCode])-2)/(Table2[DepoName]=$C$2)/(IF($C$3<>\"\",Table2[BULAN]=$C$3,TRUE))/(IF($C$4<>\"\",Table2[OFF/ON]=$C$4,TRUE))/(IF($C$5<>\"\",Table2[Status]=$C$5,TRUE))/(IF($C$6<>\"\",Table2[FPPDate]=$C$6,TRUE))/(IF($C$7<>\"\",Table2[ProposalCode]=$C$7,TRUE)),ROW(D37))),\"\")","v":""},{"$f":"IFERROR(INDEX(Table2[PeriodeStart],_xlfn.AGGREGATE(15,6,(ROW(Table2[FPPGroupCode])-2)/(Table2[DepoName]=$C$2)/(IF($C$3<>\"\",Table2[BULAN]=$C$3,TRUE))/(IF($C$4<>\"\",Table2[OFF/ON]=$C$4,TRUE))/(IF($C$5<>\"\",Table2[Status]=$C$5,TRUE))/(IF($C$6<>\"\",Table2[FPPDate]=$C$6,TRUE))/(IF($C$7<>\"\",Table2[ProposalCode]=$C$7,TRUE)),ROW(E37))),\"\")","v":""},{"$f":"IFERROR(INDEX(Table2[PeriodeEnd],_xlfn.AGGREGATE(15,6,(ROW(Table2[FPPGroupCode])-2)/(Table2[DepoName]=$C$2)/(IF($C$3<>\"\",Table2[BULAN]=$C$3,TRUE))/(IF($C$4<>\"\",Table2[OFF/ON]=$C$4,TRUE))/(IF($C$5<>\"\",Table2[Status]=$C$5,TRUE))/(IF($C$6<>\"\",Table2[FPPDate]=$C$6,TRUE))/(IF($C$7<>\"\",Table2[ProposalCode]=$C$7,TRUE)),ROW(F37))),\"\")","v":""},{"$f":"IFERROR(INDEX(Table2[Amount_FPPDepo],_xlfn.AGGREGATE(15,6,(ROW(Table2[FPPGroupCode])-2)/(Table2[DepoName]=$C$2)/(IF($C$3<>\"\",Table2[BULAN]=$C$3,TRUE))/(IF($C$4<>\"\",Table2[OFF/ON]=$C$4,TRUE))/(IF($C$5<>\"\",Table2[Status]=$C$5,TRUE))/(IF($C$6<>\"\",Table2[FPPDate]=$C$6,TRUE))/(IF($C$7<>\"\",Table2[ProposalCode]=$C$7,TRUE)),ROW(G37))),\"\")","v":""},{"$f":"IFERROR(VLOOKUP($B45,SIP!$D$5776:$P$6032,12,0),0)","v":0},{"$f":"IFERROR(H45-I45,0)","v":0},{"$f":"IFERROR(VLOOKUP($B45,SIP!$D$5776:$P$6032,8,0),0)","v":0},{"$f":"IFERROR(INDEX(Table2[OFF/ON],_xlfn.AGGREGATE(15,6,(ROW(Table2[FPPGroupCode])-2)/(Table2[DepoName]=$C$2)/(IF($C$3<>\"\",Table2[BULAN]=$C$3,TRUE))/(IF($C$4<>\"\",Table2[OFF/ON]=$C$4,TRUE))/(IF($C$5<>\"\",Table2[Status]=$C$5,TRUE))/(IF($C$6<>\"\",Table2[FPPDate]=$C$6,TRUE))/(IF($C$7<>\"\",Table2[ProposalCode]=$C$7,TRUE)),ROW(K37))),\"\")","v":""}]
[{"$f":"IF(LEN($B46),ROW(A38),\"\")","v":""},{"$f":"IFERROR(INDEX(Table2[FPPGroupCode],_xlfn.AGGREGATE(15,6,(ROW(Table2[FPPGroupCode])-2)/(Table2[DepoName]=$C$2)/(IF($C$3<>\"\",Table2[BULAN]=$C$3,TRUE))/(IF($C$4<>\"\",Table2[OFF/ON]=$C$4,TRUE))/(IF($C$5<>\"\",Table2[Status]=$C$5,TRUE))/(IF($C$6<>\"\",Table2[FPPDate]=$C$6,TRUE))/(IF($C$7<>\"\",Table2[ProposalCode]=$C$7,TRUE)),ROW(A38))),\"\")","v":""},{"$f":"IFERROR(VLOOKUP($B46,SIP!$D$3:$Q$12237,14,0),0)","v":0},{"$f":"IFERROR(INDEX(Table2[Activity],_xlfn.AGGREGATE(15,6,(ROW(Table2[FPPGroupCode])-2)/(Table2[DepoName]=$C$2)/(IF($C$3<>\"\",Table2[BULAN]=$C$3,TRUE))/(IF($C$4<>\"\",Table2[OFF/ON]=$C$4,TRUE))/(IF($C$5<>\"\",Table2[Status]=$C$5,TRUE))/(IF($C$6<>\"\",Table2[]=$C$6,TRUE))/(IF($C$7<>\"\",Table2[ProposalCode]=$C$7,TRUE)),ROW(B38))),\"\")","v":""},{"$f":"IFERROR(INDEX(Table2[Location],_xlfn.AGGREGATE(15,6,(ROW(Table2[FPPGroupCode])-2)/(Table2[DepoName]=$C$2)/(IF($C$3<>\"\",Table2[BULAN]=$C$3,TRUE))/(IF($C$4<>\"\",Table2[OFF/ON]=$C$4,TRUE))/(IF($C$5<>\"\",Table2[Status]=$C$5,TRUE))/(IF($C$6<>\"\",Table2[FPPDate]=$C$6,TRUE))/(IF($C$7<>\"\",Table2[ProposalCode]=$C$7,TRUE)),ROW(D38))),\"\")","v":""},{"$f":"IFERROR(INDEX(Table2[PeriodeStart],_xlfn.AGGREGATE(15,6,(ROW(Table2[FPPGroupCode])-2)/(Table2[DepoName]=$C$2)/(IF($C$3<>\"\",Table2[BULAN]=$C$3,TRUE))/(IF($C$4<>\"\",Table2[OFF/ON]=$C$4,TRUE))/(IF($C$5<>\"\",Table2[Status]=$C$5,TRUE))/(IF($C$6<>\"\",Table2[FPPDate]=$C$6,TRUE))/(IF($C$7<>\"\",Table2[ProposalCode]=$C$7,TRUE)),ROW(E38))),\"\")","v":""},{"$f":"IFERROR(INDEX(Table2[PeriodeEnd],_xlfn.AGGREGATE(15,6,(ROW(Table2[FPPGroupCode])-2)/(Table2[DepoName]=$C$2)/(IF($C$3<>\"\",Table2[BULAN]=$C$3,TRUE))/(IF($C$4<>\"\",Table2[OFF/ON]=$C$4,TRUE))/(IF($C$5<>\"\",Table2[Status]=$C$5,TRUE))/(IF($C$6<>\"\",Table2[FPPDate]=$C$6,TRUE))/(IF($C$7<>\"\",Table2[ProposalCode]=$C$7,TRUE)),ROW(F38))),\"\")","v":""},{"$f":"IFERROR(INDEX(Table2[Amount_FPPDepo],_xlfn.AGGREGATE(15,6,(ROW(Table2[FPPGroupCode])-2)/(Table2[DepoName]=$C$2)/(IF($C$3<>\"\",Table2[BULAN]=$C$3,TRUE))/(IF($C$4<>\"\",Table2[OFF/ON]=$C$4,TRUE))/(IF($C$5<>\"\",Table2[Status]=$C$5,TRUE))/(IF($C$6<>\"\",Table2[FPPDate]=$C$6,TRUE))/(IF($C$7<>\"\",Table2[ProposalCode]=$C$7,TRUE)),ROW(G38))),\"\")","v":""},{"$f":"IFERROR(VLOOKUP($B46,SIP!$D$5776:$P$6032,12,0),0)","v":0},{"$f":"IFERROR(H46-I46,0)","v":0},{"$f":"IFERROR(VLOOKUP($B46,SIP!$D$5776:$P$6032,8,0),0)","v":0},{"$f":"IFERROR(INDEX(Table2[OFF/ON],_xlfn.AGGREGATE(15,6,(ROW(Table2[FPPGroupCode])-2)/(Table2[DepoName]=$C$2)/(IF($C$3<>\"\",Table2[BULAN]=$C$3,TRUE))/(IF($C$4<>\"\",Table2[OFF/ON]=$C$4,TRUE))/(IF($C$5<>\"\",Table2[Status]=$C$5,TRUE))/(IF($C$6<>\"\",Table2[FPPDate]=$C$6,TRUE))/(IF($C$7<>\"\",Table2[ProposalCode]=$C$7,TRUE)),ROW(K38))),\"\")","v":""}]
[{"$f":"IF(LEN($B47),ROW(A39),\"\")","v":""},{"$f":"IFERROR(INDEX(Table2[FPPGroupCode],_xlfn.AGGREGATE(15,6,(ROW(Table2[FPPGroupCode])-2)/(Table2[DepoName]=$C$2)/(IF($C$3<>\"\",Table2[BULAN]=$C$3,TRUE))/(IF($C$4<>\"\",Table2[OFF/ON]=$C$4,TRUE))/(IF($C$5<>\"\",Table2[Status]=$C$5,TRUE))/(IF($C$6<>\"\",Table2[FPPDate]=$C$6,TRUE))/(IF($C$7<>\"\",Table2[ProposalCode]=$C$7,TRUE)),ROW(A39))),\"\")","v":""},{"$f":"IFERROR(VLOOKUP($B47,SIP!$D$3:$Q$12237,14,0),0)","v":0},{"$f":"IFERROR(INDEX(Table2[Activity],_xlfn.AGGREGATE(15,6,(ROW(Table2[FPPGroupCode])-2)/(Table2[DepoName]=$C$2)/(IF($C$3<>\"\",Table2[BULAN]=$C$3,TRUE))/(IF($C$4<>\"\",Table2[OFF/ON]=$C$4,TRUE))/(IF($C$5<>\"\",Table2[Status]=$C$5,TRUE))/(IF($C$6<>\"\",Table2[]=$C$6,TRUE))/(IF($C$7<>\"\",Table2[ProposalCode]=$C$7,TRUE)),ROW(B39))),\"\")","v":""},{"$f":"IFERROR(INDEX(Table2[Location],_xlfn.AGGREGATE(15,6,(ROW(Table2[FPPGroupCode])-2)/(Table2[DepoName]=$C$2)/(IF($C$3<>\"\",Table2[BULAN]=$C$3,TRUE))/(IF($C$4<>\"\",Table2[OFF/ON]=$C$4,TRUE))/(IF($C$5<>\"\",Table2[Status]=$C$5,TRUE))/(IF($C$6<>\"\",Table2[FPPDate]=$C$6,TRUE))/(IF($C$7<>\"\",Table2[ProposalCode]=$C$7,TRUE)),ROW(D39))),\"\")","v":""},{"$f":"IFERROR(INDEX(Table2[PeriodeStart],_xlfn.AGGREGATE(15,6,(ROW(Table2[FPPGroupCode])-2)/(Table2[DepoName]=$C$2)/(IF($C$3<>\"\",Table2[BULAN]=$C$3,TRUE))/(IF($C$4<>\"\",Table2[OFF/ON]=$C$4,TRUE))/(IF($C$5<>\"\",Table2[Status]=$C$5,TRUE))/(IF($C$6<>\"\",Table2[FPPDate]=$C$6,TRUE))/(IF($C$7<>\"\",Table2[ProposalCode]=$C$7,TRUE)),ROW(E39))),\"\")","v":""},{"$f":"IFERROR(INDEX(Table2[PeriodeEnd],_xlfn.AGGREGATE(15,6,(ROW(Table2[FPPGroupCode])-2)/(Table2[DepoName]=$C$2)/(IF($C$3<>\"\",Table2[BULAN]=$C$3,TRUE))/(IF($C$4<>\"\",Table2[OFF/ON]=$C$4,TRUE))/(IF($C$5<>\"\",Table2[Status]=$C$5,TRUE))/(IF($C$6<>\"\",Table2[FPPDate]=$C$6,TRUE))/(IF($C$7<>\"\",Table2[ProposalCode]=$C$7,TRUE)),ROW(F39))),\"\")","v":""},{"$f":"IFERROR(INDEX(Table2[Amount_FPPDepo],_xlfn.AGGREGATE(15,6,(ROW(Table2[FPPGroupCode])-2)/(Table2[DepoName]=$C$2)/(IF($C$3<>\"\",Table2[BULAN]=$C$3,TRUE))/(IF($C$4<>\"\",Table2[OFF/ON]=$C$4,TRUE))/(IF($C$5<>\"\",Table2[Status]=$C$5,TRUE))/(IF($C$6<>\"\",Table2[FPPDate]=$C$6,TRUE))/(IF($C$7<>\"\",Table2[ProposalCode]=$C$7,TRUE)),ROW(G39))),\"\")","v":""},{"$f":"IFERROR(VLOOKUP($B47,SIP!$D$5776:$P$6032,12,0),0)","v":0},{"$f":"IFERROR(H47-I47,0)","v":0},{"$f":"IFERROR(VLOOKUP($B47,SIP!$D$5776:$P$6032,8,0),0)","v":0},{"$f":"IFERROR(INDEX(Table2[OFF/ON],_xlfn.AGGREGATE(15,6,(ROW(Table2[FPPGroupCode])-2)/(Table2[DepoName]=$C$2)/(IF($C$3<>\"\",Table2[BULAN]=$C$3,TRUE))/(IF($C$4<>\"\",Table2[OFF/ON]=$C$4,TRUE))/(IF($C$5<>\"\",Table2[Status]=$C$5,TRUE))/(IF($C$6<>\"\",Table2[FPPDate]=$C$6,TRUE))/(IF($C$7<>\"\",Table2[ProposalCode]=$C$7,TRUE)),ROW(K39))),\"\")","v":""}]
[{"$f":"IF(LEN($B48),ROW(A40),\"\")","v":""},{"$f":"IFERROR(INDEX(Table2[FPPGroupCode],_xlfn.AGGREGATE(15,6,(ROW(Table2[FPPGroupCode])-2)/(Table2[DepoName]=$C$2)/(IF($C$3<>\"\",Table2[BULAN]=$C$3,TRUE))/(IF($C$4<>\"\",Table2[OFF/ON]=$C$4,TRUE))/(IF($C$5<>\"\",Table2[Status]=$C$5,TRUE))/(IF($C$6<>\"\",Table2[FPPDate]=$C$6,TRUE))/(IF($C$7<>\"\",Table2[ProposalCode]=$C$7,TRUE)),ROW(A40))),\"\")","v":""},{"$f":"IFERROR(VLOOKUP($B48,SIP!$D$3:$Q$12237,14,0),0)","v":0},{"$f":"IFERROR(INDEX(Table2[Activity],_xlfn.AGGREGATE(15,6,(ROW(Table2[FPPGroupCode])-2)/(Table2[DepoName]=$C$2)/(IF($C$3<>\"\",Table2[BULAN]=$C$3,TRUE))/(IF($C$4<>\"\",Table2[OFF/ON]=$C$4,TRUE))/(IF($C$5<>\"\",Table2[Status]=$C$5,TRUE))/(IF($C$6<>\"\",Table2[]=$C$6,TRUE))/(IF($C$7<>\"\",Table2[ProposalCode]=$C$7,TRUE)),ROW(B40))),\"\")","v":""},{"$f":"IFERROR(INDEX(Table2[Location],_xlfn.AGGREGATE(15,6,(ROW(Table2[FPPGroupCode])-2)/(Table2[DepoName]=$C$2)/(IF($C$3<>\"\",Table2[BULAN]=$C$3,TRUE))/(IF($C$4<>\"\",Table2[OFF/ON]=$C$4,TRUE))/(IF($C$5<>\"\",Table2[Status]=$C$5,TRUE))/(IF($C$6<>\"\",Table2[FPPDate]=$C$6,TRUE))/(IF($C$7<>\"\",Table2[ProposalCode]=$C$7,TRUE)),ROW(D40))),\"\")","v":""},{"$f":"IFERROR(INDEX(Table2[PeriodeStart],_xlfn.AGGREGATE(15,6,(ROW(Table2[FPPGroupCode])-2)/(Table2[DepoName]=$C$2)/(IF($C$3<>\"\",Table2[BULAN]=$C$3,TRUE))/(IF($C$4<>\"\",Table2[OFF/ON]=$C$4,TRUE))/(IF($C$5<>\"\",Table2[Status]=$C$5,TRUE))/(IF($C$6<>\"\",Table2[FPPDate]=$C$6,TRUE))/(IF($C$7<>\"\",Table2[ProposalCode]=$C$7,TRUE)),ROW(E40))),\"\")","v":""},{"$f":"IFERROR(INDEX(Table2[PeriodeEnd],_xlfn.AGGREGATE(15,6,(ROW(Table2[FPPGroupCode])-2)/(Table2[DepoName]=$C$2)/(IF($C$3<>\"\",Table2[BULAN]=$C$3,TRUE))/(IF($C$4<>\"\",Table2[OFF/ON]=$C$4,TRUE))/(IF($C$5<>\"\",Table2[Status]=$C$5,TRUE))/(IF($C$6<>\"\",Table2[FPPDate]=$C$6,TRUE))/(IF($C$7<>\"\",Table2[ProposalCode]=$C$7,TRUE)),ROW(F40))),\"\")","v":""},{"$f":"IFERROR(INDEX(Table2[Amount_FPPDepo],_xlfn.AGGREGATE(15,6,(ROW(Table2[FPPGroupCode])-2)/(Table2[DepoName]=$C$2)/(IF($C$3<>\"\",Table2[BULAN]=$C$3,TRUE))/(IF($C$4<>\"\",Table2[OFF/ON]=$C$4,TRUE))/(IF($C$5<>\"\",Table2[Status]=$C$5,TRUE))/(IF($C$6<>\"\",Table2[FPPDate]=$C$6,TRUE))/(IF($C$7<>\"\",Table2[ProposalCode]=$C$7,TRUE)),ROW(G40))),\"\")","v":""},{"$f":"IFERROR(VLOOKUP($B48,SIP!$D$5776:$P$6032,12,0),0)","v":0},{"$f":"IFERROR(H48-I48,0)","v":0},{"$f":"IFERROR(VLOOKUP($B48,SIP!$D$5776:$P$6032,8,0),0)","v":0},{"$f":"IFERROR(INDEX(Table2[OFF/ON],_xlfn.AGGREGATE(15,6,(ROW(Table2[FPPGroupCode])-2)/(Table2[DepoName]=$C$2)/(IF($C$3<>\"\",Table2[BULAN]=$C$3,TRUE))/(IF($C$4<>\"\",Table2[OFF/ON]=$C$4,TRUE))/(IF($C$5<>\"\",Table2[Status]=$C$5,TRUE))/(IF($C$6<>\"\",Table2[FPPDate]=$C$6,TRUE))/(IF($C$7<>\"\",Table2[ProposalCode]=$C$7,TRUE)),ROW(K40))),\"\")","v":""}]
[{"$f":"IF(LEN($B49),ROW(A41),\"\")","v":""},{"$f":"IFERROR(INDEX(Table2[FPPGroupCode],_xlfn.AGGREGATE(15,6,(ROW(Table2[FPPGroupCode])-2)/(Table2[DepoName]=$C$2)/(IF($C$3<>\"\",Table2[BULAN]=$C$3,TRUE))/(IF($C$4<>\"\",Table2[OFF/ON]=$C$4,TRUE))/(IF($C$5<>\"\",Table2[Status]=$C$5,TRUE))/(IF($C$6<>\"\",Table2[FPPDate]=$C$6,TRUE))/(IF($C$7<>\"\",Table2[ProposalCode]=$C$7,TRUE)),ROW(A41))),\"\")","v":""},{"$f":"IFERROR(VLOOKUP($B49,SIP!$D$3:$Q$12237,14,0),0)","v":0},{"$f":"IFERROR(INDEX(Table2[Activity],_xlfn.AGGREGATE(15,6,(ROW(Table2[FPPGroupCode])-2)/(Table2[DepoName]=$C$2)/(IF($C$3<>\"\",Table2[BULAN]=$C$3,TRUE))/(IF($C$4<>\"\",Table2[OFF/ON]=$C$4,TRUE))/(IF($C$5<>\"\",Table2[Status]=$C$5,TRUE))/(IF($C$6<>\"\",Table2[]=$C$6,TRUE))/(IF($C$7<>\"\",Table2[ProposalCode]=$C$7,TRUE)),ROW(B41))),\"\")","v":""},{"$f":"IFERROR(INDEX(Table2[Location],_xlfn.AGGREGATE(15,6,(ROW(Table2[FPPGroupCode])-2)/(Table2[DepoName]=$C$2)/(IF($C$3<>\"\",Table2[BULAN]=$C$3,TRUE))/(IF($C$4<>\"\",Table2[OFF/ON]=$C$4,TRUE))/(IF($C$5<>\"\",Table2[Status]=$C$5,TRUE))/(IF($C$6<>\"\",Table2[FPPDate]=$C$6,TRUE))/(IF($C$7<>\"\",Table2[ProposalCode]=$C$7,TRUE)),ROW(D41))),\"\")","v":""},{"$f":"IFERROR(INDEX(Table2[PeriodeStart],_xlfn.AGGREGATE(15,6,(ROW(Table2[FPPGroupCode])-2)/(Table2[DepoName]=$C$2)/(IF($C$3<>\"\",Table2[BULAN]=$C$3,TRUE))/(IF($C$4<>\"\",Table2[OFF/ON]=$C$4,TRUE))/(IF($C$5<>\"\",Table2[Status]=$C$5,TRUE))/(IF($C$6<>\"\",Table2[FPPDate]=$C$6,TRUE))/(IF($C$7<>\"\",Table2[ProposalCode]=$C$7,TRUE)),ROW(E41))),\"\")","v":""},{"$f":"IFERROR(INDEX(Table2[PeriodeEnd],_xlfn.AGGREGATE(15,6,(ROW(Table2[FPPGroupCode])-2)/(Table2[DepoName]=$C$2)/(IF($C$3<>\"\",Table2[BULAN]=$C$3,TRUE))/(IF($C$4<>\"\",Table2[OFF/ON]=$C$4,TRUE))/(IF($C$5<>\"\",Table2[Status]=$C$5,TRUE))/(IF($C$6<>\"\",Table2[FPPDate]=$C$6,TRUE))/(IF($C$7<>\"\",Table2[ProposalCode]=$C$7,TRUE)),ROW(F41))),\"\")","v":""},{"$f":"IFERROR(INDEX(Table2[Amount_FPPDepo],_xlfn.AGGREGATE(15,6,(ROW(Table2[FPPGroupCode])-2)/(Table2[DepoName]=$C$2)/(IF($C$3<>\"\",Table2[BULAN]=$C$3,TRUE))/(IF($C$4<>\"\",Table2[OFF/ON]=$C$4,TRUE))/(IF($C$5<>\"\",Table2[Status]=$C$5,TRUE))/(IF($C$6<>\"\",Table2[FPPDate]=$C$6,TRUE))/(IF($C$7<>\"\",Table2[ProposalCode]=$C$7,TRUE)),ROW(G41))),\"\")","v":""},{"$f":"IFERROR(VLOOKUP($B49,SIP!$D$5776:$P$6032,12,0),0)","v":0},{"$f":"IFERROR(H49-I49,0)","v":0},{"$f":"IFERROR(VLOOKUP($B49,SIP!$D$5776:$P$6032,8,0),0)","v":0},{"$f":"IFERROR(INDEX(Table2[OFF/ON],_xlfn.AGGREGATE(15,6,(ROW(Table2[FPPGroupCode])-2)/(Table2[DepoName]=$C$2)/(IF($C$3<>\"\",Table2[BULAN]=$C$3,TRUE))/(IF($C$4<>\"\",Table2[OFF/ON]=$C$4,TRUE))/(IF($C$5<>\"\",Table2[Status]=$C$5,TRUE))/(IF($C$6<>\"\",Table2[FPPDate]=$C$6,TRUE))/(IF($C$7<>\"\",Table2[ProposalCode]=$C$7,TRUE)),ROW(K41))),\"\")","v":""}]
[{"$f":"IF(LEN($B50),ROW(A42),\"\")","v":""},{"$f":"IFERROR(INDEX(Table2[FPPGroupCode],_xlfn.AGGREGATE(15,6,(ROW(Table2[FPPGroupCode])-2)/(Table2[DepoName]=$C$2)/(IF($C$3<>\"\",Table2[BULAN]=$C$3,TRUE))/(IF($C$4<>\"\",Table2[OFF/ON]=$C$4,TRUE))/(IF($C$5<>\"\",Table2[Status]=$C$5,TRUE))/(IF($C$6<>\"\",Table2[FPPDate]=$C$6,TRUE))/(IF($C$7<>\"\",Table2[ProposalCode]=$C$7,TRUE)),ROW(A42))),\"\")","v":""},{"$f":"IFERROR(VLOOKUP($B50,SIP!$D$3:$Q$12237,14,0),0)","v":0},{"$f":"IFERROR(INDEX(Table2[Activity],_xlfn.AGGREGATE(15,6,(ROW(Table2[FPPGroupCode])-2)/(Table2[DepoName]=$C$2)/(IF($C$3<>\"\",Table2[BULAN]=$C$3,TRUE))/(IF($C$4<>\"\",Table2[OFF/ON]=$C$4,TRUE))/(IF($C$5<>\"\",Table2[Status]=$C$5,TRUE))/(IF($C$6<>\"\",Table2[]=$C$6,TRUE))/(IF($C$7<>\"\",Table2[ProposalCode]=$C$7,TRUE)),ROW(B42))),\"\")","v":""},{"$f":"IFERROR(INDEX(Table2[Location],_xlfn.AGGREGATE(15,6,(ROW(Table2[FPPGroupCode])-2)/(Table2[DepoName]=$C$2)/(IF($C$3<>\"\",Table2[BULAN]=$C$3,TRUE))/(IF($C$4<>\"\",Table2[OFF/ON]=$C$4,TRUE))/(IF($C$5<>\"\",Table2[Status]=$C$5,TRUE))/(IF($C$6<>\"\",Table2[FPPDate]=$C$6,TRUE))/(IF($C$7<>\"\",Table2[ProposalCode]=$C$7,TRUE)),ROW(D42))),\"\")","v":""},{"$f":"IFERROR(INDEX(Table2[PeriodeStart],_xlfn.AGGREGATE(15,6,(ROW(Table2[FPPGroupCode])-2)/(Table2[DepoName]=$C$2)/(IF($C$3<>\"\",Table2[BULAN]=$C$3,TRUE))/(IF($C$4<>\"\",Table2[OFF/ON]=$C$4,TRUE))/(IF($C$5<>\"\",Table2[Status]=$C$5,TRUE))/(IF($C$6<>\"\",Table2[FPPDate]=$C$6,TRUE))/(IF($C$7<>\"\",Table2[ProposalCode]=$C$7,TRUE)),ROW(E42))),\"\")","v":""},{"$f":"IFERROR(INDEX(Table2[PeriodeEnd],_xlfn.AGGREGATE(15,6,(ROW(Table2[FPPGroupCode])-2)/(Table2[DepoName]=$C$2)/(IF($C$3<>\"\",Table2[BULAN]=$C$3,TRUE))/(IF($C$4<>\"\",Table2[OFF/ON]=$C$4,TRUE))/(IF($C$5<>\"\",Table2[Status]=$C$5,TRUE))/(IF($C$6<>\"\",Table2[FPPDate]=$C$6,TRUE))/(IF($C$7<>\"\",Table2[ProposalCode]=$C$7,TRUE)),ROW(F42))),\"\")","v":""},{"$f":"IFERROR(INDEX(Table2[Amount_FPPDepo],_xlfn.AGGREGATE(15,6,(ROW(Table2[FPPGroupCode])-2)/(Table2[DepoName]=$C$2)/(IF($C$3<>\"\",Table2[BULAN]=$C$3,TRUE))/(IF($C$4<>\"\",Table2[OFF/ON]=$C$4,TRUE))/(IF($C$5<>\"\",Table2[Status]=$C$5,TRUE))/(IF($C$6<>\"\",Table2[FPPDate]=$C$6,TRUE))/(IF($C$7<>\"\",Table2[ProposalCode]=$C$7,TRUE)),ROW(G42))),\"\")","v":""},{"$f":"IFERROR(VLOOKUP($B50,SIP!$D$5776:$P$6032,12,0),0)","v":0},{"$f":"IFERROR(H50-I50,0)","v":0},{"$f":"IFERROR(VLOOKUP($B50,SIP!$D$5776:$P$6032,8,0),0)","v":0},{"$f":"IFERROR(INDEX(Table2[OFF/ON],_xlfn.AGGREGATE(15,6,(ROW(Table2[FPPGroupCode])-2)/(Table2[DepoName]=$C$2)/(IF($C$3<>\"\",Table2[BULAN]=$C$3,TRUE))/(IF($C$4<>\"\",Table2[OFF/ON]=$C$4,TRUE))/(IF($C$5<>\"\",Table2[Status]=$C$5,TRUE))/(IF($C$6<>\"\",Table2[FPPDate]=$C$6,TRUE))/(IF($C$7<>\"\",Table2[ProposalCode]=$C$7,TRUE)),ROW(K42))),\"\")","v":""}]
[{"$f":"IF(LEN($B51),ROW(A43),\"\")","v":""},{"$f":"IFERROR(INDEX(Table2[FPPGroupCode],_xlfn.AGGREGATE(15,6,(ROW(Table2[FPPGroupCode])-2)/(Table2[DepoName]=$C$2)/(IF($C$3<>\"\",Table2[BULAN]=$C$3,TRUE))/(IF($C$4<>\"\",Table2[OFF/ON]=$C$4,TRUE))/(IF($C$5<>\"\",Table2[Status]=$C$5,TRUE))/(IF($C$6<>\"\",Table2[FPPDate]=$C$6,TRUE))/(IF($C$7<>\"\",Table2[ProposalCode]=$C$7,TRUE)),ROW(A43))),\"\")","v":""},{"$f":"IFERROR(VLOOKUP($B51,SIP!$D$3:$Q$12237,14,0),0)","v":0},{"$f":"IFERROR(INDEX(Table2[Activity],_xlfn.AGGREGATE(15,6,(ROW(Table2[FPPGroupCode])-2)/(Table2[DepoName]=$C$2)/(IF($C$3<>\"\",Table2[BULAN]=$C$3,TRUE))/(IF($C$4<>\"\",Table2[OFF/ON]=$C$4,TRUE))/(IF($C$5<>\"\",Table2[Status]=$C$5,TRUE))/(IF($C$6<>\"\",Table2[]=$C$6,TRUE))/(IF($C$7<>\"\",Table2[ProposalCode]=$C$7,TRUE)),ROW(B43))),\"\")","v":""},{"$f":"IFERROR(INDEX(Table2[Location],_xlfn.AGGREGATE(15,6,(ROW(Table2[FPPGroupCode])-2)/(Table2[DepoName]=$C$2)/(IF($C$3<>\"\",Table2[BULAN]=$C$3,TRUE))/(IF($C$4<>\"\",Table2[OFF/ON]=$C$4,TRUE))/(IF($C$5<>\"\",Table2[Status]=$C$5,TRUE))/(IF($C$6<>\"\",Table2[FPPDate]=$C$6,TRUE))/(IF($C$7<>\"\",Table2[ProposalCode]=$C$7,TRUE)),ROW(D43))),\"\")","v":""},{"$f":"IFERROR(INDEX(Table2[PeriodeStart],_xlfn.AGGREGATE(15,6,(ROW(Table2[FPPGroupCode])-2)/(Table2[DepoName]=$C$2)/(IF($C$3<>\"\",Table2[BULAN]=$C$3,TRUE))/(IF($C$4<>\"\",Table2[OFF/ON]=$C$4,TRUE))/(IF($C$5<>\"\",Table2[Status]=$C$5,TRUE))/(IF($C$6<>\"\",Table2[FPPDate]=$C$6,TRUE))/(IF($C$7<>\"\",Table2[ProposalCode]=$C$7,TRUE)),ROW(E43))),\"\")","v":""},{"$f":"IFERROR(INDEX(Table2[PeriodeEnd],_xlfn.AGGREGATE(15,6,(ROW(Table2[FPPGroupCode])-2)/(Table2[DepoName]=$C$2)/(IF($C$3<>\"\",Table2[BULAN]=$C$3,TRUE))/(IF($C$4<>\"\",Table2[OFF/ON]=$C$4,TRUE))/(IF($C$5<>\"\",Table2[Status]=$C$5,TRUE))/(IF($C$6<>\"\",Table2[FPPDate]=$C$6,TRUE))/(IF($C$7<>\"\",Table2[ProposalCode]=$C$7,TRUE)),ROW(F43))),\"\")","v":""},{"$f":"IFERROR(INDEX(Table2[Amount_FPPDepo],_xlfn.AGGREGATE(15,6,(ROW(Table2[FPPGroupCode])-2)/(Table2[DepoName]=$C$2)/(IF($C$3<>\"\",Table2[BULAN]=$C$3,TRUE))/(IF($C$4<>\"\",Table2[OFF/ON]=$C$4,TRUE))/(IF($C$5<>\"\",Table2[Status]=$C$5,TRUE))/(IF($C$6<>\"\",Table2[FPPDate]=$C$6,TRUE))/(IF($C$7<>\"\",Table2[ProposalCode]=$C$7,TRUE)),ROW(G43))),\"\")","v":""},{"$f":"IFERROR(VLOOKUP($B51,SIP!$D$5776:$P$6032,12,0),0)","v":0},{"$f":"IFERROR(H51-I51,0)","v":0},{"$f":"IFERROR(VLOOKUP($B51,SIP!$D$5776:$P$6032,8,0),0)","v":0},{"$f":"IFERROR(INDEX(Table2[OFF/ON],_xlfn.AGGREGATE(15,6,(ROW(Table2[FPPGroupCode])-2)/(Table2[DepoName]=$C$2)/(IF($C$3<>\"\",Table2[BULAN]=$C$3,TRUE))/(IF($C$4<>\"\",Table2[OFF/ON]=$C$4,TRUE))/(IF($C$5<>\"\",Table2[Status]=$C$5,TRUE))/(IF($C$6<>\"\",Table2[FPPDate]=$C$6,TRUE))/(IF($C$7<>\"\",Table2[ProposalCode]=$C$7,TRUE)),ROW(K43))),\"\")","v":""}]
[{"$f":"IF(LEN($B52),ROW(A44),\"\")","v":""},{"$f":"IFERROR(INDEX(Table2[FPPGroupCode],_xlfn.AGGREGATE(15,6,(ROW(Table2[FPPGroupCode])-2)/(Table2[DepoName]=$C$2)/(IF($C$3<>\"\",Table2[BULAN]=$C$3,TRUE))/(IF($C$4<>\"\",Table2[OFF/ON]=$C$4,TRUE))/(IF($C$5<>\"\",Table2[Status]=$C$5,TRUE))/(IF($C$6<>\"\",Table2[FPPDate]=$C$6,TRUE))/(IF($C$7<>\"\",Table2[ProposalCode]=$C$7,TRUE)),ROW(A44))),\"\")","v":""},{"$f":"IFERROR(VLOOKUP($B52,SIP!$D$3:$Q$12237,14,0),0)","v":0},{"$f":"IFERROR(INDEX(Table2[Activity],_xlfn.AGGREGATE(15,6,(ROW(Table2[FPPGroupCode])-2)/(Table2[DepoName]=$C$2)/(IF($C$3<>\"\",Table2[BULAN]=$C$3,TRUE))/(IF($C$4<>\"\",Table2[OFF/ON]=$C$4,TRUE))/(IF($C$5<>\"\",Table2[Status]=$C$5,TRUE))/(IF($C$6<>\"\",Table2[]=$C$6,TRUE))/(IF($C$7<>\"\",Table2[ProposalCode]=$C$7,TRUE)),ROW(B44))),\"\")","v":""},{"$f":"IFERROR(INDEX(Table2[Location],_xlfn.AGGREGATE(15,6,(ROW(Table2[FPPGroupCode])-2)/(Table2[DepoName]=$C$2)/(IF($C$3<>\"\",Table2[BULAN]=$C$3,TRUE))/(IF($C$4<>\"\",Table2[OFF/ON]=$C$4,TRUE))/(IF($C$5<>\"\",Table2[Status]=$C$5,TRUE))/(IF($C$6<>\"\",Table2[FPPDate]=$C$6,TRUE))/(IF($C$7<>\"\",Table2[ProposalCode]=$C$7,TRUE)),ROW(D44))),\"\")","v":""},{"$f":"IFERROR(INDEX(Table2[PeriodeStart],_xlfn.AGGREGATE(15,6,(ROW(Table2[FPPGroupCode])-2)/(Table2[DepoName]=$C$2)/(IF($C$3<>\"\",Table2[BULAN]=$C$3,TRUE))/(IF($C$4<>\"\",Table2[OFF/ON]=$C$4,TRUE))/(IF($C$5<>\"\",Table2[Status]=$C$5,TRUE))/(IF($C$6<>\"\",Table2[FPPDate]=$C$6,TRUE))/(IF($C$7<>\"\",Table2[ProposalCode]=$C$7,TRUE)),ROW(E44))),\"\")","v":""},{"$f":"IFERROR(INDEX(Table2[PeriodeEnd],_xlfn.AGGREGATE(15,6,(ROW(Table2[FPPGroupCode])-2)/(Table2[DepoName]=$C$2)/(IF($C$3<>\"\",Table2[BULAN]=$C$3,TRUE))/(IF($C$4<>\"\",Table2[OFF/ON]=$C$4,TRUE))/(IF($C$5<>\"\",Table2[Status]=$C$5,TRUE))/(IF($C$6<>\"\",Table2[FPPDate]=$C$6,TRUE))/(IF($C$7<>\"\",Table2[ProposalCode]=$C$7,TRUE)),ROW(F44))),\"\")","v":""},{"$f":"IFERROR(INDEX(Table2[Amount_FPPDepo],_xlfn.AGGREGATE(15,6,(ROW(Table2[FPPGroupCode])-2)/(Table2[DepoName]=$C$2)/(IF($C$3<>\"\",Table2[BULAN]=$C$3,TRUE))/(IF($C$4<>\"\",Table2[OFF/ON]=$C$4,TRUE))/(IF($C$5<>\"\",Table2[Status]=$C$5,TRUE))/(IF($C$6<>\"\",Table2[FPPDate]=$C$6,TRUE))/(IF($C$7<>\"\",Table2[ProposalCode]=$C$7,TRUE)),ROW(G44))),\"\")","v":""},{"$f":"IFERROR(VLOOKUP($B52,SIP!$D$5776:$P$6032,12,0),0)","v":0},{"$f":"IFERROR(H52-I52,0)","v":0},{"$f":"IFERROR(VLOOKUP($B52,SIP!$D$5776:$P$6032,8,0),0)","v":0},{"$f":"IFERROR(INDEX(Table2[OFF/ON],_xlfn.AGGREGATE(15,6,(ROW(Table2[FPPGroupCode])-2)/(Table2[DepoName]=$C$2)/(IF($C$3<>\"\",Table2[BULAN]=$C$3,TRUE))/(IF($C$4<>\"\",Table2[OFF/ON]=$C$4,TRUE))/(IF($C$5<>\"\",Table2[Status]=$C$5,TRUE))/(IF($C$6<>\"\",Table2[FPPDate]=$C$6,TRUE))/(IF($C$7<>\"\",Table2[ProposalCode]=$C$7,TRUE)),ROW(K44))),\"\")","v":""}]
[{"$f":"IF(LEN($B53),ROW(A45),\"\")","v":""},{"$f":"IFERROR(INDEX(Table2[FPPGroupCode],_xlfn.AGGREGATE(15,6,(ROW(Table2[FPPGroupCode])-2)/(Table2[DepoName]=$C$2)/(IF($C$3<>\"\",Table2[BULAN]=$C$3,TRUE))/(IF($C$4<>\"\",Table2[OFF/ON]=$C$4,TRUE))/(IF($C$5<>\"\",Table2[Status]=$C$5,TRUE))/(IF($C$6<>\"\",Table2[FPPDate]=$C$6,TRUE))/(IF($C$7<>\"\",Table2[ProposalCode]=$C$7,TRUE)),ROW(A45))),\"\")","v":""},{"$f":"IFERROR(VLOOKUP($B53,SIP!$D$3:$Q$12237,14,0),0)","v":0},{"$f":"IFERROR(INDEX(Table2[Activity],_xlfn.AGGREGATE(15,6,(ROW(Table2[FPPGroupCode])-2)/(Table2[DepoName]=$C$2)/(IF($C$3<>\"\",Table2[BULAN]=$C$3,TRUE))/(IF($C$4<>\"\",Table2[OFF/ON]=$C$4,TRUE))/(IF($C$5<>\"\",Table2[Status]=$C$5,TRUE))/(IF($C$6<>\"\",Table2[]=$C$6,TRUE))/(IF($C$7<>\"\",Table2[ProposalCode]=$C$7,TRUE)),ROW(B45))),\"\")","v":""},{"$f":"IFERROR(INDEX(Table2[Location],_xlfn.AGGREGATE(15,6,(ROW(Table2[FPPGroupCode])-2)/(Table2[DepoName]=$C$2)/(IF($C$3<>\"\",Table2[BULAN]=$C$3,TRUE))/(IF($C$4<>\"\",Table2[OFF/ON]=$C$4,TRUE))/(IF($C$5<>\"\",Table2[Status]=$C$5,TRUE))/(IF($C$6<>\"\",Table2[FPPDate]=$C$6,TRUE))/(IF($C$7<>\"\",Table2[ProposalCode]=$C$7,TRUE)),ROW(D45))),\"\")","v":""},{"$f":"IFERROR(INDEX(Table2[PeriodeStart],_xlfn.AGGREGATE(15,6,(ROW(Table2[FPPGroupCode])-2)/(Table2[DepoName]=$C$2)/(IF($C$3<>\"\",Table2[BULAN]=$C$3,TRUE))/(IF($C$4<>\"\",Table2[OFF/ON]=$C$4,TRUE))/(IF($C$5<>\"\",Table2[Status]=$C$5,TRUE))/(IF($C$6<>\"\",Table2[FPPDate]=$C$6,TRUE))/(IF($C$7<>\"\",Table2[ProposalCode]=$C$7,TRUE)),ROW(E45))),\"\")","v":""},{"$f":"IFERROR(INDEX(Table2[PeriodeEnd],_xlfn.AGGREGATE(15,6,(ROW(Table2[FPPGroupCode])-2)/(Table2[DepoName]=$C$2)/(IF($C$3<>\"\",Table2[BULAN]=$C$3,TRUE))/(IF($C$4<>\"\",Table2[OFF/ON]=$C$4,TRUE))/(IF($C$5<>\"\",Table2[Status]=$C$5,TRUE))/(IF($C$6<>\"\",Table2[FPPDate]=$C$6,TRUE))/(IF($C$7<>\"\",Table2[ProposalCode]=$C$7,TRUE)),ROW(F45))),\"\")","v":""},{"$f":"IFERROR(INDEX(Table2[Amount_FPPDepo],_xlfn.AGGREGATE(15,6,(ROW(Table2[FPPGroupCode])-2)/(Table2[DepoName]=$C$2)/(IF($C$3<>\"\",Table2[BULAN]=$C$3,TRUE))/(IF($C$4<>\"\",Table2[OFF/ON]=$C$4,TRUE))/(IF($C$5<>\"\",Table2[Status]=$C$5,TRUE))/(IF($C$6<>\"\",Table2[FPPDate]=$C$6,TRUE))/(IF($C$7<>\"\",Table2[ProposalCode]=$C$7,TRUE)),ROW(G45))),\"\")","v":""},{"$f":"IFERROR(VLOOKUP($B53,SIP!$D$5776:$P$6032,12,0),0)","v":0},{"$f":"IFERROR(H53-I53,0)","v":0},{"$f":"IFERROR(VLOOKUP($B53,SIP!$D$5776:$P$6032,8,0),0)","v":0},{"$f":"IFERROR(INDEX(Table2[OFF/ON],_xlfn.AGGREGATE(15,6,(ROW(Table2[FPPGroupCode])-2)/(Table2[DepoName]=$C$2)/(IF($C$3<>\"\",Table2[BULAN]=$C$3,TRUE))/(IF($C$4<>\"\",Table2[OFF/ON]=$C$4,TRUE))/(IF($C$5<>\"\",Table2[Status]=$C$5,TRUE))/(IF($C$6<>\"\",Table2[FPPDate]=$C$6,TRUE))/(IF($C$7<>\"\",Table2[ProposalCode]=$C$7,TRUE)),ROW(K45))),\"\")","v":""}]
[{"$f":"IF(LEN($B54),ROW(A46),\"\")","v":""},{"$f":"IFERROR(INDEX(Table2[FPPGroupCode],_xlfn.AGGREGATE(15,6,(ROW(Table2[FPPGroupCode])-2)/(Table2[DepoName]=$C$2)/(IF($C$3<>\"\",Table2[BULAN]=$C$3,TRUE))/(IF($C$4<>\"\",Table2[OFF/ON]=$C$4,TRUE))/(IF($C$5<>\"\",Table2[Status]=$C$5,TRUE))/(IF($C$6<>\"\",Table2[FPPDate]=$C$6,TRUE))/(IF($C$7<>\"\",Table2[ProposalCode]=$C$7,TRUE)),ROW(A46))),\"\")","v":""},{"$f":"IFERROR(VLOOKUP($B54,SIP!$D$3:$Q$12237,14,0),0)","v":0},{"$f":"IFERROR(INDEX(Table2[Activity],_xlfn.AGGREGATE(15,6,(ROW(Table2[FPPGroupCode])-2)/(Table2[DepoName]=$C$2)/(IF($C$3<>\"\",Table2[BULAN]=$C$3,TRUE))/(IF($C$4<>\"\",Table2[OFF/ON]=$C$4,TRUE))/(IF($C$5<>\"\",Table2[Status]=$C$5,TRUE))/(IF($C$6<>\"\",Table2[]=$C$6,TRUE))/(IF($C$7<>\"\",Table2[ProposalCode]=$C$7,TRUE)),ROW(B46))),\"\")","v":""},{"$f":"IFERROR(INDEX(Table2[Location],_xlfn.AGGREGATE(15,6,(ROW(Table2[FPPGroupCode])-2)/(Table2[DepoName]=$C$2)/(IF($C$3<>\"\",Table2[BULAN]=$C$3,TRUE))/(IF($C$4<>\"\",Table2[OFF/ON]=$C$4,TRUE))/(IF($C$5<>\"\",Table2[Status]=$C$5,TRUE))/(IF($C$6<>\"\",Table2[FPPDate]=$C$6,TRUE))/(IF($C$7<>\"\",Table2[ProposalCode]=$C$7,TRUE)),ROW(D46))),\"\")","v":""},{"$f":"IFERROR(INDEX(Table2[PeriodeStart],_xlfn.AGGREGATE(15,6,(ROW(Table2[FPPGroupCode])-2)/(Table2[DepoName]=$C$2)/(IF($C$3<>\"\",Table2[BULAN]=$C$3,TRUE))/(IF($C$4<>\"\",Table2[OFF/ON]=$C$4,TRUE))/(IF($C$5<>\"\",Table2[Status]=$C$5,TRUE))/(IF($C$6<>\"\",Table2[FPPDate]=$C$6,TRUE))/(IF($C$7<>\"\",Table2[ProposalCode]=$C$7,TRUE)),ROW(E46))),\"\")","v":""},{"$f":"IFERROR(INDEX(Table2[PeriodeEnd],_xlfn.AGGREGATE(15,6,(ROW(Table2[FPPGroupCode])-2)/(Table2[DepoName]=$C$2)/(IF($C$3<>\"\",Table2[BULAN]=$C$3,TRUE))/(IF($C$4<>\"\",Table2[OFF/ON]=$C$4,TRUE))/(IF($C$5<>\"\",Table2[Status]=$C$5,TRUE))/(IF($C$6<>\"\",Table2[FPPDate]=$C$6,TRUE))/(IF($C$7<>\"\",Table2[ProposalCode]=$C$7,TRUE)),ROW(F46))),\"\")","v":""},{"$f":"IFERROR(INDEX(Table2[Amount_FPPDepo],_xlfn.AGGREGATE(15,6,(ROW(Table2[FPPGroupCode])-2)/(Table2[DepoName]=$C$2)/(IF($C$3<>\"\",Table2[BULAN]=$C$3,TRUE))/(IF($C$4<>\"\",Table2[OFF/ON]=$C$4,TRUE))/(IF($C$5<>\"\",Table2[Status]=$C$5,TRUE))/(IF($C$6<>\"\",Table2[FPPDate]=$C$6,TRUE))/(IF($C$7<>\"\",Table2[ProposalCode]=$C$7,TRUE)),ROW(G46))),\"\")","v":""},{"$f":"IFERROR(VLOOKUP($B54,SIP!$D$5776:$P$6032,12,0),0)","v":0},{"$f":"IFERROR(H54-I54,0)","v":0},{"$f":"IFERROR(VLOOKUP($B54,SIP!$D$5776:$P$6032,8,0),0)","v":0},{"$f":"IFERROR(INDEX(Table2[OFF/ON],_xlfn.AGGREGATE(15,6,(ROW(Table2[FPPGroupCode])-2)/(Table2[DepoName]=$C$2)/(IF($C$3<>\"\",Table2[BULAN]=$C$3,TRUE))/(IF($C$4<>\"\",Table2[OFF/ON]=$C$4,TRUE))/(IF($C$5<>\"\",Table2[Status]=$C$5,TRUE))/(IF($C$6<>\"\",Table2[FPPDate]=$C$6,TRUE))/(IF($C$7<>\"\",Table2[ProposalCode]=$C$7,TRUE)),ROW(K46))),\"\")","v":""}]
[{"$f":"IF(LEN($B55),ROW(A47),\"\")","v":""},{"$f":"IFERROR(INDEX(Table2[FPPGroupCode],_xlfn.AGGREGATE(15,6,(ROW(Table2[FPPGroupCode])-2)/(Table2[DepoName]=$C$2)/(IF($C$3<>\"\",Table2[BULAN]=$C$3,TRUE))/(IF($C$4<>\"\",Table2[OFF/ON]=$C$4,TRUE))/(IF($C$5<>\"\",Table2[Status]=$C$5,TRUE))/(IF($C$6<>\"\",Table2[FPPDate]=$C$6,TRUE))/(IF($C$7<>\"\",Table2[ProposalCode]=$C$7,TRUE)),ROW(A47))),\"\")","v":""},{"$f":"IFERROR(VLOOKUP($B55,SIP!$D$3:$Q$12237,14,0),0)","v":0},{"$f":"IFERROR(INDEX(Table2[Activity],_xlfn.AGGREGATE(15,6,(ROW(Table2[FPPGroupCode])-2)/(Table2[DepoName]=$C$2)/(IF($C$3<>\"\",Table2[BULAN]=$C$3,TRUE))/(IF($C$4<>\"\",Table2[OFF/ON]=$C$4,TRUE))/(IF($C$5<>\"\",Table2[Status]=$C$5,TRUE))/(IF($C$6<>\"\",Table2[]=$C$6,TRUE))/(IF($C$7<>\"\",Table2[ProposalCode]=$C$7,TRUE)),ROW(B47))),\"\")","v":""},{"$f":"IFERROR(INDEX(Table2[Location],_xlfn.AGGREGATE(15,6,(ROW(Table2[FPPGroupCode])-2)/(Table2[DepoName]=$C$2)/(IF($C$3<>\"\",Table2[BULAN]=$C$3,TRUE))/(IF($C$4<>\"\",Table2[OFF/ON]=$C$4,TRUE))/(IF($C$5<>\"\",Table2[Status]=$C$5,TRUE))/(IF($C$6<>\"\",Table2[FPPDate]=$C$6,TRUE))/(IF($C$7<>\"\",Table2[ProposalCode]=$C$7,TRUE)),ROW(D47))),\"\")","v":""},{"$f":"IFERROR(INDEX(Table2[PeriodeStart],_xlfn.AGGREGATE(15,6,(ROW(Table2[FPPGroupCode])-2)/(Table2[DepoName]=$C$2)/(IF($C$3<>\"\",Table2[BULAN]=$C$3,TRUE))/(IF($C$4<>\"\",Table2[OFF/ON]=$C$4,TRUE))/(IF($C$5<>\"\",Table2[Status]=$C$5,TRUE))/(IF($C$6<>\"\",Table2[FPPDate]=$C$6,TRUE))/(IF($C$7<>\"\",Table2[ProposalCode]=$C$7,TRUE)),ROW(E47))),\"\")","v":""},{"$f":"IFERROR(INDEX(Table2[PeriodeEnd],_xlfn.AGGREGATE(15,6,(ROW(Table2[FPPGroupCode])-2)/(Table2[DepoName]=$C$2)/(IF($C$3<>\"\",Table2[BULAN]=$C$3,TRUE))/(IF($C$4<>\"\",Table2[OFF/ON]=$C$4,TRUE))/(IF($C$5<>\"\",Table2[Status]=$C$5,TRUE))/(IF($C$6<>\"\",Table2[FPPDate]=$C$6,TRUE))/(IF($C$7<>\"\",Table2[ProposalCode]=$C$7,TRUE)),ROW(F47))),\"\")","v":""},{"$f":"IFERROR(INDEX(Table2[Amount_FPPDepo],_xlfn.AGGREGATE(15,6,(ROW(Table2[FPPGroupCode])-2)/(Table2[DepoName]=$C$2)/(IF($C$3<>\"\",Table2[BULAN]=$C$3,TRUE))/(IF($C$4<>\"\",Table2[OFF/ON]=$C$4,TRUE))/(IF($C$5<>\"\",Table2[Status]=$C$5,TRUE))/(IF($C$6<>\"\",Table2[FPPDate]=$C$6,TRUE))/(IF($C$7<>\"\",Table2[ProposalCode]=$C$7,TRUE)),ROW(G47))),\"\")","v":""},{"$f":"IFERROR(VLOOKUP($B55,SIP!$D$5776:$P$6032,12,0),0)","v":0},{"$f":"IFERROR(H55-I55,0)","v":0},{"$f":"IFERROR(VLOOKUP($B55,SIP!$D$5776:$P$6032,8,0),0)","v":0},{"$f":"IFERROR(INDEX(Table2[OFF/ON],_xlfn.AGGREGATE(15,6,(ROW(Table2[FPPGroupCode])-2)/(Table2[DepoName]=$C$2)/(IF($C$3<>\"\",Table2[BULAN]=$C$3,TRUE))/(IF($C$4<>\"\",Table2[OFF/ON]=$C$4,TRUE))/(IF($C$5<>\"\",Table2[Status]=$C$5,TRUE))/(IF($C$6<>\"\",Table2[FPPDate]=$C$6,TRUE))/(IF($C$7<>\"\",Table2[ProposalCode]=$C$7,TRUE)),ROW(K47))),\"\")","v":""}]
[{"$f":"IF(LEN($B56),ROW(A48),\"\")","v":""},{"$f":"IFERROR(INDEX(Table2[FPPGroupCode],_xlfn.AGGREGATE(15,6,(ROW(Table2[FPPGroupCode])-2)/(Table2[DepoName]=$C$2)/(IF($C$3<>\"\",Table2[BULAN]=$C$3,TRUE))/(IF($C$4<>\"\",Table2[OFF/ON]=$C$4,TRUE))/(IF($C$5<>\"\",Table2[Status]=$C$5,TRUE))/(IF($C$6<>\"\",Table2[FPPDate]=$C$6,TRUE))/(IF($C$7<>\"\",Table2[ProposalCode]=$C$7,TRUE)),ROW(A48))),\"\")","v":""},{"$f":"IFERROR(VLOOKUP($B56,SIP!$D$3:$Q$12237,14,0),0)","v":0},{"$f":"IFERROR(INDEX(Table2[Activity],_xlfn.AGGREGATE(15,6,(ROW(Table2[FPPGroupCode])-2)/(Table2[DepoName]=$C$2)/(IF($C$3<>\"\",Table2[BULAN]=$C$3,TRUE))/(IF($C$4<>\"\",Table2[OFF/ON]=$C$4,TRUE))/(IF($C$5<>\"\",Table2[Status]=$C$5,TRUE))/(IF($C$6<>\"\",Table2[]=$C$6,TRUE))/(IF($C$7<>\"\",Table2[ProposalCode]=$C$7,TRUE)),ROW(B48))),\"\")","v":""},{"$f":"IFERROR(INDEX(Table2[Location],_xlfn.AGGREGATE(15,6,(ROW(Table2[FPPGroupCode])-2)/(Table2[DepoName]=$C$2)/(IF($C$3<>\"\",Table2[BULAN]=$C$3,TRUE))/(IF($C$4<>\"\",Table2[OFF/ON]=$C$4,TRUE))/(IF($C$5<>\"\",Table2[Status]=$C$5,TRUE))/(IF($C$6<>\"\",Table2[FPPDate]=$C$6,TRUE))/(IF($C$7<>\"\",Table2[ProposalCode]=$C$7,TRUE)),ROW(D48))),\"\")","v":""},{"$f":"IFERROR(INDEX(Table2[PeriodeStart],_xlfn.AGGREGATE(15,6,(ROW(Table2[FPPGroupCode])-2)/(Table2[DepoName]=$C$2)/(IF($C$3<>\"\",Table2[BULAN]=$C$3,TRUE))/(IF($C$4<>\"\",Table2[OFF/ON]=$C$4,TRUE))/(IF($C$5<>\"\",Table2[Status]=$C$5,TRUE))/(IF($C$6<>\"\",Table2[FPPDate]=$C$6,TRUE))/(IF($C$7<>\"\",Table2[ProposalCode]=$C$7,TRUE)),ROW(E48))),\"\")","v":""},{"$f":"IFERROR(INDEX(Table2[PeriodeEnd],_xlfn.AGGREGATE(15,6,(ROW(Table2[FPPGroupCode])-2)/(Table2[DepoName]=$C$2)/(IF($C$3<>\"\",Table2[BULAN]=$C$3,TRUE))/(IF($C$4<>\"\",Table2[OFF/ON]=$C$4,TRUE))/(IF($C$5<>\"\",Table2[Status]=$C$5,TRUE))/(IF($C$6<>\"\",Table2[FPPDate]=$C$6,TRUE))/(IF($C$7<>\"\",Table2[ProposalCode]=$C$7,TRUE)),ROW(F48))),\"\")","v":""},{"$f":"IFERROR(INDEX(Table2[Amount_FPPDepo],_xlfn.AGGREGATE(15,6,(ROW(Table2[FPPGroupCode])-2)/(Table2[DepoName]=$C$2)/(IF($C$3<>\"\",Table2[BULAN]=$C$3,TRUE))/(IF($C$4<>\"\",Table2[OFF/ON]=$C$4,TRUE))/(IF($C$5<>\"\",Table2[Status]=$C$5,TRUE))/(IF($C$6<>\"\",Table2[FPPDate]=$C$6,TRUE))/(IF($C$7<>\"\",Table2[ProposalCode]=$C$7,TRUE)),ROW(G48))),\"\")","v":""},{"$f":"IFERROR(VLOOKUP($B56,SIP!$D$5776:$P$6032,12,0),0)","v":0},{"$f":"IFERROR(H56-I56,0)","v":0},{"$f":"IFERROR(VLOOKUP($B56,SIP!$D$5776:$P$6032,8,0),0)","v":0},{"$f":"IFERROR(INDEX(Table2[OFF/ON],_xlfn.AGGREGATE(15,6,(ROW(Table2[FPPGroupCode])-2)/(Table2[DepoName]=$C$2)/(IF($C$3<>\"\",Table2[BULAN]=$C$3,TRUE))/(IF($C$4<>\"\",Table2[OFF/ON]=$C$4,TRUE))/(IF($C$5<>\"\",Table2[Status]=$C$5,TRUE))/(IF($C$6<>\"\",Table2[FPPDate]=$C$6,TRUE))/(IF($C$7<>\"\",Table2[ProposalCode]=$C$7,TRUE)),ROW(K48))),\"\")","v":""}]
[{"$f":"IF(LEN($B57),ROW(A49),\"\")","v":""},{"$f":"IFERROR(INDEX(Table2[FPPGroupCode],_xlfn.AGGREGATE(15,6,(ROW(Table2[FPPGroupCode])-2)/(Table2[DepoName]=$C$2)/(IF($C$3<>\"\",Table2[BULAN]=$C$3,TRUE))/(IF($C$4<>\"\",Table2[OFF/ON]=$C$4,TRUE))/(IF($C$5<>\"\",Table2[Status]=$C$5,TRUE))/(IF($C$6<>\"\",Table2[FPPDate]=$C$6,TRUE))/(IF($C$7<>\"\",Table2[ProposalCode]=$C$7,TRUE)),ROW(A49))),\"\")","v":""},{"$f":"IFERROR(VLOOKUP($B57,SIP!$D$3:$Q$12237,14,0),0)","v":0},{"$f":"IFERROR(INDEX(Table2[Activity],_xlfn.AGGREGATE(15,6,(ROW(Table2[FPPGroupCode])-2)/(Table2[DepoName]=$C$2)/(IF($C$3<>\"\",Table2[BULAN]=$C$3,TRUE))/(IF($C$4<>\"\",Table2[OFF/ON]=$C$4,TRUE))/(IF($C$5<>\"\",Table2[Status]=$C$5,TRUE))/(IF($C$6<>\"\",Table2[]=$C$6,TRUE))/(IF($C$7<>\"\",Table2[ProposalCode]=$C$7,TRUE)),ROW(B49))),\"\")","v":""},{"$f":"IFERROR(INDEX(Table2[Location],_xlfn.AGGREGATE(15,6,(ROW(Table2[FPPGroupCode])-2)/(Table2[DepoName]=$C$2)/(IF($C$3<>\"\",Table2[BULAN]=$C$3,TRUE))/(IF($C$4<>\"\",Table2[OFF/ON]=$C$4,TRUE))/(IF($C$5<>\"\",Table2[Status]=$C$5,TRUE))/(IF($C$6<>\"\",Table2[FPPDate]=$C$6,TRUE))/(IF($C$7<>\"\",Table2[ProposalCode]=$C$7,TRUE)),ROW(D49))),\"\")","v":""},{"$f":"IFERROR(INDEX(Table2[PeriodeStart],_xlfn.AGGREGATE(15,6,(ROW(Table2[FPPGroupCode])-2)/(Table2[DepoName]=$C$2)/(IF($C$3<>\"\",Table2[BULAN]=$C$3,TRUE))/(IF($C$4<>\"\",Table2[OFF/ON]=$C$4,TRUE))/(IF($C$5<>\"\",Table2[Status]=$C$5,TRUE))/(IF($C$6<>\"\",Table2[FPPDate]=$C$6,TRUE))/(IF($C$7<>\"\",Table2[ProposalCode]=$C$7,TRUE)),ROW(E49))),\"\")","v":""},{"$f":"IFERROR(INDEX(Table2[PeriodeEnd],_xlfn.AGGREGATE(15,6,(ROW(Table2[FPPGroupCode])-2)/(Table2[DepoName]=$C$2)/(IF($C$3<>\"\",Table2[BULAN]=$C$3,TRUE))/(IF($C$4<>\"\",Table2[OFF/ON]=$C$4,TRUE))/(IF($C$5<>\"\",Table2[Status]=$C$5,TRUE))/(IF($C$6<>\"\",Table2[FPPDate]=$C$6,TRUE))/(IF($C$7<>\"\",Table2[ProposalCode]=$C$7,TRUE)),ROW(F49))),\"\")","v":""},{"$f":"IFERROR(INDEX(Table2[Amount_FPPDepo],_xlfn.AGGREGATE(15,6,(ROW(Table2[FPPGroupCode])-2)/(Table2[DepoName]=$C$2)/(IF($C$3<>\"\",Table2[BULAN]=$C$3,TRUE))/(IF($C$4<>\"\",Table2[OFF/ON]=$C$4,TRUE))/(IF($C$5<>\"\",Table2[Status]=$C$5,TRUE))/(IF($C$6<>\"\",Table2[FPPDate]=$C$6,TRUE))/(IF($C$7<>\"\",Table2[ProposalCode]=$C$7,TRUE)),ROW(G49))),\"\")","v":""},{"$f":"IFERROR(VLOOKUP($B57,SIP!$D$5776:$P$6032,12,0),0)","v":0},{"$f":"IFERROR(H57-I57,0)","v":0},{"$f":"IFERROR(VLOOKUP($B57,SIP!$D$5776:$P$6032,8,0),0)","v":0},{"$f":"IFERROR(INDEX(Table2[OFF/ON],_xlfn.AGGREGATE(15,6,(ROW(Table2[FPPGroupCode])-2)/(Table2[DepoName]=$C$2)/(IF($C$3<>\"\",Table2[BULAN]=$C$3,TRUE))/(IF($C$4<>\"\",Table2[OFF/ON]=$C$4,TRUE))/(IF($C$5<>\"\",Table2[Status]=$C$5,TRUE))/(IF($C$6<>\"\",Table2[FPPDate]=$C$6,TRUE))/(IF($C$7<>\"\",Table2[ProposalCode]=$C$7,TRUE)),ROW(K49))),\"\")","v":""}]
[{"$f":"IF(LEN($B58),ROW(A50),\"\")","v":""},{"$f":"IFERROR(INDEX(Table2[FPPGroupCode],_xlfn.AGGREGATE(15,6,(ROW(Table2[FPPGroupCode])-2)/(Table2[DepoName]=$C$2)/(IF($C$3<>\"\",Table2[BULAN]=$C$3,TRUE))/(IF($C$4<>\"\",Table2[OFF/ON]=$C$4,TRUE))/(IF($C$5<>\"\",Table2[Status]=$C$5,TRUE))/(IF($C$6<>\"\",Table2[FPPDate]=$C$6,TRUE))/(IF($C$7<>\"\",Table2[ProposalCode]=$C$7,TRUE)),ROW(A50))),\"\")","v":""},{"$f":"IFERROR(VLOOKUP($B58,SIP!$D$3:$Q$12237,14,0),0)","v":0},{"$f":"IFERROR(INDEX(Table2[Activity],_xlfn.AGGREGATE(15,6,(ROW(Table2[FPPGroupCode])-2)/(Table2[DepoName]=$C$2)/(IF($C$3<>\"\",Table2[BULAN]=$C$3,TRUE))/(IF($C$4<>\"\",Table2[OFF/ON]=$C$4,TRUE))/(IF($C$5<>\"\",Table2[Status]=$C$5,TRUE))/(IF($C$6<>\"\",Table2[]=$C$6,TRUE))/(IF($C$7<>\"\",Table2[ProposalCode]=$C$7,TRUE)),ROW(B50))),\"\")","v":""},{"$f":"IFERROR(INDEX(Table2[Location],_xlfn.AGGREGATE(15,6,(ROW(Table2[FPPGroupCode])-2)/(Table2[DepoName]=$C$2)/(IF($C$3<>\"\",Table2[BULAN]=$C$3,TRUE))/(IF($C$4<>\"\",Table2[OFF/ON]=$C$4,TRUE))/(IF($C$5<>\"\",Table2[Status]=$C$5,TRUE))/(IF($C$6<>\"\",Table2[FPPDate]=$C$6,TRUE))/(IF($C$7<>\"\",Table2[ProposalCode]=$C$7,TRUE)),ROW(D50))),\"\")","v":""},{"$f":"IFERROR(INDEX(Table2[PeriodeStart],_xlfn.AGGREGATE(15,6,(ROW(Table2[FPPGroupCode])-2)/(Table2[DepoName]=$C$2)/(IF($C$3<>\"\",Table2[BULAN]=$C$3,TRUE))/(IF($C$4<>\"\",Table2[OFF/ON]=$C$4,TRUE))/(IF($C$5<>\"\",Table2[Status]=$C$5,TRUE))/(IF($C$6<>\"\",Table2[FPPDate]=$C$6,TRUE))/(IF($C$7<>\"\",Table2[ProposalCode]=$C$7,TRUE)),ROW(E50))),\"\")","v":""},{"$f":"IFERROR(INDEX(Table2[PeriodeEnd],_xlfn.AGGREGATE(15,6,(ROW(Table2[FPPGroupCode])-2)/(Table2[DepoName]=$C$2)/(IF($C$3<>\"\",Table2[BULAN]=$C$3,TRUE))/(IF($C$4<>\"\",Table2[OFF/ON]=$C$4,TRUE))/(IF($C$5<>\"\",Table2[Status]=$C$5,TRUE))/(IF($C$6<>\"\",Table2[FPPDate]=$C$6,TRUE))/(IF($C$7<>\"\",Table2[ProposalCode]=$C$7,TRUE)),ROW(F50))),\"\")","v":""},{"$f":"IFERROR(INDEX(Table2[Amount_FPPDepo],_xlfn.AGGREGATE(15,6,(ROW(Table2[FPPGroupCode])-2)/(Table2[DepoName]=$C$2)/(IF($C$3<>\"\",Table2[BULAN]=$C$3,TRUE))/(IF($C$4<>\"\",Table2[OFF/ON]=$C$4,TRUE))/(IF($C$5<>\"\",Table2[Status]=$C$5,TRUE))/(IF($C$6<>\"\",Table2[FPPDate]=$C$6,TRUE))/(IF($C$7<>\"\",Table2[ProposalCode]=$C$7,TRUE)),ROW(G50))),\"\")","v":""},{"$f":"IFERROR(VLOOKUP($B58,SIP!$D$5776:$P$6032,12,0),0)","v":0},{"$f":"IFERROR(H58-I58,0)","v":0},{"$f":"IFERROR(VLOOKUP($B58,SIP!$D$5776:$P$6032,8,0),0)","v":0},{"$f":"IFERROR(INDEX(Table2[OFF/ON],_xlfn.AGGREGATE(15,6,(ROW(Table2[FPPGroupCode])-2)/(Table2[DepoName]=$C$2)/(IF($C$3<>\"\",Table2[BULAN]=$C$3,TRUE))/(IF($C$4<>\"\",Table2[OFF/ON]=$C$4,TRUE))/(IF($C$5<>\"\",Table2[Status]=$C$5,TRUE))/(IF($C$6<>\"\",Table2[FPPDate]=$C$6,TRUE))/(IF($C$7<>\"\",Table2[ProposalCode]=$C$7,TRUE)),ROW(K50))),\"\")","v":""}]
[{"$f":"IF(LEN($B59),ROW(A51),\"\")","v":""},{"$f":"IFERROR(INDEX(Table2[FPPGroupCode],_xlfn.AGGREGATE(15,6,(ROW(Table2[FPPGroupCode])-2)/(Table2[DepoName]=$C$2)/(IF($C$3<>\"\",Table2[BULAN]=$C$3,TRUE))/(IF($C$4<>\"\",Table2[OFF/ON]=$C$4,TRUE))/(IF($C$5<>\"\",Table2[Status]=$C$5,TRUE))/(IF($C$6<>\"\",Table2[FPPDate]=$C$6,TRUE))/(IF($C$7<>\"\",Table2[ProposalCode]=$C$7,TRUE)),ROW(A51))),\"\")","v":""},{"$f":"IFERROR(VLOOKUP($B59,SIP!$D$3:$Q$12237,14,0),0)","v":0},{"$f":"IFERROR(INDEX(Table2[Activity],_xlfn.AGGREGATE(15,6,(ROW(Table2[FPPGroupCode])-2)/(Table2[DepoName]=$C$2)/(IF($C$3<>\"\",Table2[BULAN]=$C$3,TRUE))/(IF($C$4<>\"\",Table2[OFF/ON]=$C$4,TRUE))/(IF($C$5<>\"\",Table2[Status]=$C$5,TRUE))/(IF($C$6<>\"\",Table2[]=$C$6,TRUE))/(IF($C$7<>\"\",Table2[ProposalCode]=$C$7,TRUE)),ROW(B51))),\"\")","v":""},{"$f":"IFERROR(INDEX(Table2[Location],_xlfn.AGGREGATE(15,6,(ROW(Table2[FPPGroupCode])-2)/(Table2[DepoName]=$C$2)/(IF($C$3<>\"\",Table2[BULAN]=$C$3,TRUE))/(IF($C$4<>\"\",Table2[OFF/ON]=$C$4,TRUE))/(IF($C$5<>\"\",Table2[Status]=$C$5,TRUE))/(IF($C$6<>\"\",Table2[FPPDate]=$C$6,TRUE))/(IF($C$7<>\"\",Table2[ProposalCode]=$C$7,TRUE)),ROW(D51))),\"\")","v":""},{"$f":"IFERROR(INDEX(Table2[PeriodeStart],_xlfn.AGGREGATE(15,6,(ROW(Table2[FPPGroupCode])-2)/(Table2[DepoName]=$C$2)/(IF($C$3<>\"\",Table2[BULAN]=$C$3,TRUE))/(IF($C$4<>\"\",Table2[OFF/ON]=$C$4,TRUE))/(IF($C$5<>\"\",Table2[Status]=$C$5,TRUE))/(IF($C$6<>\"\",Table2[FPPDate]=$C$6,TRUE))/(IF($C$7<>\"\",Table2[ProposalCode]=$C$7,TRUE)),ROW(E51))),\"\")","v":""},{"$f":"IFERROR(INDEX(Table2[PeriodeEnd],_xlfn.AGGREGATE(15,6,(ROW(Table2[FPPGroupCode])-2)/(Table2[DepoName]=$C$2)/(IF($C$3<>\"\",Table2[BULAN]=$C$3,TRUE))/(IF($C$4<>\"\",Table2[OFF/ON]=$C$4,TRUE))/(IF($C$5<>\"\",Table2[Status]=$C$5,TRUE))/(IF($C$6<>\"\",Table2[FPPDate]=$C$6,TRUE))/(IF($C$7<>\"\",Table2[ProposalCode]=$C$7,TRUE)),ROW(F51))),\"\")","v":""},{"$f":"IFERROR(INDEX(Table2[Amount_FPPDepo],_xlfn.AGGREGATE(15,6,(ROW(Table2[FPPGroupCode])-2)/(Table2[DepoName]=$C$2)/(IF($C$3<>\"\",Table2[BULAN]=$C$3,TRUE))/(IF($C$4<>\"\",Table2[OFF/ON]=$C$4,TRUE))/(IF($C$5<>\"\",Table2[Status]=$C$5,TRUE))/(IF($C$6<>\"\",Table2[FPPDate]=$C$6,TRUE))/(IF($C$7<>\"\",Table2[ProposalCode]=$C$7,TRUE)),ROW(G51))),\"\")","v":""},{"$f":"IFERROR(VLOOKUP($B59,SIP!$D$5776:$P$6032,12,0),0)","v":0},{"$f":"IFERROR(H59-I59,0)","v":0},{"$f":"IFERROR(VLOOKUP($B59,SIP!$D$5776:$P$6032,8,0),0)","v":0},{"$f":"IFERROR(INDEX(Table2[OFF/ON],_xlfn.AGGREGATE(15,6,(ROW(Table2[FPPGroupCode])-2)/(Table2[DepoName]=$C$2)/(IF($C$3<>\"\",Table2[BULAN]=$C$3,TRUE))/(IF($C$4<>\"\",Table2[OFF/ON]=$C$4,TRUE))/(IF($C$5<>\"\",Table2[Status]=$C$5,TRUE))/(IF($C$6<>\"\",Table2[FPPDate]=$C$6,TRUE))/(IF($C$7<>\"\",Table2[ProposalCode]=$C$7,TRUE)),ROW(K51))),\"\")","v":""}]
[{"$f":"IF(LEN($B60),ROW(A52),\"\")","v":""},{"$f":"IFERROR(INDEX(Table2[FPPGroupCode],_xlfn.AGGREGATE(15,6,(ROW(Table2[FPPGroupCode])-2)/(Table2[DepoName]=$C$2)/(IF($C$3<>\"\",Table2[BULAN]=$C$3,TRUE))/(IF($C$4<>\"\",Table2[OFF/ON]=$C$4,TRUE))/(IF($C$5<>\"\",Table2[Status]=$C$5,TRUE))/(IF($C$6<>\"\",Table2[FPPDate]=$C$6,TRUE))/(IF($C$7<>\"\",Table2[ProposalCode]=$C$7,TRUE)),ROW(A52))),\"\")","v":""},{"$f":"IFERROR(VLOOKUP($B60,SIP!$D$3:$Q$12237,14,0),0)","v":0},{"$f":"IFERROR(INDEX(Table2[Activity],_xlfn.AGGREGATE(15,6,(ROW(Table2[FPPGroupCode])-2)/(Table2[DepoName]=$C$2)/(IF($C$3<>\"\",Table2[BULAN]=$C$3,TRUE))/(IF($C$4<>\"\",Table2[OFF/ON]=$C$4,TRUE))/(IF($C$5<>\"\",Table2[Status]=$C$5,TRUE))/(IF($C$6<>\"\",Table2[]=$C$6,TRUE))/(IF($C$7<>\"\",Table2[ProposalCode]=$C$7,TRUE)),ROW(B52))),\"\")","v":""},{"$f":"IFERROR(INDEX(Table2[Location],_xlfn.AGGREGATE(15,6,(ROW(Table2[FPPGroupCode])-2)/(Table2[DepoName]=$C$2)/(IF($C$3<>\"\",Table2[BULAN]=$C$3,TRUE))/(IF($C$4<>\"\",Table2[OFF/ON]=$C$4,TRUE))/(IF($C$5<>\"\",Table2[Status]=$C$5,TRUE))/(IF($C$6<>\"\",Table2[FPPDate]=$C$6,TRUE))/(IF($C$7<>\"\",Table2[ProposalCode]=$C$7,TRUE)),ROW(D52))),\"\")","v":""},{"$f":"IFERROR(INDEX(Table2[PeriodeStart],_xlfn.AGGREGATE(15,6,(ROW(Table2[FPPGroupCode])-2)/(Table2[DepoName]=$C$2)/(IF($C$3<>\"\",Table2[BULAN]=$C$3,TRUE))/(IF($C$4<>\"\",Table2[OFF/ON]=$C$4,TRUE))/(IF($C$5<>\"\",Table2[Status]=$C$5,TRUE))/(IF($C$6<>\"\",Table2[FPPDate]=$C$6,TRUE))/(IF($C$7<>\"\",Table2[ProposalCode]=$C$7,TRUE)),ROW(E52))),\"\")","v":""},{"$f":"IFERROR(INDEX(Table2[PeriodeEnd],_xlfn.AGGREGATE(15,6,(ROW(Table2[FPPGroupCode])-2)/(Table2[DepoName]=$C$2)/(IF($C$3<>\"\",Table2[BULAN]=$C$3,TRUE))/(IF($C$4<>\"\",Table2[OFF/ON]=$C$4,TRUE))/(IF($C$5<>\"\",Table2[Status]=$C$5,TRUE))/(IF($C$6<>\"\",Table2[FPPDate]=$C$6,TRUE))/(IF($C$7<>\"\",Table2[ProposalCode]=$C$7,TRUE)),ROW(F52))),\"\")","v":""},{"$f":"IFERROR(INDEX(Table2[Amount_FPPDepo],_xlfn.AGGREGATE(15,6,(ROW(Table2[FPPGroupCode])-2)/(Table2[DepoName]=$C$2)/(IF($C$3<>\"\",Table2[BULAN]=$C$3,TRUE))/(IF($C$4<>\"\",Table2[OFF/ON]=$C$4,TRUE))/(IF($C$5<>\"\",Table2[Status]=$C$5,TRUE))/(IF($C$6<>\"\",Table2[FPPDate]=$C$6,TRUE))/(IF($C$7<>\"\",Table2[ProposalCode]=$C$7,TRUE)),ROW(G52))),\"\")","v":""},{"$f":"IFERROR(VLOOKUP($B60,SIP!$D$5776:$P$6032,12,0),0)","v":0},{"$f":"IFERROR(H60-I60,0)","v":0},{"$f":"IFERROR(VLOOKUP($B60,SIP!$D$5776:$P$6032,8,0),0)","v":0},{"$f":"IFERROR(INDEX(Table2[OFF/ON],_xlfn.AGGREGATE(15,6,(ROW(Table2[FPPGroupCode])-2)/(Table2[DepoName]=$C$2)/(IF($C$3<>\"\",Table2[BULAN]=$C$3,TRUE))/(IF($C$4<>\"\",Table2[OFF/ON]=$C$4,TRUE))/(IF($C$5<>\"\",Table2[Status]=$C$5,TRUE))/(IF($C$6<>\"\",Table2[FPPDate]=$C$6,TRUE))/(IF($C$7<>\"\",Table2[ProposalCode]=$C$7,TRUE)),ROW(K52))),\"\")","v":""}]
[{"$f":"IF(LEN($B61),ROW(A53),\"\")","v":""},{"$f":"IFERROR(INDEX(Table2[FPPGroupCode],_xlfn.AGGREGATE(15,6,(ROW(Table2[FPPGroupCode])-2)/(Table2[DepoName]=$C$2)/(IF($C$3<>\"\",Table2[BULAN]=$C$3,TRUE))/(IF($C$4<>\"\",Table2[OFF/ON]=$C$4,TRUE))/(IF($C$5<>\"\",Table2[Status]=$C$5,TRUE))/(IF($C$6<>\"\",Table2[FPPDate]=$C$6,TRUE))/(IF($C$7<>\"\",Table2[ProposalCode]=$C$7,TRUE)),ROW(A53))),\"\")","v":""},{"$f":"IFERROR(VLOOKUP($B61,SIP!$D$3:$Q$12237,14,0),0)","v":0},{"$f":"IFERROR(INDEX(Table2[Activity],_xlfn.AGGREGATE(15,6,(ROW(Table2[FPPGroupCode])-2)/(Table2[DepoName]=$C$2)/(IF($C$3<>\"\",Table2[BULAN]=$C$3,TRUE))/(IF($C$4<>\"\",Table2[OFF/ON]=$C$4,TRUE))/(IF($C$5<>\"\",Table2[Status]=$C$5,TRUE))/(IF($C$6<>\"\",Table2[]=$C$6,TRUE))/(IF($C$7<>\"\",Table2[ProposalCode]=$C$7,TRUE)),ROW(B53))),\"\")","v":""},{"$f":"IFERROR(INDEX(Table2[Location],_xlfn.AGGREGATE(15,6,(ROW(Table2[FPPGroupCode])-2)/(Table2[DepoName]=$C$2)/(IF($C$3<>\"\",Table2[BULAN]=$C$3,TRUE))/(IF($C$4<>\"\",Table2[OFF/ON]=$C$4,TRUE))/(IF($C$5<>\"\",Table2[Status]=$C$5,TRUE))/(IF($C$6<>\"\",Table2[FPPDate]=$C$6,TRUE))/(IF($C$7<>\"\",Table2[ProposalCode]=$C$7,TRUE)),ROW(D53))),\"\")","v":""},{"$f":"IFERROR(INDEX(Table2[PeriodeStart],_xlfn.AGGREGATE(15,6,(ROW(Table2[FPPGroupCode])-2)/(Table2[DepoName]=$C$2)/(IF($C$3<>\"\",Table2[BULAN]=$C$3,TRUE))/(IF($C$4<>\"\",Table2[OFF/ON]=$C$4,TRUE))/(IF($C$5<>\"\",Table2[Status]=$C$5,TRUE))/(IF($C$6<>\"\",Table2[FPPDate]=$C$6,TRUE))/(IF($C$7<>\"\",Table2[ProposalCode]=$C$7,TRUE)),ROW(E53))),\"\")","v":""},{"$f":"IFERROR(INDEX(Table2[PeriodeEnd],_xlfn.AGGREGATE(15,6,(ROW(Table2[FPPGroupCode])-2)/(Table2[DepoName]=$C$2)/(IF($C$3<>\"\",Table2[BULAN]=$C$3,TRUE))/(IF($C$4<>\"\",Table2[OFF/ON]=$C$4,TRUE))/(IF($C$5<>\"\",Table2[Status]=$C$5,TRUE))/(IF($C$6<>\"\",Table2[FPPDate]=$C$6,TRUE))/(IF($C$7<>\"\",Table2[ProposalCode]=$C$7,TRUE)),ROW(F53))),\"\")","v":""},{"$f":"IFERROR(INDEX(Table2[Amount_FPPDepo],_xlfn.AGGREGATE(15,6,(ROW(Table2[FPPGroupCode])-2)/(Table2[DepoName]=$C$2)/(IF($C$3<>\"\",Table2[BULAN]=$C$3,TRUE))/(IF($C$4<>\"\",Table2[OFF/ON]=$C$4,TRUE))/(IF($C$5<>\"\",Table2[Status]=$C$5,TRUE))/(IF($C$6<>\"\",Table2[FPPDate]=$C$6,TRUE))/(IF($C$7<>\"\",Table2[ProposalCode]=$C$7,TRUE)),ROW(G53))),\"\")","v":""},{"$f":"IFERROR(VLOOKUP($B61,SIP!$D$5776:$P$6032,12,0),0)","v":0},{"$f":"IFERROR(H61-I61,0)","v":0},{"$f":"IFERROR(VLOOKUP($B61,SIP!$D$5776:$P$6032,8,0),0)","v":0},{"$f":"IFERROR(INDEX(Table2[OFF/ON],_xlfn.AGGREGATE(15,6,(ROW(Table2[FPPGroupCode])-2)/(Table2[DepoName]=$C$2)/(IF($C$3<>\"\",Table2[BULAN]=$C$3,TRUE))/(IF($C$4<>\"\",Table2[OFF/ON]=$C$4,TRUE))/(IF($C$5<>\"\",Table2[Status]=$C$5,TRUE))/(IF($C$6<>\"\",Table2[FPPDate]=$C$6,TRUE))/(IF($C$7<>\"\",Table2[ProposalCode]=$C$7,TRUE)),ROW(K53))),\"\")","v":""}]
[{"$f":"IF(LEN($B62),ROW(A54),\"\")","v":""},{"$f":"IFERROR(INDEX(Table2[FPPGroupCode],_xlfn.AGGREGATE(15,6,(ROW(Table2[FPPGroupCode])-2)/(Table2[DepoName]=$C$2)/(IF($C$3<>\"\",Table2[BULAN]=$C$3,TRUE))/(IF($C$4<>\"\",Table2[OFF/ON]=$C$4,TRUE))/(IF($C$5<>\"\",Table2[Status]=$C$5,TRUE))/(IF($C$6<>\"\",Table2[FPPDate]=$C$6,TRUE))/(IF($C$7<>\"\",Table2[ProposalCode]=$C$7,TRUE)),ROW(A54))),\"\")","v":""},{"$f":"IFERROR(VLOOKUP($B62,SIP!$D$3:$Q$12237,14,0),0)","v":0},{"$f":"IFERROR(INDEX(Table2[Activity],_xlfn.AGGREGATE(15,6,(ROW(Table2[FPPGroupCode])-2)/(Table2[DepoName]=$C$2)/(IF($C$3<>\"\",Table2[BULAN]=$C$3,TRUE))/(IF($C$4<>\"\",Table2[OFF/ON]=$C$4,TRUE))/(IF($C$5<>\"\",Table2[Status]=$C$5,TRUE))/(IF($C$6<>\"\",Table2[]=$C$6,TRUE))/(IF($C$7<>\"\",Table2[ProposalCode]=$C$7,TRUE)),ROW(B54))),\"\")","v":""},{"$f":"IFERROR(INDEX(Table2[Location],_xlfn.AGGREGATE(15,6,(ROW(Table2[FPPGroupCode])-2)/(Table2[DepoName]=$C$2)/(IF($C$3<>\"\",Table2[BULAN]=$C$3,TRUE))/(IF($C$4<>\"\",Table2[OFF/ON]=$C$4,TRUE))/(IF($C$5<>\"\",Table2[Status]=$C$5,TRUE))/(IF($C$6<>\"\",Table2[FPPDate]=$C$6,TRUE))/(IF($C$7<>\"\",Table2[ProposalCode]=$C$7,TRUE)),ROW(D54))),\"\")","v":""},{"$f":"IFERROR(INDEX(Table2[PeriodeStart],_xlfn.AGGREGATE(15,6,(ROW(Table2[FPPGroupCode])-2)/(Table2[DepoName]=$C$2)/(IF($C$3<>\"\",Table2[BULAN]=$C$3,TRUE))/(IF($C$4<>\"\",Table2[OFF/ON]=$C$4,TRUE))/(IF($C$5<>\"\",Table2[Status]=$C$5,TRUE))/(IF($C$6<>\"\",Table2[FPPDate]=$C$6,TRUE))/(IF($C$7<>\"\",Table2[ProposalCode]=$C$7,TRUE)),ROW(E54))),\"\")","v":""},{"$f":"IFERROR(INDEX(Table2[PeriodeEnd],_xlfn.AGGREGATE(15,6,(ROW(Table2[FPPGroupCode])-2)/(Table2[DepoName]=$C$2)/(IF($C$3<>\"\",Table2[BULAN]=$C$3,TRUE))/(IF($C$4<>\"\",Table2[OFF/ON]=$C$4,TRUE))/(IF($C$5<>\"\",Table2[Status]=$C$5,TRUE))/(IF($C$6<>\"\",Table2[FPPDate]=$C$6,TRUE))/(IF($C$7<>\"\",Table2[ProposalCode]=$C$7,TRUE)),ROW(F54))),\"\")","v":""},{"$f":"IFERROR(INDEX(Table2[Amount_FPPDepo],_xlfn.AGGREGATE(15,6,(ROW(Table2[FPPGroupCode])-2)/(Table2[DepoName]=$C$2)/(IF($C$3<>\"\",Table2[BULAN]=$C$3,TRUE))/(IF($C$4<>\"\",Table2[OFF/ON]=$C$4,TRUE))/(IF($C$5<>\"\",Table2[Status]=$C$5,TRUE))/(IF($C$6<>\"\",Table2[FPPDate]=$C$6,TRUE))/(IF($C$7<>\"\",Table2[ProposalCode]=$C$7,TRUE)),ROW(G54))),\"\")","v":""},{"$f":"IFERROR(VLOOKUP($B62,SIP!$D$5776:$P$6032,12,0),0)","v":0},{"$f":"IFERROR(H62-I62,0)","v":0},{"$f":"IFERROR(VLOOKUP($B62,SIP!$D$5776:$P$6032,8,0),0)","v":0},{"$f":"IFERROR(INDEX(Table2[OFF/ON],_xlfn.AGGREGATE(15,6,(ROW(Table2[FPPGroupCode])-2)/(Table2[DepoName]=$C$2)/(IF($C$3<>\"\",Table2[BULAN]=$C$3,TRUE))/(IF($C$4<>\"\",Table2[OFF/ON]=$C$4,TRUE))/(IF($C$5<>\"\",Table2[Status]=$C$5,TRUE))/(IF($C$6<>\"\",Table2[FPPDate]=$C$6,TRUE))/(IF($C$7<>\"\",Table2[ProposalCode]=$C$7,TRUE)),ROW(K54))),\"\")","v":""}]
[{"$f":"IF(LEN($B63),ROW(A55),\"\")","v":""},{"$f":"IFERROR(INDEX(Table2[FPPGroupCode],_xlfn.AGGREGATE(15,6,(ROW(Table2[FPPGroupCode])-2)/(Table2[DepoName]=$C$2)/(IF($C$3<>\"\",Table2[BULAN]=$C$3,TRUE))/(IF($C$4<>\"\",Table2[OFF/ON]=$C$4,TRUE))/(IF($C$5<>\"\",Table2[Status]=$C$5,TRUE))/(IF($C$6<>\"\",Table2[FPPDate]=$C$6,TRUE))/(IF($C$7<>\"\",Table2[ProposalCode]=$C$7,TRUE)),ROW(A55))),\"\")","v":""},{"$f":"IFERROR(VLOOKUP($B63,SIP!$D$3:$Q$12237,14,0),0)","v":0},{"$f":"IFERROR(INDEX(Table2[Activity],_xlfn.AGGREGATE(15,6,(ROW(Table2[FPPGroupCode])-2)/(Table2[DepoName]=$C$2)/(IF($C$3<>\"\",Table2[BULAN]=$C$3,TRUE))/(IF($C$4<>\"\",Table2[OFF/ON]=$C$4,TRUE))/(IF($C$5<>\"\",Table2[Status]=$C$5,TRUE))/(IF($C$6<>\"\",Table2[]=$C$6,TRUE))/(IF($C$7<>\"\",Table2[ProposalCode]=$C$7,TRUE)),ROW(B55))),\"\")","v":""},{"$f":"IFERROR(INDEX(Table2[Location],_xlfn.AGGREGATE(15,6,(ROW(Table2[FPPGroupCode])-2)/(Table2[DepoName]=$C$2)/(IF($C$3<>\"\",Table2[BULAN]=$C$3,TRUE))/(IF($C$4<>\"\",Table2[OFF/ON]=$C$4,TRUE))/(IF($C$5<>\"\",Table2[Status]=$C$5,TRUE))/(IF($C$6<>\"\",Table2[FPPDate]=$C$6,TRUE))/(IF($C$7<>\"\",Table2[ProposalCode]=$C$7,TRUE)),ROW(D55))),\"\")","v":""},{"$f":"IFERROR(INDEX(Table2[PeriodeStart],_xlfn.AGGREGATE(15,6,(ROW(Table2[FPPGroupCode])-2)/(Table2[DepoName]=$C$2)/(IF($C$3<>\"\",Table2[BULAN]=$C$3,TRUE))/(IF($C$4<>\"\",Table2[OFF/ON]=$C$4,TRUE))/(IF($C$5<>\"\",Table2[Status]=$C$5,TRUE))/(IF($C$6<>\"\",Table2[FPPDate]=$C$6,TRUE))/(IF($C$7<>\"\",Table2[ProposalCode]=$C$7,TRUE)),ROW(E55))),\"\")","v":""},{"$f":"IFERROR(INDEX(Table2[PeriodeEnd],_xlfn.AGGREGATE(15,6,(ROW(Table2[FPPGroupCode])-2)/(Table2[DepoName]=$C$2)/(IF($C$3<>\"\",Table2[BULAN]=$C$3,TRUE))/(IF($C$4<>\"\",Table2[OFF/ON]=$C$4,TRUE))/(IF($C$5<>\"\",Table2[Status]=$C$5,TRUE))/(IF($C$6<>\"\",Table2[FPPDate]=$C$6,TRUE))/(IF($C$7<>\"\",Table2[ProposalCode]=$C$7,TRUE)),ROW(F55))),\"\")","v":""},{"$f":"IFERROR(INDEX(Table2[Amount_FPPDepo],_xlfn.AGGREGATE(15,6,(ROW(Table2[FPPGroupCode])-2)/(Table2[DepoName]=$C$2)/(IF($C$3<>\"\",Table2[BULAN]=$C$3,TRUE))/(IF($C$4<>\"\",Table2[OFF/ON]=$C$4,TRUE))/(IF($C$5<>\"\",Table2[Status]=$C$5,TRUE))/(IF($C$6<>\"\",Table2[FPPDate]=$C$6,TRUE))/(IF($C$7<>\"\",Table2[ProposalCode]=$C$7,TRUE)),ROW(G55))),\"\")","v":""},{"$f":"IFERROR(VLOOKUP($B63,SIP!$D$5776:$P$6032,12,0),0)","v":0},{"$f":"IFERROR(H63-I63,0)","v":0},{"$f":"IFERROR(VLOOKUP($B63,SIP!$D$5776:$P$6032,8,0),0)","v":0},{"$f":"IFERROR(INDEX(Table2[OFF/ON],_xlfn.AGGREGATE(15,6,(ROW(Table2[FPPGroupCode])-2)/(Table2[DepoName]=$C$2)/(IF($C$3<>\"\",Table2[BULAN]=$C$3,TRUE))/(IF($C$4<>\"\",Table2[OFF/ON]=$C$4,TRUE))/(IF($C$5<>\"\",Table2[Status]=$C$5,TRUE))/(IF($C$6<>\"\",Table2[FPPDate]=$C$6,TRUE))/(IF($C$7<>\"\",Table2[ProposalCode]=$C$7,TRUE)),ROW(K55))),\"\")","v":""}]
[{"$f":"IF(LEN($B64),ROW(A56),\"\")","v":""},{"$f":"IFERROR(INDEX(Table2[FPPGroupCode],_xlfn.AGGREGATE(15,6,(ROW(Table2[FPPGroupCode])-2)/(Table2[DepoName]=$C$2)/(IF($C$3<>\"\",Table2[BULAN]=$C$3,TRUE))/(IF($C$4<>\"\",Table2[OFF/ON]=$C$4,TRUE))/(IF($C$5<>\"\",Table2[Status]=$C$5,TRUE))/(IF($C$6<>\"\",Table2[FPPDate]=$C$6,TRUE))/(IF($C$7<>\"\",Table2[ProposalCode]=$C$7,TRUE)),ROW(A56))),\"\")","v":""},{"$f":"IFERROR(VLOOKUP($B64,SIP!$D$3:$Q$12237,14,0),0)","v":0},{"$f":"IFERROR(INDEX(Table2[Activity],_xlfn.AGGREGATE(15,6,(ROW(Table2[FPPGroupCode])-2)/(Table2[DepoName]=$C$2)/(IF($C$3<>\"\",Table2[BULAN]=$C$3,TRUE))/(IF($C$4<>\"\",Table2[OFF/ON]=$C$4,TRUE))/(IF($C$5<>\"\",Table2[Status]=$C$5,TRUE))/(IF($C$6<>\"\",Table2[]=$C$6,TRUE))/(IF($C$7<>\"\",Table2[ProposalCode]=$C$7,TRUE)),ROW(B56))),\"\")","v":""},{"$f":"IFERROR(INDEX(Table2[Location],_xlfn.AGGREGATE(15,6,(ROW(Table2[FPPGroupCode])-2)/(Table2[DepoName]=$C$2)/(IF($C$3<>\"\",Table2[BULAN]=$C$3,TRUE))/(IF($C$4<>\"\",Table2[OFF/ON]=$C$4,TRUE))/(IF($C$5<>\"\",Table2[Status]=$C$5,TRUE))/(IF($C$6<>\"\",Table2[FPPDate]=$C$6,TRUE))/(IF($C$7<>\"\",Table2[ProposalCode]=$C$7,TRUE)),ROW(D56))),\"\")","v":""},{"$f":"IFERROR(INDEX(Table2[PeriodeStart],_xlfn.AGGREGATE(15,6,(ROW(Table2[FPPGroupCode])-2)/(Table2[DepoName]=$C$2)/(IF($C$3<>\"\",Table2[BULAN]=$C$3,TRUE))/(IF($C$4<>\"\",Table2[OFF/ON]=$C$4,TRUE))/(IF($C$5<>\"\",Table2[Status]=$C$5,TRUE))/(IF($C$6<>\"\",Table2[FPPDate]=$C$6,TRUE))/(IF($C$7<>\"\",Table2[ProposalCode]=$C$7,TRUE)),ROW(E56))),\"\")","v":""},{"$f":"IFERROR(INDEX(Table2[PeriodeEnd],_xlfn.AGGREGATE(15,6,(ROW(Table2[FPPGroupCode])-2)/(Table2[DepoName]=$C$2)/(IF($C$3<>\"\",Table2[BULAN]=$C$3,TRUE))/(IF($C$4<>\"\",Table2[OFF/ON]=$C$4,TRUE))/(IF($C$5<>\"\",Table2[Status]=$C$5,TRUE))/(IF($C$6<>\"\",Table2[FPPDate]=$C$6,TRUE))/(IF($C$7<>\"\",Table2[ProposalCode]=$C$7,TRUE)),ROW(F56))),\"\")","v":""},{"$f":"IFERROR(INDEX(Table2[Amount_FPPDepo],_xlfn.AGGREGATE(15,6,(ROW(Table2[FPPGroupCode])-2)/(Table2[DepoName]=$C$2)/(IF($C$3<>\"\",Table2[BULAN]=$C$3,TRUE))/(IF($C$4<>\"\",Table2[OFF/ON]=$C$4,TRUE))/(IF($C$5<>\"\",Table2[Status]=$C$5,TRUE))/(IF($C$6<>\"\",Table2[FPPDate]=$C$6,TRUE))/(IF($C$7<>\"\",Table2[ProposalCode]=$C$7,TRUE)),ROW(G56))),\"\")","v":""},{"$f":"IFERROR(VLOOKUP($B64,SIP!$D$5776:$P$6032,12,0),0)","v":0},{"$f":"IFERROR(H64-I64,0)","v":0},{"$f":"IFERROR(VLOOKUP($B64,SIP!$D$5776:$P$6032,8,0),0)","v":0},{"$f":"IFERROR(INDEX(Table2[OFF/ON],_xlfn.AGGREGATE(15,6,(ROW(Table2[FPPGroupCode])-2)/(Table2[DepoName]=$C$2)/(IF($C$3<>\"\",Table2[BULAN]=$C$3,TRUE))/(IF($C$4<>\"\",Table2[OFF/ON]=$C$4,TRUE))/(IF($C$5<>\"\",Table2[Status]=$C$5,TRUE))/(IF($C$6<>\"\",Table2[FPPDate]=$C$6,TRUE))/(IF($C$7<>\"\",Table2[ProposalCode]=$C$7,TRUE)),ROW(K56))),\"\")","v":""}]
[{"$f":"IF(LEN($B65),ROW(A57),\"\")","v":""},{"$f":"IFERROR(INDEX(Table2[FPPGroupCode],_xlfn.AGGREGATE(15,6,(ROW(Table2[FPPGroupCode])-2)/(Table2[DepoName]=$C$2)/(IF($C$3<>\"\",Table2[BULAN]=$C$3,TRUE))/(IF($C$4<>\"\",Table2[OFF/ON]=$C$4,TRUE))/(IF($C$5<>\"\",Table2[Status]=$C$5,TRUE))/(IF($C$6<>\"\",Table2[FPPDate]=$C$6,TRUE))/(IF($C$7<>\"\",Table2[ProposalCode]=$C$7,TRUE)),ROW(A57))),\"\")","v":""},{"$f":"IFERROR(VLOOKUP($B65,SIP!$D$3:$Q$12237,14,0),0)","v":0},{"$f":"IFERROR(INDEX(Table2[Activity],_xlfn.AGGREGATE(15,6,(ROW(Table2[FPPGroupCode])-2)/(Table2[DepoName]=$C$2)/(IF($C$3<>\"\",Table2[BULAN]=$C$3,TRUE))/(IF($C$4<>\"\",Table2[OFF/ON]=$C$4,TRUE))/(IF($C$5<>\"\",Table2[Status]=$C$5,TRUE))/(IF($C$6<>\"\",Table2[]=$C$6,TRUE))/(IF($C$7<>\"\",Table2[ProposalCode]=$C$7,TRUE)),ROW(B57))),\"\")","v":""},{"$f":"IFERROR(INDEX(Table2[Location],_xlfn.AGGREGATE(15,6,(ROW(Table2[FPPGroupCode])-2)/(Table2[DepoName]=$C$2)/(IF($C$3<>\"\",Table2[BULAN]=$C$3,TRUE))/(IF($C$4<>\"\",Table2[OFF/ON]=$C$4,TRUE))/(IF($C$5<>\"\",Table2[Status]=$C$5,TRUE))/(IF($C$6<>\"\",Table2[FPPDate]=$C$6,TRUE))/(IF($C$7<>\"\",Table2[ProposalCode]=$C$7,TRUE)),ROW(D57))),\"\")","v":""},{"$f":"IFERROR(INDEX(Table2[PeriodeStart],_xlfn.AGGREGATE(15,6,(ROW(Table2[FPPGroupCode])-2)/(Table2[DepoName]=$C$2)/(IF($C$3<>\"\",Table2[BULAN]=$C$3,TRUE))/(IF($C$4<>\"\",Table2[OFF/ON]=$C$4,TRUE))/(IF($C$5<>\"\",Table2[Status]=$C$5,TRUE))/(IF($C$6<>\"\",Table2[FPPDate]=$C$6,TRUE))/(IF($C$7<>\"\",Table2[ProposalCode]=$C$7,TRUE)),ROW(E57))),\"\")","v":""},{"$f":"IFERROR(INDEX(Table2[PeriodeEnd],_xlfn.AGGREGATE(15,6,(ROW(Table2[FPPGroupCode])-2)/(Table2[DepoName]=$C$2)/(IF($C$3<>\"\",Table2[BULAN]=$C$3,TRUE))/(IF($C$4<>\"\",Table2[OFF/ON]=$C$4,TRUE))/(IF($C$5<>\"\",Table2[Status]=$C$5,TRUE))/(IF($C$6<>\"\",Table2[FPPDate]=$C$6,TRUE))/(IF($C$7<>\"\",Table2[ProposalCode]=$C$7,TRUE)),ROW(F57))),\"\")","v":""},{"$f":"IFERROR(INDEX(Table2[Amount_FPPDepo],_xlfn.AGGREGATE(15,6,(ROW(Table2[FPPGroupCode])-2)/(Table2[DepoName]=$C$2)/(IF($C$3<>\"\",Table2[BULAN]=$C$3,TRUE))/(IF($C$4<>\"\",Table2[OFF/ON]=$C$4,TRUE))/(IF($C$5<>\"\",Table2[Status]=$C$5,TRUE))/(IF($C$6<>\"\",Table2[FPPDate]=$C$6,TRUE))/(IF($C$7<>\"\",Table2[ProposalCode]=$C$7,TRUE)),ROW(G57))),\"\")","v":""},{"$f":"IFERROR(VLOOKUP($B65,SIP!$D$5776:$P$6032,12,0),0)","v":0},{"$f":"IFERROR(H65-I65,0)","v":0},{"$f":"IFERROR(VLOOKUP($B65,SIP!$D$5776:$P$6032,8,0),0)","v":0},{"$f":"IFERROR(INDEX(Table2[OFF/ON],_xlfn.AGGREGATE(15,6,(ROW(Table2[FPPGroupCode])-2)/(Table2[DepoName]=$C$2)/(IF($C$3<>\"\",Table2[BULAN]=$C$3,TRUE))/(IF($C$4<>\"\",Table2[OFF/ON]=$C$4,TRUE))/(IF($C$5<>\"\",Table2[Status]=$C$5,TRUE))/(IF($C$6<>\"\",Table2[FPPDate]=$C$6,TRUE))/(IF($C$7<>\"\",Table2[ProposalCode]=$C$7,TRUE)),ROW(K57))),\"\")","v":""}]
[{"$f":"IF(LEN($B66),ROW(A58),\"\")","v":""},{"$f":"IFERROR(INDEX(Table2[FPPGroupCode],_xlfn.AGGREGATE(15,6,(ROW(Table2[FPPGroupCode])-2)/(Table2[DepoName]=$C$2)/(IF($C$3<>\"\",Table2[BULAN]=$C$3,TRUE))/(IF($C$4<>\"\",Table2[OFF/ON]=$C$4,TRUE))/(IF($C$5<>\"\",Table2[Status]=$C$5,TRUE))/(IF($C$6<>\"\",Table2[FPPDate]=$C$6,TRUE))/(IF($C$7<>\"\",Table2[ProposalCode]=$C$7,TRUE)),ROW(A58))),\"\")","v":""},{"$f":"IFERROR(VLOOKUP($B66,SIP!$D$3:$Q$12237,14,0),0)","v":0},{"$f":"IFERROR(INDEX(Table2[Activity],_xlfn.AGGREGATE(15,6,(ROW(Table2[FPPGroupCode])-2)/(Table2[DepoName]=$C$2)/(IF($C$3<>\"\",Table2[BULAN]=$C$3,TRUE))/(IF($C$4<>\"\",Table2[OFF/ON]=$C$4,TRUE))/(IF($C$5<>\"\",Table2[Status]=$C$5,TRUE))/(IF($C$6<>\"\",Table2[]=$C$6,TRUE))/(IF($C$7<>\"\",Table2[ProposalCode]=$C$7,TRUE)),ROW(B58))),\"\")","v":""},{"$f":"IFERROR(INDEX(Table2[Location],_xlfn.AGGREGATE(15,6,(ROW(Table2[FPPGroupCode])-2)/(Table2[DepoName]=$C$2)/(IF($C$3<>\"\",Table2[BULAN]=$C$3,TRUE))/(IF($C$4<>\"\",Table2[OFF/ON]=$C$4,TRUE))/(IF($C$5<>\"\",Table2[Status]=$C$5,TRUE))/(IF($C$6<>\"\",Table2[FPPDate]=$C$6,TRUE))/(IF($C$7<>\"\",Table2[ProposalCode]=$C$7,TRUE)),ROW(D58))),\"\")","v":""},{"$f":"IFERROR(INDEX(Table2[PeriodeStart],_xlfn.AGGREGATE(15,6,(ROW(Table2[FPPGroupCode])-2)/(Table2[DepoName]=$C$2)/(IF($C$3<>\"\",Table2[BULAN]=$C$3,TRUE))/(IF($C$4<>\"\",Table2[OFF/ON]=$C$4,TRUE))/(IF($C$5<>\"\",Table2[Status]=$C$5,TRUE))/(IF($C$6<>\"\",Table2[FPPDate]=$C$6,TRUE))/(IF($C$7<>\"\",Table2[ProposalCode]=$C$7,TRUE)),ROW(E58))),\"\")","v":""},{"$f":"IFERROR(INDEX(Table2[PeriodeEnd],_xlfn.AGGREGATE(15,6,(ROW(Table2[FPPGroupCode])-2)/(Table2[DepoName]=$C$2)/(IF($C$3<>\"\",Table2[BULAN]=$C$3,TRUE))/(IF($C$4<>\"\",Table2[OFF/ON]=$C$4,TRUE))/(IF($C$5<>\"\",Table2[Status]=$C$5,TRUE))/(IF($C$6<>\"\",Table2[FPPDate]=$C$6,TRUE))/(IF($C$7<>\"\",Table2[ProposalCode]=$C$7,TRUE)),ROW(F58))),\"\")","v":""},{"$f":"IFERROR(INDEX(Table2[Amount_FPPDepo],_xlfn.AGGREGATE(15,6,(ROW(Table2[FPPGroupCode])-2)/(Table2[DepoName]=$C$2)/(IF($C$3<>\"\",Table2[BULAN]=$C$3,TRUE))/(IF($C$4<>\"\",Table2[OFF/ON]=$C$4,TRUE))/(IF($C$5<>\"\",Table2[Status]=$C$5,TRUE))/(IF($C$6<>\"\",Table2[FPPDate]=$C$6,TRUE))/(IF($C$7<>\"\",Table2[ProposalCode]=$C$7,TRUE)),ROW(G58))),\"\")","v":""},{"$f":"IFERROR(VLOOKUP($B66,SIP!$D$5776:$P$6032,12,0),0)","v":0},{"$f":"IFERROR(H66-I66,0)","v":0},{"$f":"IFERROR(VLOOKUP($B66,SIP!$D$5776:$P$6032,8,0),0)","v":0},{"$f":"IFERROR(INDEX(Table2[OFF/ON],_xlfn.AGGREGATE(15,6,(ROW(Table2[FPPGroupCode])-2)/(Table2[DepoName]=$C$2)/(IF($C$3<>\"\",Table2[BULAN]=$C$3,TRUE))/(IF($C$4<>\"\",Table2[OFF/ON]=$C$4,TRUE))/(IF($C$5<>\"\",Table2[Status]=$C$5,TRUE))/(IF($C$6<>\"\",Table2[FPPDate]=$C$6,TRUE))/(IF($C$7<>\"\",Table2[ProposalCode]=$C$7,TRUE)),ROW(K58))),\"\")","v":""}]
[{"$f":"IF(LEN($B67),ROW(A59),\"\")","v":""},{"$f":"IFERROR(INDEX(Table2[FPPGroupCode],_xlfn.AGGREGATE(15,6,(ROW(Table2[FPPGroupCode])-2)/(Table2[DepoName]=$C$2)/(IF($C$3<>\"\",Table2[BULAN]=$C$3,TRUE))/(IF($C$4<>\"\",Table2[OFF/ON]=$C$4,TRUE))/(IF($C$5<>\"\",Table2[Status]=$C$5,TRUE))/(IF($C$6<>\"\",Table2[FPPDate]=$C$6,TRUE))/(IF($C$7<>\"\",Table2[ProposalCode]=$C$7,TRUE)),ROW(A59))),\"\")","v":""},{"$f":"IFERROR(VLOOKUP($B67,SIP!$D$3:$Q$12237,14,0),0)","v":0},{"$f":"IFERROR(INDEX(Table2[Activity],_xlfn.AGGREGATE(15,6,(ROW(Table2[FPPGroupCode])-2)/(Table2[DepoName]=$C$2)/(IF($C$3<>\"\",Table2[BULAN]=$C$3,TRUE))/(IF($C$4<>\"\",Table2[OFF/ON]=$C$4,TRUE))/(IF($C$5<>\"\",Table2[Status]=$C$5,TRUE))/(IF($C$6<>\"\",Table2[]=$C$6,TRUE))/(IF($C$7<>\"\",Table2[ProposalCode]=$C$7,TRUE)),ROW(B59))),\"\")","v":""},{"$f":"IFERROR(INDEX(Table2[Location],_xlfn.AGGREGATE(15,6,(ROW(Table2[FPPGroupCode])-2)/(Table2[DepoName]=$C$2)/(IF($C$3<>\"\",Table2[BULAN]=$C$3,TRUE))/(IF($C$4<>\"\",Table2[OFF/ON]=$C$4,TRUE))/(IF($C$5<>\"\",Table2[Status]=$C$5,TRUE))/(IF($C$6<>\"\",Table2[FPPDate]=$C$6,TRUE))/(IF($C$7<>\"\",Table2[ProposalCode]=$C$7,TRUE)),ROW(D59))),\"\")","v":""},{"$f":"IFERROR(INDEX(Table2[PeriodeStart],_xlfn.AGGREGATE(15,6,(ROW(Table2[FPPGroupCode])-2)/(Table2[DepoName]=$C$2)/(IF($C$3<>\"\",Table2[BULAN]=$C$3,TRUE))/(IF($C$4<>\"\",Table2[OFF/ON]=$C$4,TRUE))/(IF($C$5<>\"\",Table2[Status]=$C$5,TRUE))/(IF($C$6<>\"\",Table2[FPPDate]=$C$6,TRUE))/(IF($C$7<>\"\",Table2[ProposalCode]=$C$7,TRUE)),ROW(E59))),\"\")","v":""},{"$f":"IFERROR(INDEX(Table2[PeriodeEnd],_xlfn.AGGREGATE(15,6,(ROW(Table2[FPPGroupCode])-2)/(Table2[DepoName]=$C$2)/(IF($C$3<>\"\",Table2[BULAN]=$C$3,TRUE))/(IF($C$4<>\"\",Table2[OFF/ON]=$C$4,TRUE))/(IF($C$5<>\"\",Table2[Status]=$C$5,TRUE))/(IF($C$6<>\"\",Table2[FPPDate]=$C$6,TRUE))/(IF($C$7<>\"\",Table2[ProposalCode]=$C$7,TRUE)),ROW(F59))),\"\")","v":""},{"$f":"IFERROR(INDEX(Table2[Amount_FPPDepo],_xlfn.AGGREGATE(15,6,(ROW(Table2[FPPGroupCode])-2)/(Table2[DepoName]=$C$2)/(IF($C$3<>\"\",Table2[BULAN]=$C$3,TRUE))/(IF($C$4<>\"\",Table2[OFF/ON]=$C$4,TRUE))/(IF($C$5<>\"\",Table2[Status]=$C$5,TRUE))/(IF($C$6<>\"\",Table2[FPPDate]=$C$6,TRUE))/(IF($C$7<>\"\",Table2[ProposalCode]=$C$7,TRUE)),ROW(G59))),\"\")","v":""},{"$f":"IFERROR(VLOOKUP($B67,SIP!$D$5776:$P$6032,12,0),0)","v":0},{"$f":"IFERROR(H67-I67,0)","v":0},{"$f":"IFERROR(VLOOKUP($B67,SIP!$D$5776:$P$6032,8,0),0)","v":0},{"$f":"IFERROR(INDEX(Table2[OFF/ON],_xlfn.AGGREGATE(15,6,(ROW(Table2[FPPGroupCode])-2)/(Table2[DepoName]=$C$2)/(IF($C$3<>\"\",Table2[BULAN]=$C$3,TRUE))/(IF($C$4<>\"\",Table2[OFF/ON]=$C$4,TRUE))/(IF($C$5<>\"\",Table2[Status]=$C$5,TRUE))/(IF($C$6<>\"\",Table2[FPPDate]=$C$6,TRUE))/(IF($C$7<>\"\",Table2[ProposalCode]=$C$7,TRUE)),ROW(K59))),\"\")","v":""}]
[{"$f":"IF(LEN($B68),ROW(A60),\"\")","v":""},{"$f":"IFERROR(INDEX(Table2[FPPGroupCode],_xlfn.AGGREGATE(15,6,(ROW(Table2[FPPGroupCode])-2)/(Table2[DepoName]=$C$2)/(IF($C$3<>\"\",Table2[BULAN]=$C$3,TRUE))/(IF($C$4<>\"\",Table2[OFF/ON]=$C$4,TRUE))/(IF($C$5<>\"\",Table2[Status]=$C$5,TRUE))/(IF($C$6<>\"\",Table2[FPPDate]=$C$6,TRUE))/(IF($C$7<>\"\",Table2[ProposalCode]=$C$7,TRUE)),ROW(A60))),\"\")","v":""},{"$f":"IFERROR(VLOOKUP($B68,SIP!$D$3:$Q$12237,14,0),0)","v":0},{"$f":"IFERROR(INDEX(Table2[Activity],_xlfn.AGGREGATE(15,6,(ROW(Table2[FPPGroupCode])-2)/(Table2[DepoName]=$C$2)/(IF($C$3<>\"\",Table2[BULAN]=$C$3,TRUE))/(IF($C$4<>\"\",Table2[OFF/ON]=$C$4,TRUE))/(IF($C$5<>\"\",Table2[Status]=$C$5,TRUE))/(IF($C$6<>\"\",Table2[]=$C$6,TRUE))/(IF($C$7<>\"\",Table2[ProposalCode]=$C$7,TRUE)),ROW(B60))),\"\")","v":""},{"$f":"IFERROR(INDEX(Table2[Location],_xlfn.AGGREGATE(15,6,(ROW(Table2[FPPGroupCode])-2)/(Table2[DepoName]=$C$2)/(IF($C$3<>\"\",Table2[BULAN]=$C$3,TRUE))/(IF($C$4<>\"\",Table2[OFF/ON]=$C$4,TRUE))/(IF($C$5<>\"\",Table2[Status]=$C$5,TRUE))/(IF($C$6<>\"\",Table2[FPPDate]=$C$6,TRUE))/(IF($C$7<>\"\",Table2[ProposalCode]=$C$7,TRUE)),ROW(D60))),\"\")","v":""},{"$f":"IFERROR(INDEX(Table2[PeriodeStart],_xlfn.AGGREGATE(15,6,(ROW(Table2[FPPGroupCode])-2)/(Table2[DepoName]=$C$2)/(IF($C$3<>\"\",Table2[BULAN]=$C$3,TRUE))/(IF($C$4<>\"\",Table2[OFF/ON]=$C$4,TRUE))/(IF($C$5<>\"\",Table2[Status]=$C$5,TRUE))/(IF($C$6<>\"\",Table2[FPPDate]=$C$6,TRUE))/(IF($C$7<>\"\",Table2[ProposalCode]=$C$7,TRUE)),ROW(E60))),\"\")","v":""},{"$f":"IFERROR(INDEX(Table2[PeriodeEnd],_xlfn.AGGREGATE(15,6,(ROW(Table2[FPPGroupCode])-2)/(Table2[DepoName]=$C$2)/(IF($C$3<>\"\",Table2[BULAN]=$C$3,TRUE))/(IF($C$4<>\"\",Table2[OFF/ON]=$C$4,TRUE))/(IF($C$5<>\"\",Table2[Status]=$C$5,TRUE))/(IF($C$6<>\"\",Table2[FPPDate]=$C$6,TRUE))/(IF($C$7<>\"\",Table2[ProposalCode]=$C$7,TRUE)),ROW(F60))),\"\")","v":""},{"$f":"IFERROR(INDEX(Table2[Amount_FPPDepo],_xlfn.AGGREGATE(15,6,(ROW(Table2[FPPGroupCode])-2)/(Table2[DepoName]=$C$2)/(IF($C$3<>\"\",Table2[BULAN]=$C$3,TRUE))/(IF($C$4<>\"\",Table2[OFF/ON]=$C$4,TRUE))/(IF($C$5<>\"\",Table2[Status]=$C$5,TRUE))/(IF($C$6<>\"\",Table2[FPPDate]=$C$6,TRUE))/(IF($C$7<>\"\",Table2[ProposalCode]=$C$7,TRUE)),ROW(G60))),\"\")","v":""},{"$f":"IFERROR(VLOOKUP($B68,SIP!$D$5776:$P$6032,12,0),0)","v":0},{"$f":"IFERROR(H68-I68,0)","v":0},{"$f":"IFERROR(VLOOKUP($B68,SIP!$D$5776:$P$6032,8,0),0)","v":0},{"$f":"IFERROR(INDEX(Table2[OFF/ON],_xlfn.AGGREGATE(15,6,(ROW(Table2[FPPGroupCode])-2)/(Table2[DepoName]=$C$2)/(IF($C$3<>\"\",Table2[BULAN]=$C$3,TRUE))/(IF($C$4<>\"\",Table2[OFF/ON]=$C$4,TRUE))/(IF($C$5<>\"\",Table2[Status]=$C$5,TRUE))/(IF($C$6<>\"\",Table2[FPPDate]=$C$6,TRUE))/(IF($C$7<>\"\",Table2[ProposalCode]=$C$7,TRUE)),ROW(K60))),\"\")","v":""}]
[{"$f":"IF(LEN($B69),ROW(A61),\"\")","v":""},{"$f":"IFERROR(INDEX(Table2[FPPGroupCode],_xlfn.AGGREGATE(15,6,(ROW(Table2[FPPGroupCode])-2)/(Table2[DepoName]=$C$2)/(IF($C$3<>\"\",Table2[BULAN]=$C$3,TRUE))/(IF($C$4<>\"\",Table2[OFF/ON]=$C$4,TRUE))/(IF($C$5<>\"\",Table2[Status]=$C$5,TRUE))/(IF($C$6<>\"\",Table2[FPPDate]=$C$6,TRUE))/(IF($C$7<>\"\",Table2[ProposalCode]=$C$7,TRUE)),ROW(A61))),\"\")","v":""},{"$f":"IFERROR(VLOOKUP($B69,SIP!$D$3:$Q$12237,14,0),0)","v":0},{"$f":"IFERROR(INDEX(Table2[Activity],_xlfn.AGGREGATE(15,6,(ROW(Table2[FPPGroupCode])-2)/(Table2[DepoName]=$C$2)/(IF($C$3<>\"\",Table2[BULAN]=$C$3,TRUE))/(IF($C$4<>\"\",Table2[OFF/ON]=$C$4,TRUE))/(IF($C$5<>\"\",Table2[Status]=$C$5,TRUE))/(IF($C$6<>\"\",Table2[]=$C$6,TRUE))/(IF($C$7<>\"\",Table2[ProposalCode]=$C$7,TRUE)),ROW(B61))),\"\")","v":""},{"$f":"IFERROR(INDEX(Table2[Location],_xlfn.AGGREGATE(15,6,(ROW(Table2[FPPGroupCode])-2)/(Table2[DepoName]=$C$2)/(IF($C$3<>\"\",Table2[BULAN]=$C$3,TRUE))/(IF($C$4<>\"\",Table2[OFF/ON]=$C$4,TRUE))/(IF($C$5<>\"\",Table2[Status]=$C$5,TRUE))/(IF($C$6<>\"\",Table2[FPPDate]=$C$6,TRUE))/(IF($C$7<>\"\",Table2[ProposalCode]=$C$7,TRUE)),ROW(D61))),\"\")","v":""},{"$f":"IFERROR(INDEX(Table2[PeriodeStart],_xlfn.AGGREGATE(15,6,(ROW(Table2[FPPGroupCode])-2)/(Table2[DepoName]=$C$2)/(IF($C$3<>\"\",Table2[BULAN]=$C$3,TRUE))/(IF($C$4<>\"\",Table2[OFF/ON]=$C$4,TRUE))/(IF($C$5<>\"\",Table2[Status]=$C$5,TRUE))/(IF($C$6<>\"\",Table2[FPPDate]=$C$6,TRUE))/(IF($C$7<>\"\",Table2[ProposalCode]=$C$7,TRUE)),ROW(E61))),\"\")","v":""},{"$f":"IFERROR(INDEX(Table2[PeriodeEnd],_xlfn.AGGREGATE(15,6,(ROW(Table2[FPPGroupCode])-2)/(Table2[DepoName]=$C$2)/(IF($C$3<>\"\",Table2[BULAN]=$C$3,TRUE))/(IF($C$4<>\"\",Table2[OFF/ON]=$C$4,TRUE))/(IF($C$5<>\"\",Table2[Status]=$C$5,TRUE))/(IF($C$6<>\"\",Table2[FPPDate]=$C$6,TRUE))/(IF($C$7<>\"\",Table2[ProposalCode]=$C$7,TRUE)),ROW(F61))),\"\")","v":""},{"$f":"IFERROR(INDEX(Table2[Amount_FPPDepo],_xlfn.AGGREGATE(15,6,(ROW(Table2[FPPGroupCode])-2)/(Table2[DepoName]=$C$2)/(IF($C$3<>\"\",Table2[BULAN]=$C$3,TRUE))/(IF($C$4<>\"\",Table2[OFF/ON]=$C$4,TRUE))/(IF($C$5<>\"\",Table2[Status]=$C$5,TRUE))/(IF($C$6<>\"\",Table2[FPPDate]=$C$6,TRUE))/(IF($C$7<>\"\",Table2[ProposalCode]=$C$7,TRUE)),ROW(G61))),\"\")","v":""},{"$f":"IFERROR(VLOOKUP($B69,SIP!$D$5776:$P$6032,12,0),0)","v":0},{"$f":"IFERROR(H69-I69,0)","v":0},{"$f":"IFERROR(VLOOKUP($B69,SIP!$D$5776:$P$6032,8,0),0)","v":0},{"$f":"IFERROR(INDEX(Table2[OFF/ON],_xlfn.AGGREGATE(15,6,(ROW(Table2[FPPGroupCode])-2)/(Table2[DepoName]=$C$2)/(IF($C$3<>\"\",Table2[BULAN]=$C$3,TRUE))/(IF($C$4<>\"\",Table2[OFF/ON]=$C$4,TRUE))/(IF($C$5<>\"\",Table2[Status]=$C$5,TRUE))/(IF($C$6<>\"\",Table2[FPPDate]=$C$6,TRUE))/(IF($C$7<>\"\",Table2[ProposalCode]=$C$7,TRUE)),ROW(K61))),\"\")","v":""}]
[{"$f":"IF(LEN($B70),ROW(A62),\"\")","v":""},{"$f":"IFERROR(INDEX(Table2[FPPGroupCode],_xlfn.AGGREGATE(15,6,(ROW(Table2[FPPGroupCode])-2)/(Table2[DepoName]=$C$2)/(IF($C$3<>\"\",Table2[BULAN]=$C$3,TRUE))/(IF($C$4<>\"\",Table2[OFF/ON]=$C$4,TRUE))/(IF($C$5<>\"\",Table2[Status]=$C$5,TRUE))/(IF($C$6<>\"\",Table2[FPPDate]=$C$6,TRUE))/(IF($C$7<>\"\",Table2[ProposalCode]=$C$7,TRUE)),ROW(A62))),\"\")","v":""},{"$f":"IFERROR(VLOOKUP($B70,SIP!$D$3:$Q$12237,14,0),0)","v":0},{"$f":"IFERROR(INDEX(Table2[Activity],_xlfn.AGGREGATE(15,6,(ROW(Table2[FPPGroupCode])-2)/(Table2[DepoName]=$C$2)/(IF($C$3<>\"\",Table2[BULAN]=$C$3,TRUE))/(IF($C$4<>\"\",Table2[OFF/ON]=$C$4,TRUE))/(IF($C$5<>\"\",Table2[Status]=$C$5,TRUE))/(IF($C$6<>\"\",Table2[]=$C$6,TRUE))/(IF($C$7<>\"\",Table2[ProposalCode]=$C$7,TRUE)),ROW(B62))),\"\")","v":""},{"$f":"IFERROR(INDEX(Table2[Location],_xlfn.AGGREGATE(15,6,(ROW(Table2[FPPGroupCode])-2)/(Table2[DepoName]=$C$2)/(IF($C$3<>\"\",Table2[BULAN]=$C$3,TRUE))/(IF($C$4<>\"\",Table2[OFF/ON]=$C$4,TRUE))/(IF($C$5<>\"\",Table2[Status]=$C$5,TRUE))/(IF($C$6<>\"\",Table2[FPPDate]=$C$6,TRUE))/(IF($C$7<>\"\",Table2[ProposalCode]=$C$7,TRUE)),ROW(D62))),\"\")","v":""},{"$f":"IFERROR(INDEX(Table2[PeriodeStart],_xlfn.AGGREGATE(15,6,(ROW(Table2[FPPGroupCode])-2)/(Table2[DepoName]=$C$2)/(IF($C$3<>\"\",Table2[BULAN]=$C$3,TRUE))/(IF($C$4<>\"\",Table2[OFF/ON]=$C$4,TRUE))/(IF($C$5<>\"\",Table2[Status]=$C$5,TRUE))/(IF($C$6<>\"\",Table2[FPPDate]=$C$6,TRUE))/(IF($C$7<>\"\",Table2[ProposalCode]=$C$7,TRUE)),ROW(E62))),\"\")","v":""},{"$f":"IFERROR(INDEX(Table2[PeriodeEnd],_xlfn.AGGREGATE(15,6,(ROW(Table2[FPPGroupCode])-2)/(Table2[DepoName]=$C$2)/(IF($C$3<>\"\",Table2[BULAN]=$C$3,TRUE))/(IF($C$4<>\"\",Table2[OFF/ON]=$C$4,TRUE))/(IF($C$5<>\"\",Table2[Status]=$C$5,TRUE))/(IF($C$6<>\"\",Table2[FPPDate]=$C$6,TRUE))/(IF($C$7<>\"\",Table2[ProposalCode]=$C$7,TRUE)),ROW(F62))),\"\")","v":""},{"$f":"IFERROR(INDEX(Table2[Amount_FPPDepo],_xlfn.AGGREGATE(15,6,(ROW(Table2[FPPGroupCode])-2)/(Table2[DepoName]=$C$2)/(IF($C$3<>\"\",Table2[BULAN]=$C$3,TRUE))/(IF($C$4<>\"\",Table2[OFF/ON]=$C$4,TRUE))/(IF($C$5<>\"\",Table2[Status]=$C$5,TRUE))/(IF($C$6<>\"\",Table2[FPPDate]=$C$6,TRUE))/(IF($C$7<>\"\",Table2[ProposalCode]=$C$7,TRUE)),ROW(G62))),\"\")","v":""},{"$f":"IFERROR(VLOOKUP($B70,SIP!$D$5776:$P$6032,12,0),0)","v":0},{"$f":"IFERROR(H70-I70,0)","v":0},{"$f":"IFERROR(VLOOKUP($B70,SIP!$D$5776:$P$6032,8,0),0)","v":0},{"$f":"IFERROR(INDEX(Table2[OFF/ON],_xlfn.AGGREGATE(15,6,(ROW(Table2[FPPGroupCode])-2)/(Table2[DepoName]=$C$2)/(IF($C$3<>\"\",Table2[BULAN]=$C$3,TRUE))/(IF($C$4<>\"\",Table2[OFF/ON]=$C$4,TRUE))/(IF($C$5<>\"\",Table2[Status]=$C$5,TRUE))/(IF($C$6<>\"\",Table2[FPPDate]=$C$6,TRUE))/(IF($C$7<>\"\",Table2[ProposalCode]=$C$7,TRUE)),ROW(K62))),\"\")","v":""}]
[{"$f":"IF(LEN($B71),ROW(A63),\"\")","v":""},{"$f":"IFERROR(INDEX(Table2[FPPGroupCode],_xlfn.AGGREGATE(15,6,(ROW(Table2[FPPGroupCode])-2)/(Table2[DepoName]=$C$2)/(IF($C$3<>\"\",Table2[BULAN]=$C$3,TRUE))/(IF($C$4<>\"\",Table2[OFF/ON]=$C$4,TRUE))/(IF($C$5<>\"\",Table2[Status]=$C$5,TRUE))/(IF($C$6<>\"\",Table2[FPPDate]=$C$6,TRUE))/(IF($C$7<>\"\",Table2[ProposalCode]=$C$7,TRUE)),ROW(A63))),\"\")","v":""},{"$f":"IFERROR(VLOOKUP($B71,SIP!$D$3:$Q$12237,14,0),0)","v":0},{"$f":"IFERROR(INDEX(Table2[Activity],_xlfn.AGGREGATE(15,6,(ROW(Table2[FPPGroupCode])-2)/(Table2[DepoName]=$C$2)/(IF($C$3<>\"\",Table2[BULAN]=$C$3,TRUE))/(IF($C$4<>\"\",Table2[OFF/ON]=$C$4,TRUE))/(IF($C$5<>\"\",Table2[Status]=$C$5,TRUE))/(IF($C$6<>\"\",Table2[]=$C$6,TRUE))/(IF($C$7<>\"\",Table2[ProposalCode]=$C$7,TRUE)),ROW(B63))),\"\")","v":""},{"$f":"IFERROR(INDEX(Table2[Location],_xlfn.AGGREGATE(15,6,(ROW(Table2[FPPGroupCode])-2)/(Table2[DepoName]=$C$2)/(IF($C$3<>\"\",Table2[BULAN]=$C$3,TRUE))/(IF($C$4<>\"\",Table2[OFF/ON]=$C$4,TRUE))/(IF($C$5<>\"\",Table2[Status]=$C$5,TRUE))/(IF($C$6<>\"\",Table2[FPPDate]=$C$6,TRUE))/(IF($C$7<>\"\",Table2[ProposalCode]=$C$7,TRUE)),ROW(D63))),\"\")","v":""},{"$f":"IFERROR(INDEX(Table2[PeriodeStart],_xlfn.AGGREGATE(15,6,(ROW(Table2[FPPGroupCode])-2)/(Table2[DepoName]=$C$2)/(IF($C$3<>\"\",Table2[BULAN]=$C$3,TRUE))/(IF($C$4<>\"\",Table2[OFF/ON]=$C$4,TRUE))/(IF($C$5<>\"\",Table2[Status]=$C$5,TRUE))/(IF($C$6<>\"\",Table2[FPPDate]=$C$6,TRUE))/(IF($C$7<>\"\",Table2[ProposalCode]=$C$7,TRUE)),ROW(E63))),\"\")","v":""},{"$f":"IFERROR(INDEX(Table2[PeriodeEnd],_xlfn.AGGREGATE(15,6,(ROW(Table2[FPPGroupCode])-2)/(Table2[DepoName]=$C$2)/(IF($C$3<>\"\",Table2[BULAN]=$C$3,TRUE))/(IF($C$4<>\"\",Table2[OFF/ON]=$C$4,TRUE))/(IF($C$5<>\"\",Table2[Status]=$C$5,TRUE))/(IF($C$6<>\"\",Table2[FPPDate]=$C$6,TRUE))/(IF($C$7<>\"\",Table2[ProposalCode]=$C$7,TRUE)),ROW(F63))),\"\")","v":""},{"$f":"IFERROR(INDEX(Table2[Amount_FPPDepo],_xlfn.AGGREGATE(15,6,(ROW(Table2[FPPGroupCode])-2)/(Table2[DepoName]=$C$2)/(IF($C$3<>\"\",Table2[BULAN]=$C$3,TRUE))/(IF($C$4<>\"\",Table2[OFF/ON]=$C$4,TRUE))/(IF($C$5<>\"\",Table2[Status]=$C$5,TRUE))/(IF($C$6<>\"\",Table2[FPPDate]=$C$6,TRUE))/(IF($C$7<>\"\",Table2[ProposalCode]=$C$7,TRUE)),ROW(G63))),\"\")","v":""},{"$f":"IFERROR(VLOOKUP($B71,SIP!$D$5776:$P$6032,12,0),0)","v":0},{"$f":"IFERROR(H71-I71,0)","v":0},{"$f":"IFERROR(VLOOKUP($B71,SIP!$D$5776:$P$6032,8,0),0)","v":0},{"$f":"IFERROR(INDEX(Table2[OFF/ON],_xlfn.AGGREGATE(15,6,(ROW(Table2[FPPGroupCode])-2)/(Table2[DepoName]=$C$2)/(IF($C$3<>\"\",Table2[BULAN]=$C$3,TRUE))/(IF($C$4<>\"\",Table2[OFF/ON]=$C$4,TRUE))/(IF($C$5<>\"\",Table2[Status]=$C$5,TRUE))/(IF($C$6<>\"\",Table2[FPPDate]=$C$6,TRUE))/(IF($C$7<>\"\",Table2[ProposalCode]=$C$7,TRUE)),ROW(K63))),\"\")","v":""}]
[{"$f":"IF(LEN($B72),ROW(A64),\"\")","v":""},{"$f":"IFERROR(INDEX(Table2[FPPGroupCode],_xlfn.AGGREGATE(15,6,(ROW(Table2[FPPGroupCode])-2)/(Table2[DepoName]=$C$2)/(IF($C$3<>\"\",Table2[BULAN]=$C$3,TRUE))/(IF($C$4<>\"\",Table2[OFF/ON]=$C$4,TRUE))/(IF($C$5<>\"\",Table2[Status]=$C$5,TRUE))/(IF($C$6<>\"\",Table2[FPPDate]=$C$6,TRUE))/(IF($C$7<>\"\",Table2[ProposalCode]=$C$7,TRUE)),ROW(A64))),\"\")","v":""},{"$f":"IFERROR(VLOOKUP($B72,SIP!$D$3:$Q$12237,14,0),0)","v":0},{"$f":"IFERROR(INDEX(Table2[Activity],_xlfn.AGGREGATE(15,6,(ROW(Table2[FPPGroupCode])-2)/(Table2[DepoName]=$C$2)/(IF($C$3<>\"\",Table2[BULAN]=$C$3,TRUE))/(IF($C$4<>\"\",Table2[OFF/ON]=$C$4,TRUE))/(IF($C$5<>\"\",Table2[Status]=$C$5,TRUE))/(IF($C$6<>\"\",Table2[]=$C$6,TRUE))/(IF($C$7<>\"\",Table2[ProposalCode]=$C$7,TRUE)),ROW(B64))),\"\")","v":""},{"$f":"IFERROR(INDEX(Table2[Location],_xlfn.AGGREGATE(15,6,(ROW(Table2[FPPGroupCode])-2)/(Table2[DepoName]=$C$2)/(IF($C$3<>\"\",Table2[BULAN]=$C$3,TRUE))/(IF($C$4<>\"\",Table2[OFF/ON]=$C$4,TRUE))/(IF($C$5<>\"\",Table2[Status]=$C$5,TRUE))/(IF($C$6<>\"\",Table2[FPPDate]=$C$6,TRUE))/(IF($C$7<>\"\",Table2[ProposalCode]=$C$7,TRUE)),ROW(D64))),\"\")","v":""},{"$f":"IFERROR(INDEX(Table2[PeriodeStart],_xlfn.AGGREGATE(15,6,(ROW(Table2[FPPGroupCode])-2)/(Table2[DepoName]=$C$2)/(IF($C$3<>\"\",Table2[BULAN]=$C$3,TRUE))/(IF($C$4<>\"\",Table2[OFF/ON]=$C$4,TRUE))/(IF($C$5<>\"\",Table2[Status]=$C$5,TRUE))/(IF($C$6<>\"\",Table2[FPPDate]=$C$6,TRUE))/(IF($C$7<>\"\",Table2[ProposalCode]=$C$7,TRUE)),ROW(E64))),\"\")","v":""},{"$f":"IFERROR(INDEX(Table2[PeriodeEnd],_xlfn.AGGREGATE(15,6,(ROW(Table2[FPPGroupCode])-2)/(Table2[DepoName]=$C$2)/(IF($C$3<>\"\",Table2[BULAN]=$C$3,TRUE))/(IF($C$4<>\"\",Table2[OFF/ON]=$C$4,TRUE))/(IF($C$5<>\"\",Table2[Status]=$C$5,TRUE))/(IF($C$6<>\"\",Table2[FPPDate]=$C$6,TRUE))/(IF($C$7<>\"\",Table2[ProposalCode]=$C$7,TRUE)),ROW(F64))),\"\")","v":""},{"$f":"IFERROR(INDEX(Table2[Amount_FPPDepo],_xlfn.AGGREGATE(15,6,(ROW(Table2[FPPGroupCode])-2)/(Table2[DepoName]=$C$2)/(IF($C$3<>\"\",Table2[BULAN]=$C$3,TRUE))/(IF($C$4<>\"\",Table2[OFF/ON]=$C$4,TRUE))/(IF($C$5<>\"\",Table2[Status]=$C$5,TRUE))/(IF($C$6<>\"\",Table2[FPPDate]=$C$6,TRUE))/(IF($C$7<>\"\",Table2[ProposalCode]=$C$7,TRUE)),ROW(G64))),\"\")","v":""},{"$f":"IFERROR(VLOOKUP($B72,SIP!$D$5776:$P$6032,12,0),0)","v":0},{"$f":"IFERROR(H72-I72,0)","v":0},{"$f":"IFERROR(VLOOKUP($B72,SIP!$D$5776:$P$6032,8,0),0)","v":0},{"$f":"IFERROR(INDEX(Table2[OFF/ON],_xlfn.AGGREGATE(15,6,(ROW(Table2[FPPGroupCode])-2)/(Table2[DepoName]=$C$2)/(IF($C$3<>\"\",Table2[BULAN]=$C$3,TRUE))/(IF($C$4<>\"\",Table2[OFF/ON]=$C$4,TRUE))/(IF($C$5<>\"\",Table2[Status]=$C$5,TRUE))/(IF($C$6<>\"\",Table2[FPPDate]=$C$6,TRUE))/(IF($C$7<>\"\",Table2[ProposalCode]=$C$7,TRUE)),ROW(K64))),\"\")","v":""}]
[{"$f":"IF(LEN($B73),ROW(A65),\"\")","v":""},{"$f":"IFERROR(INDEX(Table2[FPPGroupCode],_xlfn.AGGREGATE(15,6,(ROW(Table2[FPPGroupCode])-2)/(Table2[DepoName]=$C$2)/(IF($C$3<>\"\",Table2[BULAN]=$C$3,TRUE))/(IF($C$4<>\"\",Table2[OFF/ON]=$C$4,TRUE))/(IF($C$5<>\"\",Table2[Status]=$C$5,TRUE))/(IF($C$6<>\"\",Table2[FPPDate]=$C$6,TRUE))/(IF($C$7<>\"\",Table2[ProposalCode]=$C$7,TRUE)),ROW(A65))),\"\")","v":""},{"$f":"IFERROR(VLOOKUP($B73,SIP!$D$3:$Q$12237,14,0),0)","v":0},{"$f":"IFERROR(INDEX(Table2[Activity],_xlfn.AGGREGATE(15,6,(ROW(Table2[FPPGroupCode])-2)/(Table2[DepoName]=$C$2)/(IF($C$3<>\"\",Table2[BULAN]=$C$3,TRUE))/(IF($C$4<>\"\",Table2[OFF/ON]=$C$4,TRUE))/(IF($C$5<>\"\",Table2[Status]=$C$5,TRUE))/(IF($C$6<>\"\",Table2[]=$C$6,TRUE))/(IF($C$7<>\"\",Table2[ProposalCode]=$C$7,TRUE)),ROW(B65))),\"\")","v":""},{"$f":"IFERROR(INDEX(Table2[Location],_xlfn.AGGREGATE(15,6,(ROW(Table2[FPPGroupCode])-2)/(Table2[DepoName]=$C$2)/(IF($C$3<>\"\",Table2[BULAN]=$C$3,TRUE))/(IF($C$4<>\"\",Table2[OFF/ON]=$C$4,TRUE))/(IF($C$5<>\"\",Table2[Status]=$C$5,TRUE))/(IF($C$6<>\"\",Table2[FPPDate]=$C$6,TRUE))/(IF($C$7<>\"\",Table2[ProposalCode]=$C$7,TRUE)),ROW(D65))),\"\")","v":""},{"$f":"IFERROR(INDEX(Table2[PeriodeStart],_xlfn.AGGREGATE(15,6,(ROW(Table2[FPPGroupCode])-2)/(Table2[DepoName]=$C$2)/(IF($C$3<>\"\",Table2[BULAN]=$C$3,TRUE))/(IF($C$4<>\"\",Table2[OFF/ON]=$C$4,TRUE))/(IF($C$5<>\"\",Table2[Status]=$C$5,TRUE))/(IF($C$6<>\"\",Table2[FPPDate]=$C$6,TRUE))/(IF($C$7<>\"\",Table2[ProposalCode]=$C$7,TRUE)),ROW(E65))),\"\")","v":""},{"$f":"IFERROR(INDEX(Table2[PeriodeEnd],_xlfn.AGGREGATE(15,6,(ROW(Table2[FPPGroupCode])-2)/(Table2[DepoName]=$C$2)/(IF($C$3<>\"\",Table2[BULAN]=$C$3,TRUE))/(IF($C$4<>\"\",Table2[OFF/ON]=$C$4,TRUE))/(IF($C$5<>\"\",Table2[Status]=$C$5,TRUE))/(IF($C$6<>\"\",Table2[FPPDate]=$C$6,TRUE))/(IF($C$7<>\"\",Table2[ProposalCode]=$C$7,TRUE)),ROW(F65))),\"\")","v":""},{"$f":"IFERROR(INDEX(Table2[Amount_FPPDepo],_xlfn.AGGREGATE(15,6,(ROW(Table2[FPPGroupCode])-2)/(Table2[DepoName]=$C$2)/(IF($C$3<>\"\",Table2[BULAN]=$C$3,TRUE))/(IF($C$4<>\"\",Table2[OFF/ON]=$C$4,TRUE))/(IF($C$5<>\"\",Table2[Status]=$C$5,TRUE))/(IF($C$6<>\"\",Table2[FPPDate]=$C$6,TRUE))/(IF($C$7<>\"\",Table2[ProposalCode]=$C$7,TRUE)),ROW(G65))),\"\")","v":""},{"$f":"IFERROR(VLOOKUP($B73,SIP!$D$5776:$P$6032,12,0),0)","v":0},{"$f":"IFERROR(H73-I73,0)","v":0},{"$f":"IFERROR(VLOOKUP($B73,SIP!$D$5776:$P$6032,8,0),0)","v":0},{"$f":"IFERROR(INDEX(Table2[OFF/ON],_xlfn.AGGREGATE(15,6,(ROW(Table2[FPPGroupCode])-2)/(Table2[DepoName]=$C$2)/(IF($C$3<>\"\",Table2[BULAN]=$C$3,TRUE))/(IF($C$4<>\"\",Table2[OFF/ON]=$C$4,TRUE))/(IF($C$5<>\"\",Table2[Status]=$C$5,TRUE))/(IF($C$6<>\"\",Table2[FPPDate]=$C$6,TRUE))/(IF($C$7<>\"\",Table2[ProposalCode]=$C$7,TRUE)),ROW(K65))),\"\")","v":""}]
[{"$f":"IF(LEN($B74),ROW(A66),\"\")","v":""},{"$f":"IFERROR(INDEX(Table2[FPPGroupCode],_xlfn.AGGREGATE(15,6,(ROW(Table2[FPPGroupCode])-2)/(Table2[DepoName]=$C$2)/(IF($C$3<>\"\",Table2[BULAN]=$C$3,TRUE))/(IF($C$4<>\"\",Table2[OFF/ON]=$C$4,TRUE))/(IF($C$5<>\"\",Table2[Status]=$C$5,TRUE))/(IF($C$6<>\"\",Table2[FPPDate]=$C$6,TRUE))/(IF($C$7<>\"\",Table2[ProposalCode]=$C$7,TRUE)),ROW(A66))),\"\")","v":""},{"$f":"IFERROR(VLOOKUP($B74,SIP!$D$3:$Q$12237,14,0),0)","v":0},{"$f":"IFERROR(INDEX(Table2[Activity],_xlfn.AGGREGATE(15,6,(ROW(Table2[FPPGroupCode])-2)/(Table2[DepoName]=$C$2)/(IF($C$3<>\"\",Table2[BULAN]=$C$3,TRUE))/(IF($C$4<>\"\",Table2[OFF/ON]=$C$4,TRUE))/(IF($C$5<>\"\",Table2[Status]=$C$5,TRUE))/(IF($C$6<>\"\",Table2[]=$C$6,TRUE))/(IF($C$7<>\"\",Table2[ProposalCode]=$C$7,TRUE)),ROW(B66))),\"\")","v":""},{"$f":"IFERROR(INDEX(Table2[Location],_xlfn.AGGREGATE(15,6,(ROW(Table2[FPPGroupCode])-2)/(Table2[DepoName]=$C$2)/(IF($C$3<>\"\",Table2[BULAN]=$C$3,TRUE))/(IF($C$4<>\"\",Table2[OFF/ON]=$C$4,TRUE))/(IF($C$5<>\"\",Table2[Status]=$C$5,TRUE))/(IF($C$6<>\"\",Table2[FPPDate]=$C$6,TRUE))/(IF($C$7<>\"\",Table2[ProposalCode]=$C$7,TRUE)),ROW(D66))),\"\")","v":""},{"$f":"IFERROR(INDEX(Table2[PeriodeStart],_xlfn.AGGREGATE(15,6,(ROW(Table2[FPPGroupCode])-2)/(Table2[DepoName]=$C$2)/(IF($C$3<>\"\",Table2[BULAN]=$C$3,TRUE))/(IF($C$4<>\"\",Table2[OFF/ON]=$C$4,TRUE))/(IF($C$5<>\"\",Table2[Status]=$C$5,TRUE))/(IF($C$6<>\"\",Table2[FPPDate]=$C$6,TRUE))/(IF($C$7<>\"\",Table2[ProposalCode]=$C$7,TRUE)),ROW(E66))),\"\")","v":""},{"$f":"IFERROR(INDEX(Table2[PeriodeEnd],_xlfn.AGGREGATE(15,6,(ROW(Table2[FPPGroupCode])-2)/(Table2[DepoName]=$C$2)/(IF($C$3<>\"\",Table2[BULAN]=$C$3,TRUE))/(IF($C$4<>\"\",Table2[OFF/ON]=$C$4,TRUE))/(IF($C$5<>\"\",Table2[Status]=$C$5,TRUE))/(IF($C$6<>\"\",Table2[FPPDate]=$C$6,TRUE))/(IF($C$7<>\"\",Table2[ProposalCode]=$C$7,TRUE)),ROW(F66))),\"\")","v":""},{"$f":"IFERROR(INDEX(Table2[Amount_FPPDepo],_xlfn.AGGREGATE(15,6,(ROW(Table2[FPPGroupCode])-2)/(Table2[DepoName]=$C$2)/(IF($C$3<>\"\",Table2[BULAN]=$C$3,TRUE))/(IF($C$4<>\"\",Table2[OFF/ON]=$C$4,TRUE))/(IF($C$5<>\"\",Table2[Status]=$C$5,TRUE))/(IF($C$6<>\"\",Table2[FPPDate]=$C$6,TRUE))/(IF($C$7<>\"\",Table2[ProposalCode]=$C$7,TRUE)),ROW(G66))),\"\")","v":""},{"$f":"IFERROR(VLOOKUP($B74,SIP!$D$5776:$P$6032,12,0),0)","v":0},{"$f":"IFERROR(H74-I74,0)","v":0},{"$f":"IFERROR(VLOOKUP($B74,SIP!$D$5776:$P$6032,8,0),0)","v":0},{"$f":"IFERROR(INDEX(Table2[OFF/ON],_xlfn.AGGREGATE(15,6,(ROW(Table2[FPPGroupCode])-2)/(Table2[DepoName]=$C$2)/(IF($C$3<>\"\",Table2[BULAN]=$C$3,TRUE))/(IF($C$4<>\"\",Table2[OFF/ON]=$C$4,TRUE))/(IF($C$5<>\"\",Table2[Status]=$C$5,TRUE))/(IF($C$6<>\"\",Table2[FPPDate]=$C$6,TRUE))/(IF($C$7<>\"\",Table2[ProposalCode]=$C$7,TRUE)),ROW(K66))),\"\")","v":""}]
[{"$f":"IF(LEN($B75),ROW(A67),\"\")","v":""},{"$f":"IFERROR(INDEX(Table2[FPPGroupCode],_xlfn.AGGREGATE(15,6,(ROW(Table2[FPPGroupCode])-2)/(Table2[DepoName]=$C$2)/(IF($C$3<>\"\",Table2[BULAN]=$C$3,TRUE))/(IF($C$4<>\"\",Table2[OFF/ON]=$C$4,TRUE))/(IF($C$5<>\"\",Table2[Status]=$C$5,TRUE))/(IF($C$6<>\"\",Table2[FPPDate]=$C$6,TRUE))/(IF($C$7<>\"\",Table2[ProposalCode]=$C$7,TRUE)),ROW(A67))),\"\")","v":""},{"$f":"IFERROR(VLOOKUP($B75,SIP!$D$3:$Q$12237,14,0),0)","v":0},{"$f":"IFERROR(INDEX(Table2[Activity],_xlfn.AGGREGATE(15,6,(ROW(Table2[FPPGroupCode])-2)/(Table2[DepoName]=$C$2)/(IF($C$3<>\"\",Table2[BULAN]=$C$3,TRUE))/(IF($C$4<>\"\",Table2[OFF/ON]=$C$4,TRUE))/(IF($C$5<>\"\",Table2[Status]=$C$5,TRUE))/(IF($C$6<>\"\",Table2[]=$C$6,TRUE))/(IF($C$7<>\"\",Table2[ProposalCode]=$C$7,TRUE)),ROW(B67))),\"\")","v":""},{"$f":"IFERROR(INDEX(Table2[Location],_xlfn.AGGREGATE(15,6,(ROW(Table2[FPPGroupCode])-2)/(Table2[DepoName]=$C$2)/(IF($C$3<>\"\",Table2[BULAN]=$C$3,TRUE))/(IF($C$4<>\"\",Table2[OFF/ON]=$C$4,TRUE))/(IF($C$5<>\"\",Table2[Status]=$C$5,TRUE))/(IF($C$6<>\"\",Table2[FPPDate]=$C$6,TRUE))/(IF($C$7<>\"\",Table2[ProposalCode]=$C$7,TRUE)),ROW(D67))),\"\")","v":""},{"$f":"IFERROR(INDEX(Table2[PeriodeStart],_xlfn.AGGREGATE(15,6,(ROW(Table2[FPPGroupCode])-2)/(Table2[DepoName]=$C$2)/(IF($C$3<>\"\",Table2[BULAN]=$C$3,TRUE))/(IF($C$4<>\"\",Table2[OFF/ON]=$C$4,TRUE))/(IF($C$5<>\"\",Table2[Status]=$C$5,TRUE))/(IF($C$6<>\"\",Table2[FPPDate]=$C$6,TRUE))/(IF($C$7<>\"\",Table2[ProposalCode]=$C$7,TRUE)),ROW(E67))),\"\")","v":""},{"$f":"IFERROR(INDEX(Table2[PeriodeEnd],_xlfn.AGGREGATE(15,6,(ROW(Table2[FPPGroupCode])-2)/(Table2[DepoName]=$C$2)/(IF($C$3<>\"\",Table2[BULAN]=$C$3,TRUE))/(IF($C$4<>\"\",Table2[OFF/ON]=$C$4,TRUE))/(IF($C$5<>\"\",Table2[Status]=$C$5,TRUE))/(IF($C$6<>\"\",Table2[FPPDate]=$C$6,TRUE))/(IF($C$7<>\"\",Table2[ProposalCode]=$C$7,TRUE)),ROW(F67))),\"\")","v":""},{"$f":"IFERROR(INDEX(Table2[Amount_FPPDepo],_xlfn.AGGREGATE(15,6,(ROW(Table2[FPPGroupCode])-2)/(Table2[DepoName]=$C$2)/(IF($C$3<>\"\",Table2[BULAN]=$C$3,TRUE))/(IF($C$4<>\"\",Table2[OFF/ON]=$C$4,TRUE))/(IF($C$5<>\"\",Table2[Status]=$C$5,TRUE))/(IF($C$6<>\"\",Table2[FPPDate]=$C$6,TRUE))/(IF($C$7<>\"\",Table2[ProposalCode]=$C$7,TRUE)),ROW(G67))),\"\")","v":""},{"$f":"IFERROR(VLOOKUP($B75,SIP!$D$5776:$P$6032,12,0),0)","v":0},{"$f":"IFERROR(H75-I75,0)","v":0},{"$f":"IFERROR(VLOOKUP($B75,SIP!$D$5776:$P$6032,8,0),0)","v":0},{"$f":"IFERROR(INDEX(Table2[OFF/ON],_xlfn.AGGREGATE(15,6,(ROW(Table2[FPPGroupCode])-2)/(Table2[DepoName]=$C$2)/(IF($C$3<>\"\",Table2[BULAN]=$C$3,TRUE))/(IF($C$4<>\"\",Table2[OFF/ON]=$C$4,TRUE))/(IF($C$5<>\"\",Table2[Status]=$C$5,TRUE))/(IF($C$6<>\"\",Table2[FPPDate]=$C$6,TRUE))/(IF($C$7<>\"\",Table2[ProposalCode]=$C$7,TRUE)),ROW(K67))),\"\")","v":""}]
[{"$f":"IF(LEN($B76),ROW(A68),\"\")","v":""},{"$f":"IFERROR(INDEX(Table2[FPPGroupCode],_xlfn.AGGREGATE(15,6,(ROW(Table2[FPPGroupCode])-2)/(Table2[DepoName]=$C$2)/(IF($C$3<>\"\",Table2[BULAN]=$C$3,TRUE))/(IF($C$4<>\"\",Table2[OFF/ON]=$C$4,TRUE))/(IF($C$5<>\"\",Table2[Status]=$C$5,TRUE))/(IF($C$6<>\"\",Table2[FPPDate]=$C$6,TRUE))/(IF($C$7<>\"\",Table2[ProposalCode]=$C$7,TRUE)),ROW(A68))),\"\")","v":""},{"$f":"IFERROR(VLOOKUP($B76,SIP!$D$3:$Q$12237,14,0),0)","v":0},{"$f":"IFERROR(INDEX(Table2[Activity],_xlfn.AGGREGATE(15,6,(ROW(Table2[FPPGroupCode])-2)/(Table2[DepoName]=$C$2)/(IF($C$3<>\"\",Table2[BULAN]=$C$3,TRUE))/(IF($C$4<>\"\",Table2[OFF/ON]=$C$4,TRUE))/(IF($C$5<>\"\",Table2[Status]=$C$5,TRUE))/(IF($C$6<>\"\",Table2[]=$C$6,TRUE))/(IF($C$7<>\"\",Table2[ProposalCode]=$C$7,TRUE)),ROW(B68))),\"\")","v":""},{"$f":"IFERROR(INDEX(Table2[Location],_xlfn.AGGREGATE(15,6,(ROW(Table2[FPPGroupCode])-2)/(Table2[DepoName]=$C$2)/(IF($C$3<>\"\",Table2[BULAN]=$C$3,TRUE))/(IF($C$4<>\"\",Table2[OFF/ON]=$C$4,TRUE))/(IF($C$5<>\"\",Table2[Status]=$C$5,TRUE))/(IF($C$6<>\"\",Table2[FPPDate]=$C$6,TRUE))/(IF($C$7<>\"\",Table2[ProposalCode]=$C$7,TRUE)),ROW(D68))),\"\")","v":""},{"$f":"IFERROR(INDEX(Table2[PeriodeStart],_xlfn.AGGREGATE(15,6,(ROW(Table2[FPPGroupCode])-2)/(Table2[DepoName]=$C$2)/(IF($C$3<>\"\",Table2[BULAN]=$C$3,TRUE))/(IF($C$4<>\"\",Table2[OFF/ON]=$C$4,TRUE))/(IF($C$5<>\"\",Table2[Status]=$C$5,TRUE))/(IF($C$6<>\"\",Table2[FPPDate]=$C$6,TRUE))/(IF($C$7<>\"\",Table2[ProposalCode]=$C$7,TRUE)),ROW(E68))),\"\")","v":""},{"$f":"IFERROR(INDEX(Table2[PeriodeEnd],_xlfn.AGGREGATE(15,6,(ROW(Table2[FPPGroupCode])-2)/(Table2[DepoName]=$C$2)/(IF($C$3<>\"\",Table2[BULAN]=$C$3,TRUE))/(IF($C$4<>\"\",Table2[OFF/ON]=$C$4,TRUE))/(IF($C$5<>\"\",Table2[Status]=$C$5,TRUE))/(IF($C$6<>\"\",Table2[FPPDate]=$C$6,TRUE))/(IF($C$7<>\"\",Table2[ProposalCode]=$C$7,TRUE)),ROW(F68))),\"\")","v":""},{"$f":"IFERROR(INDEX(Table2[Amount_FPPDepo],_xlfn.AGGREGATE(15,6,(ROW(Table2[FPPGroupCode])-2)/(Table2[DepoName]=$C$2)/(IF($C$3<>\"\",Table2[BULAN]=$C$3,TRUE))/(IF($C$4<>\"\",Table2[OFF/ON]=$C$4,TRUE))/(IF($C$5<>\"\",Table2[Status]=$C$5,TRUE))/(IF($C$6<>\"\",Table2[FPPDate]=$C$6,TRUE))/(IF($C$7<>\"\",Table2[ProposalCode]=$C$7,TRUE)),ROW(G68))),\"\")","v":""},{"$f":"IFERROR(VLOOKUP($B76,SIP!$D$5776:$P$6032,12,0),0)","v":0},{"$f":"IFERROR(H76-I76,0)","v":0},{"$f":"IFERROR(VLOOKUP($B76,SIP!$D$5776:$P$6032,8,0),0)","v":0},{"$f":"IFERROR(INDEX(Table2[OFF/ON],_xlfn.AGGREGATE(15,6,(ROW(Table2[FPPGroupCode])-2)/(Table2[DepoName]=$C$2)/(IF($C$3<>\"\",Table2[BULAN]=$C$3,TRUE))/(IF($C$4<>\"\",Table2[OFF/ON]=$C$4,TRUE))/(IF($C$5<>\"\",Table2[Status]=$C$5,TRUE))/(IF($C$6<>\"\",Table2[FPPDate]=$C$6,TRUE))/(IF($C$7<>\"\",Table2[ProposalCode]=$C$7,TRUE)),ROW(K68))),\"\")","v":""}]
[{"$f":"IF(LEN($B77),ROW(A69),\"\")","v":""},{"$f":"IFERROR(INDEX(Table2[FPPGroupCode],_xlfn.AGGREGATE(15,6,(ROW(Table2[FPPGroupCode])-2)/(Table2[DepoName]=$C$2)/(IF($C$3<>\"\",Table2[BULAN]=$C$3,TRUE))/(IF($C$4<>\"\",Table2[OFF/ON]=$C$4,TRUE))/(IF($C$5<>\"\",Table2[Status]=$C$5,TRUE))/(IF($C$6<>\"\",Table2[FPPDate]=$C$6,TRUE))/(IF($C$7<>\"\",Table2[ProposalCode]=$C$7,TRUE)),ROW(A69))),\"\")","v":""},{"$f":"IFERROR(VLOOKUP($B77,SIP!$D$3:$Q$12237,14,0),0)","v":0},{"$f":"IFERROR(INDEX(Table2[Activity],_xlfn.AGGREGATE(15,6,(ROW(Table2[FPPGroupCode])-2)/(Table2[DepoName]=$C$2)/(IF($C$3<>\"\",Table2[BULAN]=$C$3,TRUE))/(IF($C$4<>\"\",Table2[OFF/ON]=$C$4,TRUE))/(IF($C$5<>\"\",Table2[Status]=$C$5,TRUE))/(IF($C$6<>\"\",Table2[]=$C$6,TRUE))/(IF($C$7<>\"\",Table2[ProposalCode]=$C$7,TRUE)),ROW(B69))),\"\")","v":""},{"$f":"IFERROR(INDEX(Table2[Location],_xlfn.AGGREGATE(15,6,(ROW(Table2[FPPGroupCode])-2)/(Table2[DepoName]=$C$2)/(IF($C$3<>\"\",Table2[BULAN]=$C$3,TRUE))/(IF($C$4<>\"\",Table2[OFF/ON]=$C$4,TRUE))/(IF($C$5<>\"\",Table2[Status]=$C$5,TRUE))/(IF($C$6<>\"\",Table2[FPPDate]=$C$6,TRUE))/(IF($C$7<>\"\",Table2[ProposalCode]=$C$7,TRUE)),ROW(D69))),\"\")","v":""},{"$f":"IFERROR(INDEX(Table2[PeriodeStart],_xlfn.AGGREGATE(15,6,(ROW(Table2[FPPGroupCode])-2)/(Table2[DepoName]=$C$2)/(IF($C$3<>\"\",Table2[BULAN]=$C$3,TRUE))/(IF($C$4<>\"\",Table2[OFF/ON]=$C$4,TRUE))/(IF($C$5<>\"\",Table2[Status]=$C$5,TRUE))/(IF($C$6<>\"\",Table2[FPPDate]=$C$6,TRUE))/(IF($C$7<>\"\",Table2[ProposalCode]=$C$7,TRUE)),ROW(E69))),\"\")","v":""},{"$f":"IFERROR(INDEX(Table2[PeriodeEnd],_xlfn.AGGREGATE(15,6,(ROW(Table2[FPPGroupCode])-2)/(Table2[DepoName]=$C$2)/(IF($C$3<>\"\",Table2[BULAN]=$C$3,TRUE))/(IF($C$4<>\"\",Table2[OFF/ON]=$C$4,TRUE))/(IF($C$5<>\"\",Table2[Status]=$C$5,TRUE))/(IF($C$6<>\"\",Table2[FPPDate]=$C$6,TRUE))/(IF($C$7<>\"\",Table2[ProposalCode]=$C$7,TRUE)),ROW(F69))),\"\")","v":""},{"$f":"IFERROR(INDEX(Table2[Amount_FPPDepo],_xlfn.AGGREGATE(15,6,(ROW(Table2[FPPGroupCode])-2)/(Table2[DepoName]=$C$2)/(IF($C$3<>\"\",Table2[BULAN]=$C$3,TRUE))/(IF($C$4<>\"\",Table2[OFF/ON]=$C$4,TRUE))/(IF($C$5<>\"\",Table2[Status]=$C$5,TRUE))/(IF($C$6<>\"\",Table2[FPPDate]=$C$6,TRUE))/(IF($C$7<>\"\",Table2[ProposalCode]=$C$7,TRUE)),ROW(G69))),\"\")","v":""},{"$f":"IFERROR(VLOOKUP($B77,SIP!$D$5776:$P$6032,12,0),0)","v":0},{"$f":"IFERROR(H77-I77,0)","v":0},{"$f":"IFERROR(VLOOKUP($B77,SIP!$D$5776:$P$6032,8,0),0)","v":0},{"$f":"IFERROR(INDEX(Table2[OFF/ON],_xlfn.AGGREGATE(15,6,(ROW(Table2[FPPGroupCode])-2)/(Table2[DepoName]=$C$2)/(IF($C$3<>\"\",Table2[BULAN]=$C$3,TRUE))/(IF($C$4<>\"\",Table2[OFF/ON]=$C$4,TRUE))/(IF($C$5<>\"\",Table2[Status]=$C$5,TRUE))/(IF($C$6<>\"\",Table2[FPPDate]=$C$6,TRUE))/(IF($C$7<>\"\",Table2[ProposalCode]=$C$7,TRUE)),ROW(K69))),\"\")","v":""}]
[{"$f":"IF(LEN($B78),ROW(A70),\"\")","v":""},{"$f":"IFERROR(INDEX(Table2[FPPGroupCode],_xlfn.AGGREGATE(15,6,(ROW(Table2[FPPGroupCode])-2)/(Table2[DepoName]=$C$2)/(IF($C$3<>\"\",Table2[BULAN]=$C$3,TRUE))/(IF($C$4<>\"\",Table2[OFF/ON]=$C$4,TRUE))/(IF($C$5<>\"\",Table2[Status]=$C$5,TRUE))/(IF($C$6<>\"\",Table2[FPPDate]=$C$6,TRUE))/(IF($C$7<>\"\",Table2[ProposalCode]=$C$7,TRUE)),ROW(A70))),\"\")","v":""},{"$f":"IFERROR(VLOOKUP($B78,SIP!$D$3:$Q$12237,14,0),0)","v":0},{"$f":"IFERROR(INDEX(Table2[Activity],_xlfn.AGGREGATE(15,6,(ROW(Table2[FPPGroupCode])-2)/(Table2[DepoName]=$C$2)/(IF($C$3<>\"\",Table2[BULAN]=$C$3,TRUE))/(IF($C$4<>\"\",Table2[OFF/ON]=$C$4,TRUE))/(IF($C$5<>\"\",Table2[Status]=$C$5,TRUE))/(IF($C$6<>\"\",Table2[]=$C$6,TRUE))/(IF($C$7<>\"\",Table2[ProposalCode]=$C$7,TRUE)),ROW(B70))),\"\")","v":""},{"$f":"IFERROR(INDEX(Table2[Location],_xlfn.AGGREGATE(15,6,(ROW(Table2[FPPGroupCode])-2)/(Table2[DepoName]=$C$2)/(IF($C$3<>\"\",Table2[BULAN]=$C$3,TRUE))/(IF($C$4<>\"\",Table2[OFF/ON]=$C$4,TRUE))/(IF($C$5<>\"\",Table2[Status]=$C$5,TRUE))/(IF($C$6<>\"\",Table2[FPPDate]=$C$6,TRUE))/(IF($C$7<>\"\",Table2[ProposalCode]=$C$7,TRUE)),ROW(D70))),\"\")","v":""},{"$f":"IFERROR(INDEX(Table2[PeriodeStart],_xlfn.AGGREGATE(15,6,(ROW(Table2[FPPGroupCode])-2)/(Table2[DepoName]=$C$2)/(IF($C$3<>\"\",Table2[BULAN]=$C$3,TRUE))/(IF($C$4<>\"\",Table2[OFF/ON]=$C$4,TRUE))/(IF($C$5<>\"\",Table2[Status]=$C$5,TRUE))/(IF($C$6<>\"\",Table2[FPPDate]=$C$6,TRUE))/(IF($C$7<>\"\",Table2[ProposalCode]=$C$7,TRUE)),ROW(E70))),\"\")","v":""},{"$f":"IFERROR(INDEX(Table2[PeriodeEnd],_xlfn.AGGREGATE(15,6,(ROW(Table2[FPPGroupCode])-2)/(Table2[DepoName]=$C$2)/(IF($C$3<>\"\",Table2[BULAN]=$C$3,TRUE))/(IF($C$4<>\"\",Table2[OFF/ON]=$C$4,TRUE))/(IF($C$5<>\"\",Table2[Status]=$C$5,TRUE))/(IF($C$6<>\"\",Table2[FPPDate]=$C$6,TRUE))/(IF($C$7<>\"\",Table2[ProposalCode]=$C$7,TRUE)),ROW(F70))),\"\")","v":""},{"$f":"IFERROR(INDEX(Table2[Amount_FPPDepo],_xlfn.AGGREGATE(15,6,(ROW(Table2[FPPGroupCode])-2)/(Table2[DepoName]=$C$2)/(IF($C$3<>\"\",Table2[BULAN]=$C$3,TRUE))/(IF($C$4<>\"\",Table2[OFF/ON]=$C$4,TRUE))/(IF($C$5<>\"\",Table2[Status]=$C$5,TRUE))/(IF($C$6<>\"\",Table2[FPPDate]=$C$6,TRUE))/(IF($C$7<>\"\",Table2[ProposalCode]=$C$7,TRUE)),ROW(G70))),\"\")","v":""},{"$f":"IFERROR(VLOOKUP($B78,SIP!$D$5776:$P$6032,12,0),0)","v":0},{"$f":"IFERROR(H78-I78,0)","v":0},{"$f":"IFERROR(VLOOKUP($B78,SIP!$D$5776:$P$6032,8,0),0)","v":0},{"$f":"IFERROR(INDEX(Table2[OFF/ON],_xlfn.AGGREGATE(15,6,(ROW(Table2[FPPGroupCode])-2)/(Table2[DepoName]=$C$2)/(IF($C$3<>\"\",Table2[BULAN]=$C$3,TRUE))/(IF($C$4<>\"\",Table2[OFF/ON]=$C$4,TRUE))/(IF($C$5<>\"\",Table2[Status]=$C$5,TRUE))/(IF($C$6<>\"\",Table2[FPPDate]=$C$6,TRUE))/(IF($C$7<>\"\",Table2[ProposalCode]=$C$7,TRUE)),ROW(K70))),\"\")","v":""}]
[{"$f":"IF(LEN($B79),ROW(A71),\"\")","v":""},{"$f":"IFERROR(INDEX(Table2[FPPGroupCode],_xlfn.AGGREGATE(15,6,(ROW(Table2[FPPGroupCode])-2)/(Table2[DepoName]=$C$2)/(IF($C$3<>\"\",Table2[BULAN]=$C$3,TRUE))/(IF($C$4<>\"\",Table2[OFF/ON]=$C$4,TRUE))/(IF($C$5<>\"\",Table2[Status]=$C$5,TRUE))/(IF($C$6<>\"\",Table2[FPPDate]=$C$6,TRUE))/(IF($C$7<>\"\",Table2[ProposalCode]=$C$7,TRUE)),ROW(A71))),\"\")","v":""},{"$f":"IFERROR(VLOOKUP($B79,SIP!$D$3:$Q$12237,14,0),0)","v":0},{"$f":"IFERROR(INDEX(Table2[Activity],_xlfn.AGGREGATE(15,6,(ROW(Table2[FPPGroupCode])-2)/(Table2[DepoName]=$C$2)/(IF($C$3<>\"\",Table2[BULAN]=$C$3,TRUE))/(IF($C$4<>\"\",Table2[OFF/ON]=$C$4,TRUE))/(IF($C$5<>\"\",Table2[Status]=$C$5,TRUE))/(IF($C$6<>\"\",Table2[]=$C$6,TRUE))/(IF($C$7<>\"\",Table2[ProposalCode]=$C$7,TRUE)),ROW(B71))),\"\")","v":""},{"$f":"IFERROR(INDEX(Table2[Location],_xlfn.AGGREGATE(15,6,(ROW(Table2[FPPGroupCode])-2)/(Table2[DepoName]=$C$2)/(IF($C$3<>\"\",Table2[BULAN]=$C$3,TRUE))/(IF($C$4<>\"\",Table2[OFF/ON]=$C$4,TRUE))/(IF($C$5<>\"\",Table2[Status]=$C$5,TRUE))/(IF($C$6<>\"\",Table2[FPPDate]=$C$6,TRUE))/(IF($C$7<>\"\",Table2[ProposalCode]=$C$7,TRUE)),ROW(D71))),\"\")","v":""},{"$f":"IFERROR(INDEX(Table2[PeriodeStart],_xlfn.AGGREGATE(15,6,(ROW(Table2[FPPGroupCode])-2)/(Table2[DepoName]=$C$2)/(IF($C$3<>\"\",Table2[BULAN]=$C$3,TRUE))/(IF($C$4<>\"\",Table2[OFF/ON]=$C$4,TRUE))/(IF($C$5<>\"\",Table2[Status]=$C$5,TRUE))/(IF($C$6<>\"\",Table2[FPPDate]=$C$6,TRUE))/(IF($C$7<>\"\",Table2[ProposalCode]=$C$7,TRUE)),ROW(E71))),\"\")","v":""},{"$f":"IFERROR(INDEX(Table2[PeriodeEnd],_xlfn.AGGREGATE(15,6,(ROW(Table2[FPPGroupCode])-2)/(Table2[DepoName]=$C$2)/(IF($C$3<>\"\",Table2[BULAN]=$C$3,TRUE))/(IF($C$4<>\"\",Table2[OFF/ON]=$C$4,TRUE))/(IF($C$5<>\"\",Table2[Status]=$C$5,TRUE))/(IF($C$6<>\"\",Table2[FPPDate]=$C$6,TRUE))/(IF($C$7<>\"\",Table2[ProposalCode]=$C$7,TRUE)),ROW(F71))),\"\")","v":""},{"$f":"IFERROR(INDEX(Table2[Amount_FPPDepo],_xlfn.AGGREGATE(15,6,(ROW(Table2[FPPGroupCode])-2)/(Table2[DepoName]=$C$2)/(IF($C$3<>\"\",Table2[BULAN]=$C$3,TRUE))/(IF($C$4<>\"\",Table2[OFF/ON]=$C$4,TRUE))/(IF($C$5<>\"\",Table2[Status]=$C$5,TRUE))/(IF($C$6<>\"\",Table2[FPPDate]=$C$6,TRUE))/(IF($C$7<>\"\",Table2[ProposalCode]=$C$7,TRUE)),ROW(G71))),\"\")","v":""},{"$f":"IFERROR(VLOOKUP($B79,SIP!$D$5776:$P$6032,12,0),0)","v":0},{"$f":"IFERROR(H79-I79,0)","v":0},{"$f":"IFERROR(VLOOKUP($B79,SIP!$D$5776:$P$6032,8,0),0)","v":0},{"$f":"IFERROR(INDEX(Table2[OFF/ON],_xlfn.AGGREGATE(15,6,(ROW(Table2[FPPGroupCode])-2)/(Table2[DepoName]=$C$2)/(IF($C$3<>\"\",Table2[BULAN]=$C$3,TRUE))/(IF($C$4<>\"\",Table2[OFF/ON]=$C$4,TRUE))/(IF($C$5<>\"\",Table2[Status]=$C$5,TRUE))/(IF($C$6<>\"\",Table2[FPPDate]=$C$6,TRUE))/(IF($C$7<>\"\",Table2[ProposalCode]=$C$7,TRUE)),ROW(K71))),\"\")","v":""}]
[{"$f":"IF(LEN($B80),ROW(A72),\"\")","v":""},{"$f":"IFERROR(INDEX(Table2[FPPGroupCode],_xlfn.AGGREGATE(15,6,(ROW(Table2[FPPGroupCode])-2)/(Table2[DepoName]=$C$2)/(IF($C$3<>\"\",Table2[BULAN]=$C$3,TRUE))/(IF($C$4<>\"\",Table2[OFF/ON]=$C$4,TRUE))/(IF($C$5<>\"\",Table2[Status]=$C$5,TRUE))/(IF($C$6<>\"\",Table2[FPPDate]=$C$6,TRUE))/(IF($C$7<>\"\",Table2[ProposalCode]=$C$7,TRUE)),ROW(A72))),\"\")","v":""},{"$f":"IFERROR(VLOOKUP($B80,SIP!$D$3:$Q$12237,14,0),0)","v":0},{"$f":"IFERROR(INDEX(Table2[Activity],_xlfn.AGGREGATE(15,6,(ROW(Table2[FPPGroupCode])-2)/(Table2[DepoName]=$C$2)/(IF($C$3<>\"\",Table2[BULAN]=$C$3,TRUE))/(IF($C$4<>\"\",Table2[OFF/ON]=$C$4,TRUE))/(IF($C$5<>\"\",Table2[Status]=$C$5,TRUE))/(IF($C$6<>\"\",Table2[]=$C$6,TRUE))/(IF($C$7<>\"\",Table2[ProposalCode]=$C$7,TRUE)),ROW(B72))),\"\")","v":""},{"$f":"IFERROR(INDEX(Table2[Location],_xlfn.AGGREGATE(15,6,(ROW(Table2[FPPGroupCode])-2)/(Table2[DepoName]=$C$2)/(IF($C$3<>\"\",Table2[BULAN]=$C$3,TRUE))/(IF($C$4<>\"\",Table2[OFF/ON]=$C$4,TRUE))/(IF($C$5<>\"\",Table2[Status]=$C$5,TRUE))/(IF($C$6<>\"\",Table2[FPPDate]=$C$6,TRUE))/(IF($C$7<>\"\",Table2[ProposalCode]=$C$7,TRUE)),ROW(D72))),\"\")","v":""},{"$f":"IFERROR(INDEX(Table2[PeriodeStart],_xlfn.AGGREGATE(15,6,(ROW(Table2[FPPGroupCode])-2)/(Table2[DepoName]=$C$2)/(IF($C$3<>\"\",Table2[BULAN]=$C$3,TRUE))/(IF($C$4<>\"\",Table2[OFF/ON]=$C$4,TRUE))/(IF($C$5<>\"\",Table2[Status]=$C$5,TRUE))/(IF($C$6<>\"\",Table2[FPPDate]=$C$6,TRUE))/(IF($C$7<>\"\",Table2[ProposalCode]=$C$7,TRUE)),ROW(E72))),\"\")","v":""},{"$f":"IFERROR(INDEX(Table2[PeriodeEnd],_xlfn.AGGREGATE(15,6,(ROW(Table2[FPPGroupCode])-2)/(Table2[DepoName]=$C$2)/(IF($C$3<>\"\",Table2[BULAN]=$C$3,TRUE))/(IF($C$4<>\"\",Table2[OFF/ON]=$C$4,TRUE))/(IF($C$5<>\"\",Table2[Status]=$C$5,TRUE))/(IF($C$6<>\"\",Table2[FPPDate]=$C$6,TRUE))/(IF($C$7<>\"\",Table2[ProposalCode]=$C$7,TRUE)),ROW(F72))),\"\")","v":""},{"$f":"IFERROR(INDEX(Table2[Amount_FPPDepo],_xlfn.AGGREGATE(15,6,(ROW(Table2[FPPGroupCode])-2)/(Table2[DepoName]=$C$2)/(IF($C$3<>\"\",Table2[BULAN]=$C$3,TRUE))/(IF($C$4<>\"\",Table2[OFF/ON]=$C$4,TRUE))/(IF($C$5<>\"\",Table2[Status]=$C$5,TRUE))/(IF($C$6<>\"\",Table2[FPPDate]=$C$6,TRUE))/(IF($C$7<>\"\",Table2[ProposalCode]=$C$7,TRUE)),ROW(G72))),\"\")","v":""},{"$f":"IFERROR(VLOOKUP($B80,SIP!$D$5776:$P$6032,12,0),0)","v":0},{"$f":"IFERROR(H80-I80,0)","v":0},{"$f":"IFERROR(VLOOKUP($B80,SIP!$D$5776:$P$6032,8,0),0)","v":0},{"$f":"IFERROR(INDEX(Table2[OFF/ON],_xlfn.AGGREGATE(15,6,(ROW(Table2[FPPGroupCode])-2)/(Table2[DepoName]=$C$2)/(IF($C$3<>\"\",Table2[BULAN]=$C$3,TRUE))/(IF($C$4<>\"\",Table2[OFF/ON]=$C$4,TRUE))/(IF($C$5<>\"\",Table2[Status]=$C$5,TRUE))/(IF($C$6<>\"\",Table2[FPPDate]=$C$6,TRUE))/(IF($C$7<>\"\",Table2[ProposalCode]=$C$7,TRUE)),ROW(K72))),\"\")","v":""}]
[{"$f":"IF(LEN($B81),ROW(A73),\"\")","v":""},{"$f":"IFERROR(INDEX(Table2[FPPGroupCode],_xlfn.AGGREGATE(15,6,(ROW(Table2[FPPGroupCode])-2)/(Table2[DepoName]=$C$2)/(IF($C$3<>\"\",Table2[BULAN]=$C$3,TRUE))/(IF($C$4<>\"\",Table2[OFF/ON]=$C$4,TRUE))/(IF($C$5<>\"\",Table2[Status]=$C$5,TRUE))/(IF($C$6<>\"\",Table2[FPPDate]=$C$6,TRUE))/(IF($C$7<>\"\",Table2[ProposalCode]=$C$7,TRUE)),ROW(A73))),\"\")","v":""},{"$f":"IFERROR(VLOOKUP($B81,SIP!$D$3:$Q$12237,14,0),0)","v":0},{"$f":"IFERROR(INDEX(Table2[Activity],_xlfn.AGGREGATE(15,6,(ROW(Table2[FPPGroupCode])-2)/(Table2[DepoName]=$C$2)/(IF($C$3<>\"\",Table2[BULAN]=$C$3,TRUE))/(IF($C$4<>\"\",Table2[OFF/ON]=$C$4,TRUE))/(IF($C$5<>\"\",Table2[Status]=$C$5,TRUE))/(IF($C$6<>\"\",Table2[]=$C$6,TRUE))/(IF($C$7<>\"\",Table2[ProposalCode]=$C$7,TRUE)),ROW(B73))),\"\")","v":""},{"$f":"IFERROR(INDEX(Table2[Location],_xlfn.AGGREGATE(15,6,(ROW(Table2[FPPGroupCode])-2)/(Table2[DepoName]=$C$2)/(IF($C$3<>\"\",Table2[BULAN]=$C$3,TRUE))/(IF($C$4<>\"\",Table2[OFF/ON]=$C$4,TRUE))/(IF($C$5<>\"\",Table2[Status]=$C$5,TRUE))/(IF($C$6<>\"\",Table2[FPPDate]=$C$6,TRUE))/(IF($C$7<>\"\",Table2[ProposalCode]=$C$7,TRUE)),ROW(D73))),\"\")","v":""},{"$f":"IFERROR(INDEX(Table2[PeriodeStart],_xlfn.AGGREGATE(15,6,(ROW(Table2[FPPGroupCode])-2)/(Table2[DepoName]=$C$2)/(IF($C$3<>\"\",Table2[BULAN]=$C$3,TRUE))/(IF($C$4<>\"\",Table2[OFF/ON]=$C$4,TRUE))/(IF($C$5<>\"\",Table2[Status]=$C$5,TRUE))/(IF($C$6<>\"\",Table2[FPPDate]=$C$6,TRUE))/(IF($C$7<>\"\",Table2[ProposalCode]=$C$7,TRUE)),ROW(E73))),\"\")","v":""},{"$f":"IFERROR(INDEX(Table2[PeriodeEnd],_xlfn.AGGREGATE(15,6,(ROW(Table2[FPPGroupCode])-2)/(Table2[DepoName]=$C$2)/(IF($C$3<>\"\",Table2[BULAN]=$C$3,TRUE))/(IF($C$4<>\"\",Table2[OFF/ON]=$C$4,TRUE))/(IF($C$5<>\"\",Table2[Status]=$C$5,TRUE))/(IF($C$6<>\"\",Table2[FPPDate]=$C$6,TRUE))/(IF($C$7<>\"\",Table2[ProposalCode]=$C$7,TRUE)),ROW(F73))),\"\")","v":""},{"$f":"IFERROR(INDEX(Table2[Amount_FPPDepo],_xlfn.AGGREGATE(15,6,(ROW(Table2[FPPGroupCode])-2)/(Table2[DepoName]=$C$2)/(IF($C$3<>\"\",Table2[BULAN]=$C$3,TRUE))/(IF($C$4<>\"\",Table2[OFF/ON]=$C$4,TRUE))/(IF($C$5<>\"\",Table2[Status]=$C$5,TRUE))/(IF($C$6<>\"\",Table2[FPPDate]=$C$6,TRUE))/(IF($C$7<>\"\",Table2[ProposalCode]=$C$7,TRUE)),ROW(G73))),\"\")","v":""},{"$f":"IFERROR(VLOOKUP($B81,SIP!$D$5776:$P$6032,12,0),0)","v":0},{"$f":"IFERROR(H81-I81,0)","v":0},{"$f":"IFERROR(VLOOKUP($B81,SIP!$D$5776:$P$6032,8,0),0)","v":0},{"$f":"IFERROR(INDEX(Table2[OFF/ON],_xlfn.AGGREGATE(15,6,(ROW(Table2[FPPGroupCode])-2)/(Table2[DepoName]=$C$2)/(IF($C$3<>\"\",Table2[BULAN]=$C$3,TRUE))/(IF($C$4<>\"\",Table2[OFF/ON]=$C$4,TRUE))/(IF($C$5<>\"\",Table2[Status]=$C$5,TRUE))/(IF($C$6<>\"\",Table2[FPPDate]=$C$6,TRUE))/(IF($C$7<>\"\",Table2[ProposalCode]=$C$7,TRUE)),ROW(K73))),\"\")","v":""}]
[{"$f":"IF(LEN($B82),ROW(A74),\"\")","v":""},{"$f":"IFERROR(INDEX(Table2[FPPGroupCode],_xlfn.AGGREGATE(15,6,(ROW(Table2[FPPGroupCode])-2)/(Table2[DepoName]=$C$2)/(IF($C$3<>\"\",Table2[BULAN]=$C$3,TRUE))/(IF($C$4<>\"\",Table2[OFF/ON]=$C$4,TRUE))/(IF($C$5<>\"\",Table2[Status]=$C$5,TRUE))/(IF($C$6<>\"\",Table2[FPPDate]=$C$6,TRUE))/(IF($C$7<>\"\",Table2[ProposalCode]=$C$7,TRUE)),ROW(A74))),\"\")","v":""},{"$f":"IFERROR(VLOOKUP($B82,SIP!$D$3:$Q$12237,14,0),0)","v":0},{"$f":"IFERROR(INDEX(Table2[Activity],_xlfn.AGGREGATE(15,6,(ROW(Table2[FPPGroupCode])-2)/(Table2[DepoName]=$C$2)/(IF($C$3<>\"\",Table2[BULAN]=$C$3,TRUE))/(IF($C$4<>\"\",Table2[OFF/ON]=$C$4,TRUE))/(IF($C$5<>\"\",Table2[Status]=$C$5,TRUE))/(IF($C$6<>\"\",Table2[]=$C$6,TRUE))/(IF($C$7<>\"\",Table2[ProposalCode]=$C$7,TRUE)),ROW(B74))),\"\")","v":""},{"$f":"IFERROR(INDEX(Table2[Location],_xlfn.AGGREGATE(15,6,(ROW(Table2[FPPGroupCode])-2)/(Table2[DepoName]=$C$2)/(IF($C$3<>\"\",Table2[BULAN]=$C$3,TRUE))/(IF($C$4<>\"\",Table2[OFF/ON]=$C$4,TRUE))/(IF($C$5<>\"\",Table2[Status]=$C$5,TRUE))/(IF($C$6<>\"\",Table2[FPPDate]=$C$6,TRUE))/(IF($C$7<>\"\",Table2[ProposalCode]=$C$7,TRUE)),ROW(D74))),\"\")","v":""},{"$f":"IFERROR(INDEX(Table2[PeriodeStart],_xlfn.AGGREGATE(15,6,(ROW(Table2[FPPGroupCode])-2)/(Table2[DepoName]=$C$2)/(IF($C$3<>\"\",Table2[BULAN]=$C$3,TRUE))/(IF($C$4<>\"\",Table2[OFF/ON]=$C$4,TRUE))/(IF($C$5<>\"\",Table2[Status]=$C$5,TRUE))/(IF($C$6<>\"\",Table2[FPPDate]=$C$6,TRUE))/(IF($C$7<>\"\",Table2[ProposalCode]=$C$7,TRUE)),ROW(E74))),\"\")","v":""},{"$f":"IFERROR(INDEX(Table2[PeriodeEnd],_xlfn.AGGREGATE(15,6,(ROW(Table2[FPPGroupCode])-2)/(Table2[DepoName]=$C$2)/(IF($C$3<>\"\",Table2[BULAN]=$C$3,TRUE))/(IF($C$4<>\"\",Table2[OFF/ON]=$C$4,TRUE))/(IF($C$5<>\"\",Table2[Status]=$C$5,TRUE))/(IF($C$6<>\"\",Table2[FPPDate]=$C$6,TRUE))/(IF($C$7<>\"\",Table2[ProposalCode]=$C$7,TRUE)),ROW(F74))),\"\")","v":""},{"$f":"IFERROR(INDEX(Table2[Amount_FPPDepo],_xlfn.AGGREGATE(15,6,(ROW(Table2[FPPGroupCode])-2)/(Table2[DepoName]=$C$2)/(IF($C$3<>\"\",Table2[BULAN]=$C$3,TRUE))/(IF($C$4<>\"\",Table2[OFF/ON]=$C$4,TRUE))/(IF($C$5<>\"\",Table2[Status]=$C$5,TRUE))/(IF($C$6<>\"\",Table2[FPPDate]=$C$6,TRUE))/(IF($C$7<>\"\",Table2[ProposalCode]=$C$7,TRUE)),ROW(G74))),\"\")","v":""},{"$f":"IFERROR(VLOOKUP($B82,SIP!$D$5776:$P$6032,12,0),0)","v":0},{"$f":"IFERROR(H82-I82,0)","v":0},{"$f":"IFERROR(VLOOKUP($B82,SIP!$D$5776:$P$6032,8,0),0)","v":0},{"$f":"IFERROR(INDEX(Table2[OFF/ON],_xlfn.AGGREGATE(15,6,(ROW(Table2[FPPGroupCode])-2)/(Table2[DepoName]=$C$2)/(IF($C$3<>\"\",Table2[BULAN]=$C$3,TRUE))/(IF($C$4<>\"\",Table2[OFF/ON]=$C$4,TRUE))/(IF($C$5<>\"\",Table2[Status]=$C$5,TRUE))/(IF($C$6<>\"\",Table2[FPPDate]=$C$6,TRUE))/(IF($C$7<>\"\",Table2[ProposalCode]=$C$7,TRUE)),ROW(K74))),\"\")","v":""}]
[{"$f":"IF(LEN($B83),ROW(A75),\"\")","v":""},{"$f":"IFERROR(INDEX(Table2[FPPGroupCode],_xlfn.AGGREGATE(15,6,(ROW(Table2[FPPGroupCode])-2)/(Table2[DepoName]=$C$2)/(IF($C$3<>\"\",Table2[BULAN]=$C$3,TRUE))/(IF($C$4<>\"\",Table2[OFF/ON]=$C$4,TRUE))/(IF($C$5<>\"\",Table2[Status]=$C$5,TRUE))/(IF($C$6<>\"\",Table2[FPPDate]=$C$6,TRUE))/(IF($C$7<>\"\",Table2[ProposalCode]=$C$7,TRUE)),ROW(A75))),\"\")","v":""},{"$f":"IFERROR(VLOOKUP($B83,SIP!$D$3:$Q$12237,14,0),0)","v":0},{"$f":"IFERROR(INDEX(Table2[Activity],_xlfn.AGGREGATE(15,6,(ROW(Table2[FPPGroupCode])-2)/(Table2[DepoName]=$C$2)/(IF($C$3<>\"\",Table2[BULAN]=$C$3,TRUE))/(IF($C$4<>\"\",Table2[OFF/ON]=$C$4,TRUE))/(IF($C$5<>\"\",Table2[Status]=$C$5,TRUE))/(IF($C$6<>\"\",Table2[]=$C$6,TRUE))/(IF($C$7<>\"\",Table2[ProposalCode]=$C$7,TRUE)),ROW(B75))),\"\")","v":""},{"$f":"IFERROR(INDEX(Table2[Location],_xlfn.AGGREGATE(15,6,(ROW(Table2[FPPGroupCode])-2)/(Table2[DepoName]=$C$2)/(IF($C$3<>\"\",Table2[BULAN]=$C$3,TRUE))/(IF($C$4<>\"\",Table2[OFF/ON]=$C$4,TRUE))/(IF($C$5<>\"\",Table2[Status]=$C$5,TRUE))/(IF($C$6<>\"\",Table2[FPPDate]=$C$6,TRUE))/(IF($C$7<>\"\",Table2[ProposalCode]=$C$7,TRUE)),ROW(D75))),\"\")","v":""},{"$f":"IFERROR(INDEX(Table2[PeriodeStart],_xlfn.AGGREGATE(15,6,(ROW(Table2[FPPGroupCode])-2)/(Table2[DepoName]=$C$2)/(IF($C$3<>\"\",Table2[BULAN]=$C$3,TRUE))/(IF($C$4<>\"\",Table2[OFF/ON]=$C$4,TRUE))/(IF($C$5<>\"\",Table2[Status]=$C$5,TRUE))/(IF($C$6<>\"\",Table2[FPPDate]=$C$6,TRUE))/(IF($C$7<>\"\",Table2[ProposalCode]=$C$7,TRUE)),ROW(E75))),\"\")","v":""},{"$f":"IFERROR(INDEX(Table2[PeriodeEnd],_xlfn.AGGREGATE(15,6,(ROW(Table2[FPPGroupCode])-2)/(Table2[DepoName]=$C$2)/(IF($C$3<>\"\",Table2[BULAN]=$C$3,TRUE))/(IF($C$4<>\"\",Table2[OFF/ON]=$C$4,TRUE))/(IF($C$5<>\"\",Table2[Status]=$C$5,TRUE))/(IF($C$6<>\"\",Table2[FPPDate]=$C$6,TRUE))/(IF($C$7<>\"\",Table2[ProposalCode]=$C$7,TRUE)),ROW(F75))),\"\")","v":""},{"$f":"IFERROR(INDEX(Table2[Amount_FPPDepo],_xlfn.AGGREGATE(15,6,(ROW(Table2[FPPGroupCode])-2)/(Table2[DepoName]=$C$2)/(IF($C$3<>\"\",Table2[BULAN]=$C$3,TRUE))/(IF($C$4<>\"\",Table2[OFF/ON]=$C$4,TRUE))/(IF($C$5<>\"\",Table2[Status]=$C$5,TRUE))/(IF($C$6<>\"\",Table2[FPPDate]=$C$6,TRUE))/(IF($C$7<>\"\",Table2[ProposalCode]=$C$7,TRUE)),ROW(G75))),\"\")","v":""},{"$f":"IFERROR(VLOOKUP($B83,SIP!$D$5776:$P$6032,12,0),0)","v":0},{"$f":"IFERROR(H83-I83,0)","v":0},{"$f":"IFERROR(VLOOKUP($B83,SIP!$D$5776:$P$6032,8,0),0)","v":0},{"$f":"IFERROR(INDEX(Table2[OFF/ON],_xlfn.AGGREGATE(15,6,(ROW(Table2[FPPGroupCode])-2)/(Table2[DepoName]=$C$2)/(IF($C$3<>\"\",Table2[BULAN]=$C$3,TRUE))/(IF($C$4<>\"\",Table2[OFF/ON]=$C$4,TRUE))/(IF($C$5<>\"\",Table2[Status]=$C$5,TRUE))/(IF($C$6<>\"\",Table2[FPPDate]=$C$6,TRUE))/(IF($C$7<>\"\",Table2[ProposalCode]=$C$7,TRUE)),ROW(K75))),\"\")","v":""}]
[{"$f":"IF(LEN($B84),ROW(A76),\"\")","v":""},{"$f":"IFERROR(INDEX(Table2[FPPGroupCode],_xlfn.AGGREGATE(15,6,(ROW(Table2[FPPGroupCode])-2)/(Table2[DepoName]=$C$2)/(IF($C$3<>\"\",Table2[BULAN]=$C$3,TRUE))/(IF($C$4<>\"\",Table2[OFF/ON]=$C$4,TRUE))/(IF($C$5<>\"\",Table2[Status]=$C$5,TRUE))/(IF($C$6<>\"\",Table2[FPPDate]=$C$6,TRUE))/(IF($C$7<>\"\",Table2[ProposalCode]=$C$7,TRUE)),ROW(A76))),\"\")","v":""},{"$f":"IFERROR(VLOOKUP($B84,SIP!$D$3:$Q$12237,14,0),0)","v":0},{"$f":"IFERROR(INDEX(Table2[Activity],_xlfn.AGGREGATE(15,6,(ROW(Table2[FPPGroupCode])-2)/(Table2[DepoName]=$C$2)/(IF($C$3<>\"\",Table2[BULAN]=$C$3,TRUE))/(IF($C$4<>\"\",Table2[OFF/ON]=$C$4,TRUE))/(IF($C$5<>\"\",Table2[Status]=$C$5,TRUE))/(IF($C$6<>\"\",Table2[]=$C$6,TRUE))/(IF($C$7<>\"\",Table2[ProposalCode]=$C$7,TRUE)),ROW(B76))),\"\")","v":""},{"$f":"IFERROR(INDEX(Table2[Location],_xlfn.AGGREGATE(15,6,(ROW(Table2[FPPGroupCode])-2)/(Table2[DepoName]=$C$2)/(IF($C$3<>\"\",Table2[BULAN]=$C$3,TRUE))/(IF($C$4<>\"\",Table2[OFF/ON]=$C$4,TRUE))/(IF($C$5<>\"\",Table2[Status]=$C$5,TRUE))/(IF($C$6<>\"\",Table2[FPPDate]=$C$6,TRUE))/(IF($C$7<>\"\",Table2[ProposalCode]=$C$7,TRUE)),ROW(D76))),\"\")","v":""},{"$f":"IFERROR(INDEX(Table2[PeriodeStart],_xlfn.AGGREGATE(15,6,(ROW(Table2[FPPGroupCode])-2)/(Table2[DepoName]=$C$2)/(IF($C$3<>\"\",Table2[BULAN]=$C$3,TRUE))/(IF($C$4<>\"\",Table2[OFF/ON]=$C$4,TRUE))/(IF($C$5<>\"\",Table2[Status]=$C$5,TRUE))/(IF($C$6<>\"\",Table2[FPPDate]=$C$6,TRUE))/(IF($C$7<>\"\",Table2[ProposalCode]=$C$7,TRUE)),ROW(E76))),\"\")","v":""},{"$f":"IFERROR(INDEX(Table2[PeriodeEnd],_xlfn.AGGREGATE(15,6,(ROW(Table2[FPPGroupCode])-2)/(Table2[DepoName]=$C$2)/(IF($C$3<>\"\",Table2[BULAN]=$C$3,TRUE))/(IF($C$4<>\"\",Table2[OFF/ON]=$C$4,TRUE))/(IF($C$5<>\"\",Table2[Status]=$C$5,TRUE))/(IF($C$6<>\"\",Table2[FPPDate]=$C$6,TRUE))/(IF($C$7<>\"\",Table2[ProposalCode]=$C$7,TRUE)),ROW(F76))),\"\")","v":""},{"$f":"IFERROR(INDEX(Table2[Amount_FPPDepo],_xlfn.AGGREGATE(15,6,(ROW(Table2[FPPGroupCode])-2)/(Table2[DepoName]=$C$2)/(IF($C$3<>\"\",Table2[BULAN]=$C$3,TRUE))/(IF($C$4<>\"\",Table2[OFF/ON]=$C$4,TRUE))/(IF($C$5<>\"\",Table2[Status]=$C$5,TRUE))/(IF($C$6<>\"\",Table2[FPPDate]=$C$6,TRUE))/(IF($C$7<>\"\",Table2[ProposalCode]=$C$7,TRUE)),ROW(G76))),\"\")","v":""},{"$f":"IFERROR(VLOOKUP($B84,SIP!$D$5776:$P$6032,12,0),0)","v":0},{"$f":"IFERROR(H84-I84,0)","v":0},{"$f":"IFERROR(VLOOKUP($B84,SIP!$D$5776:$P$6032,8,0),0)","v":0},{"$f":"IFERROR(INDEX(Table2[OFF/ON],_xlfn.AGGREGATE(15,6,(ROW(Table2[FPPGroupCode])-2)/(Table2[DepoName]=$C$2)/(IF($C$3<>\"\",Table2[BULAN]=$C$3,TRUE))/(IF($C$4<>\"\",Table2[OFF/ON]=$C$4,TRUE))/(IF($C$5<>\"\",Table2[Status]=$C$5,TRUE))/(IF($C$6<>\"\",Table2[FPPDate]=$C$6,TRUE))/(IF($C$7<>\"\",Table2[ProposalCode]=$C$7,TRUE)),ROW(K76))),\"\")","v":""}]
[{"$f":"IF(LEN($B85),ROW(A77),\"\")","v":""},{"$f":"IFERROR(INDEX(Table2[FPPGroupCode],_xlfn.AGGREGATE(15,6,(ROW(Table2[FPPGroupCode])-2)/(Table2[DepoName]=$C$2)/(IF($C$3<>\"\",Table2[BULAN]=$C$3,TRUE))/(IF($C$4<>\"\",Table2[OFF/ON]=$C$4,TRUE))/(IF($C$5<>\"\",Table2[Status]=$C$5,TRUE))/(IF($C$6<>\"\",Table2[FPPDate]=$C$6,TRUE))/(IF($C$7<>\"\",Table2[ProposalCode]=$C$7,TRUE)),ROW(A77))),\"\")","v":""},{"$f":"IFERROR(VLOOKUP($B85,SIP!$D$3:$Q$12237,14,0),0)","v":0},{"$f":"IFERROR(INDEX(Table2[Activity],_xlfn.AGGREGATE(15,6,(ROW(Table2[FPPGroupCode])-2)/(Table2[DepoName]=$C$2)/(IF($C$3<>\"\",Table2[BULAN]=$C$3,TRUE))/(IF($C$4<>\"\",Table2[OFF/ON]=$C$4,TRUE))/(IF($C$5<>\"\",Table2[Status]=$C$5,TRUE))/(IF($C$6<>\"\",Table2[]=$C$6,TRUE))/(IF($C$7<>\"\",Table2[ProposalCode]=$C$7,TRUE)),ROW(B77))),\"\")","v":""},{"$f":"IFERROR(INDEX(Table2[Location],_xlfn.AGGREGATE(15,6,(ROW(Table2[FPPGroupCode])-2)/(Table2[DepoName]=$C$2)/(IF($C$3<>\"\",Table2[BULAN]=$C$3,TRUE))/(IF($C$4<>\"\",Table2[OFF/ON]=$C$4,TRUE))/(IF($C$5<>\"\",Table2[Status]=$C$5,TRUE))/(IF($C$6<>\"\",Table2[FPPDate]=$C$6,TRUE))/(IF($C$7<>\"\",Table2[ProposalCode]=$C$7,TRUE)),ROW(D77))),\"\")","v":""},{"$f":"IFERROR(INDEX(Table2[PeriodeStart],_xlfn.AGGREGATE(15,6,(ROW(Table2[FPPGroupCode])-2)/(Table2[DepoName]=$C$2)/(IF($C$3<>\"\",Table2[BULAN]=$C$3,TRUE))/(IF($C$4<>\"\",Table2[OFF/ON]=$C$4,TRUE))/(IF($C$5<>\"\",Table2[Status]=$C$5,TRUE))/(IF($C$6<>\"\",Table2[FPPDate]=$C$6,TRUE))/(IF($C$7<>\"\",Table2[ProposalCode]=$C$7,TRUE)),ROW(E77))),\"\")","v":""},{"$f":"IFERROR(INDEX(Table2[PeriodeEnd],_xlfn.AGGREGATE(15,6,(ROW(Table2[FPPGroupCode])-2)/(Table2[DepoName]=$C$2)/(IF($C$3<>\"\",Table2[BULAN]=$C$3,TRUE))/(IF($C$4<>\"\",Table2[OFF/ON]=$C$4,TRUE))/(IF($C$5<>\"\",Table2[Status]=$C$5,TRUE))/(IF($C$6<>\"\",Table2[FPPDate]=$C$6,TRUE))/(IF($C$7<>\"\",Table2[ProposalCode]=$C$7,TRUE)),ROW(F77))),\"\")","v":""},{"$f":"IFERROR(INDEX(Table2[Amount_FPPDepo],_xlfn.AGGREGATE(15,6,(ROW(Table2[FPPGroupCode])-2)/(Table2[DepoName]=$C$2)/(IF($C$3<>\"\",Table2[BULAN]=$C$3,TRUE))/(IF($C$4<>\"\",Table2[OFF/ON]=$C$4,TRUE))/(IF($C$5<>\"\",Table2[Status]=$C$5,TRUE))/(IF($C$6<>\"\",Table2[FPPDate]=$C$6,TRUE))/(IF($C$7<>\"\",Table2[ProposalCode]=$C$7,TRUE)),ROW(G77))),\"\")","v":""},{"$f":"IFERROR(VLOOKUP($B85,SIP!$D$5776:$P$6032,12,0),0)","v":0},{"$f":"IFERROR(H85-I85,0)","v":0},{"$f":"IFERROR(VLOOKUP($B85,SIP!$D$5776:$P$6032,8,0),0)","v":0},{"$f":"IFERROR(INDEX(Table2[OFF/ON],_xlfn.AGGREGATE(15,6,(ROW(Table2[FPPGroupCode])-2)/(Table2[DepoName]=$C$2)/(IF($C$3<>\"\",Table2[BULAN]=$C$3,TRUE))/(IF($C$4<>\"\",Table2[OFF/ON]=$C$4,TRUE))/(IF($C$5<>\"\",Table2[Status]=$C$5,TRUE))/(IF($C$6<>\"\",Table2[FPPDate]=$C$6,TRUE))/(IF($C$7<>\"\",Table2[ProposalCode]=$C$7,TRUE)),ROW(K77))),\"\")","v":""}]
[{"$f":"IF(LEN($B86),ROW(A78),\"\")","v":""},{"$f":"IFERROR(INDEX(Table2[FPPGroupCode],_xlfn.AGGREGATE(15,6,(ROW(Table2[FPPGroupCode])-2)/(Table2[DepoName]=$C$2)/(IF($C$3<>\"\",Table2[BULAN]=$C$3,TRUE))/(IF($C$4<>\"\",Table2[OFF/ON]=$C$4,TRUE))/(IF($C$5<>\"\",Table2[Status]=$C$5,TRUE))/(IF($C$6<>\"\",Table2[FPPDate]=$C$6,TRUE))/(IF($C$7<>\"\",Table2[ProposalCode]=$C$7,TRUE)),ROW(A78))),\"\")","v":""},{"$f":"IFERROR(VLOOKUP($B86,SIP!$D$3:$Q$12237,14,0),0)","v":0},{"$f":"IFERROR(INDEX(Table2[Activity],_xlfn.AGGREGATE(15,6,(ROW(Table2[FPPGroupCode])-2)/(Table2[DepoName]=$C$2)/(IF($C$3<>\"\",Table2[BULAN]=$C$3,TRUE))/(IF($C$4<>\"\",Table2[OFF/ON]=$C$4,TRUE))/(IF($C$5<>\"\",Table2[Status]=$C$5,TRUE))/(IF($C$6<>\"\",Table2[]=$C$6,TRUE))/(IF($C$7<>\"\",Table2[ProposalCode]=$C$7,TRUE)),ROW(B78))),\"\")","v":""},{"$f":"IFERROR(INDEX(Table2[Location],_xlfn.AGGREGATE(15,6,(ROW(Table2[FPPGroupCode])-2)/(Table2[DepoName]=$C$2)/(IF($C$3<>\"\",Table2[BULAN]=$C$3,TRUE))/(IF($C$4<>\"\",Table2[OFF/ON]=$C$4,TRUE))/(IF($C$5<>\"\",Table2[Status]=$C$5,TRUE))/(IF($C$6<>\"\",Table2[FPPDate]=$C$6,TRUE))/(IF($C$7<>\"\",Table2[ProposalCode]=$C$7,TRUE)),ROW(D78))),\"\")","v":""},{"$f":"IFERROR(INDEX(Table2[PeriodeStart],_xlfn.AGGREGATE(15,6,(ROW(Table2[FPPGroupCode])-2)/(Table2[DepoName]=$C$2)/(IF($C$3<>\"\",Table2[BULAN]=$C$3,TRUE))/(IF($C$4<>\"\",Table2[OFF/ON]=$C$4,TRUE))/(IF($C$5<>\"\",Table2[Status]=$C$5,TRUE))/(IF($C$6<>\"\",Table2[FPPDate]=$C$6,TRUE))/(IF($C$7<>\"\",Table2[ProposalCode]=$C$7,TRUE)),ROW(E78))),\"\")","v":""},{"$f":"IFERROR(INDEX(Table2[PeriodeEnd],_xlfn.AGGREGATE(15,6,(ROW(Table2[FPPGroupCode])-2)/(Table2[DepoName]=$C$2)/(IF($C$3<>\"\",Table2[BULAN]=$C$3,TRUE))/(IF($C$4<>\"\",Table2[OFF/ON]=$C$4,TRUE))/(IF($C$5<>\"\",Table2[Status]=$C$5,TRUE))/(IF($C$6<>\"\",Table2[FPPDate]=$C$6,TRUE))/(IF($C$7<>\"\",Table2[ProposalCode]=$C$7,TRUE)),ROW(F78))),\"\")","v":""},{"$f":"IFERROR(INDEX(Table2[Amount_FPPDepo],_xlfn.AGGREGATE(15,6,(ROW(Table2[FPPGroupCode])-2)/(Table2[DepoName]=$C$2)/(IF($C$3<>\"\",Table2[BULAN]=$C$3,TRUE))/(IF($C$4<>\"\",Table2[OFF/ON]=$C$4,TRUE))/(IF($C$5<>\"\",Table2[Status]=$C$5,TRUE))/(IF($C$6<>\"\",Table2[FPPDate]=$C$6,TRUE))/(IF($C$7<>\"\",Table2[ProposalCode]=$C$7,TRUE)),ROW(G78))),\"\")","v":""},{"$f":"IFERROR(VLOOKUP($B86,SIP!$D$5776:$P$6032,12,0),0)","v":0},{"$f":"IFERROR(H86-I86,0)","v":0},{"$f":"IFERROR(VLOOKUP($B86,SIP!$D$5776:$P$6032,8,0),0)","v":0},{"$f":"IFERROR(INDEX(Table2[OFF/ON],_xlfn.AGGREGATE(15,6,(ROW(Table2[FPPGroupCode])-2)/(Table2[DepoName]=$C$2)/(IF($C$3<>\"\",Table2[BULAN]=$C$3,TRUE))/(IF($C$4<>\"\",Table2[OFF/ON]=$C$4,TRUE))/(IF($C$5<>\"\",Table2[Status]=$C$5,TRUE))/(IF($C$6<>\"\",Table2[FPPDate]=$C$6,TRUE))/(IF($C$7<>\"\",Table2[ProposalCode]=$C$7,TRUE)),ROW(K78))),\"\")","v":""}]
[{"$f":"IF(LEN($B87),ROW(A79),\"\")","v":""},{"$f":"IFERROR(INDEX(Table2[FPPGroupCode],_xlfn.AGGREGATE(15,6,(ROW(Table2[FPPGroupCode])-2)/(Table2[DepoName]=$C$2)/(IF($C$3<>\"\",Table2[BULAN]=$C$3,TRUE))/(IF($C$4<>\"\",Table2[OFF/ON]=$C$4,TRUE))/(IF($C$5<>\"\",Table2[Status]=$C$5,TRUE))/(IF($C$6<>\"\",Table2[FPPDate]=$C$6,TRUE))/(IF($C$7<>\"\",Table2[ProposalCode]=$C$7,TRUE)),ROW(A79))),\"\")","v":""},{"$f":"IFERROR(VLOOKUP($B87,SIP!$D$3:$Q$12237,14,0),0)","v":0},{"$f":"IFERROR(INDEX(Table2[Activity],_xlfn.AGGREGATE(15,6,(ROW(Table2[FPPGroupCode])-2)/(Table2[DepoName]=$C$2)/(IF($C$3<>\"\",Table2[BULAN]=$C$3,TRUE))/(IF($C$4<>\"\",Table2[OFF/ON]=$C$4,TRUE))/(IF($C$5<>\"\",Table2[Status]=$C$5,TRUE))/(IF($C$6<>\"\",Table2[]=$C$6,TRUE))/(IF($C$7<>\"\",Table2[ProposalCode]=$C$7,TRUE)),ROW(B79))),\"\")","v":""},{"$f":"IFERROR(INDEX(Table2[Location],_xlfn.AGGREGATE(15,6,(ROW(Table2[FPPGroupCode])-2)/(Table2[DepoName]=$C$2)/(IF($C$3<>\"\",Table2[BULAN]=$C$3,TRUE))/(IF($C$4<>\"\",Table2[OFF/ON]=$C$4,TRUE))/(IF($C$5<>\"\",Table2[Status]=$C$5,TRUE))/(IF($C$6<>\"\",Table2[FPPDate]=$C$6,TRUE))/(IF($C$7<>\"\",Table2[ProposalCode]=$C$7,TRUE)),ROW(D79))),\"\")","v":""},{"$f":"IFERROR(INDEX(Table2[PeriodeStart],_xlfn.AGGREGATE(15,6,(ROW(Table2[FPPGroupCode])-2)/(Table2[DepoName]=$C$2)/(IF($C$3<>\"\",Table2[BULAN]=$C$3,TRUE))/(IF($C$4<>\"\",Table2[OFF/ON]=$C$4,TRUE))/(IF($C$5<>\"\",Table2[Status]=$C$5,TRUE))/(IF($C$6<>\"\",Table2[FPPDate]=$C$6,TRUE))/(IF($C$7<>\"\",Table2[ProposalCode]=$C$7,TRUE)),ROW(E79))),\"\")","v":""},{"$f":"IFERROR(INDEX(Table2[PeriodeEnd],_xlfn.AGGREGATE(15,6,(ROW(Table2[FPPGroupCode])-2)/(Table2[DepoName]=$C$2)/(IF($C$3<>\"\",Table2[BULAN]=$C$3,TRUE))/(IF($C$4<>\"\",Table2[OFF/ON]=$C$4,TRUE))/(IF($C$5<>\"\",Table2[Status]=$C$5,TRUE))/(IF($C$6<>\"\",Table2[FPPDate]=$C$6,TRUE))/(IF($C$7<>\"\",Table2[ProposalCode]=$C$7,TRUE)),ROW(F79))),\"\")","v":""},{"$f":"IFERROR(INDEX(Table2[Amount_FPPDepo],_xlfn.AGGREGATE(15,6,(ROW(Table2[FPPGroupCode])-2)/(Table2[DepoName]=$C$2)/(IF($C$3<>\"\",Table2[BULAN]=$C$3,TRUE))/(IF($C$4<>\"\",Table2[OFF/ON]=$C$4,TRUE))/(IF($C$5<>\"\",Table2[Status]=$C$5,TRUE))/(IF($C$6<>\"\",Table2[FPPDate]=$C$6,TRUE))/(IF($C$7<>\"\",Table2[ProposalCode]=$C$7,TRUE)),ROW(G79))),\"\")","v":""},{"$f":"IFERROR(VLOOKUP($B87,SIP!$D$5776:$P$6032,12,0),0)","v":0},{"$f":"IFERROR(H87-I87,0)","v":0},{"$f":"IFERROR(VLOOKUP($B87,SIP!$D$5776:$P$6032,8,0),0)","v":0},{"$f":"IFERROR(INDEX(Table2[OFF/ON],_xlfn.AGGREGATE(15,6,(ROW(Table2[FPPGroupCode])-2)/(Table2[DepoName]=$C$2)/(IF($C$3<>\"\",Table2[BULAN]=$C$3,TRUE))/(IF($C$4<>\"\",Table2[OFF/ON]=$C$4,TRUE))/(IF($C$5<>\"\",Table2[Status]=$C$5,TRUE))/(IF($C$6<>\"\",Table2[FPPDate]=$C$6,TRUE))/(IF($C$7<>\"\",Table2[ProposalCode]=$C$7,TRUE)),ROW(K79))),\"\")","v":""}]
[{"$f":"IF(LEN($B88),ROW(A80),\"\")","v":""},{"$f":"IFERROR(INDEX(Table2[FPPGroupCode],_xlfn.AGGREGATE(15,6,(ROW(Table2[FPPGroupCode])-2)/(Table2[DepoName]=$C$2)/(IF($C$3<>\"\",Table2[BULAN]=$C$3,TRUE))/(IF($C$4<>\"\",Table2[OFF/ON]=$C$4,TRUE))/(IF($C$5<>\"\",Table2[Status]=$C$5,TRUE))/(IF($C$6<>\"\",Table2[FPPDate]=$C$6,TRUE))/(IF($C$7<>\"\",Table2[ProposalCode]=$C$7,TRUE)),ROW(A80))),\"\")","v":""},{"$f":"IFERROR(VLOOKUP($B88,SIP!$D$3:$Q$12237,14,0),0)","v":0},{"$f":"IFERROR(INDEX(Table2[Activity],_xlfn.AGGREGATE(15,6,(ROW(Table2[FPPGroupCode])-2)/(Table2[DepoName]=$C$2)/(IF($C$3<>\"\",Table2[BULAN]=$C$3,TRUE))/(IF($C$4<>\"\",Table2[OFF/ON]=$C$4,TRUE))/(IF($C$5<>\"\",Table2[Status]=$C$5,TRUE))/(IF($C$6<>\"\",Table2[]=$C$6,TRUE))/(IF($C$7<>\"\",Table2[ProposalCode]=$C$7,TRUE)),ROW(B80))),\"\")","v":""},{"$f":"IFERROR(INDEX(Table2[Location],_xlfn.AGGREGATE(15,6,(ROW(Table2[FPPGroupCode])-2)/(Table2[DepoName]=$C$2)/(IF($C$3<>\"\",Table2[BULAN]=$C$3,TRUE))/(IF($C$4<>\"\",Table2[OFF/ON]=$C$4,TRUE))/(IF($C$5<>\"\",Table2[Status]=$C$5,TRUE))/(IF($C$6<>\"\",Table2[FPPDate]=$C$6,TRUE))/(IF($C$7<>\"\",Table2[ProposalCode]=$C$7,TRUE)),ROW(D80))),\"\")","v":""},{"$f":"IFERROR(INDEX(Table2[PeriodeStart],_xlfn.AGGREGATE(15,6,(ROW(Table2[FPPGroupCode])-2)/(Table2[DepoName]=$C$2)/(IF($C$3<>\"\",Table2[BULAN]=$C$3,TRUE))/(IF($C$4<>\"\",Table2[OFF/ON]=$C$4,TRUE))/(IF($C$5<>\"\",Table2[Status]=$C$5,TRUE))/(IF($C$6<>\"\",Table2[FPPDate]=$C$6,TRUE))/(IF($C$7<>\"\",Table2[ProposalCode]=$C$7,TRUE)),ROW(E80))),\"\")","v":""},{"$f":"IFERROR(INDEX(Table2[PeriodeEnd],_xlfn.AGGREGATE(15,6,(ROW(Table2[FPPGroupCode])-2)/(Table2[DepoName]=$C$2)/(IF($C$3<>\"\",Table2[BULAN]=$C$3,TRUE))/(IF($C$4<>\"\",Table2[OFF/ON]=$C$4,TRUE))/(IF($C$5<>\"\",Table2[Status]=$C$5,TRUE))/(IF($C$6<>\"\",Table2[FPPDate]=$C$6,TRUE))/(IF($C$7<>\"\",Table2[ProposalCode]=$C$7,TRUE)),ROW(F80))),\"\")","v":""},{"$f":"IFERROR(INDEX(Table2[Amount_FPPDepo],_xlfn.AGGREGATE(15,6,(ROW(Table2[FPPGroupCode])-2)/(Table2[DepoName]=$C$2)/(IF($C$3<>\"\",Table2[BULAN]=$C$3,TRUE))/(IF($C$4<>\"\",Table2[OFF/ON]=$C$4,TRUE))/(IF($C$5<>\"\",Table2[Status]=$C$5,TRUE))/(IF($C$6<>\"\",Table2[FPPDate]=$C$6,TRUE))/(IF($C$7<>\"\",Table2[ProposalCode]=$C$7,TRUE)),ROW(G80))),\"\")","v":""},{"$f":"IFERROR(VLOOKUP($B88,SIP!$D$5776:$P$6032,12,0),0)","v":0},{"$f":"IFERROR(H88-I88,0)","v":0},{"$f":"IFERROR(VLOOKUP($B88,SIP!$D$5776:$P$6032,8,0),0)","v":0},{"$f":"IFERROR(INDEX(Table2[OFF/ON],_xlfn.AGGREGATE(15,6,(ROW(Table2[FPPGroupCode])-2)/(Table2[DepoName]=$C$2)/(IF($C$3<>\"\",Table2[BULAN]=$C$3,TRUE))/(IF($C$4<>\"\",Table2[OFF/ON]=$C$4,TRUE))/(IF($C$5<>\"\",Table2[Status]=$C$5,TRUE))/(IF($C$6<>\"\",Table2[FPPDate]=$C$6,TRUE))/(IF($C$7<>\"\",Table2[ProposalCode]=$C$7,TRUE)),ROW(K80))),\"\")","v":""}]
[{"$f":"IF(LEN($B89),ROW(A81),\"\")","v":""},{"$f":"IFERROR(INDEX(Table2[FPPGroupCode],_xlfn.AGGREGATE(15,6,(ROW(Table2[FPPGroupCode])-2)/(Table2[DepoName]=$C$2)/(IF($C$3<>\"\",Table2[BULAN]=$C$3,TRUE))/(IF($C$4<>\"\",Table2[OFF/ON]=$C$4,TRUE))/(IF($C$5<>\"\",Table2[Status]=$C$5,TRUE))/(IF($C$6<>\"\",Table2[FPPDate]=$C$6,TRUE))/(IF($C$7<>\"\",Table2[ProposalCode]=$C$7,TRUE)),ROW(A81))),\"\")","v":""},{"$f":"IFERROR(VLOOKUP($B89,SIP!$D$3:$Q$12237,14,0),0)","v":0},{"$f":"IFERROR(INDEX(Table2[Activity],_xlfn.AGGREGATE(15,6,(ROW(Table2[FPPGroupCode])-2)/(Table2[DepoName]=$C$2)/(IF($C$3<>\"\",Table2[BULAN]=$C$3,TRUE))/(IF($C$4<>\"\",Table2[OFF/ON]=$C$4,TRUE))/(IF($C$5<>\"\",Table2[Status]=$C$5,TRUE))/(IF($C$6<>\"\",Table2[]=$C$6,TRUE))/(IF($C$7<>\"\",Table2[ProposalCode]=$C$7,TRUE)),ROW(B81))),\"\")","v":""},{"$f":"IFERROR(INDEX(Table2[Location],_xlfn.AGGREGATE(15,6,(ROW(Table2[FPPGroupCode])-2)/(Table2[DepoName]=$C$2)/(IF($C$3<>\"\",Table2[BULAN]=$C$3,TRUE))/(IF($C$4<>\"\",Table2[OFF/ON]=$C$4,TRUE))/(IF($C$5<>\"\",Table2[Status]=$C$5,TRUE))/(IF($C$6<>\"\",Table2[FPPDate]=$C$6,TRUE))/(IF($C$7<>\"\",Table2[ProposalCode]=$C$7,TRUE)),ROW(D81))),\"\")","v":""},{"$f":"IFERROR(INDEX(Table2[PeriodeStart],_xlfn.AGGREGATE(15,6,(ROW(Table2[FPPGroupCode])-2)/(Table2[DepoName]=$C$2)/(IF($C$3<>\"\",Table2[BULAN]=$C$3,TRUE))/(IF($C$4<>\"\",Table2[OFF/ON]=$C$4,TRUE))/(IF($C$5<>\"\",Table2[Status]=$C$5,TRUE))/(IF($C$6<>\"\",Table2[FPPDate]=$C$6,TRUE))/(IF($C$7<>\"\",Table2[ProposalCode]=$C$7,TRUE)),ROW(E81))),\"\")","v":""},{"$f":"IFERROR(INDEX(Table2[PeriodeEnd],_xlfn.AGGREGATE(15,6,(ROW(Table2[FPPGroupCode])-2)/(Table2[DepoName]=$C$2)/(IF($C$3<>\"\",Table2[BULAN]=$C$3,TRUE))/(IF($C$4<>\"\",Table2[OFF/ON]=$C$4,TRUE))/(IF($C$5<>\"\",Table2[Status]=$C$5,TRUE))/(IF($C$6<>\"\",Table2[FPPDate]=$C$6,TRUE))/(IF($C$7<>\"\",Table2[ProposalCode]=$C$7,TRUE)),ROW(F81))),\"\")","v":""},{"$f":"IFERROR(INDEX(Table2[Amount_FPPDepo],_xlfn.AGGREGATE(15,6,(ROW(Table2[FPPGroupCode])-2)/(Table2[DepoName]=$C$2)/(IF($C$3<>\"\",Table2[BULAN]=$C$3,TRUE))/(IF($C$4<>\"\",Table2[OFF/ON]=$C$4,TRUE))/(IF($C$5<>\"\",Table2[Status]=$C$5,TRUE))/(IF($C$6<>\"\",Table2[FPPDate]=$C$6,TRUE))/(IF($C$7<>\"\",Table2[ProposalCode]=$C$7,TRUE)),ROW(G81))),\"\")","v":""},{"$f":"IFERROR(VLOOKUP($B89,SIP!$D$5776:$P$6032,12,0),0)","v":0},{"$f":"IFERROR(H89-I89,0)","v":0},{"$f":"IFERROR(VLOOKUP($B89,SIP!$D$5776:$P$6032,8,0),0)","v":0},{"$f":"IFERROR(INDEX(Table2[OFF/ON],_xlfn.AGGREGATE(15,6,(ROW(Table2[FPPGroupCode])-2)/(Table2[DepoName]=$C$2)/(IF($C$3<>\"\",Table2[BULAN]=$C$3,TRUE))/(IF($C$4<>\"\",Table2[OFF/ON]=$C$4,TRUE))/(IF($C$5<>\"\",Table2[Status]=$C$5,TRUE))/(IF($C$6<>\"\",Table2[FPPDate]=$C$6,TRUE))/(IF($C$7<>\"\",Table2[ProposalCode]=$C$7,TRUE)),ROW(K81))),\"\")","v":""}]
[{"$f":"IF(LEN($B90),ROW(A82),\"\")","v":""},{"$f":"IFERROR(INDEX(Table2[FPPGroupCode],_xlfn.AGGREGATE(15,6,(ROW(Table2[FPPGroupCode])-2)/(Table2[DepoName]=$C$2)/(IF($C$3<>\"\",Table2[BULAN]=$C$3,TRUE))/(IF($C$4<>\"\",Table2[OFF/ON]=$C$4,TRUE))/(IF($C$5<>\"\",Table2[Status]=$C$5,TRUE))/(IF($C$6<>\"\",Table2[FPPDate]=$C$6,TRUE))/(IF($C$7<>\"\",Table2[ProposalCode]=$C$7,TRUE)),ROW(A82))),\"\")","v":""},{"$f":"IFERROR(VLOOKUP($B90,SIP!$D$3:$Q$12237,14,0),0)","v":0},{"$f":"IFERROR(INDEX(Table2[Activity],_xlfn.AGGREGATE(15,6,(ROW(Table2[FPPGroupCode])-2)/(Table2[DepoName]=$C$2)/(IF($C$3<>\"\",Table2[BULAN]=$C$3,TRUE))/(IF($C$4<>\"\",Table2[OFF/ON]=$C$4,TRUE))/(IF($C$5<>\"\",Table2[Status]=$C$5,TRUE))/(IF($C$6<>\"\",Table2[]=$C$6,TRUE))/(IF($C$7<>\"\",Table2[ProposalCode]=$C$7,TRUE)),ROW(B82))),\"\")","v":""},{"$f":"IFERROR(INDEX(Table2[Location],_xlfn.AGGREGATE(15,6,(ROW(Table2[FPPGroupCode])-2)/(Table2[DepoName]=$C$2)/(IF($C$3<>\"\",Table2[BULAN]=$C$3,TRUE))/(IF($C$4<>\"\",Table2[OFF/ON]=$C$4,TRUE))/(IF($C$5<>\"\",Table2[Status]=$C$5,TRUE))/(IF($C$6<>\"\",Table2[FPPDate]=$C$6,TRUE))/(IF($C$7<>\"\",Table2[ProposalCode]=$C$7,TRUE)),ROW(D82))),\"\")","v":""},{"$f":"IFERROR(INDEX(Table2[PeriodeStart],_xlfn.AGGREGATE(15,6,(ROW(Table2[FPPGroupCode])-2)/(Table2[DepoName]=$C$2)/(IF($C$3<>\"\",Table2[BULAN]=$C$3,TRUE))/(IF($C$4<>\"\",Table2[OFF/ON]=$C$4,TRUE))/(IF($C$5<>\"\",Table2[Status]=$C$5,TRUE))/(IF($C$6<>\"\",Table2[FPPDate]=$C$6,TRUE))/(IF($C$7<>\"\",Table2[ProposalCode]=$C$7,TRUE)),ROW(E82))),\"\")","v":""},{"$f":"IFERROR(INDEX(Table2[PeriodeEnd],_xlfn.AGGREGATE(15,6,(ROW(Table2[FPPGroupCode])-2)/(Table2[DepoName]=$C$2)/(IF($C$3<>\"\",Table2[BULAN]=$C$3,TRUE))/(IF($C$4<>\"\",Table2[OFF/ON]=$C$4,TRUE))/(IF($C$5<>\"\",Table2[Status]=$C$5,TRUE))/(IF($C$6<>\"\",Table2[FPPDate]=$C$6,TRUE))/(IF($C$7<>\"\",Table2[ProposalCode]=$C$7,TRUE)),ROW(F82))),\"\")","v":""},{"$f":"IFERROR(INDEX(Table2[Amount_FPPDepo],_xlfn.AGGREGATE(15,6,(ROW(Table2[FPPGroupCode])-2)/(Table2[DepoName]=$C$2)/(IF($C$3<>\"\",Table2[BULAN]=$C$3,TRUE))/(IF($C$4<>\"\",Table2[OFF/ON]=$C$4,TRUE))/(IF($C$5<>\"\",Table2[Status]=$C$5,TRUE))/(IF($C$6<>\"\",Table2[FPPDate]=$C$6,TRUE))/(IF($C$7<>\"\",Table2[ProposalCode]=$C$7,TRUE)),ROW(G82))),\"\")","v":""},{"$f":"IFERROR(VLOOKUP($B90,SIP!$D$5776:$P$6032,12,0),0)","v":0},{"$f":"IFERROR(H90-I90,0)","v":0},{"$f":"IFERROR(VLOOKUP($B90,SIP!$D$5776:$P$6032,8,0),0)","v":0},{"$f":"IFERROR(INDEX(Table2[OFF/ON],_xlfn.AGGREGATE(15,6,(ROW(Table2[FPPGroupCode])-2)/(Table2[DepoName]=$C$2)/(IF($C$3<>\"\",Table2[BULAN]=$C$3,TRUE))/(IF($C$4<>\"\",Table2[OFF/ON]=$C$4,TRUE))/(IF($C$5<>\"\",Table2[Status]=$C$5,TRUE))/(IF($C$6<>\"\",Table2[FPPDate]=$C$6,TRUE))/(IF($C$7<>\"\",Table2[ProposalCode]=$C$7,TRUE)),ROW(K82))),\"\")","v":""}]
[{"$f":"IF(LEN($B91),ROW(A83),\"\")","v":""},{"$f":"IFERROR(INDEX(Table2[FPPGroupCode],_xlfn.AGGREGATE(15,6,(ROW(Table2[FPPGroupCode])-2)/(Table2[DepoName]=$C$2)/(IF($C$3<>\"\",Table2[BULAN]=$C$3,TRUE))/(IF($C$4<>\"\",Table2[OFF/ON]=$C$4,TRUE))/(IF($C$5<>\"\",Table2[Status]=$C$5,TRUE))/(IF($C$6<>\"\",Table2[FPPDate]=$C$6,TRUE))/(IF($C$7<>\"\",Table2[ProposalCode]=$C$7,TRUE)),ROW(A83))),\"\")","v":""},{"$f":"IFERROR(VLOOKUP($B91,SIP!$D$3:$Q$12237,14,0),0)","v":0},{"$f":"IFERROR(INDEX(Table2[Activity],_xlfn.AGGREGATE(15,6,(ROW(Table2[FPPGroupCode])-2)/(Table2[DepoName]=$C$2)/(IF($C$3<>\"\",Table2[BULAN]=$C$3,TRUE))/(IF($C$4<>\"\",Table2[OFF/ON]=$C$4,TRUE))/(IF($C$5<>\"\",Table2[Status]=$C$5,TRUE))/(IF($C$6<>\"\",Table2[]=$C$6,TRUE))/(IF($C$7<>\"\",Table2[ProposalCode]=$C$7,TRUE)),ROW(B83))),\"\")","v":""},{"$f":"IFERROR(INDEX(Table2[Location],_xlfn.AGGREGATE(15,6,(ROW(Table2[FPPGroupCode])-2)/(Table2[DepoName]=$C$2)/(IF($C$3<>\"\",Table2[BULAN]=$C$3,TRUE))/(IF($C$4<>\"\",Table2[OFF/ON]=$C$4,TRUE))/(IF($C$5<>\"\",Table2[Status]=$C$5,TRUE))/(IF($C$6<>\"\",Table2[FPPDate]=$C$6,TRUE))/(IF($C$7<>\"\",Table2[ProposalCode]=$C$7,TRUE)),ROW(D83))),\"\")","v":""},{"$f":"IFERROR(INDEX(Table2[PeriodeStart],_xlfn.AGGREGATE(15,6,(ROW(Table2[FPPGroupCode])-2)/(Table2[DepoName]=$C$2)/(IF($C$3<>\"\",Table2[BULAN]=$C$3,TRUE))/(IF($C$4<>\"\",Table2[OFF/ON]=$C$4,TRUE))/(IF($C$5<>\"\",Table2[Status]=$C$5,TRUE))/(IF($C$6<>\"\",Table2[FPPDate]=$C$6,TRUE))/(IF($C$7<>\"\",Table2[ProposalCode]=$C$7,TRUE)),ROW(E83))),\"\")","v":""},{"$f":"IFERROR(INDEX(Table2[PeriodeEnd],_xlfn.AGGREGATE(15,6,(ROW(Table2[FPPGroupCode])-2)/(Table2[DepoName]=$C$2)/(IF($C$3<>\"\",Table2[BULAN]=$C$3,TRUE))/(IF($C$4<>\"\",Table2[OFF/ON]=$C$4,TRUE))/(IF($C$5<>\"\",Table2[Status]=$C$5,TRUE))/(IF($C$6<>\"\",Table2[FPPDate]=$C$6,TRUE))/(IF($C$7<>\"\",Table2[ProposalCode]=$C$7,TRUE)),ROW(F83))),\"\")","v":""},{"$f":"IFERROR(INDEX(Table2[Amount_FPPDepo],_xlfn.AGGREGATE(15,6,(ROW(Table2[FPPGroupCode])-2)/(Table2[DepoName]=$C$2)/(IF($C$3<>\"\",Table2[BULAN]=$C$3,TRUE))/(IF($C$4<>\"\",Table2[OFF/ON]=$C$4,TRUE))/(IF($C$5<>\"\",Table2[Status]=$C$5,TRUE))/(IF($C$6<>\"\",Table2[FPPDate]=$C$6,TRUE))/(IF($C$7<>\"\",Table2[ProposalCode]=$C$7,TRUE)),ROW(G83))),\"\")","v":""},{"$f":"IFERROR(VLOOKUP($B91,SIP!$D$5776:$P$6032,12,0),0)","v":0},{"$f":"IFERROR(H91-I91,0)","v":0},{"$f":"IFERROR(VLOOKUP($B91,SIP!$D$5776:$P$6032,8,0),0)","v":0},{"$f":"IFERROR(INDEX(Table2[OFF/ON],_xlfn.AGGREGATE(15,6,(ROW(Table2[FPPGroupCode])-2)/(Table2[DepoName]=$C$2)/(IF($C$3<>\"\",Table2[BULAN]=$C$3,TRUE))/(IF($C$4<>\"\",Table2[OFF/ON]=$C$4,TRUE))/(IF($C$5<>\"\",Table2[Status]=$C$5,TRUE))/(IF($C$6<>\"\",Table2[FPPDate]=$C$6,TRUE))/(IF($C$7<>\"\",Table2[ProposalCode]=$C$7,TRUE)),ROW(K83))),\"\")","v":""}]
[{"$f":"IF(LEN($B92),ROW(A84),\"\")","v":""},{"$f":"IFERROR(INDEX(Table2[FPPGroupCode],_xlfn.AGGREGATE(15,6,(ROW(Table2[FPPGroupCode])-2)/(Table2[DepoName]=$C$2)/(IF($C$3<>\"\",Table2[BULAN]=$C$3,TRUE))/(IF($C$4<>\"\",Table2[OFF/ON]=$C$4,TRUE))/(IF($C$5<>\"\",Table2[Status]=$C$5,TRUE))/(IF($C$6<>\"\",Table2[FPPDate]=$C$6,TRUE))/(IF($C$7<>\"\",Table2[ProposalCode]=$C$7,TRUE)),ROW(A84))),\"\")","v":""},{"$f":"IFERROR(VLOOKUP($B92,SIP!$D$3:$Q$12237,14,0),0)","v":0},{"$f":"IFERROR(INDEX(Table2[Activity],_xlfn.AGGREGATE(15,6,(ROW(Table2[FPPGroupCode])-2)/(Table2[DepoName]=$C$2)/(IF($C$3<>\"\",Table2[BULAN]=$C$3,TRUE))/(IF($C$4<>\"\",Table2[OFF/ON]=$C$4,TRUE))/(IF($C$5<>\"\",Table2[Status]=$C$5,TRUE))/(IF($C$6<>\"\",Table2[]=$C$6,TRUE))/(IF($C$7<>\"\",Table2[ProposalCode]=$C$7,TRUE)),ROW(B84))),\"\")","v":""},{"$f":"IFERROR(INDEX(Table2[Location],_xlfn.AGGREGATE(15,6,(ROW(Table2[FPPGroupCode])-2)/(Table2[DepoName]=$C$2)/(IF($C$3<>\"\",Table2[BULAN]=$C$3,TRUE))/(IF($C$4<>\"\",Table2[OFF/ON]=$C$4,TRUE))/(IF($C$5<>\"\",Table2[Status]=$C$5,TRUE))/(IF($C$6<>\"\",Table2[FPPDate]=$C$6,TRUE))/(IF($C$7<>\"\",Table2[ProposalCode]=$C$7,TRUE)),ROW(D84))),\"\")","v":""},{"$f":"IFERROR(INDEX(Table2[PeriodeStart],_xlfn.AGGREGATE(15,6,(ROW(Table2[FPPGroupCode])-2)/(Table2[DepoName]=$C$2)/(IF($C$3<>\"\",Table2[BULAN]=$C$3,TRUE))/(IF($C$4<>\"\",Table2[OFF/ON]=$C$4,TRUE))/(IF($C$5<>\"\",Table2[Status]=$C$5,TRUE))/(IF($C$6<>\"\",Table2[FPPDate]=$C$6,TRUE))/(IF($C$7<>\"\",Table2[ProposalCode]=$C$7,TRUE)),ROW(E84))),\"\")","v":""},{"$f":"IFERROR(INDEX(Table2[PeriodeEnd],_xlfn.AGGREGATE(15,6,(ROW(Table2[FPPGroupCode])-2)/(Table2[DepoName]=$C$2)/(IF($C$3<>\"\",Table2[BULAN]=$C$3,TRUE))/(IF($C$4<>\"\",Table2[OFF/ON]=$C$4,TRUE))/(IF($C$5<>\"\",Table2[Status]=$C$5,TRUE))/(IF($C$6<>\"\",Table2[FPPDate]=$C$6,TRUE))/(IF($C$7<>\"\",Table2[ProposalCode]=$C$7,TRUE)),ROW(F84))),\"\")","v":""},{"$f":"IFERROR(INDEX(Table2[Amount_FPPDepo],_xlfn.AGGREGATE(15,6,(ROW(Table2[FPPGroupCode])-2)/(Table2[DepoName]=$C$2)/(IF($C$3<>\"\",Table2[BULAN]=$C$3,TRUE))/(IF($C$4<>\"\",Table2[OFF/ON]=$C$4,TRUE))/(IF($C$5<>\"\",Table2[Status]=$C$5,TRUE))/(IF($C$6<>\"\",Table2[FPPDate]=$C$6,TRUE))/(IF($C$7<>\"\",Table2[ProposalCode]=$C$7,TRUE)),ROW(G84))),\"\")","v":""},{"$f":"IFERROR(VLOOKUP($B92,SIP!$D$5776:$P$6032,12,0),0)","v":0},{"$f":"IFERROR(H92-I92,0)","v":0},{"$f":"IFERROR(VLOOKUP($B92,SIP!$D$5776:$P$6032,8,0),0)","v":0},{"$f":"IFERROR(INDEX(Table2[OFF/ON],_xlfn.AGGREGATE(15,6,(ROW(Table2[FPPGroupCode])-2)/(Table2[DepoName]=$C$2)/(IF($C$3<>\"\",Table2[BULAN]=$C$3,TRUE))/(IF($C$4<>\"\",Table2[OFF/ON]=$C$4,TRUE))/(IF($C$5<>\"\",Table2[Status]=$C$5,TRUE))/(IF($C$6<>\"\",Table2[FPPDate]=$C$6,TRUE))/(IF($C$7<>\"\",Table2[ProposalCode]=$C$7,TRUE)),ROW(K84))),\"\")","v":""}]
[{"$f":"IF(LEN($B93),ROW(A85),\"\")","v":""},{"$f":"IFERROR(INDEX(Table2[FPPGroupCode],_xlfn.AGGREGATE(15,6,(ROW(Table2[FPPGroupCode])-2)/(Table2[DepoName]=$C$2)/(IF($C$3<>\"\",Table2[BULAN]=$C$3,TRUE))/(IF($C$4<>\"\",Table2[OFF/ON]=$C$4,TRUE))/(IF($C$5<>\"\",Table2[Status]=$C$5,TRUE))/(IF($C$6<>\"\",Table2[FPPDate]=$C$6,TRUE))/(IF($C$7<>\"\",Table2[ProposalCode]=$C$7,TRUE)),ROW(A85))),\"\")","v":""},{"$f":"IFERROR(VLOOKUP($B93,SIP!$D$3:$Q$12237,14,0),0)","v":0},{"$f":"IFERROR(INDEX(Table2[Activity],_xlfn.AGGREGATE(15,6,(ROW(Table2[FPPGroupCode])-2)/(Table2[DepoName]=$C$2)/(IF($C$3<>\"\",Table2[BULAN]=$C$3,TRUE))/(IF($C$4<>\"\",Table2[OFF/ON]=$C$4,TRUE))/(IF($C$5<>\"\",Table2[Status]=$C$5,TRUE))/(IF($C$6<>\"\",Table2[]=$C$6,TRUE))/(IF($C$7<>\"\",Table2[ProposalCode]=$C$7,TRUE)),ROW(B85))),\"\")","v":""},{"$f":"IFERROR(INDEX(Table2[Location],_xlfn.AGGREGATE(15,6,(ROW(Table2[FPPGroupCode])-2)/(Table2[DepoName]=$C$2)/(IF($C$3<>\"\",Table2[BULAN]=$C$3,TRUE))/(IF($C$4<>\"\",Table2[OFF/ON]=$C$4,TRUE))/(IF($C$5<>\"\",Table2[Status]=$C$5,TRUE))/(IF($C$6<>\"\",Table2[FPPDate]=$C$6,TRUE))/(IF($C$7<>\"\",Table2[ProposalCode]=$C$7,TRUE)),ROW(D85))),\"\")","v":""},{"$f":"IFERROR(INDEX(Table2[PeriodeStart],_xlfn.AGGREGATE(15,6,(ROW(Table2[FPPGroupCode])-2)/(Table2[DepoName]=$C$2)/(IF($C$3<>\"\",Table2[BULAN]=$C$3,TRUE))/(IF($C$4<>\"\",Table2[OFF/ON]=$C$4,TRUE))/(IF($C$5<>\"\",Table2[Status]=$C$5,TRUE))/(IF($C$6<>\"\",Table2[FPPDate]=$C$6,TRUE))/(IF($C$7<>\"\",Table2[ProposalCode]=$C$7,TRUE)),ROW(E85))),\"\")","v":""},{"$f":"IFERROR(INDEX(Table2[PeriodeEnd],_xlfn.AGGREGATE(15,6,(ROW(Table2[FPPGroupCode])-2)/(Table2[DepoName]=$C$2)/(IF($C$3<>\"\",Table2[BULAN]=$C$3,TRUE))/(IF($C$4<>\"\",Table2[OFF/ON]=$C$4,TRUE))/(IF($C$5<>\"\",Table2[Status]=$C$5,TRUE))/(IF($C$6<>\"\",Table2[FPPDate]=$C$6,TRUE))/(IF($C$7<>\"\",Table2[ProposalCode]=$C$7,TRUE)),ROW(F85))),\"\")","v":""},{"$f":"IFERROR(INDEX(Table2[Amount_FPPDepo],_xlfn.AGGREGATE(15,6,(ROW(Table2[FPPGroupCode])-2)/(Table2[DepoName]=$C$2)/(IF($C$3<>\"\",Table2[BULAN]=$C$3,TRUE))/(IF($C$4<>\"\",Table2[OFF/ON]=$C$4,TRUE))/(IF($C$5<>\"\",Table2[Status]=$C$5,TRUE))/(IF($C$6<>\"\",Table2[FPPDate]=$C$6,TRUE))/(IF($C$7<>\"\",Table2[ProposalCode]=$C$7,TRUE)),ROW(G85))),\"\")","v":""},{"$f":"IFERROR(VLOOKUP($B93,SIP!$D$5776:$P$6032,12,0),0)","v":0},{"$f":"IFERROR(H93-I93,0)","v":0},{"$f":"IFERROR(VLOOKUP($B93,SIP!$D$5776:$P$6032,8,0),0)","v":0},{"$f":"IFERROR(INDEX(Table2[OFF/ON],_xlfn.AGGREGATE(15,6,(ROW(Table2[FPPGroupCode])-2)/(Table2[DepoName]=$C$2)/(IF($C$3<>\"\",Table2[BULAN]=$C$3,TRUE))/(IF($C$4<>\"\",Table2[OFF/ON]=$C$4,TRUE))/(IF($C$5<>\"\",Table2[Status]=$C$5,TRUE))/(IF($C$6<>\"\",Table2[FPPDate]=$C$6,TRUE))/(IF($C$7<>\"\",Table2[ProposalCode]=$C$7,TRUE)),ROW(K85))),\"\")","v":""}]
[{"$f":"IF(LEN($B94),ROW(A86),\"\")","v":""},{"$f":"IFERROR(INDEX(Table2[FPPGroupCode],_xlfn.AGGREGATE(15,6,(ROW(Table2[FPPGroupCode])-2)/(Table2[DepoName]=$C$2)/(IF($C$3<>\"\",Table2[BULAN]=$C$3,TRUE))/(IF($C$4<>\"\",Table2[OFF/ON]=$C$4,TRUE))/(IF($C$5<>\"\",Table2[Status]=$C$5,TRUE))/(IF($C$6<>\"\",Table2[FPPDate]=$C$6,TRUE))/(IF($C$7<>\"\",Table2[ProposalCode]=$C$7,TRUE)),ROW(A86))),\"\")","v":""},{"$f":"IFERROR(VLOOKUP($B94,SIP!$D$3:$Q$12237,14,0),0)","v":0},{"$f":"IFERROR(INDEX(Table2[Activity],_xlfn.AGGREGATE(15,6,(ROW(Table2[FPPGroupCode])-2)/(Table2[DepoName]=$C$2)/(IF($C$3<>\"\",Table2[BULAN]=$C$3,TRUE))/(IF($C$4<>\"\",Table2[OFF/ON]=$C$4,TRUE))/(IF($C$5<>\"\",Table2[Status]=$C$5,TRUE))/(IF($C$6<>\"\",Table2[]=$C$6,TRUE))/(IF($C$7<>\"\",Table2[ProposalCode]=$C$7,TRUE)),ROW(B86))),\"\")","v":""},{"$f":"IFERROR(INDEX(Table2[Location],_xlfn.AGGREGATE(15,6,(ROW(Table2[FPPGroupCode])-2)/(Table2[DepoName]=$C$2)/(IF($C$3<>\"\",Table2[BULAN]=$C$3,TRUE))/(IF($C$4<>\"\",Table2[OFF/ON]=$C$4,TRUE))/(IF($C$5<>\"\",Table2[Status]=$C$5,TRUE))/(IF($C$6<>\"\",Table2[FPPDate]=$C$6,TRUE))/(IF($C$7<>\"\",Table2[ProposalCode]=$C$7,TRUE)),ROW(D86))),\"\")","v":""},{"$f":"IFERROR(INDEX(Table2[PeriodeStart],_xlfn.AGGREGATE(15,6,(ROW(Table2[FPPGroupCode])-2)/(Table2[DepoName]=$C$2)/(IF($C$3<>\"\",Table2[BULAN]=$C$3,TRUE))/(IF($C$4<>\"\",Table2[OFF/ON]=$C$4,TRUE))/(IF($C$5<>\"\",Table2[Status]=$C$5,TRUE))/(IF($C$6<>\"\",Table2[FPPDate]=$C$6,TRUE))/(IF($C$7<>\"\",Table2[ProposalCode]=$C$7,TRUE)),ROW(E86))),\"\")","v":""},{"$f":"IFERROR(INDEX(Table2[PeriodeEnd],_xlfn.AGGREGATE(15,6,(ROW(Table2[FPPGroupCode])-2)/(Table2[DepoName]=$C$2)/(IF($C$3<>\"\",Table2[BULAN]=$C$3,TRUE))/(IF($C$4<>\"\",Table2[OFF/ON]=$C$4,TRUE))/(IF($C$5<>\"\",Table2[Status]=$C$5,TRUE))/(IF($C$6<>\"\",Table2[FPPDate]=$C$6,TRUE))/(IF($C$7<>\"\",Table2[ProposalCode]=$C$7,TRUE)),ROW(F86))),\"\")","v":""},{"$f":"IFERROR(INDEX(Table2[Amount_FPPDepo],_xlfn.AGGREGATE(15,6,(ROW(Table2[FPPGroupCode])-2)/(Table2[DepoName]=$C$2)/(IF($C$3<>\"\",Table2[BULAN]=$C$3,TRUE))/(IF($C$4<>\"\",Table2[OFF/ON]=$C$4,TRUE))/(IF($C$5<>\"\",Table2[Status]=$C$5,TRUE))/(IF($C$6<>\"\",Table2[FPPDate]=$C$6,TRUE))/(IF($C$7<>\"\",Table2[ProposalCode]=$C$7,TRUE)),ROW(G86))),\"\")","v":""},{"$f":"IFERROR(VLOOKUP($B94,SIP!$D$5776:$P$6032,12,0),0)","v":0},{"$f":"IFERROR(H94-I94,0)","v":0},{"$f":"IFERROR(VLOOKUP($B94,SIP!$D$5776:$P$6032,8,0),0)","v":0},{"$f":"IFERROR(INDEX(Table2[OFF/ON],_xlfn.AGGREGATE(15,6,(ROW(Table2[FPPGroupCode])-2)/(Table2[DepoName]=$C$2)/(IF($C$3<>\"\",Table2[BULAN]=$C$3,TRUE))/(IF($C$4<>\"\",Table2[OFF/ON]=$C$4,TRUE))/(IF($C$5<>\"\",Table2[Status]=$C$5,TRUE))/(IF($C$6<>\"\",Table2[FPPDate]=$C$6,TRUE))/(IF($C$7<>\"\",Table2[ProposalCode]=$C$7,TRUE)),ROW(K86))),\"\")","v":""}]
[{"$f":"IF(LEN($B95),ROW(A87),\"\")","v":""},{"$f":"IFERROR(INDEX(Table2[FPPGroupCode],_xlfn.AGGREGATE(15,6,(ROW(Table2[FPPGroupCode])-2)/(Table2[DepoName]=$C$2)/(IF($C$3<>\"\",Table2[BULAN]=$C$3,TRUE))/(IF($C$4<>\"\",Table2[OFF/ON]=$C$4,TRUE))/(IF($C$5<>\"\",Table2[Status]=$C$5,TRUE))/(IF($C$6<>\"\",Table2[FPPDate]=$C$6,TRUE))/(IF($C$7<>\"\",Table2[ProposalCode]=$C$7,TRUE)),ROW(A87))),\"\")","v":""},{"$f":"IFERROR(VLOOKUP($B95,SIP!$D$3:$Q$12237,14,0),0)","v":0},{"$f":"IFERROR(INDEX(Table2[Activity],_xlfn.AGGREGATE(15,6,(ROW(Table2[FPPGroupCode])-2)/(Table2[DepoName]=$C$2)/(IF($C$3<>\"\",Table2[BULAN]=$C$3,TRUE))/(IF($C$4<>\"\",Table2[OFF/ON]=$C$4,TRUE))/(IF($C$5<>\"\",Table2[Status]=$C$5,TRUE))/(IF($C$6<>\"\",Table2[]=$C$6,TRUE))/(IF($C$7<>\"\",Table2[ProposalCode]=$C$7,TRUE)),ROW(B87))),\"\")","v":""},{"$f":"IFERROR(INDEX(Table2[Location],_xlfn.AGGREGATE(15,6,(ROW(Table2[FPPGroupCode])-2)/(Table2[DepoName]=$C$2)/(IF($C$3<>\"\",Table2[BULAN]=$C$3,TRUE))/(IF($C$4<>\"\",Table2[OFF/ON]=$C$4,TRUE))/(IF($C$5<>\"\",Table2[Status]=$C$5,TRUE))/(IF($C$6<>\"\",Table2[FPPDate]=$C$6,TRUE))/(IF($C$7<>\"\",Table2[ProposalCode]=$C$7,TRUE)),ROW(D87))),\"\")","v":""},{"$f":"IFERROR(INDEX(Table2[PeriodeStart],_xlfn.AGGREGATE(15,6,(ROW(Table2[FPPGroupCode])-2)/(Table2[DepoName]=$C$2)/(IF($C$3<>\"\",Table2[BULAN]=$C$3,TRUE))/(IF($C$4<>\"\",Table2[OFF/ON]=$C$4,TRUE))/(IF($C$5<>\"\",Table2[Status]=$C$5,TRUE))/(IF($C$6<>\"\",Table2[FPPDate]=$C$6,TRUE))/(IF($C$7<>\"\",Table2[ProposalCode]=$C$7,TRUE)),ROW(E87))),\"\")","v":""},{"$f":"IFERROR(INDEX(Table2[PeriodeEnd],_xlfn.AGGREGATE(15,6,(ROW(Table2[FPPGroupCode])-2)/(Table2[DepoName]=$C$2)/(IF($C$3<>\"\",Table2[BULAN]=$C$3,TRUE))/(IF($C$4<>\"\",Table2[OFF/ON]=$C$4,TRUE))/(IF($C$5<>\"\",Table2[Status]=$C$5,TRUE))/(IF($C$6<>\"\",Table2[FPPDate]=$C$6,TRUE))/(IF($C$7<>\"\",Table2[ProposalCode]=$C$7,TRUE)),ROW(F87))),\"\")","v":""},{"$f":"IFERROR(INDEX(Table2[Amount_FPPDepo],_xlfn.AGGREGATE(15,6,(ROW(Table2[FPPGroupCode])-2)/(Table2[DepoName]=$C$2)/(IF($C$3<>\"\",Table2[BULAN]=$C$3,TRUE))/(IF($C$4<>\"\",Table2[OFF/ON]=$C$4,TRUE))/(IF($C$5<>\"\",Table2[Status]=$C$5,TRUE))/(IF($C$6<>\"\",Table2[FPPDate]=$C$6,TRUE))/(IF($C$7<>\"\",Table2[ProposalCode]=$C$7,TRUE)),ROW(G87))),\"\")","v":""},{"$f":"IFERROR(VLOOKUP($B95,SIP!$D$5776:$P$6032,12,0),0)","v":0},{"$f":"IFERROR(H95-I95,0)","v":0},{"$f":"IFERROR(VLOOKUP($B95,SIP!$D$5776:$P$6032,8,0),0)","v":0},{"$f":"IFERROR(INDEX(Table2[OFF/ON],_xlfn.AGGREGATE(15,6,(ROW(Table2[FPPGroupCode])-2)/(Table2[DepoName]=$C$2)/(IF($C$3<>\"\",Table2[BULAN]=$C$3,TRUE))/(IF($C$4<>\"\",Table2[OFF/ON]=$C$4,TRUE))/(IF($C$5<>\"\",Table2[Status]=$C$5,TRUE))/(IF($C$6<>\"\",Table2[FPPDate]=$C$6,TRUE))/(IF($C$7<>\"\",Table2[ProposalCode]=$C$7,TRUE)),ROW(K87))),\"\")","v":""}]
[{"$f":"IF(LEN($B96),ROW(A88),\"\")","v":""},{"$f":"IFERROR(INDEX(Table2[FPPGroupCode],_xlfn.AGGREGATE(15,6,(ROW(Table2[FPPGroupCode])-2)/(Table2[DepoName]=$C$2)/(IF($C$3<>\"\",Table2[BULAN]=$C$3,TRUE))/(IF($C$4<>\"\",Table2[OFF/ON]=$C$4,TRUE))/(IF($C$5<>\"\",Table2[Status]=$C$5,TRUE))/(IF($C$6<>\"\",Table2[FPPDate]=$C$6,TRUE))/(IF($C$7<>\"\",Table2[ProposalCode]=$C$7,TRUE)),ROW(A88))),\"\")","v":""},{"$f":"IFERROR(VLOOKUP($B96,SIP!$D$3:$Q$12237,14,0),0)","v":0},{"$f":"IFERROR(INDEX(Table2[Activity],_xlfn.AGGREGATE(15,6,(ROW(Table2[FPPGroupCode])-2)/(Table2[DepoName]=$C$2)/(IF($C$3<>\"\",Table2[BULAN]=$C$3,TRUE))/(IF($C$4<>\"\",Table2[OFF/ON]=$C$4,TRUE))/(IF($C$5<>\"\",Table2[Status]=$C$5,TRUE))/(IF($C$6<>\"\",Table2[]=$C$6,TRUE))/(IF($C$7<>\"\",Table2[ProposalCode]=$C$7,TRUE)),ROW(B88))),\"\")","v":""},{"$f":"IFERROR(INDEX(Table2[Location],_xlfn.AGGREGATE(15,6,(ROW(Table2[FPPGroupCode])-2)/(Table2[DepoName]=$C$2)/(IF($C$3<>\"\",Table2[BULAN]=$C$3,TRUE))/(IF($C$4<>\"\",Table2[OFF/ON]=$C$4,TRUE))/(IF($C$5<>\"\",Table2[Status]=$C$5,TRUE))/(IF($C$6<>\"\",Table2[FPPDate]=$C$6,TRUE))/(IF($C$7<>\"\",Table2[ProposalCode]=$C$7,TRUE)),ROW(D88))),\"\")","v":""},{"$f":"IFERROR(INDEX(Table2[PeriodeStart],_xlfn.AGGREGATE(15,6,(ROW(Table2[FPPGroupCode])-2)/(Table2[DepoName]=$C$2)/(IF($C$3<>\"\",Table2[BULAN]=$C$3,TRUE))/(IF($C$4<>\"\",Table2[OFF/ON]=$C$4,TRUE))/(IF($C$5<>\"\",Table2[Status]=$C$5,TRUE))/(IF($C$6<>\"\",Table2[FPPDate]=$C$6,TRUE))/(IF($C$7<>\"\",Table2[ProposalCode]=$C$7,TRUE)),ROW(E88))),\"\")","v":""},{"$f":"IFERROR(INDEX(Table2[PeriodeEnd],_xlfn.AGGREGATE(15,6,(ROW(Table2[FPPGroupCode])-2)/(Table2[DepoName]=$C$2)/(IF($C$3<>\"\",Table2[BULAN]=$C$3,TRUE))/(IF($C$4<>\"\",Table2[OFF/ON]=$C$4,TRUE))/(IF($C$5<>\"\",Table2[Status]=$C$5,TRUE))/(IF($C$6<>\"\",Table2[FPPDate]=$C$6,TRUE))/(IF($C$7<>\"\",Table2[ProposalCode]=$C$7,TRUE)),ROW(F88))),\"\")","v":""},{"$f":"IFERROR(INDEX(Table2[Amount_FPPDepo],_xlfn.AGGREGATE(15,6,(ROW(Table2[FPPGroupCode])-2)/(Table2[DepoName]=$C$2)/(IF($C$3<>\"\",Table2[BULAN]=$C$3,TRUE))/(IF($C$4<>\"\",Table2[OFF/ON]=$C$4,TRUE))/(IF($C$5<>\"\",Table2[Status]=$C$5,TRUE))/(IF($C$6<>\"\",Table2[FPPDate]=$C$6,TRUE))/(IF($C$7<>\"\",Table2[ProposalCode]=$C$7,TRUE)),ROW(G88))),\"\")","v":""},{"$f":"IFERROR(VLOOKUP($B96,SIP!$D$5776:$P$6032,12,0),0)","v":0},{"$f":"IFERROR(H96-I96,0)","v":0},{"$f":"IFERROR(VLOOKUP($B96,SIP!$D$5776:$P$6032,8,0),0)","v":0},{"$f":"IFERROR(INDEX(Table2[OFF/ON],_xlfn.AGGREGATE(15,6,(ROW(Table2[FPPGroupCode])-2)/(Table2[DepoName]=$C$2)/(IF($C$3<>\"\",Table2[BULAN]=$C$3,TRUE))/(IF($C$4<>\"\",Table2[OFF/ON]=$C$4,TRUE))/(IF($C$5<>\"\",Table2[Status]=$C$5,TRUE))/(IF($C$6<>\"\",Table2[FPPDate]=$C$6,TRUE))/(IF($C$7<>\"\",Table2[ProposalCode]=$C$7,TRUE)),ROW(K88))),\"\")","v":""}]
[{"$f":"IF(LEN($B97),ROW(A89),\"\")","v":""},{"$f":"IFERROR(INDEX(Table2[FPPGroupCode],_xlfn.AGGREGATE(15,6,(ROW(Table2[FPPGroupCode])-2)/(Table2[DepoName]=$C$2)/(IF($C$3<>\"\",Table2[BULAN]=$C$3,TRUE))/(IF($C$4<>\"\",Table2[OFF/ON]=$C$4,TRUE))/(IF($C$5<>\"\",Table2[Status]=$C$5,TRUE))/(IF($C$6<>\"\",Table2[FPPDate]=$C$6,TRUE))/(IF($C$7<>\"\",Table2[ProposalCode]=$C$7,TRUE)),ROW(A89))),\"\")","v":""},{"$f":"IFERROR(VLOOKUP($B97,SIP!$D$3:$Q$12237,14,0),0)","v":0},{"$f":"IFERROR(INDEX(Table2[Activity],_xlfn.AGGREGATE(15,6,(ROW(Table2[FPPGroupCode])-2)/(Table2[DepoName]=$C$2)/(IF($C$3<>\"\",Table2[BULAN]=$C$3,TRUE))/(IF($C$4<>\"\",Table2[OFF/ON]=$C$4,TRUE))/(IF($C$5<>\"\",Table2[Status]=$C$5,TRUE))/(IF($C$6<>\"\",Table2[]=$C$6,TRUE))/(IF($C$7<>\"\",Table2[ProposalCode]=$C$7,TRUE)),ROW(B89))),\"\")","v":""},{"$f":"IFERROR(INDEX(Table2[Location],_xlfn.AGGREGATE(15,6,(ROW(Table2[FPPGroupCode])-2)/(Table2[DepoName]=$C$2)/(IF($C$3<>\"\",Table2[BULAN]=$C$3,TRUE))/(IF($C$4<>\"\",Table2[OFF/ON]=$C$4,TRUE))/(IF($C$5<>\"\",Table2[Status]=$C$5,TRUE))/(IF($C$6<>\"\",Table2[FPPDate]=$C$6,TRUE))/(IF($C$7<>\"\",Table2[ProposalCode]=$C$7,TRUE)),ROW(D89))),\"\")","v":""},{"$f":"IFERROR(INDEX(Table2[PeriodeStart],_xlfn.AGGREGATE(15,6,(ROW(Table2[FPPGroupCode])-2)/(Table2[DepoName]=$C$2)/(IF($C$3<>\"\",Table2[BULAN]=$C$3,TRUE))/(IF($C$4<>\"\",Table2[OFF/ON]=$C$4,TRUE))/(IF($C$5<>\"\",Table2[Status]=$C$5,TRUE))/(IF($C$6<>\"\",Table2[FPPDate]=$C$6,TRUE))/(IF($C$7<>\"\",Table2[ProposalCode]=$C$7,TRUE)),ROW(E89))),\"\")","v":""},{"$f":"IFERROR(INDEX(Table2[PeriodeEnd],_xlfn.AGGREGATE(15,6,(ROW(Table2[FPPGroupCode])-2)/(Table2[DepoName]=$C$2)/(IF($C$3<>\"\",Table2[BULAN]=$C$3,TRUE))/(IF($C$4<>\"\",Table2[OFF/ON]=$C$4,TRUE))/(IF($C$5<>\"\",Table2[Status]=$C$5,TRUE))/(IF($C$6<>\"\",Table2[FPPDate]=$C$6,TRUE))/(IF($C$7<>\"\",Table2[ProposalCode]=$C$7,TRUE)),ROW(F89))),\"\")","v":""},{"$f":"IFERROR(INDEX(Table2[Amount_FPPDepo],_xlfn.AGGREGATE(15,6,(ROW(Table2[FPPGroupCode])-2)/(Table2[DepoName]=$C$2)/(IF($C$3<>\"\",Table2[BULAN]=$C$3,TRUE))/(IF($C$4<>\"\",Table2[OFF/ON]=$C$4,TRUE))/(IF($C$5<>\"\",Table2[Status]=$C$5,TRUE))/(IF($C$6<>\"\",Table2[FPPDate]=$C$6,TRUE))/(IF($C$7<>\"\",Table2[ProposalCode]=$C$7,TRUE)),ROW(G89))),\"\")","v":""},{"$f":"IFERROR(VLOOKUP($B97,SIP!$D$5776:$P$6032,12,0),0)","v":0},{"$f":"IFERROR(H97-I97,0)","v":0},{"$f":"IFERROR(VLOOKUP($B97,SIP!$D$5776:$P$6032,8,0),0)","v":0},{"$f":"IFERROR(INDEX(Table2[OFF/ON],_xlfn.AGGREGATE(15,6,(ROW(Table2[FPPGroupCode])-2)/(Table2[DepoName]=$C$2)/(IF($C$3<>\"\",Table2[BULAN]=$C$3,TRUE))/(IF($C$4<>\"\",Table2[OFF/ON]=$C$4,TRUE))/(IF($C$5<>\"\",Table2[Status]=$C$5,TRUE))/(IF($C$6<>\"\",Table2[FPPDate]=$C$6,TRUE))/(IF($C$7<>\"\",Table2[ProposalCode]=$C$7,TRUE)),ROW(K89))),\"\")","v":""}]
[{"$f":"IF(LEN($B98),ROW(A90),\"\")","v":""},{"$f":"IFERROR(INDEX(Table2[FPPGroupCode],_xlfn.AGGREGATE(15,6,(ROW(Table2[FPPGroupCode])-2)/(Table2[DepoName]=$C$2)/(IF($C$3<>\"\",Table2[BULAN]=$C$3,TRUE))/(IF($C$4<>\"\",Table2[OFF/ON]=$C$4,TRUE))/(IF($C$5<>\"\",Table2[Status]=$C$5,TRUE))/(IF($C$6<>\"\",Table2[FPPDate]=$C$6,TRUE))/(IF($C$7<>\"\",Table2[ProposalCode]=$C$7,TRUE)),ROW(A90))),\"\")","v":""},{"$f":"IFERROR(VLOOKUP($B98,SIP!$D$3:$Q$12237,14,0),0)","v":0},{"$f":"IFERROR(INDEX(Table2[Activity],_xlfn.AGGREGATE(15,6,(ROW(Table2[FPPGroupCode])-2)/(Table2[DepoName]=$C$2)/(IF($C$3<>\"\",Table2[BULAN]=$C$3,TRUE))/(IF($C$4<>\"\",Table2[OFF/ON]=$C$4,TRUE))/(IF($C$5<>\"\",Table2[Status]=$C$5,TRUE))/(IF($C$6<>\"\",Table2[]=$C$6,TRUE))/(IF($C$7<>\"\",Table2[ProposalCode]=$C$7,TRUE)),ROW(B90))),\"\")","v":""},{"$f":"IFERROR(INDEX(Table2[Location],_xlfn.AGGREGATE(15,6,(ROW(Table2[FPPGroupCode])-2)/(Table2[DepoName]=$C$2)/(IF($C$3<>\"\",Table2[BULAN]=$C$3,TRUE))/(IF($C$4<>\"\",Table2[OFF/ON]=$C$4,TRUE))/(IF($C$5<>\"\",Table2[Status]=$C$5,TRUE))/(IF($C$6<>\"\",Table2[FPPDate]=$C$6,TRUE))/(IF($C$7<>\"\",Table2[ProposalCode]=$C$7,TRUE)),ROW(D90))),\"\")","v":""},{"$f":"IFERROR(INDEX(Table2[PeriodeStart],_xlfn.AGGREGATE(15,6,(ROW(Table2[FPPGroupCode])-2)/(Table2[DepoName]=$C$2)/(IF($C$3<>\"\",Table2[BULAN]=$C$3,TRUE))/(IF($C$4<>\"\",Table2[OFF/ON]=$C$4,TRUE))/(IF($C$5<>\"\",Table2[Status]=$C$5,TRUE))/(IF($C$6<>\"\",Table2[FPPDate]=$C$6,TRUE))/(IF($C$7<>\"\",Table2[ProposalCode]=$C$7,TRUE)),ROW(E90))),\"\")","v":""},{"$f":"IFERROR(INDEX(Table2[PeriodeEnd],_xlfn.AGGREGATE(15,6,(ROW(Table2[FPPGroupCode])-2)/(Table2[DepoName]=$C$2)/(IF($C$3<>\"\",Table2[BULAN]=$C$3,TRUE))/(IF($C$4<>\"\",Table2[OFF/ON]=$C$4,TRUE))/(IF($C$5<>\"\",Table2[Status]=$C$5,TRUE))/(IF($C$6<>\"\",Table2[FPPDate]=$C$6,TRUE))/(IF($C$7<>\"\",Table2[ProposalCode]=$C$7,TRUE)),ROW(F90))),\"\")","v":""},{"$f":"IFERROR(INDEX(Table2[Amount_FPPDepo],_xlfn.AGGREGATE(15,6,(ROW(Table2[FPPGroupCode])-2)/(Table2[DepoName]=$C$2)/(IF($C$3<>\"\",Table2[BULAN]=$C$3,TRUE))/(IF($C$4<>\"\",Table2[OFF/ON]=$C$4,TRUE))/(IF($C$5<>\"\",Table2[Status]=$C$5,TRUE))/(IF($C$6<>\"\",Table2[FPPDate]=$C$6,TRUE))/(IF($C$7<>\"\",Table2[ProposalCode]=$C$7,TRUE)),ROW(G90))),\"\")","v":""},{"$f":"IFERROR(VLOOKUP($B98,SIP!$D$5776:$P$6032,12,0),0)","v":0},{"$f":"IFERROR(H98-I98,0)","v":0},{"$f":"IFERROR(VLOOKUP($B98,SIP!$D$5776:$P$6032,8,0),0)","v":0},{"$f":"IFERROR(INDEX(Table2[OFF/ON],_xlfn.AGGREGATE(15,6,(ROW(Table2[FPPGroupCode])-2)/(Table2[DepoName]=$C$2)/(IF($C$3<>\"\",Table2[BULAN]=$C$3,TRUE))/(IF($C$4<>\"\",Table2[OFF/ON]=$C$4,TRUE))/(IF($C$5<>\"\",Table2[Status]=$C$5,TRUE))/(IF($C$6<>\"\",Table2[FPPDate]=$C$6,TRUE))/(IF($C$7<>\"\",Table2[ProposalCode]=$C$7,TRUE)),ROW(K90))),\"\")","v":""}]
[{"$f":"IF(LEN($B99),ROW(A91),\"\")","v":""},{"$f":"IFERROR(INDEX(Table2[FPPGroupCode],_xlfn.AGGREGATE(15,6,(ROW(Table2[FPPGroupCode])-2)/(Table2[DepoName]=$C$2)/(IF($C$3<>\"\",Table2[BULAN]=$C$3,TRUE))/(IF($C$4<>\"\",Table2[OFF/ON]=$C$4,TRUE))/(IF($C$5<>\"\",Table2[Status]=$C$5,TRUE))/(IF($C$6<>\"\",Table2[FPPDate]=$C$6,TRUE))/(IF($C$7<>\"\",Table2[ProposalCode]=$C$7,TRUE)),ROW(A91))),\"\")","v":""},{"$f":"IFERROR(VLOOKUP($B99,SIP!$D$3:$Q$12237,14,0),0)","v":0},{"$f":"IFERROR(INDEX(Table2[Activity],_xlfn.AGGREGATE(15,6,(ROW(Table2[FPPGroupCode])-2)/(Table2[DepoName]=$C$2)/(IF($C$3<>\"\",Table2[BULAN]=$C$3,TRUE))/(IF($C$4<>\"\",Table2[OFF/ON]=$C$4,TRUE))/(IF($C$5<>\"\",Table2[Status]=$C$5,TRUE))/(IF($C$6<>\"\",Table2[]=$C$6,TRUE))/(IF($C$7<>\"\",Table2[ProposalCode]=$C$7,TRUE)),ROW(B91))),\"\")","v":""},{"$f":"IFERROR(INDEX(Table2[Location],_xlfn.AGGREGATE(15,6,(ROW(Table2[FPPGroupCode])-2)/(Table2[DepoName]=$C$2)/(IF($C$3<>\"\",Table2[BULAN]=$C$3,TRUE))/(IF($C$4<>\"\",Table2[OFF/ON]=$C$4,TRUE))/(IF($C$5<>\"\",Table2[Status]=$C$5,TRUE))/(IF($C$6<>\"\",Table2[FPPDate]=$C$6,TRUE))/(IF($C$7<>\"\",Table2[ProposalCode]=$C$7,TRUE)),ROW(D91))),\"\")","v":""},{"$f":"IFERROR(INDEX(Table2[PeriodeStart],_xlfn.AGGREGATE(15,6,(ROW(Table2[FPPGroupCode])-2)/(Table2[DepoName]=$C$2)/(IF($C$3<>\"\",Table2[BULAN]=$C$3,TRUE))/(IF($C$4<>\"\",Table2[OFF/ON]=$C$4,TRUE))/(IF($C$5<>\"\",Table2[Status]=$C$5,TRUE))/(IF($C$6<>\"\",Table2[FPPDate]=$C$6,TRUE))/(IF($C$7<>\"\",Table2[ProposalCode]=$C$7,TRUE)),ROW(E91))),\"\")","v":""},{"$f":"IFERROR(INDEX(Table2[PeriodeEnd],_xlfn.AGGREGATE(15,6,(ROW(Table2[FPPGroupCode])-2)/(Table2[DepoName]=$C$2)/(IF($C$3<>\"\",Table2[BULAN]=$C$3,TRUE))/(IF($C$4<>\"\",Table2[OFF/ON]=$C$4,TRUE))/(IF($C$5<>\"\",Table2[Status]=$C$5,TRUE))/(IF($C$6<>\"\",Table2[FPPDate]=$C$6,TRUE))/(IF($C$7<>\"\",Table2[ProposalCode]=$C$7,TRUE)),ROW(F91))),\"\")","v":""},{"$f":"IFERROR(INDEX(Table2[Amount_FPPDepo],_xlfn.AGGREGATE(15,6,(ROW(Table2[FPPGroupCode])-2)/(Table2[DepoName]=$C$2)/(IF($C$3<>\"\",Table2[BULAN]=$C$3,TRUE))/(IF($C$4<>\"\",Table2[OFF/ON]=$C$4,TRUE))/(IF($C$5<>\"\",Table2[Status]=$C$5,TRUE))/(IF($C$6<>\"\",Table2[FPPDate]=$C$6,TRUE))/(IF($C$7<>\"\",Table2[ProposalCode]=$C$7,TRUE)),ROW(G91))),\"\")","v":""},{"$f":"IFERROR(VLOOKUP($B99,SIP!$D$5776:$P$6032,12,0),0)","v":0},{"$f":"IFERROR(H99-I99,0)","v":0},{"$f":"IFERROR(VLOOKUP($B99,SIP!$D$5776:$P$6032,8,0),0)","v":0},{"$f":"IFERROR(INDEX(Table2[OFF/ON],_xlfn.AGGREGATE(15,6,(ROW(Table2[FPPGroupCode])-2)/(Table2[DepoName]=$C$2)/(IF($C$3<>\"\",Table2[BULAN]=$C$3,TRUE))/(IF($C$4<>\"\",Table2[OFF/ON]=$C$4,TRUE))/(IF($C$5<>\"\",Table2[Status]=$C$5,TRUE))/(IF($C$6<>\"\",Table2[FPPDate]=$C$6,TRUE))/(IF($C$7<>\"\",Table2[ProposalCode]=$C$7,TRUE)),ROW(K91))),\"\")","v":""}]
[{"$f":"IF(LEN($B100),ROW(A92),\"\")","v":""},{"$f":"IFERROR(INDEX(Table2[FPPGroupCode],_xlfn.AGGREGATE(15,6,(ROW(Table2[FPPGroupCode])-2)/(Table2[DepoName]=$C$2)/(IF($C$3<>\"\",Table2[BULAN]=$C$3,TRUE))/(IF($C$4<>\"\",Table2[OFF/ON]=$C$4,TRUE))/(IF($C$5<>\"\",Table2[Status]=$C$5,TRUE))/(IF($C$6<>\"\",Table2[FPPDate]=$C$6,TRUE))/(IF($C$7<>\"\",Table2[ProposalCode]=$C$7,TRUE)),ROW(A92))),\"\")","v":""},{"$f":"IFERROR(VLOOKUP($B100,SIP!$D$3:$Q$12237,14,0),0)","v":0},{"$f":"IFERROR(INDEX(Table2[Activity],_xlfn.AGGREGATE(15,6,(ROW(Table2[FPPGroupCode])-2)/(Table2[DepoName]=$C$2)/(IF($C$3<>\"\",Table2[BULAN]=$C$3,TRUE))/(IF($C$4<>\"\",Table2[OFF/ON]=$C$4,TRUE))/(IF($C$5<>\"\",Table2[Status]=$C$5,TRUE))/(IF($C$6<>\"\",Table2[]=$C$6,TRUE))/(IF($C$7<>\"\",Table2[ProposalCode]=$C$7,TRUE)),ROW(B92))),\"\")","v":""},{"$f":"IFERROR(INDEX(Table2[Location],_xlfn.AGGREGATE(15,6,(ROW(Table2[FPPGroupCode])-2)/(Table2[DepoName]=$C$2)/(IF($C$3<>\"\",Table2[BULAN]=$C$3,TRUE))/(IF($C$4<>\"\",Table2[OFF/ON]=$C$4,TRUE))/(IF($C$5<>\"\",Table2[Status]=$C$5,TRUE))/(IF($C$6<>\"\",Table2[FPPDate]=$C$6,TRUE))/(IF($C$7<>\"\",Table2[ProposalCode]=$C$7,TRUE)),ROW(D92))),\"\")","v":""},{"$f":"IFERROR(INDEX(Table2[PeriodeStart],_xlfn.AGGREGATE(15,6,(ROW(Table2[FPPGroupCode])-2)/(Table2[DepoName]=$C$2)/(IF($C$3<>\"\",Table2[BULAN]=$C$3,TRUE))/(IF($C$4<>\"\",Table2[OFF/ON]=$C$4,TRUE))/(IF($C$5<>\"\",Table2[Status]=$C$5,TRUE))/(IF($C$6<>\"\",Table2[FPPDate]=$C$6,TRUE))/(IF($C$7<>\"\",Table2[ProposalCode]=$C$7,TRUE)),ROW(E92))),\"\")","v":""},{"$f":"IFERROR(INDEX(Table2[PeriodeEnd],_xlfn.AGGREGATE(15,6,(ROW(Table2[FPPGroupCode])-2)/(Table2[DepoName]=$C$2)/(IF($C$3<>\"\",Table2[BULAN]=$C$3,TRUE))/(IF($C$4<>\"\",Table2[OFF/ON]=$C$4,TRUE))/(IF($C$5<>\"\",Table2[Status]=$C$5,TRUE))/(IF($C$6<>\"\",Table2[FPPDate]=$C$6,TRUE))/(IF($C$7<>\"\",Table2[ProposalCode]=$C$7,TRUE)),ROW(F92))),\"\")","v":""},{"$f":"IFERROR(INDEX(Table2[Amount_FPPDepo],_xlfn.AGGREGATE(15,6,(ROW(Table2[FPPGroupCode])-2)/(Table2[DepoName]=$C$2)/(IF($C$3<>\"\",Table2[BULAN]=$C$3,TRUE))/(IF($C$4<>\"\",Table2[OFF/ON]=$C$4,TRUE))/(IF($C$5<>\"\",Table2[Status]=$C$5,TRUE))/(IF($C$6<>\"\",Table2[FPPDate]=$C$6,TRUE))/(IF($C$7<>\"\",Table2[ProposalCode]=$C$7,TRUE)),ROW(G92))),\"\")","v":""},{"$f":"IFERROR(VLOOKUP($B100,SIP!$D$5776:$P$6032,12,0),0)","v":0},{"$f":"IFERROR(H100-I100,0)","v":0},{"$f":"IFERROR(VLOOKUP($B100,SIP!$D$5776:$P$6032,8,0),0)","v":0},{"$f":"IFERROR(INDEX(Table2[OFF/ON],_xlfn.AGGREGATE(15,6,(ROW(Table2[FPPGroupCode])-2)/(Table2[DepoName]=$C$2)/(IF($C$3<>\"\",Table2[BULAN]=$C$3,TRUE))/(IF($C$4<>\"\",Table2[OFF/ON]=$C$4,TRUE))/(IF($C$5<>\"\",Table2[Status]=$C$5,TRUE))/(IF($C$6<>\"\",Table2[FPPDate]=$C$6,TRUE))/(IF($C$7<>\"\",Table2[ProposalCode]=$C$7,TRUE)),ROW(K92))),\"\")","v":""}]
[{"$f":"IF(LEN($B101),ROW(A93),\"\")","v":""},{"$f":"IFERROR(INDEX(Table2[FPPGroupCode],_xlfn.AGGREGATE(15,6,(ROW(Table2[FPPGroupCode])-2)/(Table2[DepoName]=$C$2)/(IF($C$3<>\"\",Table2[BULAN]=$C$3,TRUE))/(IF($C$4<>\"\",Table2[OFF/ON]=$C$4,TRUE))/(IF($C$5<>\"\",Table2[Status]=$C$5,TRUE))/(IF($C$6<>\"\",Table2[FPPDate]=$C$6,TRUE))/(IF($C$7<>\"\",Table2[ProposalCode]=$C$7,TRUE)),ROW(A93))),\"\")","v":""},{"$f":"IFERROR(VLOOKUP($B101,SIP!$D$3:$Q$12237,14,0),0)","v":0},{"$f":"IFERROR(INDEX(Table2[Activity],_xlfn.AGGREGATE(15,6,(ROW(Table2[FPPGroupCode])-2)/(Table2[DepoName]=$C$2)/(IF($C$3<>\"\",Table2[BULAN]=$C$3,TRUE))/(IF($C$4<>\"\",Table2[OFF/ON]=$C$4,TRUE))/(IF($C$5<>\"\",Table2[Status]=$C$5,TRUE))/(IF($C$6<>\"\",Table2[]=$C$6,TRUE))/(IF($C$7<>\"\",Table2[ProposalCode]=$C$7,TRUE)),ROW(B93))),\"\")","v":""},{"$f":"IFERROR(INDEX(Table2[Location],_xlfn.AGGREGATE(15,6,(ROW(Table2[FPPGroupCode])-2)/(Table2[DepoName]=$C$2)/(IF($C$3<>\"\",Table2[BULAN]=$C$3,TRUE))/(IF($C$4<>\"\",Table2[OFF/ON]=$C$4,TRUE))/(IF($C$5<>\"\",Table2[Status]=$C$5,TRUE))/(IF($C$6<>\"\",Table2[FPPDate]=$C$6,TRUE))/(IF($C$7<>\"\",Table2[ProposalCode]=$C$7,TRUE)),ROW(D93))),\"\")","v":""},{"$f":"IFERROR(INDEX(Table2[PeriodeStart],_xlfn.AGGREGATE(15,6,(ROW(Table2[FPPGroupCode])-2)/(Table2[DepoName]=$C$2)/(IF($C$3<>\"\",Table2[BULAN]=$C$3,TRUE))/(IF($C$4<>\"\",Table2[OFF/ON]=$C$4,TRUE))/(IF($C$5<>\"\",Table2[Status]=$C$5,TRUE))/(IF($C$6<>\"\",Table2[FPPDate]=$C$6,TRUE))/(IF($C$7<>\"\",Table2[ProposalCode]=$C$7,TRUE)),ROW(E93))),\"\")","v":""},{"$f":"IFERROR(INDEX(Table2[PeriodeEnd],_xlfn.AGGREGATE(15,6,(ROW(Table2[FPPGroupCode])-2)/(Table2[DepoName]=$C$2)/(IF($C$3<>\"\",Table2[BULAN]=$C$3,TRUE))/(IF($C$4<>\"\",Table2[OFF/ON]=$C$4,TRUE))/(IF($C$5<>\"\",Table2[Status]=$C$5,TRUE))/(IF($C$6<>\"\",Table2[FPPDate]=$C$6,TRUE))/(IF($C$7<>\"\",Table2[ProposalCode]=$C$7,TRUE)),ROW(F93))),\"\")","v":""},{"$f":"IFERROR(INDEX(Table2[Amount_FPPDepo],_xlfn.AGGREGATE(15,6,(ROW(Table2[FPPGroupCode])-2)/(Table2[DepoName]=$C$2)/(IF($C$3<>\"\",Table2[BULAN]=$C$3,TRUE))/(IF($C$4<>\"\",Table2[OFF/ON]=$C$4,TRUE))/(IF($C$5<>\"\",Table2[Status]=$C$5,TRUE))/(IF($C$6<>\"\",Table2[FPPDate]=$C$6,TRUE))/(IF($C$7<>\"\",Table2[ProposalCode]=$C$7,TRUE)),ROW(G93))),\"\")","v":""},{"$f":"IFERROR(VLOOKUP($B101,SIP!$D$5776:$P$6032,12,0),0)","v":0},{"$f":"IFERROR(H101-I101,0)","v":0},{"$f":"IFERROR(VLOOKUP($B101,SIP!$D$5776:$P$6032,8,0),0)","v":0},{"$f":"IFERROR(INDEX(Table2[OFF/ON],_xlfn.AGGREGATE(15,6,(ROW(Table2[FPPGroupCode])-2)/(Table2[DepoName]=$C$2)/(IF($C$3<>\"\",Table2[BULAN]=$C$3,TRUE))/(IF($C$4<>\"\",Table2[OFF/ON]=$C$4,TRUE))/(IF($C$5<>\"\",Table2[Status]=$C$5,TRUE))/(IF($C$6<>\"\",Table2[FPPDate]=$C$6,TRUE))/(IF($C$7<>\"\",Table2[ProposalCode]=$C$7,TRUE)),ROW(K93))),\"\")","v":""}]
[{"$f":"IF(LEN($B102),ROW(A94),\"\")","v":""},{"$f":"IFERROR(INDEX(Table2[FPPGroupCode],_xlfn.AGGREGATE(15,6,(ROW(Table2[FPPGroupCode])-2)/(Table2[DepoName]=$C$2)/(IF($C$3<>\"\",Table2[BULAN]=$C$3,TRUE))/(IF($C$4<>\"\",Table2[OFF/ON]=$C$4,TRUE))/(IF($C$5<>\"\",Table2[Status]=$C$5,TRUE))/(IF($C$6<>\"\",Table2[FPPDate]=$C$6,TRUE))/(IF($C$7<>\"\",Table2[ProposalCode]=$C$7,TRUE)),ROW(A94))),\"\")","v":""},{"$f":"IFERROR(VLOOKUP($B102,SIP!$D$3:$Q$12237,14,0),0)","v":0},{"$f":"IFERROR(INDEX(Table2[Activity],_xlfn.AGGREGATE(15,6,(ROW(Table2[FPPGroupCode])-2)/(Table2[DepoName]=$C$2)/(IF($C$3<>\"\",Table2[BULAN]=$C$3,TRUE))/(IF($C$4<>\"\",Table2[OFF/ON]=$C$4,TRUE))/(IF($C$5<>\"\",Table2[Status]=$C$5,TRUE))/(IF($C$6<>\"\",Table2[]=$C$6,TRUE))/(IF($C$7<>\"\",Table2[ProposalCode]=$C$7,TRUE)),ROW(B94))),\"\")","v":""},{"$f":"IFERROR(INDEX(Table2[Location],_xlfn.AGGREGATE(15,6,(ROW(Table2[FPPGroupCode])-2)/(Table2[DepoName]=$C$2)/(IF($C$3<>\"\",Table2[BULAN]=$C$3,TRUE))/(IF($C$4<>\"\",Table2[OFF/ON]=$C$4,TRUE))/(IF($C$5<>\"\",Table2[Status]=$C$5,TRUE))/(IF($C$6<>\"\",Table2[FPPDate]=$C$6,TRUE))/(IF($C$7<>\"\",Table2[ProposalCode]=$C$7,TRUE)),ROW(D94))),\"\")","v":""},{"$f":"IFERROR(INDEX(Table2[PeriodeStart],_xlfn.AGGREGATE(15,6,(ROW(Table2[FPPGroupCode])-2)/(Table2[DepoName]=$C$2)/(IF($C$3<>\"\",Table2[BULAN]=$C$3,TRUE))/(IF($C$4<>\"\",Table2[OFF/ON]=$C$4,TRUE))/(IF($C$5<>\"\",Table2[Status]=$C$5,TRUE))/(IF($C$6<>\"\",Table2[FPPDate]=$C$6,TRUE))/(IF($C$7<>\"\",Table2[ProposalCode]=$C$7,TRUE)),ROW(E94))),\"\")","v":""},{"$f":"IFERROR(INDEX(Table2[PeriodeEnd],_xlfn.AGGREGATE(15,6,(ROW(Table2[FPPGroupCode])-2)/(Table2[DepoName]=$C$2)/(IF($C$3<>\"\",Table2[BULAN]=$C$3,TRUE))/(IF($C$4<>\"\",Table2[OFF/ON]=$C$4,TRUE))/(IF($C$5<>\"\",Table2[Status]=$C$5,TRUE))/(IF($C$6<>\"\",Table2[FPPDate]=$C$6,TRUE))/(IF($C$7<>\"\",Table2[ProposalCode]=$C$7,TRUE)),ROW(F94))),\"\")","v":""},{"$f":"IFERROR(INDEX(Table2[Amount_FPPDepo],_xlfn.AGGREGATE(15,6,(ROW(Table2[FPPGroupCode])-2)/(Table2[DepoName]=$C$2)/(IF($C$3<>\"\",Table2[BULAN]=$C$3,TRUE))/(IF($C$4<>\"\",Table2[OFF/ON]=$C$4,TRUE))/(IF($C$5<>\"\",Table2[Status]=$C$5,TRUE))/(IF($C$6<>\"\",Table2[FPPDate]=$C$6,TRUE))/(IF($C$7<>\"\",Table2[ProposalCode]=$C$7,TRUE)),ROW(G94))),\"\")","v":""},{"$f":"IFERROR(VLOOKUP($B102,SIP!$D$5776:$P$6032,12,0),0)","v":0},{"$f":"IFERROR(H102-I102,0)","v":0},{"$f":"IFERROR(VLOOKUP($B102,SIP!$D$5776:$P$6032,8,0),0)","v":0},{"$f":"IFERROR(INDEX(Table2[OFF/ON],_xlfn.AGGREGATE(15,6,(ROW(Table2[FPPGroupCode])-2)/(Table2[DepoName]=$C$2)/(IF($C$3<>\"\",Table2[BULAN]=$C$3,TRUE))/(IF($C$4<>\"\",Table2[OFF/ON]=$C$4,TRUE))/(IF($C$5<>\"\",Table2[Status]=$C$5,TRUE))/(IF($C$6<>\"\",Table2[FPPDate]=$C$6,TRUE))/(IF($C$7<>\"\",Table2[ProposalCode]=$C$7,TRUE)),ROW(K94))),\"\")","v":""}]
[{"$f":"IF(LEN($B103),ROW(A95),\"\")","v":""},{"$f":"IFERROR(INDEX(Table2[FPPGroupCode],_xlfn.AGGREGATE(15,6,(ROW(Table2[FPPGroupCode])-2)/(Table2[DepoName]=$C$2)/(IF($C$3<>\"\",Table2[BULAN]=$C$3,TRUE))/(IF($C$4<>\"\",Table2[OFF/ON]=$C$4,TRUE))/(IF($C$5<>\"\",Table2[Status]=$C$5,TRUE))/(IF($C$6<>\"\",Table2[FPPDate]=$C$6,TRUE))/(IF($C$7<>\"\",Table2[ProposalCode]=$C$7,TRUE)),ROW(A95))),\"\")","v":""},{"$f":"IFERROR(VLOOKUP($B103,SIP!$D$3:$Q$12237,14,0),0)","v":0},{"$f":"IFERROR(INDEX(Table2[Activity],_xlfn.AGGREGATE(15,6,(ROW(Table2[FPPGroupCode])-2)/(Table2[DepoName]=$C$2)/(IF($C$3<>\"\",Table2[BULAN]=$C$3,TRUE))/(IF($C$4<>\"\",Table2[OFF/ON]=$C$4,TRUE))/(IF($C$5<>\"\",Table2[Status]=$C$5,TRUE))/(IF($C$6<>\"\",Table2[]=$C$6,TRUE))/(IF($C$7<>\"\",Table2[ProposalCode]=$C$7,TRUE)),ROW(B95))),\"\")","v":""},{"$f":"IFERROR(INDEX(Table2[Location],_xlfn.AGGREGATE(15,6,(ROW(Table2[FPPGroupCode])-2)/(Table2[DepoName]=$C$2)/(IF($C$3<>\"\",Table2[BULAN]=$C$3,TRUE))/(IF($C$4<>\"\",Table2[OFF/ON]=$C$4,TRUE))/(IF($C$5<>\"\",Table2[Status]=$C$5,TRUE))/(IF($C$6<>\"\",Table2[FPPDate]=$C$6,TRUE))/(IF($C$7<>\"\",Table2[ProposalCode]=$C$7,TRUE)),ROW(D95))),\"\")","v":""},{"$f":"IFERROR(INDEX(Table2[PeriodeStart],_xlfn.AGGREGATE(15,6,(ROW(Table2[FPPGroupCode])-2)/(Table2[DepoName]=$C$2)/(IF($C$3<>\"\",Table2[BULAN]=$C$3,TRUE))/(IF($C$4<>\"\",Table2[OFF/ON]=$C$4,TRUE))/(IF($C$5<>\"\",Table2[Status]=$C$5,TRUE))/(IF($C$6<>\"\",Table2[FPPDate]=$C$6,TRUE))/(IF($C$7<>\"\",Table2[ProposalCode]=$C$7,TRUE)),ROW(E95))),\"\")","v":""},{"$f":"IFERROR(INDEX(Table2[PeriodeEnd],_xlfn.AGGREGATE(15,6,(ROW(Table2[FPPGroupCode])-2)/(Table2[DepoName]=$C$2)/(IF($C$3<>\"\",Table2[BULAN]=$C$3,TRUE))/(IF($C$4<>\"\",Table2[OFF/ON]=$C$4,TRUE))/(IF($C$5<>\"\",Table2[Status]=$C$5,TRUE))/(IF($C$6<>\"\",Table2[FPPDate]=$C$6,TRUE))/(IF($C$7<>\"\",Table2[ProposalCode]=$C$7,TRUE)),ROW(F95))),\"\")","v":""},{"$f":"IFERROR(INDEX(Table2[Amount_FPPDepo],_xlfn.AGGREGATE(15,6,(ROW(Table2[FPPGroupCode])-2)/(Table2[DepoName]=$C$2)/(IF($C$3<>\"\",Table2[BULAN]=$C$3,TRUE))/(IF($C$4<>\"\",Table2[OFF/ON]=$C$4,TRUE))/(IF($C$5<>\"\",Table2[Status]=$C$5,TRUE))/(IF($C$6<>\"\",Table2[FPPDate]=$C$6,TRUE))/(IF($C$7<>\"\",Table2[ProposalCode]=$C$7,TRUE)),ROW(G95))),\"\")","v":""},{"$f":"IFERROR(VLOOKUP($B103,SIP!$D$5776:$P$6032,12,0),0)","v":0},{"$f":"IFERROR(H103-I103,0)","v":0},{"$f":"IFERROR(VLOOKUP($B103,SIP!$D$5776:$P$6032,8,0),0)","v":0},{"$f":"IFERROR(INDEX(Table2[OFF/ON],_xlfn.AGGREGATE(15,6,(ROW(Table2[FPPGroupCode])-2)/(Table2[DepoName]=$C$2)/(IF($C$3<>\"\",Table2[BULAN]=$C$3,TRUE))/(IF($C$4<>\"\",Table2[OFF/ON]=$C$4,TRUE))/(IF($C$5<>\"\",Table2[Status]=$C$5,TRUE))/(IF($C$6<>\"\",Table2[FPPDate]=$C$6,TRUE))/(IF($C$7<>\"\",Table2[ProposalCode]=$C$7,TRUE)),ROW(K95))),\"\")","v":""}]
[{"$f":"IF(LEN($B104),ROW(A96),\"\")","v":""},{"$f":"IFERROR(INDEX(Table2[FPPGroupCode],_xlfn.AGGREGATE(15,6,(ROW(Table2[FPPGroupCode])-2)/(Table2[DepoName]=$C$2)/(IF($C$3<>\"\",Table2[BULAN]=$C$3,TRUE))/(IF($C$4<>\"\",Table2[OFF/ON]=$C$4,TRUE))/(IF($C$5<>\"\",Table2[Status]=$C$5,TRUE))/(IF($C$6<>\"\",Table2[FPPDate]=$C$6,TRUE))/(IF($C$7<>\"\",Table2[ProposalCode]=$C$7,TRUE)),ROW(A96))),\"\")","v":""},{"$f":"IFERROR(VLOOKUP($B104,SIP!$D$3:$Q$12237,14,0),0)","v":0},{"$f":"IFERROR(INDEX(Table2[Activity],_xlfn.AGGREGATE(15,6,(ROW(Table2[FPPGroupCode])-2)/(Table2[DepoName]=$C$2)/(IF($C$3<>\"\",Table2[BULAN]=$C$3,TRUE))/(IF($C$4<>\"\",Table2[OFF/ON]=$C$4,TRUE))/(IF($C$5<>\"\",Table2[Status]=$C$5,TRUE))/(IF($C$6<>\"\",Table2[]=$C$6,TRUE))/(IF($C$7<>\"\",Table2[ProposalCode]=$C$7,TRUE)),ROW(B96))),\"\")","v":""},{"$f":"IFERROR(INDEX(Table2[Location],_xlfn.AGGREGATE(15,6,(ROW(Table2[FPPGroupCode])-2)/(Table2[DepoName]=$C$2)/(IF($C$3<>\"\",Table2[BULAN]=$C$3,TRUE))/(IF($C$4<>\"\",Table2[OFF/ON]=$C$4,TRUE))/(IF($C$5<>\"\",Table2[Status]=$C$5,TRUE))/(IF($C$6<>\"\",Table2[FPPDate]=$C$6,TRUE))/(IF($C$7<>\"\",Table2[ProposalCode]=$C$7,TRUE)),ROW(D96))),\"\")","v":""},{"$f":"IFERROR(INDEX(Table2[PeriodeStart],_xlfn.AGGREGATE(15,6,(ROW(Table2[FPPGroupCode])-2)/(Table2[DepoName]=$C$2)/(IF($C$3<>\"\",Table2[BULAN]=$C$3,TRUE))/(IF($C$4<>\"\",Table2[OFF/ON]=$C$4,TRUE))/(IF($C$5<>\"\",Table2[Status]=$C$5,TRUE))/(IF($C$6<>\"\",Table2[FPPDate]=$C$6,TRUE))/(IF($C$7<>\"\",Table2[ProposalCode]=$C$7,TRUE)),ROW(E96))),\"\")","v":""},{"$f":"IFERROR(INDEX(Table2[PeriodeEnd],_xlfn.AGGREGATE(15,6,(ROW(Table2[FPPGroupCode])-2)/(Table2[DepoName]=$C$2)/(IF($C$3<>\"\",Table2[BULAN]=$C$3,TRUE))/(IF($C$4<>\"\",Table2[OFF/ON]=$C$4,TRUE))/(IF($C$5<>\"\",Table2[Status]=$C$5,TRUE))/(IF($C$6<>\"\",Table2[FPPDate]=$C$6,TRUE))/(IF($C$7<>\"\",Table2[ProposalCode]=$C$7,TRUE)),ROW(F96))),\"\")","v":""},{"$f":"IFERROR(INDEX(Table2[Amount_FPPDepo],_xlfn.AGGREGATE(15,6,(ROW(Table2[FPPGroupCode])-2)/(Table2[DepoName]=$C$2)/(IF($C$3<>\"\",Table2[BULAN]=$C$3,TRUE))/(IF($C$4<>\"\",Table2[OFF/ON]=$C$4,TRUE))/(IF($C$5<>\"\",Table2[Status]=$C$5,TRUE))/(IF($C$6<>\"\",Table2[FPPDate]=$C$6,TRUE))/(IF($C$7<>\"\",Table2[ProposalCode]=$C$7,TRUE)),ROW(G96))),\"\")","v":""},{"$f":"IFERROR(VLOOKUP($B104,SIP!$D$5776:$P$6032,12,0),0)","v":0},{"$f":"IFERROR(H104-I104,0)","v":0},{"$f":"IFERROR(VLOOKUP($B104,SIP!$D$5776:$P$6032,8,0),0)","v":0},{"$f":"IFERROR(INDEX(Table2[OFF/ON],_xlfn.AGGREGATE(15,6,(ROW(Table2[FPPGroupCode])-2)/(Table2[DepoName]=$C$2)/(IF($C$3<>\"\",Table2[BULAN]=$C$3,TRUE))/(IF($C$4<>\"\",Table2[OFF/ON]=$C$4,TRUE))/(IF($C$5<>\"\",Table2[Status]=$C$5,TRUE))/(IF($C$6<>\"\",Table2[FPPDate]=$C$6,TRUE))/(IF($C$7<>\"\",Table2[ProposalCode]=$C$7,TRUE)),ROW(K96))),\"\")","v":""}]
[{"$f":"IF(LEN($B105),ROW(A97),\"\")","v":""},{"$f":"IFERROR(INDEX(Table2[FPPGroupCode],_xlfn.AGGREGATE(15,6,(ROW(Table2[FPPGroupCode])-2)/(Table2[DepoName]=$C$2)/(IF($C$3<>\"\",Table2[BULAN]=$C$3,TRUE))/(IF($C$4<>\"\",Table2[OFF/ON]=$C$4,TRUE))/(IF($C$5<>\"\",Table2[Status]=$C$5,TRUE))/(IF($C$6<>\"\",Table2[FPPDate]=$C$6,TRUE))/(IF($C$7<>\"\",Table2[ProposalCode]=$C$7,TRUE)),ROW(A97))),\"\")","v":""},{"$f":"IFERROR(VLOOKUP($B105,SIP!$D$3:$Q$12237,14,0),0)","v":0},{"$f":"IFERROR(INDEX(Table2[Activity],_xlfn.AGGREGATE(15,6,(ROW(Table2[FPPGroupCode])-2)/(Table2[DepoName]=$C$2)/(IF($C$3<>\"\",Table2[BULAN]=$C$3,TRUE))/(IF($C$4<>\"\",Table2[OFF/ON]=$C$4,TRUE))/(IF($C$5<>\"\",Table2[Status]=$C$5,TRUE))/(IF($C$6<>\"\",Table2[]=$C$6,TRUE))/(IF($C$7<>\"\",Table2[ProposalCode]=$C$7,TRUE)),ROW(B97))),\"\")","v":""},{"$f":"IFERROR(INDEX(Table2[Location],_xlfn.AGGREGATE(15,6,(ROW(Table2[FPPGroupCode])-2)/(Table2[DepoName]=$C$2)/(IF($C$3<>\"\",Table2[BULAN]=$C$3,TRUE))/(IF($C$4<>\"\",Table2[OFF/ON]=$C$4,TRUE))/(IF($C$5<>\"\",Table2[Status]=$C$5,TRUE))/(IF($C$6<>\"\",Table2[FPPDate]=$C$6,TRUE))/(IF($C$7<>\"\",Table2[ProposalCode]=$C$7,TRUE)),ROW(D97))),\"\")","v":""},{"$f":"IFERROR(INDEX(Table2[PeriodeStart],_xlfn.AGGREGATE(15,6,(ROW(Table2[FPPGroupCode])-2)/(Table2[DepoName]=$C$2)/(IF($C$3<>\"\",Table2[BULAN]=$C$3,TRUE))/(IF($C$4<>\"\",Table2[OFF/ON]=$C$4,TRUE))/(IF($C$5<>\"\",Table2[Status]=$C$5,TRUE))/(IF($C$6<>\"\",Table2[FPPDate]=$C$6,TRUE))/(IF($C$7<>\"\",Table2[ProposalCode]=$C$7,TRUE)),ROW(E97))),\"\")","v":""},{"$f":"IFERROR(INDEX(Table2[PeriodeEnd],_xlfn.AGGREGATE(15,6,(ROW(Table2[FPPGroupCode])-2)/(Table2[DepoName]=$C$2)/(IF($C$3<>\"\",Table2[BULAN]=$C$3,TRUE))/(IF($C$4<>\"\",Table2[OFF/ON]=$C$4,TRUE))/(IF($C$5<>\"\",Table2[Status]=$C$5,TRUE))/(IF($C$6<>\"\",Table2[FPPDate]=$C$6,TRUE))/(IF($C$7<>\"\",Table2[ProposalCode]=$C$7,TRUE)),ROW(F97))),\"\")","v":""},{"$f":"IFERROR(INDEX(Table2[Amount_FPPDepo],_xlfn.AGGREGATE(15,6,(ROW(Table2[FPPGroupCode])-2)/(Table2[DepoName]=$C$2)/(IF($C$3<>\"\",Table2[BULAN]=$C$3,TRUE))/(IF($C$4<>\"\",Table2[OFF/ON]=$C$4,TRUE))/(IF($C$5<>\"\",Table2[Status]=$C$5,TRUE))/(IF($C$6<>\"\",Table2[FPPDate]=$C$6,TRUE))/(IF($C$7<>\"\",Table2[ProposalCode]=$C$7,TRUE)),ROW(G97))),\"\")","v":""},{"$f":"IFERROR(VLOOKUP($B105,SIP!$D$5776:$P$6032,12,0),0)","v":0},{"$f":"IFERROR(H105-I105,0)","v":0},{"$f":"IFERROR(VLOOKUP($B105,SIP!$D$5776:$P$6032,8,0),0)","v":0},{"$f":"IFERROR(INDEX(Table2[OFF/ON],_xlfn.AGGREGATE(15,6,(ROW(Table2[FPPGroupCode])-2)/(Table2[DepoName]=$C$2)/(IF($C$3<>\"\",Table2[BULAN]=$C$3,TRUE))/(IF($C$4<>\"\",Table2[OFF/ON]=$C$4,TRUE))/(IF($C$5<>\"\",Table2[Status]=$C$5,TRUE))/(IF($C$6<>\"\",Table2[FPPDate]=$C$6,TRUE))/(IF($C$7<>\"\",Table2[ProposalCode]=$C$7,TRUE)),ROW(K97))),\"\")","v":""}]
[{"$f":"IF(LEN($B106),ROW(A98),\"\")","v":""},{"$f":"IFERROR(INDEX(Table2[FPPGroupCode],_xlfn.AGGREGATE(15,6,(ROW(Table2[FPPGroupCode])-2)/(Table2[DepoName]=$C$2)/(IF($C$3<>\"\",Table2[BULAN]=$C$3,TRUE))/(IF($C$4<>\"\",Table2[OFF/ON]=$C$4,TRUE))/(IF($C$5<>\"\",Table2[Status]=$C$5,TRUE))/(IF($C$6<>\"\",Table2[FPPDate]=$C$6,TRUE))/(IF($C$7<>\"\",Table2[ProposalCode]=$C$7,TRUE)),ROW(A98))),\"\")","v":""},{"$f":"IFERROR(VLOOKUP($B106,SIP!$D$3:$Q$12237,14,0),0)","v":0},{"$f":"IFERROR(INDEX(Table2[Activity],_xlfn.AGGREGATE(15,6,(ROW(Table2[FPPGroupCode])-2)/(Table2[DepoName]=$C$2)/(IF($C$3<>\"\",Table2[BULAN]=$C$3,TRUE))/(IF($C$4<>\"\",Table2[OFF/ON]=$C$4,TRUE))/(IF($C$5<>\"\",Table2[Status]=$C$5,TRUE))/(IF($C$6<>\"\",Table2[]=$C$6,TRUE))/(IF($C$7<>\"\",Table2[ProposalCode]=$C$7,TRUE)),ROW(B98))),\"\")","v":""},{"$f":"IFERROR(INDEX(Table2[Location],_xlfn.AGGREGATE(15,6,(ROW(Table2[FPPGroupCode])-2)/(Table2[DepoName]=$C$2)/(IF($C$3<>\"\",Table2[BULAN]=$C$3,TRUE))/(IF($C$4<>\"\",Table2[OFF/ON]=$C$4,TRUE))/(IF($C$5<>\"\",Table2[Status]=$C$5,TRUE))/(IF($C$6<>\"\",Table2[FPPDate]=$C$6,TRUE))/(IF($C$7<>\"\",Table2[ProposalCode]=$C$7,TRUE)),ROW(D98))),\"\")","v":""},{"$f":"IFERROR(INDEX(Table2[PeriodeStart],_xlfn.AGGREGATE(15,6,(ROW(Table2[FPPGroupCode])-2)/(Table2[DepoName]=$C$2)/(IF($C$3<>\"\",Table2[BULAN]=$C$3,TRUE))/(IF($C$4<>\"\",Table2[OFF/ON]=$C$4,TRUE))/(IF($C$5<>\"\",Table2[Status]=$C$5,TRUE))/(IF($C$6<>\"\",Table2[FPPDate]=$C$6,TRUE))/(IF($C$7<>\"\",Table2[ProposalCode]=$C$7,TRUE)),ROW(E98))),\"\")","v":""},{"$f":"IFERROR(INDEX(Table2[PeriodeEnd],_xlfn.AGGREGATE(15,6,(ROW(Table2[FPPGroupCode])-2)/(Table2[DepoName]=$C$2)/(IF($C$3<>\"\",Table2[BULAN]=$C$3,TRUE))/(IF($C$4<>\"\",Table2[OFF/ON]=$C$4,TRUE))/(IF($C$5<>\"\",Table2[Status]=$C$5,TRUE))/(IF($C$6<>\"\",Table2[FPPDate]=$C$6,TRUE))/(IF($C$7<>\"\",Table2[ProposalCode]=$C$7,TRUE)),ROW(F98))),\"\")","v":""},{"$f":"IFERROR(INDEX(Table2[Amount_FPPDepo],_xlfn.AGGREGATE(15,6,(ROW(Table2[FPPGroupCode])-2)/(Table2[DepoName]=$C$2)/(IF($C$3<>\"\",Table2[BULAN]=$C$3,TRUE))/(IF($C$4<>\"\",Table2[OFF/ON]=$C$4,TRUE))/(IF($C$5<>\"\",Table2[Status]=$C$5,TRUE))/(IF($C$6<>\"\",Table2[FPPDate]=$C$6,TRUE))/(IF($C$7<>\"\",Table2[ProposalCode]=$C$7,TRUE)),ROW(G98))),\"\")","v":""},{"$f":"IFERROR(VLOOKUP($B106,SIP!$D$5776:$P$6032,12,0),0)","v":0},{"$f":"IFERROR(H106-I106,0)","v":0},{"$f":"IFERROR(VLOOKUP($B106,SIP!$D$5776:$P$6032,8,0),0)","v":0},{"$f":"IFERROR(INDEX(Table2[OFF/ON],_xlfn.AGGREGATE(15,6,(ROW(Table2[FPPGroupCode])-2)/(Table2[DepoName]=$C$2)/(IF($C$3<>\"\",Table2[BULAN]=$C$3,TRUE))/(IF($C$4<>\"\",Table2[OFF/ON]=$C$4,TRUE))/(IF($C$5<>\"\",Table2[Status]=$C$5,TRUE))/(IF($C$6<>\"\",Table2[FPPDate]=$C$6,TRUE))/(IF($C$7<>\"\",Table2[ProposalCode]=$C$7,TRUE)),ROW(K98))),\"\")","v":""}]
[{"$f":"IF(LEN($B107),ROW(A99),\"\")","v":""},{"$f":"IFERROR(INDEX(Table2[FPPGroupCode],_xlfn.AGGREGATE(15,6,(ROW(Table2[FPPGroupCode])-2)/(Table2[DepoName]=$C$2)/(IF($C$3<>\"\",Table2[BULAN]=$C$3,TRUE))/(IF($C$4<>\"\",Table2[OFF/ON]=$C$4,TRUE))/(IF($C$5<>\"\",Table2[Status]=$C$5,TRUE))/(IF($C$6<>\"\",Table2[FPPDate]=$C$6,TRUE))/(IF($C$7<>\"\",Table2[ProposalCode]=$C$7,TRUE)),ROW(A99))),\"\")","v":""},{"$f":"IFERROR(VLOOKUP($B107,SIP!$D$3:$Q$12237,14,0),0)","v":0},{"$f":"IFERROR(INDEX(Table2[Activity],_xlfn.AGGREGATE(15,6,(ROW(Table2[FPPGroupCode])-2)/(Table2[DepoName]=$C$2)/(IF($C$3<>\"\",Table2[BULAN]=$C$3,TRUE))/(IF($C$4<>\"\",Table2[OFF/ON]=$C$4,TRUE))/(IF($C$5<>\"\",Table2[Status]=$C$5,TRUE))/(IF($C$6<>\"\",Table2[]=$C$6,TRUE))/(IF($C$7<>\"\",Table2[ProposalCode]=$C$7,TRUE)),ROW(B99))),\"\")","v":""},{"$f":"IFERROR(INDEX(Table2[Location],_xlfn.AGGREGATE(15,6,(ROW(Table2[FPPGroupCode])-2)/(Table2[DepoName]=$C$2)/(IF($C$3<>\"\",Table2[BULAN]=$C$3,TRUE))/(IF($C$4<>\"\",Table2[OFF/ON]=$C$4,TRUE))/(IF($C$5<>\"\",Table2[Status]=$C$5,TRUE))/(IF($C$6<>\"\",Table2[FPPDate]=$C$6,TRUE))/(IF($C$7<>\"\",Table2[ProposalCode]=$C$7,TRUE)),ROW(D99))),\"\")","v":""},{"$f":"IFERROR(INDEX(Table2[PeriodeStart],_xlfn.AGGREGATE(15,6,(ROW(Table2[FPPGroupCode])-2)/(Table2[DepoName]=$C$2)/(IF($C$3<>\"\",Table2[BULAN]=$C$3,TRUE))/(IF($C$4<>\"\",Table2[OFF/ON]=$C$4,TRUE))/(IF($C$5<>\"\",Table2[Status]=$C$5,TRUE))/(IF($C$6<>\"\",Table2[FPPDate]=$C$6,TRUE))/(IF($C$7<>\"\",Table2[ProposalCode]=$C$7,TRUE)),ROW(E99))),\"\")","v":""},{"$f":"IFERROR(INDEX(Table2[PeriodeEnd],_xlfn.AGGREGATE(15,6,(ROW(Table2[FPPGroupCode])-2)/(Table2[DepoName]=$C$2)/(IF($C$3<>\"\",Table2[BULAN]=$C$3,TRUE))/(IF($C$4<>\"\",Table2[OFF/ON]=$C$4,TRUE))/(IF($C$5<>\"\",Table2[Status]=$C$5,TRUE))/(IF($C$6<>\"\",Table2[FPPDate]=$C$6,TRUE))/(IF($C$7<>\"\",Table2[ProposalCode]=$C$7,TRUE)),ROW(F99))),\"\")","v":""},{"$f":"IFERROR(INDEX(Table2[Amount_FPPDepo],_xlfn.AGGREGATE(15,6,(ROW(Table2[FPPGroupCode])-2)/(Table2[DepoName]=$C$2)/(IF($C$3<>\"\",Table2[BULAN]=$C$3,TRUE))/(IF($C$4<>\"\",Table2[OFF/ON]=$C$4,TRUE))/(IF($C$5<>\"\",Table2[Status]=$C$5,TRUE))/(IF($C$6<>\"\",Table2[FPPDate]=$C$6,TRUE))/(IF($C$7<>\"\",Table2[ProposalCode]=$C$7,TRUE)),ROW(G99))),\"\")","v":""},{"$f":"IFERROR(VLOOKUP($B107,SIP!$D$5776:$P$6032,12,0),0)","v":0},{"$f":"IFERROR(H107-I107,0)","v":0},{"$f":"IFERROR(VLOOKUP($B107,SIP!$D$5776:$P$6032,8,0),0)","v":0},{"$f":"IFERROR(INDEX(Table2[OFF/ON],_xlfn.AGGREGATE(15,6,(ROW(Table2[FPPGroupCode])-2)/(Table2[DepoName]=$C$2)/(IF($C$3<>\"\",Table2[BULAN]=$C$3,TRUE))/(IF($C$4<>\"\",Table2[OFF/ON]=$C$4,TRUE))/(IF($C$5<>\"\",Table2[Status]=$C$5,TRUE))/(IF($C$6<>\"\",Table2[FPPDate]=$C$6,TRUE))/(IF($C$7<>\"\",Table2[ProposalCode]=$C$7,TRUE)),ROW(K99))),\"\")","v":""}]
[{"$f":"IF(LEN($B108),ROW(A100),\"\")","v":""},{"$f":"IFERROR(INDEX(Table2[FPPGroupCode],_xlfn.AGGREGATE(15,6,(ROW(Table2[FPPGroupCode])-2)/(Table2[DepoName]=$C$2)/(IF($C$3<>\"\",Table2[BULAN]=$C$3,TRUE))/(IF($C$4<>\"\",Table2[OFF/ON]=$C$4,TRUE))/(IF($C$5<>\"\",Table2[Status]=$C$5,TRUE))/(IF($C$6<>\"\",Table2[FPPDate]=$C$6,TRUE))/(IF($C$7<>\"\",Table2[ProposalCode]=$C$7,TRUE)),ROW(A100))),\"\")","v":""},{"$f":"IFERROR(VLOOKUP($B108,SIP!$D$3:$Q$12237,14,0),0)","v":0},{"$f":"IFERROR(INDEX(Table2[Activity],_xlfn.AGGREGATE(15,6,(ROW(Table2[FPPGroupCode])-2)/(Table2[DepoName]=$C$2)/(IF($C$3<>\"\",Table2[BULAN]=$C$3,TRUE))/(IF($C$4<>\"\",Table2[OFF/ON]=$C$4,TRUE))/(IF($C$5<>\"\",Table2[Status]=$C$5,TRUE))/(IF($C$6<>\"\",Table2[]=$C$6,TRUE))/(IF($C$7<>\"\",Table2[ProposalCode]=$C$7,TRUE)),ROW(B100))),\"\")","v":""},{"$f":"IFERROR(INDEX(Table2[Location],_xlfn.AGGREGATE(15,6,(ROW(Table2[FPPGroupCode])-2)/(Table2[DepoName]=$C$2)/(IF($C$3<>\"\",Table2[BULAN]=$C$3,TRUE))/(IF($C$4<>\"\",Table2[OFF/ON]=$C$4,TRUE))/(IF($C$5<>\"\",Table2[Status]=$C$5,TRUE))/(IF($C$6<>\"\",Table2[FPPDate]=$C$6,TRUE))/(IF($C$7<>\"\",Table2[ProposalCode]=$C$7,TRUE)),ROW(D100))),\"\")","v":""},{"$f":"IFERROR(INDEX(Table2[PeriodeStart],_xlfn.AGGREGATE(15,6,(ROW(Table2[FPPGroupCode])-2)/(Table2[DepoName]=$C$2)/(IF($C$3<>\"\",Table2[BULAN]=$C$3,TRUE))/(IF($C$4<>\"\",Table2[OFF/ON]=$C$4,TRUE))/(IF($C$5<>\"\",Table2[Status]=$C$5,TRUE))/(IF($C$6<>\"\",Table2[FPPDate]=$C$6,TRUE))/(IF($C$7<>\"\",Table2[ProposalCode]=$C$7,TRUE)),ROW(E100))),\"\")","v":""},{"$f":"IFERROR(INDEX(Table2[PeriodeEnd],_xlfn.AGGREGATE(15,6,(ROW(Table2[FPPGroupCode])-2)/(Table2[DepoName]=$C$2)/(IF($C$3<>\"\",Table2[BULAN]=$C$3,TRUE))/(IF($C$4<>\"\",Table2[OFF/ON]=$C$4,TRUE))/(IF($C$5<>\"\",Table2[Status]=$C$5,TRUE))/(IF($C$6<>\"\",Table2[FPPDate]=$C$6,TRUE))/(IF($C$7<>\"\",Table2[ProposalCode]=$C$7,TRUE)),ROW(F100))),\"\")","v":""},{"$f":"IFERROR(INDEX(Table2[Amount_FPPDepo],_xlfn.AGGREGATE(15,6,(ROW(Table2[FPPGroupCode])-2)/(Table2[DepoName]=$C$2)/(IF($C$3<>\"\",Table2[BULAN]=$C$3,TRUE))/(IF($C$4<>\"\",Table2[OFF/ON]=$C$4,TRUE))/(IF($C$5<>\"\",Table2[Status]=$C$5,TRUE))/(IF($C$6<>\"\",Table2[FPPDate]=$C$6,TRUE))/(IF($C$7<>\"\",Table2[ProposalCode]=$C$7,TRUE)),ROW(G100))),\"\")","v":""},{"$f":"IFERROR(VLOOKUP($B108,SIP!$D$5776:$P$6032,12,0),0)","v":0},{"$f":"IFERROR(H108-I108,0)","v":0},{"$f":"IFERROR(VLOOKUP($B108,SIP!$D$5776:$P$6032,8,0),0)","v":0},{"$f":"IFERROR(INDEX(Table2[OFF/ON],_xlfn.AGGREGATE(15,6,(ROW(Table2[FPPGroupCode])-2)/(Table2[DepoName]=$C$2)/(IF($C$3<>\"\",Table2[BULAN]=$C$3,TRUE))/(IF($C$4<>\"\",Table2[OFF/ON]=$C$4,TRUE))/(IF($C$5<>\"\",Table2[Status]=$C$5,TRUE))/(IF($C$6<>\"\",Table2[FPPDate]=$C$6,TRUE))/(IF($C$7<>\"\",Table2[ProposalCode]=$C$7,TRUE)),ROW(K100))),\"\")","v":""}]
[{"$f":"IF(LEN($B109),ROW(A101),\"\")","v":""},{"$f":"IFERROR(INDEX(Table2[FPPGroupCode],_xlfn.AGGREGATE(15,6,(ROW(Table2[FPPGroupCode])-2)/(Table2[DepoName]=$C$2)/(IF($C$3<>\"\",Table2[BULAN]=$C$3,TRUE))/(IF($C$4<>\"\",Table2[OFF/ON]=$C$4,TRUE))/(IF($C$5<>\"\",Table2[Status]=$C$5,TRUE))/(IF($C$6<>\"\",Table2[FPPDate]=$C$6,TRUE))/(IF($C$7<>\"\",Table2[ProposalCode]=$C$7,TRUE)),ROW(A101))),\"\")","v":""},{"$f":"IFERROR(VLOOKUP($B109,SIP!$D$3:$Q$12237,14,0),0)","v":0},{"$f":"IFERROR(INDEX(Table2[Activity],_xlfn.AGGREGATE(15,6,(ROW(Table2[FPPGroupCode])-2)/(Table2[DepoName]=$C$2)/(IF($C$3<>\"\",Table2[BULAN]=$C$3,TRUE))/(IF($C$4<>\"\",Table2[OFF/ON]=$C$4,TRUE))/(IF($C$5<>\"\",Table2[Status]=$C$5,TRUE))/(IF($C$6<>\"\",Table2[]=$C$6,TRUE))/(IF($C$7<>\"\",Table2[ProposalCode]=$C$7,TRUE)),ROW(B101))),\"\")","v":""},{"$f":"IFERROR(INDEX(Table2[Location],_xlfn.AGGREGATE(15,6,(ROW(Table2[FPPGroupCode])-2)/(Table2[DepoName]=$C$2)/(IF($C$3<>\"\",Table2[BULAN]=$C$3,TRUE))/(IF($C$4<>\"\",Table2[OFF/ON]=$C$4,TRUE))/(IF($C$5<>\"\",Table2[Status]=$C$5,TRUE))/(IF($C$6<>\"\",Table2[FPPDate]=$C$6,TRUE))/(IF($C$7<>\"\",Table2[ProposalCode]=$C$7,TRUE)),ROW(D101))),\"\")","v":""},{"$f":"IFERROR(INDEX(Table2[PeriodeStart],_xlfn.AGGREGATE(15,6,(ROW(Table2[FPPGroupCode])-2)/(Table2[DepoName]=$C$2)/(IF($C$3<>\"\",Table2[BULAN]=$C$3,TRUE))/(IF($C$4<>\"\",Table2[OFF/ON]=$C$4,TRUE))/(IF($C$5<>\"\",Table2[Status]=$C$5,TRUE))/(IF($C$6<>\"\",Table2[FPPDate]=$C$6,TRUE))/(IF($C$7<>\"\",Table2[ProposalCode]=$C$7,TRUE)),ROW(E101))),\"\")","v":""},{"$f":"IFERROR(INDEX(Table2[PeriodeEnd],_xlfn.AGGREGATE(15,6,(ROW(Table2[FPPGroupCode])-2)/(Table2[DepoName]=$C$2)/(IF($C$3<>\"\",Table2[BULAN]=$C$3,TRUE))/(IF($C$4<>\"\",Table2[OFF/ON]=$C$4,TRUE))/(IF($C$5<>\"\",Table2[Status]=$C$5,TRUE))/(IF($C$6<>\"\",Table2[FPPDate]=$C$6,TRUE))/(IF($C$7<>\"\",Table2[ProposalCode]=$C$7,TRUE)),ROW(F101))),\"\")","v":""},{"$f":"IFERROR(INDEX(Table2[Amount_FPPDepo],_xlfn.AGGREGATE(15,6,(ROW(Table2[FPPGroupCode])-2)/(Table2[DepoName]=$C$2)/(IF($C$3<>\"\",Table2[BULAN]=$C$3,TRUE))/(IF($C$4<>\"\",Table2[OFF/ON]=$C$4,TRUE))/(IF($C$5<>\"\",Table2[Status]=$C$5,TRUE))/(IF($C$6<>\"\",Table2[FPPDate]=$C$6,TRUE))/(IF($C$7<>\"\",Table2[ProposalCode]=$C$7,TRUE)),ROW(G101))),\"\")","v":""},{"$f":"IFERROR(VLOOKUP($B109,SIP!$D$5776:$P$6032,12,0),0)","v":0},{"$f":"IFERROR(H109-I109,0)","v":0},{"$f":"IFERROR(VLOOKUP($B109,SIP!$D$5776:$P$6032,8,0),0)","v":0},{"$f":"IFERROR(INDEX(Table2[OFF/ON],_xlfn.AGGREGATE(15,6,(ROW(Table2[FPPGroupCode])-2)/(Table2[DepoName]=$C$2)/(IF($C$3<>\"\",Table2[BULAN]=$C$3,TRUE))/(IF($C$4<>\"\",Table2[OFF/ON]=$C$4,TRUE))/(IF($C$5<>\"\",Table2[Status]=$C$5,TRUE))/(IF($C$6<>\"\",Table2[FPPDate]=$C$6,TRUE))/(IF($C$7<>\"\",Table2[ProposalCode]=$C$7,TRUE)),ROW(K101))),\"\")","v":""}]
[{"$f":"IF(LEN($B110),ROW(A102),\"\")","v":""},{"$f":"IFERROR(INDEX(Table2[FPPGroupCode],_xlfn.AGGREGATE(15,6,(ROW(Table2[FPPGroupCode])-2)/(Table2[DepoName]=$C$2)/(IF($C$3<>\"\",Table2[BULAN]=$C$3,TRUE))/(IF($C$4<>\"\",Table2[OFF/ON]=$C$4,TRUE))/(IF($C$5<>\"\",Table2[Status]=$C$5,TRUE))/(IF($C$6<>\"\",Table2[FPPDate]=$C$6,TRUE))/(IF($C$7<>\"\",Table2[ProposalCode]=$C$7,TRUE)),ROW(A102))),\"\")","v":""},{"$f":"IFERROR(VLOOKUP($B110,SIP!$D$3:$Q$12237,14,0),0)","v":0},{"$f":"IFERROR(INDEX(Table2[Activity],_xlfn.AGGREGATE(15,6,(ROW(Table2[FPPGroupCode])-2)/(Table2[DepoName]=$C$2)/(IF($C$3<>\"\",Table2[BULAN]=$C$3,TRUE))/(IF($C$4<>\"\",Table2[OFF/ON]=$C$4,TRUE))/(IF($C$5<>\"\",Table2[Status]=$C$5,TRUE))/(IF($C$6<>\"\",Table2[]=$C$6,TRUE))/(IF($C$7<>\"\",Table2[ProposalCode]=$C$7,TRUE)),ROW(B102))),\"\")","v":""},{"$f":"IFERROR(INDEX(Table2[Location],_xlfn.AGGREGATE(15,6,(ROW(Table2[FPPGroupCode])-2)/(Table2[DepoName]=$C$2)/(IF($C$3<>\"\",Table2[BULAN]=$C$3,TRUE))/(IF($C$4<>\"\",Table2[OFF/ON]=$C$4,TRUE))/(IF($C$5<>\"\",Table2[Status]=$C$5,TRUE))/(IF($C$6<>\"\",Table2[FPPDate]=$C$6,TRUE))/(IF($C$7<>\"\",Table2[ProposalCode]=$C$7,TRUE)),ROW(D102))),\"\")","v":""},{"$f":"IFERROR(INDEX(Table2[PeriodeStart],_xlfn.AGGREGATE(15,6,(ROW(Table2[FPPGroupCode])-2)/(Table2[DepoName]=$C$2)/(IF($C$3<>\"\",Table2[BULAN]=$C$3,TRUE))/(IF($C$4<>\"\",Table2[OFF/ON]=$C$4,TRUE))/(IF($C$5<>\"\",Table2[Status]=$C$5,TRUE))/(IF($C$6<>\"\",Table2[FPPDate]=$C$6,TRUE))/(IF($C$7<>\"\",Table2[ProposalCode]=$C$7,TRUE)),ROW(E102))),\"\")","v":""},{"$f":"IFERROR(INDEX(Table2[PeriodeEnd],_xlfn.AGGREGATE(15,6,(ROW(Table2[FPPGroupCode])-2)/(Table2[DepoName]=$C$2)/(IF($C$3<>\"\",Table2[BULAN]=$C$3,TRUE))/(IF($C$4<>\"\",Table2[OFF/ON]=$C$4,TRUE))/(IF($C$5<>\"\",Table2[Status]=$C$5,TRUE))/(IF($C$6<>\"\",Table2[FPPDate]=$C$6,TRUE))/(IF($C$7<>\"\",Table2[ProposalCode]=$C$7,TRUE)),ROW(F102))),\"\")","v":""},{"$f":"IFERROR(INDEX(Table2[Amount_FPPDepo],_xlfn.AGGREGATE(15,6,(ROW(Table2[FPPGroupCode])-2)/(Table2[DepoName]=$C$2)/(IF($C$3<>\"\",Table2[BULAN]=$C$3,TRUE))/(IF($C$4<>\"\",Table2[OFF/ON]=$C$4,TRUE))/(IF($C$5<>\"\",Table2[Status]=$C$5,TRUE))/(IF($C$6<>\"\",Table2[FPPDate]=$C$6,TRUE))/(IF($C$7<>\"\",Table2[ProposalCode]=$C$7,TRUE)),ROW(G102))),\"\")","v":""},{"$f":"IFERROR(VLOOKUP($B110,SIP!$D$5776:$P$6032,12,0),0)","v":0},{"$f":"IFERROR(H110-I110,0)","v":0},{"$f":"IFERROR(VLOOKUP($B110,SIP!$D$5776:$P$6032,8,0),0)","v":0},{"$f":"IFERROR(INDEX(Table2[OFF/ON],_xlfn.AGGREGATE(15,6,(ROW(Table2[FPPGroupCode])-2)/(Table2[DepoName]=$C$2)/(IF($C$3<>\"\",Table2[BULAN]=$C$3,TRUE))/(IF($C$4<>\"\",Table2[OFF/ON]=$C$4,TRUE))/(IF($C$5<>\"\",Table2[Status]=$C$5,TRUE))/(IF($C$6<>\"\",Table2[FPPDate]=$C$6,TRUE))/(IF($C$7<>\"\",Table2[ProposalCode]=$C$7,TRUE)),ROW(K102))),\"\")","v":""}]
[{"$f":"IF(LEN($B111),ROW(A103),\"\")","v":""},{"$f":"IFERROR(INDEX(Table2[FPPGroupCode],_xlfn.AGGREGATE(15,6,(ROW(Table2[FPPGroupCode])-2)/(Table2[DepoName]=$C$2)/(IF($C$3<>\"\",Table2[BULAN]=$C$3,TRUE))/(IF($C$4<>\"\",Table2[OFF/ON]=$C$4,TRUE))/(IF($C$5<>\"\",Table2[Status]=$C$5,TRUE))/(IF($C$6<>\"\",Table2[FPPDate]=$C$6,TRUE))/(IF($C$7<>\"\",Table2[ProposalCode]=$C$7,TRUE)),ROW(A103))),\"\")","v":""},{"$f":"IFERROR(VLOOKUP($B111,SIP!$D$3:$Q$12237,14,0),0)","v":0},{"$f":"IFERROR(INDEX(Table2[Activity],_xlfn.AGGREGATE(15,6,(ROW(Table2[FPPGroupCode])-2)/(Table2[DepoName]=$C$2)/(IF($C$3<>\"\",Table2[BULAN]=$C$3,TRUE))/(IF($C$4<>\"\",Table2[OFF/ON]=$C$4,TRUE))/(IF($C$5<>\"\",Table2[Status]=$C$5,TRUE))/(IF($C$6<>\"\",Table2[]=$C$6,TRUE))/(IF($C$7<>\"\",Table2[ProposalCode]=$C$7,TRUE)),ROW(B103))),\"\")","v":""},{"$f":"IFERROR(INDEX(Table2[Location],_xlfn.AGGREGATE(15,6,(ROW(Table2[FPPGroupCode])-2)/(Table2[DepoName]=$C$2)/(IF($C$3<>\"\",Table2[BULAN]=$C$3,TRUE))/(IF($C$4<>\"\",Table2[OFF/ON]=$C$4,TRUE))/(IF($C$5<>\"\",Table2[Status]=$C$5,TRUE))/(IF($C$6<>\"\",Table2[FPPDate]=$C$6,TRUE))/(IF($C$7<>\"\",Table2[ProposalCode]=$C$7,TRUE)),ROW(D103))),\"\")","v":""},{"$f":"IFERROR(INDEX(Table2[PeriodeStart],_xlfn.AGGREGATE(15,6,(ROW(Table2[FPPGroupCode])-2)/(Table2[DepoName]=$C$2)/(IF($C$3<>\"\",Table2[BULAN]=$C$3,TRUE))/(IF($C$4<>\"\",Table2[OFF/ON]=$C$4,TRUE))/(IF($C$5<>\"\",Table2[Status]=$C$5,TRUE))/(IF($C$6<>\"\",Table2[FPPDate]=$C$6,TRUE))/(IF($C$7<>\"\",Table2[ProposalCode]=$C$7,TRUE)),ROW(E103))),\"\")","v":""},{"$f":"IFERROR(INDEX(Table2[PeriodeEnd],_xlfn.AGGREGATE(15,6,(ROW(Table2[FPPGroupCode])-2)/(Table2[DepoName]=$C$2)/(IF($C$3<>\"\",Table2[BULAN]=$C$3,TRUE))/(IF($C$4<>\"\",Table2[OFF/ON]=$C$4,TRUE))/(IF($C$5<>\"\",Table2[Status]=$C$5,TRUE))/(IF($C$6<>\"\",Table2[FPPDate]=$C$6,TRUE))/(IF($C$7<>\"\",Table2[ProposalCode]=$C$7,TRUE)),ROW(F103))),\"\")","v":""},{"$f":"IFERROR(INDEX(Table2[Amount_FPPDepo],_xlfn.AGGREGATE(15,6,(ROW(Table2[FPPGroupCode])-2)/(Table2[DepoName]=$C$2)/(IF($C$3<>\"\",Table2[BULAN]=$C$3,TRUE))/(IF($C$4<>\"\",Table2[OFF/ON]=$C$4,TRUE))/(IF($C$5<>\"\",Table2[Status]=$C$5,TRUE))/(IF($C$6<>\"\",Table2[FPPDate]=$C$6,TRUE))/(IF($C$7<>\"\",Table2[ProposalCode]=$C$7,TRUE)),ROW(G103))),\"\")","v":""},{"$f":"IFERROR(VLOOKUP($B111,SIP!$D$5776:$P$6032,12,0),0)","v":0},{"$f":"IFERROR(H111-I111,0)","v":0},{"$f":"IFERROR(VLOOKUP($B111,SIP!$D$5776:$P$6032,8,0),0)","v":0},{"$f":"IFERROR(INDEX(Table2[OFF/ON],_xlfn.AGGREGATE(15,6,(ROW(Table2[FPPGroupCode])-2)/(Table2[DepoName]=$C$2)/(IF($C$3<>\"\",Table2[BULAN]=$C$3,TRUE))/(IF($C$4<>\"\",Table2[OFF/ON]=$C$4,TRUE))/(IF($C$5<>\"\",Table2[Status]=$C$5,TRUE))/(IF($C$6<>\"\",Table2[FPPDate]=$C$6,TRUE))/(IF($C$7<>\"\",Table2[ProposalCode]=$C$7,TRUE)),ROW(K103))),\"\")","v":""}]
[{"$f":"IF(LEN($B112),ROW(A104),\"\")","v":""},{"$f":"IFERROR(INDEX(Table2[FPPGroupCode],_xlfn.AGGREGATE(15,6,(ROW(Table2[FPPGroupCode])-2)/(Table2[DepoName]=$C$2)/(IF($C$3<>\"\",Table2[BULAN]=$C$3,TRUE))/(IF($C$4<>\"\",Table2[OFF/ON]=$C$4,TRUE))/(IF($C$5<>\"\",Table2[Status]=$C$5,TRUE))/(IF($C$6<>\"\",Table2[FPPDate]=$C$6,TRUE))/(IF($C$7<>\"\",Table2[ProposalCode]=$C$7,TRUE)),ROW(A104))),\"\")","v":""},{"$f":"IFERROR(VLOOKUP($B112,SIP!$D$3:$Q$12237,14,0),0)","v":0},{"$f":"IFERROR(INDEX(Table2[Activity],_xlfn.AGGREGATE(15,6,(ROW(Table2[FPPGroupCode])-2)/(Table2[DepoName]=$C$2)/(IF($C$3<>\"\",Table2[BULAN]=$C$3,TRUE))/(IF($C$4<>\"\",Table2[OFF/ON]=$C$4,TRUE))/(IF($C$5<>\"\",Table2[Status]=$C$5,TRUE))/(IF($C$6<>\"\",Table2[]=$C$6,TRUE))/(IF($C$7<>\"\",Table2[ProposalCode]=$C$7,TRUE)),ROW(B104))),\"\")","v":""},{"$f":"IFERROR(INDEX(Table2[Location],_xlfn.AGGREGATE(15,6,(ROW(Table2[FPPGroupCode])-2)/(Table2[DepoName]=$C$2)/(IF($C$3<>\"\",Table2[BULAN]=$C$3,TRUE))/(IF($C$4<>\"\",Table2[OFF/ON]=$C$4,TRUE))/(IF($C$5<>\"\",Table2[Status]=$C$5,TRUE))/(IF($C$6<>\"\",Table2[FPPDate]=$C$6,TRUE))/(IF($C$7<>\"\",Table2[ProposalCode]=$C$7,TRUE)),ROW(D104))),\"\")","v":""},{"$f":"IFERROR(INDEX(Table2[PeriodeStart],_xlfn.AGGREGATE(15,6,(ROW(Table2[FPPGroupCode])-2)/(Table2[DepoName]=$C$2)/(IF($C$3<>\"\",Table2[BULAN]=$C$3,TRUE))/(IF($C$4<>\"\",Table2[OFF/ON]=$C$4,TRUE))/(IF($C$5<>\"\",Table2[Status]=$C$5,TRUE))/(IF($C$6<>\"\",Table2[FPPDate]=$C$6,TRUE))/(IF($C$7<>\"\",Table2[ProposalCode]=$C$7,TRUE)),ROW(E104))),\"\")","v":""},{"$f":"IFERROR(INDEX(Table2[PeriodeEnd],_xlfn.AGGREGATE(15,6,(ROW(Table2[FPPGroupCode])-2)/(Table2[DepoName]=$C$2)/(IF($C$3<>\"\",Table2[BULAN]=$C$3,TRUE))/(IF($C$4<>\"\",Table2[OFF/ON]=$C$4,TRUE))/(IF($C$5<>\"\",Table2[Status]=$C$5,TRUE))/(IF($C$6<>\"\",Table2[FPPDate]=$C$6,TRUE))/(IF($C$7<>\"\",Table2[ProposalCode]=$C$7,TRUE)),ROW(F104))),\"\")","v":""},{"$f":"IFERROR(INDEX(Table2[Amount_FPPDepo],_xlfn.AGGREGATE(15,6,(ROW(Table2[FPPGroupCode])-2)/(Table2[DepoName]=$C$2)/(IF($C$3<>\"\",Table2[BULAN]=$C$3,TRUE))/(IF($C$4<>\"\",Table2[OFF/ON]=$C$4,TRUE))/(IF($C$5<>\"\",Table2[Status]=$C$5,TRUE))/(IF($C$6<>\"\",Table2[FPPDate]=$C$6,TRUE))/(IF($C$7<>\"\",Table2[ProposalCode]=$C$7,TRUE)),ROW(G104))),\"\")","v":""},{"$f":"IFERROR(VLOOKUP($B112,SIP!$D$5776:$P$6032,12,0),0)","v":0},{"$f":"IFERROR(H112-I112,0)","v":0},{"$f":"IFERROR(VLOOKUP($B112,SIP!$D$5776:$P$6032,8,0),0)","v":0},{"$f":"IFERROR(INDEX(Table2[OFF/ON],_xlfn.AGGREGATE(15,6,(ROW(Table2[FPPGroupCode])-2)/(Table2[DepoName]=$C$2)/(IF($C$3<>\"\",Table2[BULAN]=$C$3,TRUE))/(IF($C$4<>\"\",Table2[OFF/ON]=$C$4,TRUE))/(IF($C$5<>\"\",Table2[Status]=$C$5,TRUE))/(IF($C$6<>\"\",Table2[FPPDate]=$C$6,TRUE))/(IF($C$7<>\"\",Table2[ProposalCode]=$C$7,TRUE)),ROW(K104))),\"\")","v":""}]
[{"$f":"IF(LEN($B113),ROW(A105),\"\")","v":""},{"$f":"IFERROR(INDEX(Table2[FPPGroupCode],_xlfn.AGGREGATE(15,6,(ROW(Table2[FPPGroupCode])-2)/(Table2[DepoName]=$C$2)/(IF($C$3<>\"\",Table2[BULAN]=$C$3,TRUE))/(IF($C$4<>\"\",Table2[OFF/ON]=$C$4,TRUE))/(IF($C$5<>\"\",Table2[Status]=$C$5,TRUE))/(IF($C$6<>\"\",Table2[FPPDate]=$C$6,TRUE))/(IF($C$7<>\"\",Table2[ProposalCode]=$C$7,TRUE)),ROW(A105))),\"\")","v":""},{"$f":"IFERROR(VLOOKUP($B113,SIP!$D$3:$Q$12237,14,0),0)","v":0},{"$f":"IFERROR(INDEX(Table2[Activity],_xlfn.AGGREGATE(15,6,(ROW(Table2[FPPGroupCode])-2)/(Table2[DepoName]=$C$2)/(IF($C$3<>\"\",Table2[BULAN]=$C$3,TRUE))/(IF($C$4<>\"\",Table2[OFF/ON]=$C$4,TRUE))/(IF($C$5<>\"\",Table2[Status]=$C$5,TRUE))/(IF($C$6<>\"\",Table2[]=$C$6,TRUE))/(IF($C$7<>\"\",Table2[ProposalCode]=$C$7,TRUE)),ROW(B105))),\"\")","v":""},{"$f":"IFERROR(INDEX(Table2[Location],_xlfn.AGGREGATE(15,6,(ROW(Table2[FPPGroupCode])-2)/(Table2[DepoName]=$C$2)/(IF($C$3<>\"\",Table2[BULAN]=$C$3,TRUE))/(IF($C$4<>\"\",Table2[OFF/ON]=$C$4,TRUE))/(IF($C$5<>\"\",Table2[Status]=$C$5,TRUE))/(IF($C$6<>\"\",Table2[FPPDate]=$C$6,TRUE))/(IF($C$7<>\"\",Table2[ProposalCode]=$C$7,TRUE)),ROW(D105))),\"\")","v":""},{"$f":"IFERROR(INDEX(Table2[PeriodeStart],_xlfn.AGGREGATE(15,6,(ROW(Table2[FPPGroupCode])-2)/(Table2[DepoName]=$C$2)/(IF($C$3<>\"\",Table2[BULAN]=$C$3,TRUE))/(IF($C$4<>\"\",Table2[OFF/ON]=$C$4,TRUE))/(IF($C$5<>\"\",Table2[Status]=$C$5,TRUE))/(IF($C$6<>\"\",Table2[FPPDate]=$C$6,TRUE))/(IF($C$7<>\"\",Table2[ProposalCode]=$C$7,TRUE)),ROW(E105))),\"\")","v":""},{"$f":"IFERROR(INDEX(Table2[PeriodeEnd],_xlfn.AGGREGATE(15,6,(ROW(Table2[FPPGroupCode])-2)/(Table2[DepoName]=$C$2)/(IF($C$3<>\"\",Table2[BULAN]=$C$3,TRUE))/(IF($C$4<>\"\",Table2[OFF/ON]=$C$4,TRUE))/(IF($C$5<>\"\",Table2[Status]=$C$5,TRUE))/(IF($C$6<>\"\",Table2[FPPDate]=$C$6,TRUE))/(IF($C$7<>\"\",Table2[ProposalCode]=$C$7,TRUE)),ROW(F105))),\"\")","v":""},{"$f":"IFERROR(INDEX(Table2[Amount_FPPDepo],_xlfn.AGGREGATE(15,6,(ROW(Table2[FPPGroupCode])-2)/(Table2[DepoName]=$C$2)/(IF($C$3<>\"\",Table2[BULAN]=$C$3,TRUE))/(IF($C$4<>\"\",Table2[OFF/ON]=$C$4,TRUE))/(IF($C$5<>\"\",Table2[Status]=$C$5,TRUE))/(IF($C$6<>\"\",Table2[FPPDate]=$C$6,TRUE))/(IF($C$7<>\"\",Table2[ProposalCode]=$C$7,TRUE)),ROW(G105))),\"\")","v":""},{"$f":"IFERROR(VLOOKUP($B113,SIP!$D$5776:$P$6032,12,0),0)","v":0},{"$f":"IFERROR(H113-I113,0)","v":0},{"$f":"IFERROR(VLOOKUP($B113,SIP!$D$5776:$P$6032,8,0),0)","v":0},{"$f":"IFERROR(INDEX(Table2[OFF/ON],_xlfn.AGGREGATE(15,6,(ROW(Table2[FPPGroupCode])-2)/(Table2[DepoName]=$C$2)/(IF($C$3<>\"\",Table2[BULAN]=$C$3,TRUE))/(IF($C$4<>\"\",Table2[OFF/ON]=$C$4,TRUE))/(IF($C$5<>\"\",Table2[Status]=$C$5,TRUE))/(IF($C$6<>\"\",Table2[FPPDate]=$C$6,TRUE))/(IF($C$7<>\"\",Table2[ProposalCode]=$C$7,TRUE)),ROW(K105))),\"\")","v":""}]
[{"$f":"IF(LEN($B114),ROW(A106),\"\")","v":""},{"$f":"IFERROR(INDEX(Table2[FPPGroupCode],_xlfn.AGGREGATE(15,6,(ROW(Table2[FPPGroupCode])-2)/(Table2[DepoName]=$C$2)/(IF($C$3<>\"\",Table2[BULAN]=$C$3,TRUE))/(IF($C$4<>\"\",Table2[OFF/ON]=$C$4,TRUE))/(IF($C$5<>\"\",Table2[Status]=$C$5,TRUE))/(IF($C$6<>\"\",Table2[FPPDate]=$C$6,TRUE))/(IF($C$7<>\"\",Table2[ProposalCode]=$C$7,TRUE)),ROW(A106))),\"\")","v":""},{"$f":"IFERROR(VLOOKUP($B114,SIP!$D$3:$Q$12237,14,0),0)","v":0},{"$f":"IFERROR(INDEX(Table2[Activity],_xlfn.AGGREGATE(15,6,(ROW(Table2[FPPGroupCode])-2)/(Table2[DepoName]=$C$2)/(IF($C$3<>\"\",Table2[BULAN]=$C$3,TRUE))/(IF($C$4<>\"\",Table2[OFF/ON]=$C$4,TRUE))/(IF($C$5<>\"\",Table2[Status]=$C$5,TRUE))/(IF($C$6<>\"\",Table2[]=$C$6,TRUE))/(IF($C$7<>\"\",Table2[ProposalCode]=$C$7,TRUE)),ROW(B106))),\"\")","v":""},{"$f":"IFERROR(INDEX(Table2[Location],_xlfn.AGGREGATE(15,6,(ROW(Table2[FPPGroupCode])-2)/(Table2[DepoName]=$C$2)/(IF($C$3<>\"\",Table2[BULAN]=$C$3,TRUE))/(IF($C$4<>\"\",Table2[OFF/ON]=$C$4,TRUE))/(IF($C$5<>\"\",Table2[Status]=$C$5,TRUE))/(IF($C$6<>\"\",Table2[FPPDate]=$C$6,TRUE))/(IF($C$7<>\"\",Table2[ProposalCode]=$C$7,TRUE)),ROW(D106))),\"\")","v":""},{"$f":"IFERROR(INDEX(Table2[PeriodeStart],_xlfn.AGGREGATE(15,6,(ROW(Table2[FPPGroupCode])-2)/(Table2[DepoName]=$C$2)/(IF($C$3<>\"\",Table2[BULAN]=$C$3,TRUE))/(IF($C$4<>\"\",Table2[OFF/ON]=$C$4,TRUE))/(IF($C$5<>\"\",Table2[Status]=$C$5,TRUE))/(IF($C$6<>\"\",Table2[FPPDate]=$C$6,TRUE))/(IF($C$7<>\"\",Table2[ProposalCode]=$C$7,TRUE)),ROW(E106))),\"\")","v":""},{"$f":"IFERROR(INDEX(Table2[PeriodeEnd],_xlfn.AGGREGATE(15,6,(ROW(Table2[FPPGroupCode])-2)/(Table2[DepoName]=$C$2)/(IF($C$3<>\"\",Table2[BULAN]=$C$3,TRUE))/(IF($C$4<>\"\",Table2[OFF/ON]=$C$4,TRUE))/(IF($C$5<>\"\",Table2[Status]=$C$5,TRUE))/(IF($C$6<>\"\",Table2[FPPDate]=$C$6,TRUE))/(IF($C$7<>\"\",Table2[ProposalCode]=$C$7,TRUE)),ROW(F106))),\"\")","v":""},{"$f":"IFERROR(INDEX(Table2[Amount_FPPDepo],_xlfn.AGGREGATE(15,6,(ROW(Table2[FPPGroupCode])-2)/(Table2[DepoName]=$C$2)/(IF($C$3<>\"\",Table2[BULAN]=$C$3,TRUE))/(IF($C$4<>\"\",Table2[OFF/ON]=$C$4,TRUE))/(IF($C$5<>\"\",Table2[Status]=$C$5,TRUE))/(IF($C$6<>\"\",Table2[FPPDate]=$C$6,TRUE))/(IF($C$7<>\"\",Table2[ProposalCode]=$C$7,TRUE)),ROW(G106))),\"\")","v":""},{"$f":"IFERROR(VLOOKUP($B114,SIP!$D$5776:$P$6032,12,0),0)","v":0},{"$f":"IFERROR(H114-I114,0)","v":0},{"$f":"IFERROR(VLOOKUP($B114,SIP!$D$5776:$P$6032,8,0),0)","v":0},{"$f":"IFERROR(INDEX(Table2[OFF/ON],_xlfn.AGGREGATE(15,6,(ROW(Table2[FPPGroupCode])-2)/(Table2[DepoName]=$C$2)/(IF($C$3<>\"\",Table2[BULAN]=$C$3,TRUE))/(IF($C$4<>\"\",Table2[OFF/ON]=$C$4,TRUE))/(IF($C$5<>\"\",Table2[Status]=$C$5,TRUE))/(IF($C$6<>\"\",Table2[FPPDate]=$C$6,TRUE))/(IF($C$7<>\"\",Table2[ProposalCode]=$C$7,TRUE)),ROW(K106))),\"\")","v":""}]
[{"$f":"IF(LEN($B115),ROW(A107),\"\")","v":""},{"$f":"IFERROR(INDEX(Table2[FPPGroupCode],_xlfn.AGGREGATE(15,6,(ROW(Table2[FPPGroupCode])-2)/(Table2[DepoName]=$C$2)/(IF($C$3<>\"\",Table2[BULAN]=$C$3,TRUE))/(IF($C$4<>\"\",Table2[OFF/ON]=$C$4,TRUE))/(IF($C$5<>\"\",Table2[Status]=$C$5,TRUE))/(IF($C$6<>\"\",Table2[FPPDate]=$C$6,TRUE))/(IF($C$7<>\"\",Table2[ProposalCode]=$C$7,TRUE)),ROW(A107))),\"\")","v":""},{"$f":"IFERROR(VLOOKUP($B115,SIP!$D$3:$Q$12237,14,0),0)","v":0},{"$f":"IFERROR(INDEX(Table2[Activity],_xlfn.AGGREGATE(15,6,(ROW(Table2[FPPGroupCode])-2)/(Table2[DepoName]=$C$2)/(IF($C$3<>\"\",Table2[BULAN]=$C$3,TRUE))/(IF($C$4<>\"\",Table2[OFF/ON]=$C$4,TRUE))/(IF($C$5<>\"\",Table2[Status]=$C$5,TRUE))/(IF($C$6<>\"\",Table2[]=$C$6,TRUE))/(IF($C$7<>\"\",Table2[ProposalCode]=$C$7,TRUE)),ROW(B107))),\"\")","v":""},{"$f":"IFERROR(INDEX(Table2[Location],_xlfn.AGGREGATE(15,6,(ROW(Table2[FPPGroupCode])-2)/(Table2[DepoName]=$C$2)/(IF($C$3<>\"\",Table2[BULAN]=$C$3,TRUE))/(IF($C$4<>\"\",Table2[OFF/ON]=$C$4,TRUE))/(IF($C$5<>\"\",Table2[Status]=$C$5,TRUE))/(IF($C$6<>\"\",Table2[FPPDate]=$C$6,TRUE))/(IF($C$7<>\"\",Table2[ProposalCode]=$C$7,TRUE)),ROW(D107))),\"\")","v":""},{"$f":"IFERROR(INDEX(Table2[PeriodeStart],_xlfn.AGGREGATE(15,6,(ROW(Table2[FPPGroupCode])-2)/(Table2[DepoName]=$C$2)/(IF($C$3<>\"\",Table2[BULAN]=$C$3,TRUE))/(IF($C$4<>\"\",Table2[OFF/ON]=$C$4,TRUE))/(IF($C$5<>\"\",Table2[Status]=$C$5,TRUE))/(IF($C$6<>\"\",Table2[FPPDate]=$C$6,TRUE))/(IF($C$7<>\"\",Table2[ProposalCode]=$C$7,TRUE)),ROW(E107))),\"\")","v":""},{"$f":"IFERROR(INDEX(Table2[PeriodeEnd],_xlfn.AGGREGATE(15,6,(ROW(Table2[FPPGroupCode])-2)/(Table2[DepoName]=$C$2)/(IF($C$3<>\"\",Table2[BULAN]=$C$3,TRUE))/(IF($C$4<>\"\",Table2[OFF/ON]=$C$4,TRUE))/(IF($C$5<>\"\",Table2[Status]=$C$5,TRUE))/(IF($C$6<>\"\",Table2[FPPDate]=$C$6,TRUE))/(IF($C$7<>\"\",Table2[ProposalCode]=$C$7,TRUE)),ROW(F107))),\"\")","v":""},{"$f":"IFERROR(INDEX(Table2[Amount_FPPDepo],_xlfn.AGGREGATE(15,6,(ROW(Table2[FPPGroupCode])-2)/(Table2[DepoName]=$C$2)/(IF($C$3<>\"\",Table2[BULAN]=$C$3,TRUE))/(IF($C$4<>\"\",Table2[OFF/ON]=$C$4,TRUE))/(IF($C$5<>\"\",Table2[Status]=$C$5,TRUE))/(IF($C$6<>\"\",Table2[FPPDate]=$C$6,TRUE))/(IF($C$7<>\"\",Table2[ProposalCode]=$C$7,TRUE)),ROW(G107))),\"\")","v":""},{"$f":"IFERROR(VLOOKUP($B115,SIP!$D$5776:$P$6032,12,0),0)","v":0},{"$f":"IFERROR(H115-I115,0)","v":0},{"$f":"IFERROR(VLOOKUP($B115,SIP!$D$5776:$P$6032,8,0),0)","v":0},{"$f":"IFERROR(INDEX(Table2[OFF/ON],_xlfn.AGGREGATE(15,6,(ROW(Table2[FPPGroupCode])-2)/(Table2[DepoName]=$C$2)/(IF($C$3<>\"\",Table2[BULAN]=$C$3,TRUE))/(IF($C$4<>\"\",Table2[OFF/ON]=$C$4,TRUE))/(IF($C$5<>\"\",Table2[Status]=$C$5,TRUE))/(IF($C$6<>\"\",Table2[FPPDate]=$C$6,TRUE))/(IF($C$7<>\"\",Table2[ProposalCode]=$C$7,TRUE)),ROW(K107))),\"\")","v":""}]
[{"$f":"IF(LEN($B116),ROW(A108),\"\")","v":""},{"$f":"IFERROR(INDEX(Table2[FPPGroupCode],_xlfn.AGGREGATE(15,6,(ROW(Table2[FPPGroupCode])-2)/(Table2[DepoName]=$C$2)/(IF($C$3<>\"\",Table2[BULAN]=$C$3,TRUE))/(IF($C$4<>\"\",Table2[OFF/ON]=$C$4,TRUE))/(IF($C$5<>\"\",Table2[Status]=$C$5,TRUE))/(IF($C$6<>\"\",Table2[FPPDate]=$C$6,TRUE))/(IF($C$7<>\"\",Table2[ProposalCode]=$C$7,TRUE)),ROW(A108))),\"\")","v":""},{"$f":"IFERROR(VLOOKUP($B116,SIP!$D$3:$Q$12237,14,0),0)","v":0},{"$f":"IFERROR(INDEX(Table2[Activity],_xlfn.AGGREGATE(15,6,(ROW(Table2[FPPGroupCode])-2)/(Table2[DepoName]=$C$2)/(IF($C$3<>\"\",Table2[BULAN]=$C$3,TRUE))/(IF($C$4<>\"\",Table2[OFF/ON]=$C$4,TRUE))/(IF($C$5<>\"\",Table2[Status]=$C$5,TRUE))/(IF($C$6<>\"\",Table2[]=$C$6,TRUE))/(IF($C$7<>\"\",Table2[ProposalCode]=$C$7,TRUE)),ROW(B108))),\"\")","v":""},{"$f":"IFERROR(INDEX(Table2[Location],_xlfn.AGGREGATE(15,6,(ROW(Table2[FPPGroupCode])-2)/(Table2[DepoName]=$C$2)/(IF($C$3<>\"\",Table2[BULAN]=$C$3,TRUE))/(IF($C$4<>\"\",Table2[OFF/ON]=$C$4,TRUE))/(IF($C$5<>\"\",Table2[Status]=$C$5,TRUE))/(IF($C$6<>\"\",Table2[FPPDate]=$C$6,TRUE))/(IF($C$7<>\"\",Table2[ProposalCode]=$C$7,TRUE)),ROW(D108))),\"\")","v":""},{"$f":"IFERROR(INDEX(Table2[PeriodeStart],_xlfn.AGGREGATE(15,6,(ROW(Table2[FPPGroupCode])-2)/(Table2[DepoName]=$C$2)/(IF($C$3<>\"\",Table2[BULAN]=$C$3,TRUE))/(IF($C$4<>\"\",Table2[OFF/ON]=$C$4,TRUE))/(IF($C$5<>\"\",Table2[Status]=$C$5,TRUE))/(IF($C$6<>\"\",Table2[FPPDate]=$C$6,TRUE))/(IF($C$7<>\"\",Table2[ProposalCode]=$C$7,TRUE)),ROW(E108))),\"\")","v":""},{"$f":"IFERROR(INDEX(Table2[PeriodeEnd],_xlfn.AGGREGATE(15,6,(ROW(Table2[FPPGroupCode])-2)/(Table2[DepoName]=$C$2)/(IF($C$3<>\"\",Table2[BULAN]=$C$3,TRUE))/(IF($C$4<>\"\",Table2[OFF/ON]=$C$4,TRUE))/(IF($C$5<>\"\",Table2[Status]=$C$5,TRUE))/(IF($C$6<>\"\",Table2[FPPDate]=$C$6,TRUE))/(IF($C$7<>\"\",Table2[ProposalCode]=$C$7,TRUE)),ROW(F108))),\"\")","v":""},{"$f":"IFERROR(INDEX(Table2[Amount_FPPDepo],_xlfn.AGGREGATE(15,6,(ROW(Table2[FPPGroupCode])-2)/(Table2[DepoName]=$C$2)/(IF($C$3<>\"\",Table2[BULAN]=$C$3,TRUE))/(IF($C$4<>\"\",Table2[OFF/ON]=$C$4,TRUE))/(IF($C$5<>\"\",Table2[Status]=$C$5,TRUE))/(IF($C$6<>\"\",Table2[FPPDate]=$C$6,TRUE))/(IF($C$7<>\"\",Table2[ProposalCode]=$C$7,TRUE)),ROW(G108))),\"\")","v":""},{"$f":"IFERROR(VLOOKUP($B116,SIP!$D$5776:$P$6032,12,0),0)","v":0},{"$f":"IFERROR(H116-I116,0)","v":0},{"$f":"IFERROR(VLOOKUP($B116,SIP!$D$5776:$P$6032,8,0),0)","v":0},{"$f":"IFERROR(INDEX(Table2[OFF/ON],_xlfn.AGGREGATE(15,6,(ROW(Table2[FPPGroupCode])-2)/(Table2[DepoName]=$C$2)/(IF($C$3<>\"\",Table2[BULAN]=$C$3,TRUE))/(IF($C$4<>\"\",Table2[OFF/ON]=$C$4,TRUE))/(IF($C$5<>\"\",Table2[Status]=$C$5,TRUE))/(IF($C$6<>\"\",Table2[FPPDate]=$C$6,TRUE))/(IF($C$7<>\"\",Table2[ProposalCode]=$C$7,TRUE)),ROW(K108))),\"\")","v":""}]
[{"$f":"IF(LEN($B117),ROW(A109),\"\")","v":""},{"$f":"IFERROR(INDEX(Table2[FPPGroupCode],_xlfn.AGGREGATE(15,6,(ROW(Table2[FPPGroupCode])-2)/(Table2[DepoName]=$C$2)/(IF($C$3<>\"\",Table2[BULAN]=$C$3,TRUE))/(IF($C$4<>\"\",Table2[OFF/ON]=$C$4,TRUE))/(IF($C$5<>\"\",Table2[Status]=$C$5,TRUE))/(IF($C$6<>\"\",Table2[FPPDate]=$C$6,TRUE))/(IF($C$7<>\"\",Table2[ProposalCode]=$C$7,TRUE)),ROW(A109))),\"\")","v":""},{"$f":"IFERROR(VLOOKUP($B117,SIP!$D$3:$Q$12237,14,0),0)","v":0},{"$f":"IFERROR(INDEX(Table2[Activity],_xlfn.AGGREGATE(15,6,(ROW(Table2[FPPGroupCode])-2)/(Table2[DepoName]=$C$2)/(IF($C$3<>\"\",Table2[BULAN]=$C$3,TRUE))/(IF($C$4<>\"\",Table2[OFF/ON]=$C$4,TRUE))/(IF($C$5<>\"\",Table2[Status]=$C$5,TRUE))/(IF($C$6<>\"\",Table2[]=$C$6,TRUE))/(IF($C$7<>\"\",Table2[ProposalCode]=$C$7,TRUE)),ROW(B109))),\"\")","v":""},{"$f":"IFERROR(INDEX(Table2[Location],_xlfn.AGGREGATE(15,6,(ROW(Table2[FPPGroupCode])-2)/(Table2[DepoName]=$C$2)/(IF($C$3<>\"\",Table2[BULAN]=$C$3,TRUE))/(IF($C$4<>\"\",Table2[OFF/ON]=$C$4,TRUE))/(IF($C$5<>\"\",Table2[Status]=$C$5,TRUE))/(IF($C$6<>\"\",Table2[FPPDate]=$C$6,TRUE))/(IF($C$7<>\"\",Table2[ProposalCode]=$C$7,TRUE)),ROW(D109))),\"\")","v":""},{"$f":"IFERROR(INDEX(Table2[PeriodeStart],_xlfn.AGGREGATE(15,6,(ROW(Table2[FPPGroupCode])-2)/(Table2[DepoName]=$C$2)/(IF($C$3<>\"\",Table2[BULAN]=$C$3,TRUE))/(IF($C$4<>\"\",Table2[OFF/ON]=$C$4,TRUE))/(IF($C$5<>\"\",Table2[Status]=$C$5,TRUE))/(IF($C$6<>\"\",Table2[FPPDate]=$C$6,TRUE))/(IF($C$7<>\"\",Table2[ProposalCode]=$C$7,TRUE)),ROW(E109))),\"\")","v":""},{"$f":"IFERROR(INDEX(Table2[PeriodeEnd],_xlfn.AGGREGATE(15,6,(ROW(Table2[FPPGroupCode])-2)/(Table2[DepoName]=$C$2)/(IF($C$3<>\"\",Table2[BULAN]=$C$3,TRUE))/(IF($C$4<>\"\",Table2[OFF/ON]=$C$4,TRUE))/(IF($C$5<>\"\",Table2[Status]=$C$5,TRUE))/(IF($C$6<>\"\",Table2[FPPDate]=$C$6,TRUE))/(IF($C$7<>\"\",Table2[ProposalCode]=$C$7,TRUE)),ROW(F109))),\"\")","v":""},{"$f":"IFERROR(INDEX(Table2[Amount_FPPDepo],_xlfn.AGGREGATE(15,6,(ROW(Table2[FPPGroupCode])-2)/(Table2[DepoName]=$C$2)/(IF($C$3<>\"\",Table2[BULAN]=$C$3,TRUE))/(IF($C$4<>\"\",Table2[OFF/ON]=$C$4,TRUE))/(IF($C$5<>\"\",Table2[Status]=$C$5,TRUE))/(IF($C$6<>\"\",Table2[FPPDate]=$C$6,TRUE))/(IF($C$7<>\"\",Table2[ProposalCode]=$C$7,TRUE)),ROW(G109))),\"\")","v":""},{"$f":"IFERROR(VLOOKUP($B117,SIP!$D$5776:$P$6032,12,0),0)","v":0},{"$f":"IFERROR(H117-I117,0)","v":0},{"$f":"IFERROR(VLOOKUP($B117,SIP!$D$5776:$P$6032,8,0),0)","v":0},{"$f":"IFERROR(INDEX(Table2[OFF/ON],_xlfn.AGGREGATE(15,6,(ROW(Table2[FPPGroupCode])-2)/(Table2[DepoName]=$C$2)/(IF($C$3<>\"\",Table2[BULAN]=$C$3,TRUE))/(IF($C$4<>\"\",Table2[OFF/ON]=$C$4,TRUE))/(IF($C$5<>\"\",Table2[Status]=$C$5,TRUE))/(IF($C$6<>\"\",Table2[FPPDate]=$C$6,TRUE))/(IF($C$7<>\"\",Table2[ProposalCode]=$C$7,TRUE)),ROW(K109))),\"\")","v":""}]
[{"$f":"IF(LEN($B118),ROW(A110),\"\")","v":""},{"$f":"IFERROR(INDEX(Table2[FPPGroupCode],_xlfn.AGGREGATE(15,6,(ROW(Table2[FPPGroupCode])-2)/(Table2[DepoName]=$C$2)/(IF($C$3<>\"\",Table2[BULAN]=$C$3,TRUE))/(IF($C$4<>\"\",Table2[OFF/ON]=$C$4,TRUE))/(IF($C$5<>\"\",Table2[Status]=$C$5,TRUE))/(IF($C$6<>\"\",Table2[FPPDate]=$C$6,TRUE))/(IF($C$7<>\"\",Table2[ProposalCode]=$C$7,TRUE)),ROW(A110))),\"\")","v":""},{"$f":"IFERROR(VLOOKUP($B118,SIP!$D$3:$Q$12237,14,0),0)","v":0},{"$f":"IFERROR(INDEX(Table2[Activity],_xlfn.AGGREGATE(15,6,(ROW(Table2[FPPGroupCode])-2)/(Table2[DepoName]=$C$2)/(IF($C$3<>\"\",Table2[BULAN]=$C$3,TRUE))/(IF($C$4<>\"\",Table2[OFF/ON]=$C$4,TRUE))/(IF($C$5<>\"\",Table2[Status]=$C$5,TRUE))/(IF($C$6<>\"\",Table2[]=$C$6,TRUE))/(IF($C$7<>\"\",Table2[ProposalCode]=$C$7,TRUE)),ROW(B110))),\"\")","v":""},{"$f":"IFERROR(INDEX(Table2[Location],_xlfn.AGGREGATE(15,6,(ROW(Table2[FPPGroupCode])-2)/(Table2[DepoName]=$C$2)/(IF($C$3<>\"\",Table2[BULAN]=$C$3,TRUE))/(IF($C$4<>\"\",Table2[OFF/ON]=$C$4,TRUE))/(IF($C$5<>\"\",Table2[Status]=$C$5,TRUE))/(IF($C$6<>\"\",Table2[FPPDate]=$C$6,TRUE))/(IF($C$7<>\"\",Table2[ProposalCode]=$C$7,TRUE)),ROW(D110))),\"\")","v":""},{"$f":"IFERROR(INDEX(Table2[PeriodeStart],_xlfn.AGGREGATE(15,6,(ROW(Table2[FPPGroupCode])-2)/(Table2[DepoName]=$C$2)/(IF($C$3<>\"\",Table2[BULAN]=$C$3,TRUE))/(IF($C$4<>\"\",Table2[OFF/ON]=$C$4,TRUE))/(IF($C$5<>\"\",Table2[Status]=$C$5,TRUE))/(IF($C$6<>\"\",Table2[FPPDate]=$C$6,TRUE))/(IF($C$7<>\"\",Table2[ProposalCode]=$C$7,TRUE)),ROW(E110))),\"\")","v":""},{"$f":"IFERROR(INDEX(Table2[PeriodeEnd],_xlfn.AGGREGATE(15,6,(ROW(Table2[FPPGroupCode])-2)/(Table2[DepoName]=$C$2)/(IF($C$3<>\"\",Table2[BULAN]=$C$3,TRUE))/(IF($C$4<>\"\",Table2[OFF/ON]=$C$4,TRUE))/(IF($C$5<>\"\",Table2[Status]=$C$5,TRUE))/(IF($C$6<>\"\",Table2[FPPDate]=$C$6,TRUE))/(IF($C$7<>\"\",Table2[ProposalCode]=$C$7,TRUE)),ROW(F110))),\"\")","v":""},{"$f":"IFERROR(INDEX(Table2[Amount_FPPDepo],_xlfn.AGGREGATE(15,6,(ROW(Table2[FPPGroupCode])-2)/(Table2[DepoName]=$C$2)/(IF($C$3<>\"\",Table2[BULAN]=$C$3,TRUE))/(IF($C$4<>\"\",Table2[OFF/ON]=$C$4,TRUE))/(IF($C$5<>\"\",Table2[Status]=$C$5,TRUE))/(IF($C$6<>\"\",Table2[FPPDate]=$C$6,TRUE))/(IF($C$7<>\"\",Table2[ProposalCode]=$C$7,TRUE)),ROW(G110))),\"\")","v":""},{"$f":"IFERROR(VLOOKUP($B118,SIP!$D$5776:$P$6032,12,0),0)","v":0},{"$f":"IFERROR(H118-I118,0)","v":0},{"$f":"IFERROR(VLOOKUP($B118,SIP!$D$5776:$P$6032,8,0),0)","v":0},{"$f":"IFERROR(INDEX(Table2[OFF/ON],_xlfn.AGGREGATE(15,6,(ROW(Table2[FPPGroupCode])-2)/(Table2[DepoName]=$C$2)/(IF($C$3<>\"\",Table2[BULAN]=$C$3,TRUE))/(IF($C$4<>\"\",Table2[OFF/ON]=$C$4,TRUE))/(IF($C$5<>\"\",Table2[Status]=$C$5,TRUE))/(IF($C$6<>\"\",Table2[FPPDate]=$C$6,TRUE))/(IF($C$7<>\"\",Table2[ProposalCode]=$C$7,TRUE)),ROW(K110))),\"\")","v":""}]
[{"$f":"IF(LEN($B119),ROW(A111),\"\")","v":""},{"$f":"IFERROR(INDEX(Table2[FPPGroupCode],_xlfn.AGGREGATE(15,6,(ROW(Table2[FPPGroupCode])-2)/(Table2[DepoName]=$C$2)/(IF($C$3<>\"\",Table2[BULAN]=$C$3,TRUE))/(IF($C$4<>\"\",Table2[OFF/ON]=$C$4,TRUE))/(IF($C$5<>\"\",Table2[Status]=$C$5,TRUE))/(IF($C$6<>\"\",Table2[FPPDate]=$C$6,TRUE))/(IF($C$7<>\"\",Table2[ProposalCode]=$C$7,TRUE)),ROW(A111))),\"\")","v":""},{"$f":"IFERROR(VLOOKUP($B119,SIP!$D$3:$Q$12237,14,0),0)","v":0},{"$f":"IFERROR(INDEX(Table2[Activity],_xlfn.AGGREGATE(15,6,(ROW(Table2[FPPGroupCode])-2)/(Table2[DepoName]=$C$2)/(IF($C$3<>\"\",Table2[BULAN]=$C$3,TRUE))/(IF($C$4<>\"\",Table2[OFF/ON]=$C$4,TRUE))/(IF($C$5<>\"\",Table2[Status]=$C$5,TRUE))/(IF($C$6<>\"\",Table2[]=$C$6,TRUE))/(IF($C$7<>\"\",Table2[ProposalCode]=$C$7,TRUE)),ROW(B111))),\"\")","v":""},{"$f":"IFERROR(INDEX(Table2[Location],_xlfn.AGGREGATE(15,6,(ROW(Table2[FPPGroupCode])-2)/(Table2[DepoName]=$C$2)/(IF($C$3<>\"\",Table2[BULAN]=$C$3,TRUE))/(IF($C$4<>\"\",Table2[OFF/ON]=$C$4,TRUE))/(IF($C$5<>\"\",Table2[Status]=$C$5,TRUE))/(IF($C$6<>\"\",Table2[FPPDate]=$C$6,TRUE))/(IF($C$7<>\"\",Table2[ProposalCode]=$C$7,TRUE)),ROW(D111))),\"\")","v":""},{"$f":"IFERROR(INDEX(Table2[PeriodeStart],_xlfn.AGGREGATE(15,6,(ROW(Table2[FPPGroupCode])-2)/(Table2[DepoName]=$C$2)/(IF($C$3<>\"\",Table2[BULAN]=$C$3,TRUE))/(IF($C$4<>\"\",Table2[OFF/ON]=$C$4,TRUE))/(IF($C$5<>\"\",Table2[Status]=$C$5,TRUE))/(IF($C$6<>\"\",Table2[FPPDate]=$C$6,TRUE))/(IF($C$7<>\"\",Table2[ProposalCode]=$C$7,TRUE)),ROW(E111))),\"\")","v":""},{"$f":"IFERROR(INDEX(Table2[PeriodeEnd],_xlfn.AGGREGATE(15,6,(ROW(Table2[FPPGroupCode])-2)/(Table2[DepoName]=$C$2)/(IF($C$3<>\"\",Table2[BULAN]=$C$3,TRUE))/(IF($C$4<>\"\",Table2[OFF/ON]=$C$4,TRUE))/(IF($C$5<>\"\",Table2[Status]=$C$5,TRUE))/(IF($C$6<>\"\",Table2[FPPDate]=$C$6,TRUE))/(IF($C$7<>\"\",Table2[ProposalCode]=$C$7,TRUE)),ROW(F111))),\"\")","v":""},{"$f":"IFERROR(INDEX(Table2[Amount_FPPDepo],_xlfn.AGGREGATE(15,6,(ROW(Table2[FPPGroupCode])-2)/(Table2[DepoName]=$C$2)/(IF($C$3<>\"\",Table2[BULAN]=$C$3,TRUE))/(IF($C$4<>\"\",Table2[OFF/ON]=$C$4,TRUE))/(IF($C$5<>\"\",Table2[Status]=$C$5,TRUE))/(IF($C$6<>\"\",Table2[FPPDate]=$C$6,TRUE))/(IF($C$7<>\"\",Table2[ProposalCode]=$C$7,TRUE)),ROW(G111))),\"\")","v":""},{"$f":"IFERROR(VLOOKUP($B119,SIP!$D$5776:$P$6032,12,0),0)","v":0},{"$f":"IFERROR(H119-I119,0)","v":0},{"$f":"IFERROR(VLOOKUP($B119,SIP!$D$5776:$P$6032,8,0),0)","v":0},{"$f":"IFERROR(INDEX(Table2[OFF/ON],_xlfn.AGGREGATE(15,6,(ROW(Table2[FPPGroupCode])-2)/(Table2[DepoName]=$C$2)/(IF($C$3<>\"\",Table2[BULAN]=$C$3,TRUE))/(IF($C$4<>\"\",Table2[OFF/ON]=$C$4,TRUE))/(IF($C$5<>\"\",Table2[Status]=$C$5,TRUE))/(IF($C$6<>\"\",Table2[FPPDate]=$C$6,TRUE))/(IF($C$7<>\"\",Table2[ProposalCode]=$C$7,TRUE)),ROW(K111))),\"\")","v":""}]
[{"$f":"IF(LEN($B120),ROW(A112),\"\")","v":""},{"$f":"IFERROR(INDEX(Table2[FPPGroupCode],_xlfn.AGGREGATE(15,6,(ROW(Table2[FPPGroupCode])-2)/(Table2[DepoName]=$C$2)/(IF($C$3<>\"\",Table2[BULAN]=$C$3,TRUE))/(IF($C$4<>\"\",Table2[OFF/ON]=$C$4,TRUE))/(IF($C$5<>\"\",Table2[Status]=$C$5,TRUE))/(IF($C$6<>\"\",Table2[FPPDate]=$C$6,TRUE))/(IF($C$7<>\"\",Table2[ProposalCode]=$C$7,TRUE)),ROW(A112))),\"\")","v":""},{"$f":"IFERROR(VLOOKUP($B120,SIP!$D$3:$Q$12237,14,0),0)","v":0},{"$f":"IFERROR(INDEX(Table2[Activity],_xlfn.AGGREGATE(15,6,(ROW(Table2[FPPGroupCode])-2)/(Table2[DepoName]=$C$2)/(IF($C$3<>\"\",Table2[BULAN]=$C$3,TRUE))/(IF($C$4<>\"\",Table2[OFF/ON]=$C$4,TRUE))/(IF($C$5<>\"\",Table2[Status]=$C$5,TRUE))/(IF($C$6<>\"\",Table2[]=$C$6,TRUE))/(IF($C$7<>\"\",Table2[ProposalCode]=$C$7,TRUE)),ROW(B112))),\"\")","v":""},{"$f":"IFERROR(INDEX(Table2[Location],_xlfn.AGGREGATE(15,6,(ROW(Table2[FPPGroupCode])-2)/(Table2[DepoName]=$C$2)/(IF($C$3<>\"\",Table2[BULAN]=$C$3,TRUE))/(IF($C$4<>\"\",Table2[OFF/ON]=$C$4,TRUE))/(IF($C$5<>\"\",Table2[Status]=$C$5,TRUE))/(IF($C$6<>\"\",Table2[FPPDate]=$C$6,TRUE))/(IF($C$7<>\"\",Table2[ProposalCode]=$C$7,TRUE)),ROW(D112))),\"\")","v":""},{"$f":"IFERROR(INDEX(Table2[PeriodeStart],_xlfn.AGGREGATE(15,6,(ROW(Table2[FPPGroupCode])-2)/(Table2[DepoName]=$C$2)/(IF($C$3<>\"\",Table2[BULAN]=$C$3,TRUE))/(IF($C$4<>\"\",Table2[OFF/ON]=$C$4,TRUE))/(IF($C$5<>\"\",Table2[Status]=$C$5,TRUE))/(IF($C$6<>\"\",Table2[FPPDate]=$C$6,TRUE))/(IF($C$7<>\"\",Table2[ProposalCode]=$C$7,TRUE)),ROW(E112))),\"\")","v":""},{"$f":"IFERROR(INDEX(Table2[PeriodeEnd],_xlfn.AGGREGATE(15,6,(ROW(Table2[FPPGroupCode])-2)/(Table2[DepoName]=$C$2)/(IF($C$3<>\"\",Table2[BULAN]=$C$3,TRUE))/(IF($C$4<>\"\",Table2[OFF/ON]=$C$4,TRUE))/(IF($C$5<>\"\",Table2[Status]=$C$5,TRUE))/(IF($C$6<>\"\",Table2[FPPDate]=$C$6,TRUE))/(IF($C$7<>\"\",Table2[ProposalCode]=$C$7,TRUE)),ROW(F112))),\"\")","v":""},{"$f":"IFERROR(INDEX(Table2[Amount_FPPDepo],_xlfn.AGGREGATE(15,6,(ROW(Table2[FPPGroupCode])-2)/(Table2[DepoName]=$C$2)/(IF($C$3<>\"\",Table2[BULAN]=$C$3,TRUE))/(IF($C$4<>\"\",Table2[OFF/ON]=$C$4,TRUE))/(IF($C$5<>\"\",Table2[Status]=$C$5,TRUE))/(IF($C$6<>\"\",Table2[FPPDate]=$C$6,TRUE))/(IF($C$7<>\"\",Table2[ProposalCode]=$C$7,TRUE)),ROW(G112))),\"\")","v":""},{"$f":"IFERROR(VLOOKUP($B120,SIP!$D$5776:$P$6032,12,0),0)","v":0},{"$f":"IFERROR(H120-I120,0)","v":0},{"$f":"IFERROR(VLOOKUP($B120,SIP!$D$5776:$P$6032,8,0),0)","v":0},{"$f":"IFERROR(INDEX(Table2[OFF/ON],_xlfn.AGGREGATE(15,6,(ROW(Table2[FPPGroupCode])-2)/(Table2[DepoName]=$C$2)/(IF($C$3<>\"\",Table2[BULAN]=$C$3,TRUE))/(IF($C$4<>\"\",Table2[OFF/ON]=$C$4,TRUE))/(IF($C$5<>\"\",Table2[Status]=$C$5,TRUE))/(IF($C$6<>\"\",Table2[FPPDate]=$C$6,TRUE))/(IF($C$7<>\"\",Table2[ProposalCode]=$C$7,TRUE)),ROW(K112))),\"\")","v":""}]
[{"$f":"IF(LEN($B121),ROW(A113),\"\")","v":""},{"$f":"IFERROR(INDEX(Table2[FPPGroupCode],_xlfn.AGGREGATE(15,6,(ROW(Table2[FPPGroupCode])-2)/(Table2[DepoName]=$C$2)/(IF($C$3<>\"\",Table2[BULAN]=$C$3,TRUE))/(IF($C$4<>\"\",Table2[OFF/ON]=$C$4,TRUE))/(IF($C$5<>\"\",Table2[Status]=$C$5,TRUE))/(IF($C$6<>\"\",Table2[FPPDate]=$C$6,TRUE))/(IF($C$7<>\"\",Table2[ProposalCode]=$C$7,TRUE)),ROW(A113))),\"\")","v":""},{"$f":"IFERROR(VLOOKUP($B121,SIP!$D$3:$Q$12237,14,0),0)","v":0},{"$f":"IFERROR(INDEX(Table2[Activity],_xlfn.AGGREGATE(15,6,(ROW(Table2[FPPGroupCode])-2)/(Table2[DepoName]=$C$2)/(IF($C$3<>\"\",Table2[BULAN]=$C$3,TRUE))/(IF($C$4<>\"\",Table2[OFF/ON]=$C$4,TRUE))/(IF($C$5<>\"\",Table2[Status]=$C$5,TRUE))/(IF($C$6<>\"\",Table2[]=$C$6,TRUE))/(IF($C$7<>\"\",Table2[ProposalCode]=$C$7,TRUE)),ROW(B113))),\"\")","v":""},{"$f":"IFERROR(INDEX(Table2[Location],_xlfn.AGGREGATE(15,6,(ROW(Table2[FPPGroupCode])-2)/(Table2[DepoName]=$C$2)/(IF($C$3<>\"\",Table2[BULAN]=$C$3,TRUE))/(IF($C$4<>\"\",Table2[OFF/ON]=$C$4,TRUE))/(IF($C$5<>\"\",Table2[Status]=$C$5,TRUE))/(IF($C$6<>\"\",Table2[FPPDate]=$C$6,TRUE))/(IF($C$7<>\"\",Table2[ProposalCode]=$C$7,TRUE)),ROW(D113))),\"\")","v":""},{"$f":"IFERROR(INDEX(Table2[PeriodeStart],_xlfn.AGGREGATE(15,6,(ROW(Table2[FPPGroupCode])-2)/(Table2[DepoName]=$C$2)/(IF($C$3<>\"\",Table2[BULAN]=$C$3,TRUE))/(IF($C$4<>\"\",Table2[OFF/ON]=$C$4,TRUE))/(IF($C$5<>\"\",Table2[Status]=$C$5,TRUE))/(IF($C$6<>\"\",Table2[FPPDate]=$C$6,TRUE))/(IF($C$7<>\"\",Table2[ProposalCode]=$C$7,TRUE)),ROW(E113))),\"\")","v":""},{"$f":"IFERROR(INDEX(Table2[PeriodeEnd],_xlfn.AGGREGATE(15,6,(ROW(Table2[FPPGroupCode])-2)/(Table2[DepoName]=$C$2)/(IF($C$3<>\"\",Table2[BULAN]=$C$3,TRUE))/(IF($C$4<>\"\",Table2[OFF/ON]=$C$4,TRUE))/(IF($C$5<>\"\",Table2[Status]=$C$5,TRUE))/(IF($C$6<>\"\",Table2[FPPDate]=$C$6,TRUE))/(IF($C$7<>\"\",Table2[ProposalCode]=$C$7,TRUE)),ROW(F113))),\"\")","v":""},{"$f":"IFERROR(INDEX(Table2[Amount_FPPDepo],_xlfn.AGGREGATE(15,6,(ROW(Table2[FPPGroupCode])-2)/(Table2[DepoName]=$C$2)/(IF($C$3<>\"\",Table2[BULAN]=$C$3,TRUE))/(IF($C$4<>\"\",Table2[OFF/ON]=$C$4,TRUE))/(IF($C$5<>\"\",Table2[Status]=$C$5,TRUE))/(IF($C$6<>\"\",Table2[FPPDate]=$C$6,TRUE))/(IF($C$7<>\"\",Table2[ProposalCode]=$C$7,TRUE)),ROW(G113))),\"\")","v":""},{"$f":"IFERROR(VLOOKUP($B121,SIP!$D$5776:$P$6032,12,0),0)","v":0},{"$f":"IFERROR(H121-I121,0)","v":0},{"$f":"IFERROR(VLOOKUP($B121,SIP!$D$5776:$P$6032,8,0),0)","v":0},{"$f":"IFERROR(INDEX(Table2[OFF/ON],_xlfn.AGGREGATE(15,6,(ROW(Table2[FPPGroupCode])-2)/(Table2[DepoName]=$C$2)/(IF($C$3<>\"\",Table2[BULAN]=$C$3,TRUE))/(IF($C$4<>\"\",Table2[OFF/ON]=$C$4,TRUE))/(IF($C$5<>\"\",Table2[Status]=$C$5,TRUE))/(IF($C$6<>\"\",Table2[FPPDate]=$C$6,TRUE))/(IF($C$7<>\"\",Table2[ProposalCode]=$C$7,TRUE)),ROW(K113))),\"\")","v":""}]
[{"$f":"IF(LEN($B122),ROW(A114),\"\")","v":""},{"$f":"IFERROR(INDEX(Table2[FPPGroupCode],_xlfn.AGGREGATE(15,6,(ROW(Table2[FPPGroupCode])-2)/(Table2[DepoName]=$C$2)/(IF($C$3<>\"\",Table2[BULAN]=$C$3,TRUE))/(IF($C$4<>\"\",Table2[OFF/ON]=$C$4,TRUE))/(IF($C$5<>\"\",Table2[Status]=$C$5,TRUE))/(IF($C$6<>\"\",Table2[FPPDate]=$C$6,TRUE))/(IF($C$7<>\"\",Table2[ProposalCode]=$C$7,TRUE)),ROW(A114))),\"\")","v":""},{"$f":"IFERROR(VLOOKUP($B122,SIP!$D$3:$Q$12237,14,0),0)","v":0},{"$f":"IFERROR(INDEX(Table2[Activity],_xlfn.AGGREGATE(15,6,(ROW(Table2[FPPGroupCode])-2)/(Table2[DepoName]=$C$2)/(IF($C$3<>\"\",Table2[BULAN]=$C$3,TRUE))/(IF($C$4<>\"\",Table2[OFF/ON]=$C$4,TRUE))/(IF($C$5<>\"\",Table2[Status]=$C$5,TRUE))/(IF($C$6<>\"\",Table2[]=$C$6,TRUE))/(IF($C$7<>\"\",Table2[ProposalCode]=$C$7,TRUE)),ROW(B114))),\"\")","v":""},{"$f":"IFERROR(INDEX(Table2[Location],_xlfn.AGGREGATE(15,6,(ROW(Table2[FPPGroupCode])-2)/(Table2[DepoName]=$C$2)/(IF($C$3<>\"\",Table2[BULAN]=$C$3,TRUE))/(IF($C$4<>\"\",Table2[OFF/ON]=$C$4,TRUE))/(IF($C$5<>\"\",Table2[Status]=$C$5,TRUE))/(IF($C$6<>\"\",Table2[FPPDate]=$C$6,TRUE))/(IF($C$7<>\"\",Table2[ProposalCode]=$C$7,TRUE)),ROW(D114))),\"\")","v":""},{"$f":"IFERROR(INDEX(Table2[PeriodeStart],_xlfn.AGGREGATE(15,6,(ROW(Table2[FPPGroupCode])-2)/(Table2[DepoName]=$C$2)/(IF($C$3<>\"\",Table2[BULAN]=$C$3,TRUE))/(IF($C$4<>\"\",Table2[OFF/ON]=$C$4,TRUE))/(IF($C$5<>\"\",Table2[Status]=$C$5,TRUE))/(IF($C$6<>\"\",Table2[FPPDate]=$C$6,TRUE))/(IF($C$7<>\"\",Table2[ProposalCode]=$C$7,TRUE)),ROW(E114))),\"\")","v":""},{"$f":"IFERROR(INDEX(Table2[PeriodeEnd],_xlfn.AGGREGATE(15,6,(ROW(Table2[FPPGroupCode])-2)/(Table2[DepoName]=$C$2)/(IF($C$3<>\"\",Table2[BULAN]=$C$3,TRUE))/(IF($C$4<>\"\",Table2[OFF/ON]=$C$4,TRUE))/(IF($C$5<>\"\",Table2[Status]=$C$5,TRUE))/(IF($C$6<>\"\",Table2[FPPDate]=$C$6,TRUE))/(IF($C$7<>\"\",Table2[ProposalCode]=$C$7,TRUE)),ROW(F114))),\"\")","v":""},{"$f":"IFERROR(INDEX(Table2[Amount_FPPDepo],_xlfn.AGGREGATE(15,6,(ROW(Table2[FPPGroupCode])-2)/(Table2[DepoName]=$C$2)/(IF($C$3<>\"\",Table2[BULAN]=$C$3,TRUE))/(IF($C$4<>\"\",Table2[OFF/ON]=$C$4,TRUE))/(IF($C$5<>\"\",Table2[Status]=$C$5,TRUE))/(IF($C$6<>\"\",Table2[FPPDate]=$C$6,TRUE))/(IF($C$7<>\"\",Table2[ProposalCode]=$C$7,TRUE)),ROW(G114))),\"\")","v":""},{"$f":"IFERROR(VLOOKUP($B122,SIP!$D$5776:$P$6032,12,0),0)","v":0},{"$f":"IFERROR(H122-I122,0)","v":0},{"$f":"IFERROR(VLOOKUP($B122,SIP!$D$5776:$P$6032,8,0),0)","v":0},{"$f":"IFERROR(INDEX(Table2[OFF/ON],_xlfn.AGGREGATE(15,6,(ROW(Table2[FPPGroupCode])-2)/(Table2[DepoName]=$C$2)/(IF($C$3<>\"\",Table2[BULAN]=$C$3,TRUE))/(IF($C$4<>\"\",Table2[OFF/ON]=$C$4,TRUE))/(IF($C$5<>\"\",Table2[Status]=$C$5,TRUE))/(IF($C$6<>\"\",Table2[FPPDate]=$C$6,TRUE))/(IF($C$7<>\"\",Table2[ProposalCode]=$C$7,TRUE)),ROW(K114))),\"\")","v":""}]
[{"$f":"IF(LEN($B123),ROW(A115),\"\")","v":""},{"$f":"IFERROR(INDEX(Table2[FPPGroupCode],_xlfn.AGGREGATE(15,6,(ROW(Table2[FPPGroupCode])-2)/(Table2[DepoName]=$C$2)/(IF($C$3<>\"\",Table2[BULAN]=$C$3,TRUE))/(IF($C$4<>\"\",Table2[OFF/ON]=$C$4,TRUE))/(IF($C$5<>\"\",Table2[Status]=$C$5,TRUE))/(IF($C$6<>\"\",Table2[FPPDate]=$C$6,TRUE))/(IF($C$7<>\"\",Table2[ProposalCode]=$C$7,TRUE)),ROW(A115))),\"\")","v":""},{"$f":"IFERROR(VLOOKUP($B123,SIP!$D$3:$Q$12237,14,0),0)","v":0},{"$f":"IFERROR(INDEX(Table2[Activity],_xlfn.AGGREGATE(15,6,(ROW(Table2[FPPGroupCode])-2)/(Table2[DepoName]=$C$2)/(IF($C$3<>\"\",Table2[BULAN]=$C$3,TRUE))/(IF($C$4<>\"\",Table2[OFF/ON]=$C$4,TRUE))/(IF($C$5<>\"\",Table2[Status]=$C$5,TRUE))/(IF($C$6<>\"\",Table2[]=$C$6,TRUE))/(IF($C$7<>\"\",Table2[ProposalCode]=$C$7,TRUE)),ROW(B115))),\"\")","v":""},{"$f":"IFERROR(INDEX(Table2[Location],_xlfn.AGGREGATE(15,6,(ROW(Table2[FPPGroupCode])-2)/(Table2[DepoName]=$C$2)/(IF($C$3<>\"\",Table2[BULAN]=$C$3,TRUE))/(IF($C$4<>\"\",Table2[OFF/ON]=$C$4,TRUE))/(IF($C$5<>\"\",Table2[Status]=$C$5,TRUE))/(IF($C$6<>\"\",Table2[FPPDate]=$C$6,TRUE))/(IF($C$7<>\"\",Table2[ProposalCode]=$C$7,TRUE)),ROW(D115))),\"\")","v":""},{"$f":"IFERROR(INDEX(Table2[PeriodeStart],_xlfn.AGGREGATE(15,6,(ROW(Table2[FPPGroupCode])-2)/(Table2[DepoName]=$C$2)/(IF($C$3<>\"\",Table2[BULAN]=$C$3,TRUE))/(IF($C$4<>\"\",Table2[OFF/ON]=$C$4,TRUE))/(IF($C$5<>\"\",Table2[Status]=$C$5,TRUE))/(IF($C$6<>\"\",Table2[FPPDate]=$C$6,TRUE))/(IF($C$7<>\"\",Table2[ProposalCode]=$C$7,TRUE)),ROW(E115))),\"\")","v":""},{"$f":"IFERROR(INDEX(Table2[PeriodeEnd],_xlfn.AGGREGATE(15,6,(ROW(Table2[FPPGroupCode])-2)/(Table2[DepoName]=$C$2)/(IF($C$3<>\"\",Table2[BULAN]=$C$3,TRUE))/(IF($C$4<>\"\",Table2[OFF/ON]=$C$4,TRUE))/(IF($C$5<>\"\",Table2[Status]=$C$5,TRUE))/(IF($C$6<>\"\",Table2[FPPDate]=$C$6,TRUE))/(IF($C$7<>\"\",Table2[ProposalCode]=$C$7,TRUE)),ROW(F115))),\"\")","v":""},{"$f":"IFERROR(INDEX(Table2[Amount_FPPDepo],_xlfn.AGGREGATE(15,6,(ROW(Table2[FPPGroupCode])-2)/(Table2[DepoName]=$C$2)/(IF($C$3<>\"\",Table2[BULAN]=$C$3,TRUE))/(IF($C$4<>\"\",Table2[OFF/ON]=$C$4,TRUE))/(IF($C$5<>\"\",Table2[Status]=$C$5,TRUE))/(IF($C$6<>\"\",Table2[FPPDate]=$C$6,TRUE))/(IF($C$7<>\"\",Table2[ProposalCode]=$C$7,TRUE)),ROW(G115))),\"\")","v":""},{"$f":"IFERROR(VLOOKUP($B123,SIP!$D$5776:$P$6032,12,0),0)","v":0},{"$f":"IFERROR(H123-I123,0)","v":0},{"$f":"IFERROR(VLOOKUP($B123,SIP!$D$5776:$P$6032,8,0),0)","v":0},{"$f":"IFERROR(INDEX(Table2[OFF/ON],_xlfn.AGGREGATE(15,6,(ROW(Table2[FPPGroupCode])-2)/(Table2[DepoName]=$C$2)/(IF($C$3<>\"\",Table2[BULAN]=$C$3,TRUE))/(IF($C$4<>\"\",Table2[OFF/ON]=$C$4,TRUE))/(IF($C$5<>\"\",Table2[Status]=$C$5,TRUE))/(IF($C$6<>\"\",Table2[FPPDate]=$C$6,TRUE))/(IF($C$7<>\"\",Table2[ProposalCode]=$C$7,TRUE)),ROW(K115))),\"\")","v":""}]
[{"$f":"IF(LEN($B124),ROW(A116),\"\")","v":""},{"$f":"IFERROR(INDEX(Table2[FPPGroupCode],_xlfn.AGGREGATE(15,6,(ROW(Table2[FPPGroupCode])-2)/(Table2[DepoName]=$C$2)/(IF($C$3<>\"\",Table2[BULAN]=$C$3,TRUE))/(IF($C$4<>\"\",Table2[OFF/ON]=$C$4,TRUE))/(IF($C$5<>\"\",Table2[Status]=$C$5,TRUE))/(IF($C$6<>\"\",Table2[FPPDate]=$C$6,TRUE))/(IF($C$7<>\"\",Table2[ProposalCode]=$C$7,TRUE)),ROW(A116))),\"\")","v":""},{"$f":"IFERROR(VLOOKUP($B124,SIP!$D$3:$Q$12237,14,0),0)","v":0},{"$f":"IFERROR(INDEX(Table2[Activity],_xlfn.AGGREGATE(15,6,(ROW(Table2[FPPGroupCode])-2)/(Table2[DepoName]=$C$2)/(IF($C$3<>\"\",Table2[BULAN]=$C$3,TRUE))/(IF($C$4<>\"\",Table2[OFF/ON]=$C$4,TRUE))/(IF($C$5<>\"\",Table2[Status]=$C$5,TRUE))/(IF($C$6<>\"\",Table2[]=$C$6,TRUE))/(IF($C$7<>\"\",Table2[ProposalCode]=$C$7,TRUE)),ROW(B116))),\"\")","v":""},{"$f":"IFERROR(INDEX(Table2[Location],_xlfn.AGGREGATE(15,6,(ROW(Table2[FPPGroupCode])-2)/(Table2[DepoName]=$C$2)/(IF($C$3<>\"\",Table2[BULAN]=$C$3,TRUE))/(IF($C$4<>\"\",Table2[OFF/ON]=$C$4,TRUE))/(IF($C$5<>\"\",Table2[Status]=$C$5,TRUE))/(IF($C$6<>\"\",Table2[FPPDate]=$C$6,TRUE))/(IF($C$7<>\"\",Table2[ProposalCode]=$C$7,TRUE)),ROW(D116))),\"\")","v":""},{"$f":"IFERROR(INDEX(Table2[PeriodeStart],_xlfn.AGGREGATE(15,6,(ROW(Table2[FPPGroupCode])-2)/(Table2[DepoName]=$C$2)/(IF($C$3<>\"\",Table2[BULAN]=$C$3,TRUE))/(IF($C$4<>\"\",Table2[OFF/ON]=$C$4,TRUE))/(IF($C$5<>\"\",Table2[Status]=$C$5,TRUE))/(IF($C$6<>\"\",Table2[FPPDate]=$C$6,TRUE))/(IF($C$7<>\"\",Table2[ProposalCode]=$C$7,TRUE)),ROW(E116))),\"\")","v":""},{"$f":"IFERROR(INDEX(Table2[PeriodeEnd],_xlfn.AGGREGATE(15,6,(ROW(Table2[FPPGroupCode])-2)/(Table2[DepoName]=$C$2)/(IF($C$3<>\"\",Table2[BULAN]=$C$3,TRUE))/(IF($C$4<>\"\",Table2[OFF/ON]=$C$4,TRUE))/(IF($C$5<>\"\",Table2[Status]=$C$5,TRUE))/(IF($C$6<>\"\",Table2[FPPDate]=$C$6,TRUE))/(IF($C$7<>\"\",Table2[ProposalCode]=$C$7,TRUE)),ROW(F116))),\"\")","v":""},{"$f":"IFERROR(INDEX(Table2[Amount_FPPDepo],_xlfn.AGGREGATE(15,6,(ROW(Table2[FPPGroupCode])-2)/(Table2[DepoName]=$C$2)/(IF($C$3<>\"\",Table2[BULAN]=$C$3,TRUE))/(IF($C$4<>\"\",Table2[OFF/ON]=$C$4,TRUE))/(IF($C$5<>\"\",Table2[Status]=$C$5,TRUE))/(IF($C$6<>\"\",Table2[FPPDate]=$C$6,TRUE))/(IF($C$7<>\"\",Table2[ProposalCode]=$C$7,TRUE)),ROW(G116))),\"\")","v":""},{"$f":"IFERROR(VLOOKUP($B124,SIP!$D$5776:$P$6032,12,0),0)","v":0},{"$f":"IFERROR(H124-I124,0)","v":0},{"$f":"IFERROR(VLOOKUP($B124,SIP!$D$5776:$P$6032,8,0),0)","v":0},{"$f":"IFERROR(INDEX(Table2[OFF/ON],_xlfn.AGGREGATE(15,6,(ROW(Table2[FPPGroupCode])-2)/(Table2[DepoName]=$C$2)/(IF($C$3<>\"\",Table2[BULAN]=$C$3,TRUE))/(IF($C$4<>\"\",Table2[OFF/ON]=$C$4,TRUE))/(IF($C$5<>\"\",Table2[Status]=$C$5,TRUE))/(IF($C$6<>\"\",Table2[FPPDate]=$C$6,TRUE))/(IF($C$7<>\"\",Table2[ProposalCode]=$C$7,TRUE)),ROW(K116))),\"\")","v":""}]
[{"$f":"IF(LEN($B125),ROW(A117),\"\")","v":""},{"$f":"IFERROR(INDEX(Table2[FPPGroupCode],_xlfn.AGGREGATE(15,6,(ROW(Table2[FPPGroupCode])-2)/(Table2[DepoName]=$C$2)/(IF($C$3<>\"\",Table2[BULAN]=$C$3,TRUE))/(IF($C$4<>\"\",Table2[OFF/ON]=$C$4,TRUE))/(IF($C$5<>\"\",Table2[Status]=$C$5,TRUE))/(IF($C$6<>\"\",Table2[FPPDate]=$C$6,TRUE))/(IF($C$7<>\"\",Table2[ProposalCode]=$C$7,TRUE)),ROW(A117))),\"\")","v":""},{"$f":"IFERROR(VLOOKUP($B125,SIP!$D$3:$Q$12237,14,0),0)","v":0},{"$f":"IFERROR(INDEX(Table2[Activity],_xlfn.AGGREGATE(15,6,(ROW(Table2[FPPGroupCode])-2)/(Table2[DepoName]=$C$2)/(IF($C$3<>\"\",Table2[BULAN]=$C$3,TRUE))/(IF($C$4<>\"\",Table2[OFF/ON]=$C$4,TRUE))/(IF($C$5<>\"\",Table2[Status]=$C$5,TRUE))/(IF($C$6<>\"\",Table2[]=$C$6,TRUE))/(IF($C$7<>\"\",Table2[ProposalCode]=$C$7,TRUE)),ROW(B117))),\"\")","v":""},{"$f":"IFERROR(INDEX(Table2[Location],_xlfn.AGGREGATE(15,6,(ROW(Table2[FPPGroupCode])-2)/(Table2[DepoName]=$C$2)/(IF($C$3<>\"\",Table2[BULAN]=$C$3,TRUE))/(IF($C$4<>\"\",Table2[OFF/ON]=$C$4,TRUE))/(IF($C$5<>\"\",Table2[Status]=$C$5,TRUE))/(IF($C$6<>\"\",Table2[FPPDate]=$C$6,TRUE))/(IF($C$7<>\"\",Table2[ProposalCode]=$C$7,TRUE)),ROW(D117))),\"\")","v":""},{"$f":"IFERROR(INDEX(Table2[PeriodeStart],_xlfn.AGGREGATE(15,6,(ROW(Table2[FPPGroupCode])-2)/(Table2[DepoName]=$C$2)/(IF($C$3<>\"\",Table2[BULAN]=$C$3,TRUE))/(IF($C$4<>\"\",Table2[OFF/ON]=$C$4,TRUE))/(IF($C$5<>\"\",Table2[Status]=$C$5,TRUE))/(IF($C$6<>\"\",Table2[FPPDate]=$C$6,TRUE))/(IF($C$7<>\"\",Table2[ProposalCode]=$C$7,TRUE)),ROW(E117))),\"\")","v":""},{"$f":"IFERROR(INDEX(Table2[PeriodeEnd],_xlfn.AGGREGATE(15,6,(ROW(Table2[FPPGroupCode])-2)/(Table2[DepoName]=$C$2)/(IF($C$3<>\"\",Table2[BULAN]=$C$3,TRUE))/(IF($C$4<>\"\",Table2[OFF/ON]=$C$4,TRUE))/(IF($C$5<>\"\",Table2[Status]=$C$5,TRUE))/(IF($C$6<>\"\",Table2[FPPDate]=$C$6,TRUE))/(IF($C$7<>\"\",Table2[ProposalCode]=$C$7,TRUE)),ROW(F117))),\"\")","v":""},{"$f":"IFERROR(INDEX(Table2[Amount_FPPDepo],_xlfn.AGGREGATE(15,6,(ROW(Table2[FPPGroupCode])-2)/(Table2[DepoName]=$C$2)/(IF($C$3<>\"\",Table2[BULAN]=$C$3,TRUE))/(IF($C$4<>\"\",Table2[OFF/ON]=$C$4,TRUE))/(IF($C$5<>\"\",Table2[Status]=$C$5,TRUE))/(IF($C$6<>\"\",Table2[FPPDate]=$C$6,TRUE))/(IF($C$7<>\"\",Table2[ProposalCode]=$C$7,TRUE)),ROW(G117))),\"\")","v":""},{"$f":"IFERROR(VLOOKUP($B125,SIP!$D$5776:$P$6032,12,0),0)","v":0},{"$f":"IFERROR(H125-I125,0)","v":0},{"$f":"IFERROR(VLOOKUP($B125,SIP!$D$5776:$P$6032,8,0),0)","v":0},{"$f":"IFERROR(INDEX(Table2[OFF/ON],_xlfn.AGGREGATE(15,6,(ROW(Table2[FPPGroupCode])-2)/(Table2[DepoName]=$C$2)/(IF($C$3<>\"\",Table2[BULAN]=$C$3,TRUE))/(IF($C$4<>\"\",Table2[OFF/ON]=$C$4,TRUE))/(IF($C$5<>\"\",Table2[Status]=$C$5,TRUE))/(IF($C$6<>\"\",Table2[FPPDate]=$C$6,TRUE))/(IF($C$7<>\"\",Table2[ProposalCode]=$C$7,TRUE)),ROW(K117))),\"\")","v":""}]
[{"$f":"IF(LEN($B126),ROW(A118),\"\")","v":""},{"$f":"IFERROR(INDEX(Table2[FPPGroupCode],_xlfn.AGGREGATE(15,6,(ROW(Table2[FPPGroupCode])-2)/(Table2[DepoName]=$C$2)/(IF($C$3<>\"\",Table2[BULAN]=$C$3,TRUE))/(IF($C$4<>\"\",Table2[OFF/ON]=$C$4,TRUE))/(IF($C$5<>\"\",Table2[Status]=$C$5,TRUE))/(IF($C$6<>\"\",Table2[FPPDate]=$C$6,TRUE))/(IF($C$7<>\"\",Table2[ProposalCode]=$C$7,TRUE)),ROW(A118))),\"\")","v":""},{"$f":"IFERROR(VLOOKUP($B126,SIP!$D$3:$Q$12237,14,0),0)","v":0},{"$f":"IFERROR(INDEX(Table2[Activity],_xlfn.AGGREGATE(15,6,(ROW(Table2[FPPGroupCode])-2)/(Table2[DepoName]=$C$2)/(IF($C$3<>\"\",Table2[BULAN]=$C$3,TRUE))/(IF($C$4<>\"\",Table2[OFF/ON]=$C$4,TRUE))/(IF($C$5<>\"\",Table2[Status]=$C$5,TRUE))/(IF($C$6<>\"\",Table2[]=$C$6,TRUE))/(IF($C$7<>\"\",Table2[ProposalCode]=$C$7,TRUE)),ROW(B118))),\"\")","v":""},{"$f":"IFERROR(INDEX(Table2[Location],_xlfn.AGGREGATE(15,6,(ROW(Table2[FPPGroupCode])-2)/(Table2[DepoName]=$C$2)/(IF($C$3<>\"\",Table2[BULAN]=$C$3,TRUE))/(IF($C$4<>\"\",Table2[OFF/ON]=$C$4,TRUE))/(IF($C$5<>\"\",Table2[Status]=$C$5,TRUE))/(IF($C$6<>\"\",Table2[FPPDate]=$C$6,TRUE))/(IF($C$7<>\"\",Table2[ProposalCode]=$C$7,TRUE)),ROW(D118))),\"\")","v":""},{"$f":"IFERROR(INDEX(Table2[PeriodeStart],_xlfn.AGGREGATE(15,6,(ROW(Table2[FPPGroupCode])-2)/(Table2[DepoName]=$C$2)/(IF($C$3<>\"\",Table2[BULAN]=$C$3,TRUE))/(IF($C$4<>\"\",Table2[OFF/ON]=$C$4,TRUE))/(IF($C$5<>\"\",Table2[Status]=$C$5,TRUE))/(IF($C$6<>\"\",Table2[FPPDate]=$C$6,TRUE))/(IF($C$7<>\"\",Table2[ProposalCode]=$C$7,TRUE)),ROW(E118))),\"\")","v":""},{"$f":"IFERROR(INDEX(Table2[PeriodeEnd],_xlfn.AGGREGATE(15,6,(ROW(Table2[FPPGroupCode])-2)/(Table2[DepoName]=$C$2)/(IF($C$3<>\"\",Table2[BULAN]=$C$3,TRUE))/(IF($C$4<>\"\",Table2[OFF/ON]=$C$4,TRUE))/(IF($C$5<>\"\",Table2[Status]=$C$5,TRUE))/(IF($C$6<>\"\",Table2[FPPDate]=$C$6,TRUE))/(IF($C$7<>\"\",Table2[ProposalCode]=$C$7,TRUE)),ROW(F118))),\"\")","v":""},{"$f":"IFERROR(INDEX(Table2[Amount_FPPDepo],_xlfn.AGGREGATE(15,6,(ROW(Table2[FPPGroupCode])-2)/(Table2[DepoName]=$C$2)/(IF($C$3<>\"\",Table2[BULAN]=$C$3,TRUE))/(IF($C$4<>\"\",Table2[OFF/ON]=$C$4,TRUE))/(IF($C$5<>\"\",Table2[Status]=$C$5,TRUE))/(IF($C$6<>\"\",Table2[FPPDate]=$C$6,TRUE))/(IF($C$7<>\"\",Table2[ProposalCode]=$C$7,TRUE)),ROW(G118))),\"\")","v":""},{"$f":"IFERROR(VLOOKUP($B126,SIP!$D$5776:$P$6032,12,0),0)","v":0},{"$f":"IFERROR(H126-I126,0)","v":0},{"$f":"IFERROR(VLOOKUP($B126,SIP!$D$5776:$P$6032,8,0),0)","v":0},{"$f":"IFERROR(INDEX(Table2[OFF/ON],_xlfn.AGGREGATE(15,6,(ROW(Table2[FPPGroupCode])-2)/(Table2[DepoName]=$C$2)/(IF($C$3<>\"\",Table2[BULAN]=$C$3,TRUE))/(IF($C$4<>\"\",Table2[OFF/ON]=$C$4,TRUE))/(IF($C$5<>\"\",Table2[Status]=$C$5,TRUE))/(IF($C$6<>\"\",Table2[FPPDate]=$C$6,TRUE))/(IF($C$7<>\"\",Table2[ProposalCode]=$C$7,TRUE)),ROW(K118))),\"\")","v":""}]
[{"$f":"IF(LEN($B127),ROW(A119),\"\")","v":""},{"$f":"IFERROR(INDEX(Table2[FPPGroupCode],_xlfn.AGGREGATE(15,6,(ROW(Table2[FPPGroupCode])-2)/(Table2[DepoName]=$C$2)/(IF($C$3<>\"\",Table2[BULAN]=$C$3,TRUE))/(IF($C$4<>\"\",Table2[OFF/ON]=$C$4,TRUE))/(IF($C$5<>\"\",Table2[Status]=$C$5,TRUE))/(IF($C$6<>\"\",Table2[FPPDate]=$C$6,TRUE))/(IF($C$7<>\"\",Table2[ProposalCode]=$C$7,TRUE)),ROW(A119))),\"\")","v":""},{"$f":"IFERROR(VLOOKUP($B127,SIP!$D$3:$Q$12237,14,0),0)","v":0},{"$f":"IFERROR(INDEX(Table2[Activity],_xlfn.AGGREGATE(15,6,(ROW(Table2[FPPGroupCode])-2)/(Table2[DepoName]=$C$2)/(IF($C$3<>\"\",Table2[BULAN]=$C$3,TRUE))/(IF($C$4<>\"\",Table2[OFF/ON]=$C$4,TRUE))/(IF($C$5<>\"\",Table2[Status]=$C$5,TRUE))/(IF($C$6<>\"\",Table2[]=$C$6,TRUE))/(IF($C$7<>\"\",Table2[ProposalCode]=$C$7,TRUE)),ROW(B119))),\"\")","v":""},{"$f":"IFERROR(INDEX(Table2[Location],_xlfn.AGGREGATE(15,6,(ROW(Table2[FPPGroupCode])-2)/(Table2[DepoName]=$C$2)/(IF($C$3<>\"\",Table2[BULAN]=$C$3,TRUE))/(IF($C$4<>\"\",Table2[OFF/ON]=$C$4,TRUE))/(IF($C$5<>\"\",Table2[Status]=$C$5,TRUE))/(IF($C$6<>\"\",Table2[FPPDate]=$C$6,TRUE))/(IF($C$7<>\"\",Table2[ProposalCode]=$C$7,TRUE)),ROW(D119))),\"\")","v":""},{"$f":"IFERROR(INDEX(Table2[PeriodeStart],_xlfn.AGGREGATE(15,6,(ROW(Table2[FPPGroupCode])-2)/(Table2[DepoName]=$C$2)/(IF($C$3<>\"\",Table2[BULAN]=$C$3,TRUE))/(IF($C$4<>\"\",Table2[OFF/ON]=$C$4,TRUE))/(IF($C$5<>\"\",Table2[Status]=$C$5,TRUE))/(IF($C$6<>\"\",Table2[FPPDate]=$C$6,TRUE))/(IF($C$7<>\"\",Table2[ProposalCode]=$C$7,TRUE)),ROW(E119))),\"\")","v":""},{"$f":"IFERROR(INDEX(Table2[PeriodeEnd],_xlfn.AGGREGATE(15,6,(ROW(Table2[FPPGroupCode])-2)/(Table2[DepoName]=$C$2)/(IF($C$3<>\"\",Table2[BULAN]=$C$3,TRUE))/(IF($C$4<>\"\",Table2[OFF/ON]=$C$4,TRUE))/(IF($C$5<>\"\",Table2[Status]=$C$5,TRUE))/(IF($C$6<>\"\",Table2[FPPDate]=$C$6,TRUE))/(IF($C$7<>\"\",Table2[ProposalCode]=$C$7,TRUE)),ROW(F119))),\"\")","v":""},{"$f":"IFERROR(INDEX(Table2[Amount_FPPDepo],_xlfn.AGGREGATE(15,6,(ROW(Table2[FPPGroupCode])-2)/(Table2[DepoName]=$C$2)/(IF($C$3<>\"\",Table2[BULAN]=$C$3,TRUE))/(IF($C$4<>\"\",Table2[OFF/ON]=$C$4,TRUE))/(IF($C$5<>\"\",Table2[Status]=$C$5,TRUE))/(IF($C$6<>\"\",Table2[FPPDate]=$C$6,TRUE))/(IF($C$7<>\"\",Table2[ProposalCode]=$C$7,TRUE)),ROW(G119))),\"\")","v":""},{"$f":"IFERROR(VLOOKUP($B127,SIP!$D$5776:$P$6032,12,0),0)","v":0},{"$f":"IFERROR(H127-I127,0)","v":0},{"$f":"IFERROR(VLOOKUP($B127,SIP!$D$5776:$P$6032,8,0),0)","v":0},{"$f":"IFERROR(INDEX(Table2[OFF/ON],_xlfn.AGGREGATE(15,6,(ROW(Table2[FPPGroupCode])-2)/(Table2[DepoName]=$C$2)/(IF($C$3<>\"\",Table2[BULAN]=$C$3,TRUE))/(IF($C$4<>\"\",Table2[OFF/ON]=$C$4,TRUE))/(IF($C$5<>\"\",Table2[Status]=$C$5,TRUE))/(IF($C$6<>\"\",Table2[FPPDate]=$C$6,TRUE))/(IF($C$7<>\"\",Table2[ProposalCode]=$C$7,TRUE)),ROW(K119))),\"\")","v":""}]
[{"$f":"IF(LEN($B128),ROW(A120),\"\")","v":""},{"$f":"IFERROR(INDEX(Table2[FPPGroupCode],_xlfn.AGGREGATE(15,6,(ROW(Table2[FPPGroupCode])-2)/(Table2[DepoName]=$C$2)/(IF($C$3<>\"\",Table2[BULAN]=$C$3,TRUE))/(IF($C$4<>\"\",Table2[OFF/ON]=$C$4,TRUE))/(IF($C$5<>\"\",Table2[Status]=$C$5,TRUE))/(IF($C$6<>\"\",Table2[FPPDate]=$C$6,TRUE))/(IF($C$7<>\"\",Table2[ProposalCode]=$C$7,TRUE)),ROW(A120))),\"\")","v":""},{"$f":"IFERROR(VLOOKUP($B128,SIP!$D$3:$Q$12237,14,0),0)","v":0},{"$f":"IFERROR(INDEX(Table2[Activity],_xlfn.AGGREGATE(15,6,(ROW(Table2[FPPGroupCode])-2)/(Table2[DepoName]=$C$2)/(IF($C$3<>\"\",Table2[BULAN]=$C$3,TRUE))/(IF($C$4<>\"\",Table2[OFF/ON]=$C$4,TRUE))/(IF($C$5<>\"\",Table2[Status]=$C$5,TRUE))/(IF($C$6<>\"\",Table2[]=$C$6,TRUE))/(IF($C$7<>\"\",Table2[ProposalCode]=$C$7,TRUE)),ROW(B120))),\"\")","v":""},{"$f":"IFERROR(INDEX(Table2[Location],_xlfn.AGGREGATE(15,6,(ROW(Table2[FPPGroupCode])-2)/(Table2[DepoName]=$C$2)/(IF($C$3<>\"\",Table2[BULAN]=$C$3,TRUE))/(IF($C$4<>\"\",Table2[OFF/ON]=$C$4,TRUE))/(IF($C$5<>\"\",Table2[Status]=$C$5,TRUE))/(IF($C$6<>\"\",Table2[FPPDate]=$C$6,TRUE))/(IF($C$7<>\"\",Table2[ProposalCode]=$C$7,TRUE)),ROW(D120))),\"\")","v":""},{"$f":"IFERROR(INDEX(Table2[PeriodeStart],_xlfn.AGGREGATE(15,6,(ROW(Table2[FPPGroupCode])-2)/(Table2[DepoName]=$C$2)/(IF($C$3<>\"\",Table2[BULAN]=$C$3,TRUE))/(IF($C$4<>\"\",Table2[OFF/ON]=$C$4,TRUE))/(IF($C$5<>\"\",Table2[Status]=$C$5,TRUE))/(IF($C$6<>\"\",Table2[FPPDate]=$C$6,TRUE))/(IF($C$7<>\"\",Table2[ProposalCode]=$C$7,TRUE)),ROW(E120))),\"\")","v":""},{"$f":"IFERROR(INDEX(Table2[PeriodeEnd],_xlfn.AGGREGATE(15,6,(ROW(Table2[FPPGroupCode])-2)/(Table2[DepoName]=$C$2)/(IF($C$3<>\"\",Table2[BULAN]=$C$3,TRUE))/(IF($C$4<>\"\",Table2[OFF/ON]=$C$4,TRUE))/(IF($C$5<>\"\",Table2[Status]=$C$5,TRUE))/(IF($C$6<>\"\",Table2[FPPDate]=$C$6,TRUE))/(IF($C$7<>\"\",Table2[ProposalCode]=$C$7,TRUE)),ROW(F120))),\"\")","v":""},{"$f":"IFERROR(INDEX(Table2[Amount_FPPDepo],_xlfn.AGGREGATE(15,6,(ROW(Table2[FPPGroupCode])-2)/(Table2[DepoName]=$C$2)/(IF($C$3<>\"\",Table2[BULAN]=$C$3,TRUE))/(IF($C$4<>\"\",Table2[OFF/ON]=$C$4,TRUE))/(IF($C$5<>\"\",Table2[Status]=$C$5,TRUE))/(IF($C$6<>\"\",Table2[FPPDate]=$C$6,TRUE))/(IF($C$7<>\"\",Table2[ProposalCode]=$C$7,TRUE)),ROW(G120))),\"\")","v":""},{"$f":"IFERROR(VLOOKUP($B128,SIP!$D$5776:$P$6032,12,0),0)","v":0},{"$f":"IFERROR(H128-I128,0)","v":0},{"$f":"IFERROR(VLOOKUP($B128,SIP!$D$5776:$P$6032,8,0),0)","v":0},{"$f":"IFERROR(INDEX(Table2[OFF/ON],_xlfn.AGGREGATE(15,6,(ROW(Table2[FPPGroupCode])-2)/(Table2[DepoName]=$C$2)/(IF($C$3<>\"\",Table2[BULAN]=$C$3,TRUE))/(IF($C$4<>\"\",Table2[OFF/ON]=$C$4,TRUE))/(IF($C$5<>\"\",Table2[Status]=$C$5,TRUE))/(IF($C$6<>\"\",Table2[FPPDate]=$C$6,TRUE))/(IF($C$7<>\"\",Table2[ProposalCode]=$C$7,TRUE)),ROW(K120))),\"\")","v":""}]
[{"$f":"IF(LEN($B129),ROW(A121),\"\")","v":""},{"$f":"IFERROR(INDEX(Table2[FPPGroupCode],_xlfn.AGGREGATE(15,6,(ROW(Table2[FPPGroupCode])-2)/(Table2[DepoName]=$C$2)/(IF($C$3<>\"\",Table2[BULAN]=$C$3,TRUE))/(IF($C$4<>\"\",Table2[OFF/ON]=$C$4,TRUE))/(IF($C$5<>\"\",Table2[Status]=$C$5,TRUE))/(IF($C$6<>\"\",Table2[FPPDate]=$C$6,TRUE))/(IF($C$7<>\"\",Table2[ProposalCode]=$C$7,TRUE)),ROW(A121))),\"\")","v":""},{"$f":"IFERROR(VLOOKUP($B129,SIP!$D$3:$Q$12237,14,0),0)","v":0},{"$f":"IFERROR(INDEX(Table2[Activity],_xlfn.AGGREGATE(15,6,(ROW(Table2[FPPGroupCode])-2)/(Table2[DepoName]=$C$2)/(IF($C$3<>\"\",Table2[BULAN]=$C$3,TRUE))/(IF($C$4<>\"\",Table2[OFF/ON]=$C$4,TRUE))/(IF($C$5<>\"\",Table2[Status]=$C$5,TRUE))/(IF($C$6<>\"\",Table2[]=$C$6,TRUE))/(IF($C$7<>\"\",Table2[ProposalCode]=$C$7,TRUE)),ROW(B121))),\"\")","v":""},{"$f":"IFERROR(INDEX(Table2[Location],_xlfn.AGGREGATE(15,6,(ROW(Table2[FPPGroupCode])-2)/(Table2[DepoName]=$C$2)/(IF($C$3<>\"\",Table2[BULAN]=$C$3,TRUE))/(IF($C$4<>\"\",Table2[OFF/ON]=$C$4,TRUE))/(IF($C$5<>\"\",Table2[Status]=$C$5,TRUE))/(IF($C$6<>\"\",Table2[FPPDate]=$C$6,TRUE))/(IF($C$7<>\"\",Table2[ProposalCode]=$C$7,TRUE)),ROW(D121))),\"\")","v":""},{"$f":"IFERROR(INDEX(Table2[PeriodeStart],_xlfn.AGGREGATE(15,6,(ROW(Table2[FPPGroupCode])-2)/(Table2[DepoName]=$C$2)/(IF($C$3<>\"\",Table2[BULAN]=$C$3,TRUE))/(IF($C$4<>\"\",Table2[OFF/ON]=$C$4,TRUE))/(IF($C$5<>\"\",Table2[Status]=$C$5,TRUE))/(IF($C$6<>\"\",Table2[FPPDate]=$C$6,TRUE))/(IF($C$7<>\"\",Table2[ProposalCode]=$C$7,TRUE)),ROW(E121))),\"\")","v":""},{"$f":"IFERROR(INDEX(Table2[PeriodeEnd],_xlfn.AGGREGATE(15,6,(ROW(Table2[FPPGroupCode])-2)/(Table2[DepoName]=$C$2)/(IF($C$3<>\"\",Table2[BULAN]=$C$3,TRUE))/(IF($C$4<>\"\",Table2[OFF/ON]=$C$4,TRUE))/(IF($C$5<>\"\",Table2[Status]=$C$5,TRUE))/(IF($C$6<>\"\",Table2[FPPDate]=$C$6,TRUE))/(IF($C$7<>\"\",Table2[ProposalCode]=$C$7,TRUE)),ROW(F121))),\"\")","v":""},{"$f":"IFERROR(INDEX(Table2[Amount_FPPDepo],_xlfn.AGGREGATE(15,6,(ROW(Table2[FPPGroupCode])-2)/(Table2[DepoName]=$C$2)/(IF($C$3<>\"\",Table2[BULAN]=$C$3,TRUE))/(IF($C$4<>\"\",Table2[OFF/ON]=$C$4,TRUE))/(IF($C$5<>\"\",Table2[Status]=$C$5,TRUE))/(IF($C$6<>\"\",Table2[FPPDate]=$C$6,TRUE))/(IF($C$7<>\"\",Table2[ProposalCode]=$C$7,TRUE)),ROW(G121))),\"\")","v":""},{"$f":"IFERROR(VLOOKUP($B129,SIP!$D$5776:$P$6032,12,0),0)","v":0},{"$f":"IFERROR(H129-I129,0)","v":0},{"$f":"IFERROR(VLOOKUP($B129,SIP!$D$5776:$P$6032,8,0),0)","v":0},{"$f":"IFERROR(INDEX(Table2[OFF/ON],_xlfn.AGGREGATE(15,6,(ROW(Table2[FPPGroupCode])-2)/(Table2[DepoName]=$C$2)/(IF($C$3<>\"\",Table2[BULAN]=$C$3,TRUE))/(IF($C$4<>\"\",Table2[OFF/ON]=$C$4,TRUE))/(IF($C$5<>\"\",Table2[Status]=$C$5,TRUE))/(IF($C$6<>\"\",Table2[FPPDate]=$C$6,TRUE))/(IF($C$7<>\"\",Table2[ProposalCode]=$C$7,TRUE)),ROW(K121))),\"\")","v":""}]
[{"$f":"IF(LEN($B130),ROW(A122),\"\")","v":""},{"$f":"IFERROR(INDEX(Table2[FPPGroupCode],_xlfn.AGGREGATE(15,6,(ROW(Table2[FPPGroupCode])-2)/(Table2[DepoName]=$C$2)/(IF($C$3<>\"\",Table2[BULAN]=$C$3,TRUE))/(IF($C$4<>\"\",Table2[OFF/ON]=$C$4,TRUE))/(IF($C$5<>\"\",Table2[Status]=$C$5,TRUE))/(IF($C$6<>\"\",Table2[FPPDate]=$C$6,TRUE))/(IF($C$7<>\"\",Table2[ProposalCode]=$C$7,TRUE)),ROW(A122))),\"\")","v":""},{"$f":"IFERROR(VLOOKUP($B130,SIP!$D$3:$Q$12237,14,0),0)","v":0},{"$f":"IFERROR(INDEX(Table2[Activity],_xlfn.AGGREGATE(15,6,(ROW(Table2[FPPGroupCode])-2)/(Table2[DepoName]=$C$2)/(IF($C$3<>\"\",Table2[BULAN]=$C$3,TRUE))/(IF($C$4<>\"\",Table2[OFF/ON]=$C$4,TRUE))/(IF($C$5<>\"\",Table2[Status]=$C$5,TRUE))/(IF($C$6<>\"\",Table2[]=$C$6,TRUE))/(IF($C$7<>\"\",Table2[ProposalCode]=$C$7,TRUE)),ROW(B122))),\"\")","v":""},{"$f":"IFERROR(INDEX(Table2[Location],_xlfn.AGGREGATE(15,6,(ROW(Table2[FPPGroupCode])-2)/(Table2[DepoName]=$C$2)/(IF($C$3<>\"\",Table2[BULAN]=$C$3,TRUE))/(IF($C$4<>\"\",Table2[OFF/ON]=$C$4,TRUE))/(IF($C$5<>\"\",Table2[Status]=$C$5,TRUE))/(IF($C$6<>\"\",Table2[FPPDate]=$C$6,TRUE))/(IF($C$7<>\"\",Table2[ProposalCode]=$C$7,TRUE)),ROW(D122))),\"\")","v":""},{"$f":"IFERROR(INDEX(Table2[PeriodeStart],_xlfn.AGGREGATE(15,6,(ROW(Table2[FPPGroupCode])-2)/(Table2[DepoName]=$C$2)/(IF($C$3<>\"\",Table2[BULAN]=$C$3,TRUE))/(IF($C$4<>\"\",Table2[OFF/ON]=$C$4,TRUE))/(IF($C$5<>\"\",Table2[Status]=$C$5,TRUE))/(IF($C$6<>\"\",Table2[FPPDate]=$C$6,TRUE))/(IF($C$7<>\"\",Table2[ProposalCode]=$C$7,TRUE)),ROW(E122))),\"\")","v":""},{"$f":"IFERROR(INDEX(Table2[PeriodeEnd],_xlfn.AGGREGATE(15,6,(ROW(Table2[FPPGroupCode])-2)/(Table2[DepoName]=$C$2)/(IF($C$3<>\"\",Table2[BULAN]=$C$3,TRUE))/(IF($C$4<>\"\",Table2[OFF/ON]=$C$4,TRUE))/(IF($C$5<>\"\",Table2[Status]=$C$5,TRUE))/(IF($C$6<>\"\",Table2[FPPDate]=$C$6,TRUE))/(IF($C$7<>\"\",Table2[ProposalCode]=$C$7,TRUE)),ROW(F122))),\"\")","v":""},{"$f":"IFERROR(INDEX(Table2[Amount_FPPDepo],_xlfn.AGGREGATE(15,6,(ROW(Table2[FPPGroupCode])-2)/(Table2[DepoName]=$C$2)/(IF($C$3<>\"\",Table2[BULAN]=$C$3,TRUE))/(IF($C$4<>\"\",Table2[OFF/ON]=$C$4,TRUE))/(IF($C$5<>\"\",Table2[Status]=$C$5,TRUE))/(IF($C$6<>\"\",Table2[FPPDate]=$C$6,TRUE))/(IF($C$7<>\"\",Table2[ProposalCode]=$C$7,TRUE)),ROW(G122))),\"\")","v":""},{"$f":"IFERROR(VLOOKUP($B130,SIP!$D$5776:$P$6032,12,0),0)","v":0},{"$f":"IFERROR(H130-I130,0)","v":0},{"$f":"IFERROR(VLOOKUP($B130,SIP!$D$5776:$P$6032,8,0),0)","v":0},{"$f":"IFERROR(INDEX(Table2[OFF/ON],_xlfn.AGGREGATE(15,6,(ROW(Table2[FPPGroupCode])-2)/(Table2[DepoName]=$C$2)/(IF($C$3<>\"\",Table2[BULAN]=$C$3,TRUE))/(IF($C$4<>\"\",Table2[OFF/ON]=$C$4,TRUE))/(IF($C$5<>\"\",Table2[Status]=$C$5,TRUE))/(IF($C$6<>\"\",Table2[FPPDate]=$C$6,TRUE))/(IF($C$7<>\"\",Table2[ProposalCode]=$C$7,TRUE)),ROW(K122))),\"\")","v":""}]
[{"$f":"IF(LEN($B131),ROW(A123),\"\")","v":""},{"$f":"IFERROR(INDEX(Table2[FPPGroupCode],_xlfn.AGGREGATE(15,6,(ROW(Table2[FPPGroupCode])-2)/(Table2[DepoName]=$C$2)/(IF($C$3<>\"\",Table2[BULAN]=$C$3,TRUE))/(IF($C$4<>\"\",Table2[OFF/ON]=$C$4,TRUE))/(IF($C$5<>\"\",Table2[Status]=$C$5,TRUE))/(IF($C$6<>\"\",Table2[FPPDate]=$C$6,TRUE))/(IF($C$7<>\"\",Table2[ProposalCode]=$C$7,TRUE)),ROW(A123))),\"\")","v":""},{"$f":"IFERROR(VLOOKUP($B131,SIP!$D$3:$Q$12237,14,0),0)","v":0},{"$f":"IFERROR(INDEX(Table2[Activity],_xlfn.AGGREGATE(15,6,(ROW(Table2[FPPGroupCode])-2)/(Table2[DepoName]=$C$2)/(IF($C$3<>\"\",Table2[BULAN]=$C$3,TRUE))/(IF($C$4<>\"\",Table2[OFF/ON]=$C$4,TRUE))/(IF($C$5<>\"\",Table2[Status]=$C$5,TRUE))/(IF($C$6<>\"\",Table2[]=$C$6,TRUE))/(IF($C$7<>\"\",Table2[ProposalCode]=$C$7,TRUE)),ROW(B123))),\"\")","v":""},{"$f":"IFERROR(INDEX(Table2[Location],_xlfn.AGGREGATE(15,6,(ROW(Table2[FPPGroupCode])-2)/(Table2[DepoName]=$C$2)/(IF($C$3<>\"\",Table2[BULAN]=$C$3,TRUE))/(IF($C$4<>\"\",Table2[OFF/ON]=$C$4,TRUE))/(IF($C$5<>\"\",Table2[Status]=$C$5,TRUE))/(IF($C$6<>\"\",Table2[FPPDate]=$C$6,TRUE))/(IF($C$7<>\"\",Table2[ProposalCode]=$C$7,TRUE)),ROW(D123))),\"\")","v":""},{"$f":"IFERROR(INDEX(Table2[PeriodeStart],_xlfn.AGGREGATE(15,6,(ROW(Table2[FPPGroupCode])-2)/(Table2[DepoName]=$C$2)/(IF($C$3<>\"\",Table2[BULAN]=$C$3,TRUE))/(IF($C$4<>\"\",Table2[OFF/ON]=$C$4,TRUE))/(IF($C$5<>\"\",Table2[Status]=$C$5,TRUE))/(IF($C$6<>\"\",Table2[FPPDate]=$C$6,TRUE))/(IF($C$7<>\"\",Table2[ProposalCode]=$C$7,TRUE)),ROW(E123))),\"\")","v":""},{"$f":"IFERROR(INDEX(Table2[PeriodeEnd],_xlfn.AGGREGATE(15,6,(ROW(Table2[FPPGroupCode])-2)/(Table2[DepoName]=$C$2)/(IF($C$3<>\"\",Table2[BULAN]=$C$3,TRUE))/(IF($C$4<>\"\",Table2[OFF/ON]=$C$4,TRUE))/(IF($C$5<>\"\",Table2[Status]=$C$5,TRUE))/(IF($C$6<>\"\",Table2[FPPDate]=$C$6,TRUE))/(IF($C$7<>\"\",Table2[ProposalCode]=$C$7,TRUE)),ROW(F123))),\"\")","v":""},{"$f":"IFERROR(INDEX(Table2[Amount_FPPDepo],_xlfn.AGGREGATE(15,6,(ROW(Table2[FPPGroupCode])-2)/(Table2[DepoName]=$C$2)/(IF($C$3<>\"\",Table2[BULAN]=$C$3,TRUE))/(IF($C$4<>\"\",Table2[OFF/ON]=$C$4,TRUE))/(IF($C$5<>\"\",Table2[Status]=$C$5,TRUE))/(IF($C$6<>\"\",Table2[FPPDate]=$C$6,TRUE))/(IF($C$7<>\"\",Table2[ProposalCode]=$C$7,TRUE)),ROW(G123))),\"\")","v":""},{"$f":"IFERROR(VLOOKUP($B131,SIP!$D$5776:$P$6032,12,0),0)","v":0},{"$f":"IFERROR(H131-I131,0)","v":0},{"$f":"IFERROR(VLOOKUP($B131,SIP!$D$5776:$P$6032,8,0),0)","v":0},{"$f":"IFERROR(INDEX(Table2[OFF/ON],_xlfn.AGGREGATE(15,6,(ROW(Table2[FPPGroupCode])-2)/(Table2[DepoName]=$C$2)/(IF($C$3<>\"\",Table2[BULAN]=$C$3,TRUE))/(IF($C$4<>\"\",Table2[OFF/ON]=$C$4,TRUE))/(IF($C$5<>\"\",Table2[Status]=$C$5,TRUE))/(IF($C$6<>\"\",Table2[FPPDate]=$C$6,TRUE))/(IF($C$7<>\"\",Table2[ProposalCode]=$C$7,TRUE)),ROW(K123))),\"\")","v":""}]
[{"$f":"IF(LEN($B132),ROW(A124),\"\")","v":""},{"$f":"IFERROR(INDEX(Table2[FPPGroupCode],_xlfn.AGGREGATE(15,6,(ROW(Table2[FPPGroupCode])-2)/(Table2[DepoName]=$C$2)/(IF($C$3<>\"\",Table2[BULAN]=$C$3,TRUE))/(IF($C$4<>\"\",Table2[OFF/ON]=$C$4,TRUE))/(IF($C$5<>\"\",Table2[Status]=$C$5,TRUE))/(IF($C$6<>\"\",Table2[FPPDate]=$C$6,TRUE))/(IF($C$7<>\"\",Table2[ProposalCode]=$C$7,TRUE)),ROW(A124))),\"\")","v":""},{"$f":"IFERROR(VLOOKUP($B132,SIP!$D$3:$Q$12237,14,0),0)","v":0},{"$f":"IFERROR(INDEX(Table2[Activity],_xlfn.AGGREGATE(15,6,(ROW(Table2[FPPGroupCode])-2)/(Table2[DepoName]=$C$2)/(IF($C$3<>\"\",Table2[BULAN]=$C$3,TRUE))/(IF($C$4<>\"\",Table2[OFF/ON]=$C$4,TRUE))/(IF($C$5<>\"\",Table2[Status]=$C$5,TRUE))/(IF($C$6<>\"\",Table2[]=$C$6,TRUE))/(IF($C$7<>\"\",Table2[ProposalCode]=$C$7,TRUE)),ROW(B124))),\"\")","v":""},{"$f":"IFERROR(INDEX(Table2[Location],_xlfn.AGGREGATE(15,6,(ROW(Table2[FPPGroupCode])-2)/(Table2[DepoName]=$C$2)/(IF($C$3<>\"\",Table2[BULAN]=$C$3,TRUE))/(IF($C$4<>\"\",Table2[OFF/ON]=$C$4,TRUE))/(IF($C$5<>\"\",Table2[Status]=$C$5,TRUE))/(IF($C$6<>\"\",Table2[FPPDate]=$C$6,TRUE))/(IF($C$7<>\"\",Table2[ProposalCode]=$C$7,TRUE)),ROW(D124))),\"\")","v":""},{"$f":"IFERROR(INDEX(Table2[PeriodeStart],_xlfn.AGGREGATE(15,6,(ROW(Table2[FPPGroupCode])-2)/(Table2[DepoName]=$C$2)/(IF($C$3<>\"\",Table2[BULAN]=$C$3,TRUE))/(IF($C$4<>\"\",Table2[OFF/ON]=$C$4,TRUE))/(IF($C$5<>\"\",Table2[Status]=$C$5,TRUE))/(IF($C$6<>\"\",Table2[FPPDate]=$C$6,TRUE))/(IF($C$7<>\"\",Table2[ProposalCode]=$C$7,TRUE)),ROW(E124))),\"\")","v":""},{"$f":"IFERROR(INDEX(Table2[PeriodeEnd],_xlfn.AGGREGATE(15,6,(ROW(Table2[FPPGroupCode])-2)/(Table2[DepoName]=$C$2)/(IF($C$3<>\"\",Table2[BULAN]=$C$3,TRUE))/(IF($C$4<>\"\",Table2[OFF/ON]=$C$4,TRUE))/(IF($C$5<>\"\",Table2[Status]=$C$5,TRUE))/(IF($C$6<>\"\",Table2[FPPDate]=$C$6,TRUE))/(IF($C$7<>\"\",Table2[ProposalCode]=$C$7,TRUE)),ROW(F124))),\"\")","v":""},{"$f":"IFERROR(INDEX(Table2[Amount_FPPDepo],_xlfn.AGGREGATE(15,6,(ROW(Table2[FPPGroupCode])-2)/(Table2[DepoName]=$C$2)/(IF($C$3<>\"\",Table2[BULAN]=$C$3,TRUE))/(IF($C$4<>\"\",Table2[OFF/ON]=$C$4,TRUE))/(IF($C$5<>\"\",Table2[Status]=$C$5,TRUE))/(IF($C$6<>\"\",Table2[FPPDate]=$C$6,TRUE))/(IF($C$7<>\"\",Table2[ProposalCode]=$C$7,TRUE)),ROW(G124))),\"\")","v":""},{"$f":"IFERROR(VLOOKUP($B132,SIP!$D$5776:$P$6032,12,0),0)","v":0},{"$f":"IFERROR(H132-I132,0)","v":0},{"$f":"IFERROR(VLOOKUP($B132,SIP!$D$5776:$P$6032,8,0),0)","v":0},{"$f":"IFERROR(INDEX(Table2[OFF/ON],_xlfn.AGGREGATE(15,6,(ROW(Table2[FPPGroupCode])-2)/(Table2[DepoName]=$C$2)/(IF($C$3<>\"\",Table2[BULAN]=$C$3,TRUE))/(IF($C$4<>\"\",Table2[OFF/ON]=$C$4,TRUE))/(IF($C$5<>\"\",Table2[Status]=$C$5,TRUE))/(IF($C$6<>\"\",Table2[FPPDate]=$C$6,TRUE))/(IF($C$7<>\"\",Table2[ProposalCode]=$C$7,TRUE)),ROW(K124))),\"\")","v":""}]
[{"$f":"IF(LEN($B133),ROW(A125),\"\")","v":""},{"$f":"IFERROR(INDEX(Table2[FPPGroupCode],_xlfn.AGGREGATE(15,6,(ROW(Table2[FPPGroupCode])-2)/(Table2[DepoName]=$C$2)/(IF($C$3<>\"\",Table2[BULAN]=$C$3,TRUE))/(IF($C$4<>\"\",Table2[OFF/ON]=$C$4,TRUE))/(IF($C$5<>\"\",Table2[Status]=$C$5,TRUE))/(IF($C$6<>\"\",Table2[FPPDate]=$C$6,TRUE))/(IF($C$7<>\"\",Table2[ProposalCode]=$C$7,TRUE)),ROW(A125))),\"\")","v":""},{"$f":"IFERROR(VLOOKUP($B133,SIP!$D$3:$Q$12237,14,0),0)","v":0},{"$f":"IFERROR(INDEX(Table2[Activity],_xlfn.AGGREGATE(15,6,(ROW(Table2[FPPGroupCode])-2)/(Table2[DepoName]=$C$2)/(IF($C$3<>\"\",Table2[BULAN]=$C$3,TRUE))/(IF($C$4<>\"\",Table2[OFF/ON]=$C$4,TRUE))/(IF($C$5<>\"\",Table2[Status]=$C$5,TRUE))/(IF($C$6<>\"\",Table2[]=$C$6,TRUE))/(IF($C$7<>\"\",Table2[ProposalCode]=$C$7,TRUE)),ROW(B125))),\"\")","v":""},{"$f":"IFERROR(INDEX(Table2[Location],_xlfn.AGGREGATE(15,6,(ROW(Table2[FPPGroupCode])-2)/(Table2[DepoName]=$C$2)/(IF($C$3<>\"\",Table2[BULAN]=$C$3,TRUE))/(IF($C$4<>\"\",Table2[OFF/ON]=$C$4,TRUE))/(IF($C$5<>\"\",Table2[Status]=$C$5,TRUE))/(IF($C$6<>\"\",Table2[FPPDate]=$C$6,TRUE))/(IF($C$7<>\"\",Table2[ProposalCode]=$C$7,TRUE)),ROW(D125))),\"\")","v":""},{"$f":"IFERROR(INDEX(Table2[PeriodeStart],_xlfn.AGGREGATE(15,6,(ROW(Table2[FPPGroupCode])-2)/(Table2[DepoName]=$C$2)/(IF($C$3<>\"\",Table2[BULAN]=$C$3,TRUE))/(IF($C$4<>\"\",Table2[OFF/ON]=$C$4,TRUE))/(IF($C$5<>\"\",Table2[Status]=$C$5,TRUE))/(IF($C$6<>\"\",Table2[FPPDate]=$C$6,TRUE))/(IF($C$7<>\"\",Table2[ProposalCode]=$C$7,TRUE)),ROW(E125))),\"\")","v":""},{"$f":"IFERROR(INDEX(Table2[PeriodeEnd],_xlfn.AGGREGATE(15,6,(ROW(Table2[FPPGroupCode])-2)/(Table2[DepoName]=$C$2)/(IF($C$3<>\"\",Table2[BULAN]=$C$3,TRUE))/(IF($C$4<>\"\",Table2[OFF/ON]=$C$4,TRUE))/(IF($C$5<>\"\",Table2[Status]=$C$5,TRUE))/(IF($C$6<>\"\",Table2[FPPDate]=$C$6,TRUE))/(IF($C$7<>\"\",Table2[ProposalCode]=$C$7,TRUE)),ROW(F125))),\"\")","v":""},{"$f":"IFERROR(INDEX(Table2[Amount_FPPDepo],_xlfn.AGGREGATE(15,6,(ROW(Table2[FPPGroupCode])-2)/(Table2[DepoName]=$C$2)/(IF($C$3<>\"\",Table2[BULAN]=$C$3,TRUE))/(IF($C$4<>\"\",Table2[OFF/ON]=$C$4,TRUE))/(IF($C$5<>\"\",Table2[Status]=$C$5,TRUE))/(IF($C$6<>\"\",Table2[FPPDate]=$C$6,TRUE))/(IF($C$7<>\"\",Table2[ProposalCode]=$C$7,TRUE)),ROW(G125))),\"\")","v":""},{"$f":"IFERROR(VLOOKUP($B133,SIP!$D$5776:$P$6032,12,0),0)","v":0},{"$f":"IFERROR(H133-I133,0)","v":0},{"$f":"IFERROR(VLOOKUP($B133,SIP!$D$5776:$P$6032,8,0),0)","v":0},{"$f":"IFERROR(INDEX(Table2[OFF/ON],_xlfn.AGGREGATE(15,6,(ROW(Table2[FPPGroupCode])-2)/(Table2[DepoName]=$C$2)/(IF($C$3<>\"\",Table2[BULAN]=$C$3,TRUE))/(IF($C$4<>\"\",Table2[OFF/ON]=$C$4,TRUE))/(IF($C$5<>\"\",Table2[Status]=$C$5,TRUE))/(IF($C$6<>\"\",Table2[FPPDate]=$C$6,TRUE))/(IF($C$7<>\"\",Table2[ProposalCode]=$C$7,TRUE)),ROW(K125))),\"\")","v":""}]
[{"$f":"IF(LEN($B134),ROW(A126),\"\")","v":""},{"$f":"IFERROR(INDEX(Table2[FPPGroupCode],_xlfn.AGGREGATE(15,6,(ROW(Table2[FPPGroupCode])-2)/(Table2[DepoName]=$C$2)/(IF($C$3<>\"\",Table2[BULAN]=$C$3,TRUE))/(IF($C$4<>\"\",Table2[OFF/ON]=$C$4,TRUE))/(IF($C$5<>\"\",Table2[Status]=$C$5,TRUE))/(IF($C$6<>\"\",Table2[FPPDate]=$C$6,TRUE))/(IF($C$7<>\"\",Table2[ProposalCode]=$C$7,TRUE)),ROW(A126))),\"\")","v":""},{"$f":"IFERROR(VLOOKUP($B134,SIP!$D$3:$Q$12237,14,0),0)","v":0},{"$f":"IFERROR(INDEX(Table2[Activity],_xlfn.AGGREGATE(15,6,(ROW(Table2[FPPGroupCode])-2)/(Table2[DepoName]=$C$2)/(IF($C$3<>\"\",Table2[BULAN]=$C$3,TRUE))/(IF($C$4<>\"\",Table2[OFF/ON]=$C$4,TRUE))/(IF($C$5<>\"\",Table2[Status]=$C$5,TRUE))/(IF($C$6<>\"\",Table2[]=$C$6,TRUE))/(IF($C$7<>\"\",Table2[ProposalCode]=$C$7,TRUE)),ROW(B126))),\"\")","v":""},{"$f":"IFERROR(INDEX(Table2[Location],_xlfn.AGGREGATE(15,6,(ROW(Table2[FPPGroupCode])-2)/(Table2[DepoName]=$C$2)/(IF($C$3<>\"\",Table2[BULAN]=$C$3,TRUE))/(IF($C$4<>\"\",Table2[OFF/ON]=$C$4,TRUE))/(IF($C$5<>\"\",Table2[Status]=$C$5,TRUE))/(IF($C$6<>\"\",Table2[FPPDate]=$C$6,TRUE))/(IF($C$7<>\"\",Table2[ProposalCode]=$C$7,TRUE)),ROW(D126))),\"\")","v":""},{"$f":"IFERROR(INDEX(Table2[PeriodeStart],_xlfn.AGGREGATE(15,6,(ROW(Table2[FPPGroupCode])-2)/(Table2[DepoName]=$C$2)/(IF($C$3<>\"\",Table2[BULAN]=$C$3,TRUE))/(IF($C$4<>\"\",Table2[OFF/ON]=$C$4,TRUE))/(IF($C$5<>\"\",Table2[Status]=$C$5,TRUE))/(IF($C$6<>\"\",Table2[FPPDate]=$C$6,TRUE))/(IF($C$7<>\"\",Table2[ProposalCode]=$C$7,TRUE)),ROW(E126))),\"\")","v":""},{"$f":"IFERROR(INDEX(Table2[PeriodeEnd],_xlfn.AGGREGATE(15,6,(ROW(Table2[FPPGroupCode])-2)/(Table2[DepoName]=$C$2)/(IF($C$3<>\"\",Table2[BULAN]=$C$3,TRUE))/(IF($C$4<>\"\",Table2[OFF/ON]=$C$4,TRUE))/(IF($C$5<>\"\",Table2[Status]=$C$5,TRUE))/(IF($C$6<>\"\",Table2[FPPDate]=$C$6,TRUE))/(IF($C$7<>\"\",Table2[ProposalCode]=$C$7,TRUE)),ROW(F126))),\"\")","v":""},{"$f":"IFERROR(INDEX(Table2[Amount_FPPDepo],_xlfn.AGGREGATE(15,6,(ROW(Table2[FPPGroupCode])-2)/(Table2[DepoName]=$C$2)/(IF($C$3<>\"\",Table2[BULAN]=$C$3,TRUE))/(IF($C$4<>\"\",Table2[OFF/ON]=$C$4,TRUE))/(IF($C$5<>\"\",Table2[Status]=$C$5,TRUE))/(IF($C$6<>\"\",Table2[FPPDate]=$C$6,TRUE))/(IF($C$7<>\"\",Table2[ProposalCode]=$C$7,TRUE)),ROW(G126))),\"\")","v":""},{"$f":"IFERROR(VLOOKUP($B134,SIP!$D$5776:$P$6032,12,0),0)","v":0},{"$f":"IFERROR(H134-I134,0)","v":0},{"$f":"IFERROR(VLOOKUP($B134,SIP!$D$5776:$P$6032,8,0),0)","v":0},{"$f":"IFERROR(INDEX(Table2[OFF/ON],_xlfn.AGGREGATE(15,6,(ROW(Table2[FPPGroupCode])-2)/(Table2[DepoName]=$C$2)/(IF($C$3<>\"\",Table2[BULAN]=$C$3,TRUE))/(IF($C$4<>\"\",Table2[OFF/ON]=$C$4,TRUE))/(IF($C$5<>\"\",Table2[Status]=$C$5,TRUE))/(IF($C$6<>\"\",Table2[FPPDate]=$C$6,TRUE))/(IF($C$7<>\"\",Table2[ProposalCode]=$C$7,TRUE)),ROW(K126))),\"\")","v":""}]
[{"$f":"IF(LEN($B135),ROW(A127),\"\")","v":""},{"$f":"IFERROR(INDEX(Table2[FPPGroupCode],_xlfn.AGGREGATE(15,6,(ROW(Table2[FPPGroupCode])-2)/(Table2[DepoName]=$C$2)/(IF($C$3<>\"\",Table2[BULAN]=$C$3,TRUE))/(IF($C$4<>\"\",Table2[OFF/ON]=$C$4,TRUE))/(IF($C$5<>\"\",Table2[Status]=$C$5,TRUE))/(IF($C$6<>\"\",Table2[FPPDate]=$C$6,TRUE))/(IF($C$7<>\"\",Table2[ProposalCode]=$C$7,TRUE)),ROW(A127))),\"\")","v":""},{"$f":"IFERROR(VLOOKUP($B135,SIP!$D$3:$Q$12237,14,0),0)","v":0},{"$f":"IFERROR(INDEX(Table2[Activity],_xlfn.AGGREGATE(15,6,(ROW(Table2[FPPGroupCode])-2)/(Table2[DepoName]=$C$2)/(IF($C$3<>\"\",Table2[BULAN]=$C$3,TRUE))/(IF($C$4<>\"\",Table2[OFF/ON]=$C$4,TRUE))/(IF($C$5<>\"\",Table2[Status]=$C$5,TRUE))/(IF($C$6<>\"\",Table2[]=$C$6,TRUE))/(IF($C$7<>\"\",Table2[ProposalCode]=$C$7,TRUE)),ROW(B127))),\"\")","v":""},{"$f":"IFERROR(INDEX(Table2[Location],_xlfn.AGGREGATE(15,6,(ROW(Table2[FPPGroupCode])-2)/(Table2[DepoName]=$C$2)/(IF($C$3<>\"\",Table2[BULAN]=$C$3,TRUE))/(IF($C$4<>\"\",Table2[OFF/ON]=$C$4,TRUE))/(IF($C$5<>\"\",Table2[Status]=$C$5,TRUE))/(IF($C$6<>\"\",Table2[FPPDate]=$C$6,TRUE))/(IF($C$7<>\"\",Table2[ProposalCode]=$C$7,TRUE)),ROW(D127))),\"\")","v":""},{"$f":"IFERROR(INDEX(Table2[PeriodeStart],_xlfn.AGGREGATE(15,6,(ROW(Table2[FPPGroupCode])-2)/(Table2[DepoName]=$C$2)/(IF($C$3<>\"\",Table2[BULAN]=$C$3,TRUE))/(IF($C$4<>\"\",Table2[OFF/ON]=$C$4,TRUE))/(IF($C$5<>\"\",Table2[Status]=$C$5,TRUE))/(IF($C$6<>\"\",Table2[FPPDate]=$C$6,TRUE))/(IF($C$7<>\"\",Table2[ProposalCode]=$C$7,TRUE)),ROW(E127))),\"\")","v":""},{"$f":"IFERROR(INDEX(Table2[PeriodeEnd],_xlfn.AGGREGATE(15,6,(ROW(Table2[FPPGroupCode])-2)/(Table2[DepoName]=$C$2)/(IF($C$3<>\"\",Table2[BULAN]=$C$3,TRUE))/(IF($C$4<>\"\",Table2[OFF/ON]=$C$4,TRUE))/(IF($C$5<>\"\",Table2[Status]=$C$5,TRUE))/(IF($C$6<>\"\",Table2[FPPDate]=$C$6,TRUE))/(IF($C$7<>\"\",Table2[ProposalCode]=$C$7,TRUE)),ROW(F127))),\"\")","v":""},{"$f":"IFERROR(INDEX(Table2[Amount_FPPDepo],_xlfn.AGGREGATE(15,6,(ROW(Table2[FPPGroupCode])-2)/(Table2[DepoName]=$C$2)/(IF($C$3<>\"\",Table2[BULAN]=$C$3,TRUE))/(IF($C$4<>\"\",Table2[OFF/ON]=$C$4,TRUE))/(IF($C$5<>\"\",Table2[Status]=$C$5,TRUE))/(IF($C$6<>\"\",Table2[FPPDate]=$C$6,TRUE))/(IF($C$7<>\"\",Table2[ProposalCode]=$C$7,TRUE)),ROW(G127))),\"\")","v":""},{"$f":"IFERROR(VLOOKUP($B135,SIP!$D$5776:$P$6032,12,0),0)","v":0},{"$f":"IFERROR(H135-I135,0)","v":0},{"$f":"IFERROR(VLOOKUP($B135,SIP!$D$5776:$P$6032,8,0),0)","v":0},{"$f":"IFERROR(INDEX(Table2[OFF/ON],_xlfn.AGGREGATE(15,6,(ROW(Table2[FPPGroupCode])-2)/(Table2[DepoName]=$C$2)/(IF($C$3<>\"\",Table2[BULAN]=$C$3,TRUE))/(IF($C$4<>\"\",Table2[OFF/ON]=$C$4,TRUE))/(IF($C$5<>\"\",Table2[Status]=$C$5,TRUE))/(IF($C$6<>\"\",Table2[FPPDate]=$C$6,TRUE))/(IF($C$7<>\"\",Table2[ProposalCode]=$C$7,TRUE)),ROW(K127))),\"\")","v":""}]
[{"$f":"IF(LEN($B136),ROW(A128),\"\")","v":""},{"$f":"IFERROR(INDEX(Table2[FPPGroupCode],_xlfn.AGGREGATE(15,6,(ROW(Table2[FPPGroupCode])-2)/(Table2[DepoName]=$C$2)/(IF($C$3<>\"\",Table2[BULAN]=$C$3,TRUE))/(IF($C$4<>\"\",Table2[OFF/ON]=$C$4,TRUE))/(IF($C$5<>\"\",Table2[Status]=$C$5,TRUE))/(IF($C$6<>\"\",Table2[FPPDate]=$C$6,TRUE))/(IF($C$7<>\"\",Table2[ProposalCode]=$C$7,TRUE)),ROW(A128))),\"\")","v":""},{"$f":"IFERROR(VLOOKUP($B136,SIP!$D$3:$Q$12237,14,0),0)","v":0},{"$f":"IFERROR(INDEX(Table2[Activity],_xlfn.AGGREGATE(15,6,(ROW(Table2[FPPGroupCode])-2)/(Table2[DepoName]=$C$2)/(IF($C$3<>\"\",Table2[BULAN]=$C$3,TRUE))/(IF($C$4<>\"\",Table2[OFF/ON]=$C$4,TRUE))/(IF($C$5<>\"\",Table2[Status]=$C$5,TRUE))/(IF($C$6<>\"\",Table2[]=$C$6,TRUE))/(IF($C$7<>\"\",Table2[ProposalCode]=$C$7,TRUE)),ROW(B128))),\"\")","v":""},{"$f":"IFERROR(INDEX(Table2[Location],_xlfn.AGGREGATE(15,6,(ROW(Table2[FPPGroupCode])-2)/(Table2[DepoName]=$C$2)/(IF($C$3<>\"\",Table2[BULAN]=$C$3,TRUE))/(IF($C$4<>\"\",Table2[OFF/ON]=$C$4,TRUE))/(IF($C$5<>\"\",Table2[Status]=$C$5,TRUE))/(IF($C$6<>\"\",Table2[FPPDate]=$C$6,TRUE))/(IF($C$7<>\"\",Table2[ProposalCode]=$C$7,TRUE)),ROW(D128))),\"\")","v":""},{"$f":"IFERROR(INDEX(Table2[PeriodeStart],_xlfn.AGGREGATE(15,6,(ROW(Table2[FPPGroupCode])-2)/(Table2[DepoName]=$C$2)/(IF($C$3<>\"\",Table2[BULAN]=$C$3,TRUE))/(IF($C$4<>\"\",Table2[OFF/ON]=$C$4,TRUE))/(IF($C$5<>\"\",Table2[Status]=$C$5,TRUE))/(IF($C$6<>\"\",Table2[FPPDate]=$C$6,TRUE))/(IF($C$7<>\"\",Table2[ProposalCode]=$C$7,TRUE)),ROW(E128))),\"\")","v":""},{"$f":"IFERROR(INDEX(Table2[PeriodeEnd],_xlfn.AGGREGATE(15,6,(ROW(Table2[FPPGroupCode])-2)/(Table2[DepoName]=$C$2)/(IF($C$3<>\"\",Table2[BULAN]=$C$3,TRUE))/(IF($C$4<>\"\",Table2[OFF/ON]=$C$4,TRUE))/(IF($C$5<>\"\",Table2[Status]=$C$5,TRUE))/(IF($C$6<>\"\",Table2[FPPDate]=$C$6,TRUE))/(IF($C$7<>\"\",Table2[ProposalCode]=$C$7,TRUE)),ROW(F128))),\"\")","v":""},{"$f":"IFERROR(INDEX(Table2[Amount_FPPDepo],_xlfn.AGGREGATE(15,6,(ROW(Table2[FPPGroupCode])-2)/(Table2[DepoName]=$C$2)/(IF($C$3<>\"\",Table2[BULAN]=$C$3,TRUE))/(IF($C$4<>\"\",Table2[OFF/ON]=$C$4,TRUE))/(IF($C$5<>\"\",Table2[Status]=$C$5,TRUE))/(IF($C$6<>\"\",Table2[FPPDate]=$C$6,TRUE))/(IF($C$7<>\"\",Table2[ProposalCode]=$C$7,TRUE)),ROW(G128))),\"\")","v":""},{"$f":"IFERROR(VLOOKUP($B136,SIP!$D$5776:$P$6032,12,0),0)","v":0},{"$f":"IFERROR(H136-I136,0)","v":0},{"$f":"IFERROR(VLOOKUP($B136,SIP!$D$5776:$P$6032,8,0),0)","v":0},{"$f":"IFERROR(INDEX(Table2[OFF/ON],_xlfn.AGGREGATE(15,6,(ROW(Table2[FPPGroupCode])-2)/(Table2[DepoName]=$C$2)/(IF($C$3<>\"\",Table2[BULAN]=$C$3,TRUE))/(IF($C$4<>\"\",Table2[OFF/ON]=$C$4,TRUE))/(IF($C$5<>\"\",Table2[Status]=$C$5,TRUE))/(IF($C$6<>\"\",Table2[FPPDate]=$C$6,TRUE))/(IF($C$7<>\"\",Table2[ProposalCode]=$C$7,TRUE)),ROW(K128))),\"\")","v":""}]
[{"$f":"IF(LEN($B137),ROW(A129),\"\")","v":""},{"$f":"IFERROR(INDEX(Table2[FPPGroupCode],_xlfn.AGGREGATE(15,6,(ROW(Table2[FPPGroupCode])-2)/(Table2[DepoName]=$C$2)/(IF($C$3<>\"\",Table2[BULAN]=$C$3,TRUE))/(IF($C$4<>\"\",Table2[OFF/ON]=$C$4,TRUE))/(IF($C$5<>\"\",Table2[Status]=$C$5,TRUE))/(IF($C$6<>\"\",Table2[FPPDate]=$C$6,TRUE))/(IF($C$7<>\"\",Table2[ProposalCode]=$C$7,TRUE)),ROW(A129))),\"\")","v":""},{"$f":"IFERROR(VLOOKUP($B137,SIP!$D$3:$Q$12237,14,0),0)","v":0},{"$f":"IFERROR(INDEX(Table2[Activity],_xlfn.AGGREGATE(15,6,(ROW(Table2[FPPGroupCode])-2)/(Table2[DepoName]=$C$2)/(IF($C$3<>\"\",Table2[BULAN]=$C$3,TRUE))/(IF($C$4<>\"\",Table2[OFF/ON]=$C$4,TRUE))/(IF($C$5<>\"\",Table2[Status]=$C$5,TRUE))/(IF($C$6<>\"\",Table2[]=$C$6,TRUE))/(IF($C$7<>\"\",Table2[ProposalCode]=$C$7,TRUE)),ROW(B129))),\"\")","v":""},{"$f":"IFERROR(INDEX(Table2[Location],_xlfn.AGGREGATE(15,6,(ROW(Table2[FPPGroupCode])-2)/(Table2[DepoName]=$C$2)/(IF($C$3<>\"\",Table2[BULAN]=$C$3,TRUE))/(IF($C$4<>\"\",Table2[OFF/ON]=$C$4,TRUE))/(IF($C$5<>\"\",Table2[Status]=$C$5,TRUE))/(IF($C$6<>\"\",Table2[FPPDate]=$C$6,TRUE))/(IF($C$7<>\"\",Table2[ProposalCode]=$C$7,TRUE)),ROW(D129))),\"\")","v":""},{"$f":"IFERROR(INDEX(Table2[PeriodeStart],_xlfn.AGGREGATE(15,6,(ROW(Table2[FPPGroupCode])-2)/(Table2[DepoName]=$C$2)/(IF($C$3<>\"\",Table2[BULAN]=$C$3,TRUE))/(IF($C$4<>\"\",Table2[OFF/ON]=$C$4,TRUE))/(IF($C$5<>\"\",Table2[Status]=$C$5,TRUE))/(IF($C$6<>\"\",Table2[FPPDate]=$C$6,TRUE))/(IF($C$7<>\"\",Table2[ProposalCode]=$C$7,TRUE)),ROW(E129))),\"\")","v":""},{"$f":"IFERROR(INDEX(Table2[PeriodeEnd],_xlfn.AGGREGATE(15,6,(ROW(Table2[FPPGroupCode])-2)/(Table2[DepoName]=$C$2)/(IF($C$3<>\"\",Table2[BULAN]=$C$3,TRUE))/(IF($C$4<>\"\",Table2[OFF/ON]=$C$4,TRUE))/(IF($C$5<>\"\",Table2[Status]=$C$5,TRUE))/(IF($C$6<>\"\",Table2[FPPDate]=$C$6,TRUE))/(IF($C$7<>\"\",Table2[ProposalCode]=$C$7,TRUE)),ROW(F129))),\"\")","v":""},{"$f":"IFERROR(INDEX(Table2[Amount_FPPDepo],_xlfn.AGGREGATE(15,6,(ROW(Table2[FPPGroupCode])-2)/(Table2[DepoName]=$C$2)/(IF($C$3<>\"\",Table2[BULAN]=$C$3,TRUE))/(IF($C$4<>\"\",Table2[OFF/ON]=$C$4,TRUE))/(IF($C$5<>\"\",Table2[Status]=$C$5,TRUE))/(IF($C$6<>\"\",Table2[FPPDate]=$C$6,TRUE))/(IF($C$7<>\"\",Table2[ProposalCode]=$C$7,TRUE)),ROW(G129))),\"\")","v":""},{"$f":"IFERROR(VLOOKUP($B137,SIP!$D$5776:$P$6032,12,0),0)","v":0},{"$f":"IFERROR(H137-I137,0)","v":0},{"$f":"IFERROR(VLOOKUP($B137,SIP!$D$5776:$P$6032,8,0),0)","v":0},{"$f":"IFERROR(INDEX(Table2[OFF/ON],_xlfn.AGGREGATE(15,6,(ROW(Table2[FPPGroupCode])-2)/(Table2[DepoName]=$C$2)/(IF($C$3<>\"\",Table2[BULAN]=$C$3,TRUE))/(IF($C$4<>\"\",Table2[OFF/ON]=$C$4,TRUE))/(IF($C$5<>\"\",Table2[Status]=$C$5,TRUE))/(IF($C$6<>\"\",Table2[FPPDate]=$C$6,TRUE))/(IF($C$7<>\"\",Table2[ProposalCode]=$C$7,TRUE)),ROW(K129))),\"\")","v":""}]
[{"$f":"IF(LEN($B138),ROW(A130),\"\")","v":""},{"$f":"IFERROR(INDEX(Table2[FPPGroupCode],_xlfn.AGGREGATE(15,6,(ROW(Table2[FPPGroupCode])-2)/(Table2[DepoName]=$C$2)/(IF($C$3<>\"\",Table2[BULAN]=$C$3,TRUE))/(IF($C$4<>\"\",Table2[OFF/ON]=$C$4,TRUE))/(IF($C$5<>\"\",Table2[Status]=$C$5,TRUE))/(IF($C$6<>\"\",Table2[FPPDate]=$C$6,TRUE))/(IF($C$7<>\"\",Table2[ProposalCode]=$C$7,TRUE)),ROW(A130))),\"\")","v":""},{"$f":"IFERROR(VLOOKUP($B138,SIP!$D$3:$Q$12237,14,0),0)","v":0},{"$f":"IFERROR(INDEX(Table2[Activity],_xlfn.AGGREGATE(15,6,(ROW(Table2[FPPGroupCode])-2)/(Table2[DepoName]=$C$2)/(IF($C$3<>\"\",Table2[BULAN]=$C$3,TRUE))/(IF($C$4<>\"\",Table2[OFF/ON]=$C$4,TRUE))/(IF($C$5<>\"\",Table2[Status]=$C$5,TRUE))/(IF($C$6<>\"\",Table2[]=$C$6,TRUE))/(IF($C$7<>\"\",Table2[ProposalCode]=$C$7,TRUE)),ROW(B130))),\"\")","v":""},{"$f":"IFERROR(INDEX(Table2[Location],_xlfn.AGGREGATE(15,6,(ROW(Table2[FPPGroupCode])-2)/(Table2[DepoName]=$C$2)/(IF($C$3<>\"\",Table2[BULAN]=$C$3,TRUE))/(IF($C$4<>\"\",Table2[OFF/ON]=$C$4,TRUE))/(IF($C$5<>\"\",Table2[Status]=$C$5,TRUE))/(IF($C$6<>\"\",Table2[FPPDate]=$C$6,TRUE))/(IF($C$7<>\"\",Table2[ProposalCode]=$C$7,TRUE)),ROW(D130))),\"\")","v":""},{"$f":"IFERROR(INDEX(Table2[PeriodeStart],_xlfn.AGGREGATE(15,6,(ROW(Table2[FPPGroupCode])-2)/(Table2[DepoName]=$C$2)/(IF($C$3<>\"\",Table2[BULAN]=$C$3,TRUE))/(IF($C$4<>\"\",Table2[OFF/ON]=$C$4,TRUE))/(IF($C$5<>\"\",Table2[Status]=$C$5,TRUE))/(IF($C$6<>\"\",Table2[FPPDate]=$C$6,TRUE))/(IF($C$7<>\"\",Table2[ProposalCode]=$C$7,TRUE)),ROW(E130))),\"\")","v":""},{"$f":"IFERROR(INDEX(Table2[PeriodeEnd],_xlfn.AGGREGATE(15,6,(ROW(Table2[FPPGroupCode])-2)/(Table2[DepoName]=$C$2)/(IF($C$3<>\"\",Table2[BULAN]=$C$3,TRUE))/(IF($C$4<>\"\",Table2[OFF/ON]=$C$4,TRUE))/(IF($C$5<>\"\",Table2[Status]=$C$5,TRUE))/(IF($C$6<>\"\",Table2[FPPDate]=$C$6,TRUE))/(IF($C$7<>\"\",Table2[ProposalCode]=$C$7,TRUE)),ROW(F130))),\"\")","v":""},{"$f":"IFERROR(INDEX(Table2[Amount_FPPDepo],_xlfn.AGGREGATE(15,6,(ROW(Table2[FPPGroupCode])-2)/(Table2[DepoName]=$C$2)/(IF($C$3<>\"\",Table2[BULAN]=$C$3,TRUE))/(IF($C$4<>\"\",Table2[OFF/ON]=$C$4,TRUE))/(IF($C$5<>\"\",Table2[Status]=$C$5,TRUE))/(IF($C$6<>\"\",Table2[FPPDate]=$C$6,TRUE))/(IF($C$7<>\"\",Table2[ProposalCode]=$C$7,TRUE)),ROW(G130))),\"\")","v":""},{"$f":"IFERROR(VLOOKUP($B138,SIP!$D$5776:$P$6032,12,0),0)","v":0},{"$f":"IFERROR(H138-I138,0)","v":0},{"$f":"IFERROR(VLOOKUP($B138,SIP!$D$5776:$P$6032,8,0),0)","v":0},{"$f":"IFERROR(INDEX(Table2[OFF/ON],_xlfn.AGGREGATE(15,6,(ROW(Table2[FPPGroupCode])-2)/(Table2[DepoName]=$C$2)/(IF($C$3<>\"\",Table2[BULAN]=$C$3,TRUE))/(IF($C$4<>\"\",Table2[OFF/ON]=$C$4,TRUE))/(IF($C$5<>\"\",Table2[Status]=$C$5,TRUE))/(IF($C$6<>\"\",Table2[FPPDate]=$C$6,TRUE))/(IF($C$7<>\"\",Table2[ProposalCode]=$C$7,TRUE)),ROW(K130))),\"\")","v":""}]
[{"$f":"IF(LEN($B139),ROW(A131),\"\")","v":""},{"$f":"IFERROR(INDEX(Table2[FPPGroupCode],_xlfn.AGGREGATE(15,6,(ROW(Table2[FPPGroupCode])-2)/(Table2[DepoName]=$C$2)/(IF($C$3<>\"\",Table2[BULAN]=$C$3,TRUE))/(IF($C$4<>\"\",Table2[OFF/ON]=$C$4,TRUE))/(IF($C$5<>\"\",Table2[Status]=$C$5,TRUE))/(IF($C$6<>\"\",Table2[FPPDate]=$C$6,TRUE))/(IF($C$7<>\"\",Table2[ProposalCode]=$C$7,TRUE)),ROW(A131))),\"\")","v":""},{"$f":"IFERROR(VLOOKUP($B139,SIP!$D$3:$Q$12237,14,0),0)","v":0},{"$f":"IFERROR(INDEX(Table2[Activity],_xlfn.AGGREGATE(15,6,(ROW(Table2[FPPGroupCode])-2)/(Table2[DepoName]=$C$2)/(IF($C$3<>\"\",Table2[BULAN]=$C$3,TRUE))/(IF($C$4<>\"\",Table2[OFF/ON]=$C$4,TRUE))/(IF($C$5<>\"\",Table2[Status]=$C$5,TRUE))/(IF($C$6<>\"\",Table2[]=$C$6,TRUE))/(IF($C$7<>\"\",Table2[ProposalCode]=$C$7,TRUE)),ROW(B131))),\"\")","v":""},{"$f":"IFERROR(INDEX(Table2[Location],_xlfn.AGGREGATE(15,6,(ROW(Table2[FPPGroupCode])-2)/(Table2[DepoName]=$C$2)/(IF($C$3<>\"\",Table2[BULAN]=$C$3,TRUE))/(IF($C$4<>\"\",Table2[OFF/ON]=$C$4,TRUE))/(IF($C$5<>\"\",Table2[Status]=$C$5,TRUE))/(IF($C$6<>\"\",Table2[FPPDate]=$C$6,TRUE))/(IF($C$7<>\"\",Table2[ProposalCode]=$C$7,TRUE)),ROW(D131))),\"\")","v":""},{"$f":"IFERROR(INDEX(Table2[PeriodeStart],_xlfn.AGGREGATE(15,6,(ROW(Table2[FPPGroupCode])-2)/(Table2[DepoName]=$C$2)/(IF($C$3<>\"\",Table2[BULAN]=$C$3,TRUE))/(IF($C$4<>\"\",Table2[OFF/ON]=$C$4,TRUE))/(IF($C$5<>\"\",Table2[Status]=$C$5,TRUE))/(IF($C$6<>\"\",Table2[FPPDate]=$C$6,TRUE))/(IF($C$7<>\"\",Table2[ProposalCode]=$C$7,TRUE)),ROW(E131))),\"\")","v":""},{"$f":"IFERROR(INDEX(Table2[PeriodeEnd],_xlfn.AGGREGATE(15,6,(ROW(Table2[FPPGroupCode])-2)/(Table2[DepoName]=$C$2)/(IF($C$3<>\"\",Table2[BULAN]=$C$3,TRUE))/(IF($C$4<>\"\",Table2[OFF/ON]=$C$4,TRUE))/(IF($C$5<>\"\",Table2[Status]=$C$5,TRUE))/(IF($C$6<>\"\",Table2[FPPDate]=$C$6,TRUE))/(IF($C$7<>\"\",Table2[ProposalCode]=$C$7,TRUE)),ROW(F131))),\"\")","v":""},{"$f":"IFERROR(INDEX(Table2[Amount_FPPDepo],_xlfn.AGGREGATE(15,6,(ROW(Table2[FPPGroupCode])-2)/(Table2[DepoName]=$C$2)/(IF($C$3<>\"\",Table2[BULAN]=$C$3,TRUE))/(IF($C$4<>\"\",Table2[OFF/ON]=$C$4,TRUE))/(IF($C$5<>\"\",Table2[Status]=$C$5,TRUE))/(IF($C$6<>\"\",Table2[FPPDate]=$C$6,TRUE))/(IF($C$7<>\"\",Table2[ProposalCode]=$C$7,TRUE)),ROW(G131))),\"\")","v":""},{"$f":"IFERROR(VLOOKUP($B139,SIP!$D$5776:$P$6032,12,0),0)","v":0},{"$f":"IFERROR(H139-I139,0)","v":0},{"$f":"IFERROR(VLOOKUP($B139,SIP!$D$5776:$P$6032,8,0),0)","v":0},{"$f":"IFERROR(INDEX(Table2[OFF/ON],_xlfn.AGGREGATE(15,6,(ROW(Table2[FPPGroupCode])-2)/(Table2[DepoName]=$C$2)/(IF($C$3<>\"\",Table2[BULAN]=$C$3,TRUE))/(IF($C$4<>\"\",Table2[OFF/ON]=$C$4,TRUE))/(IF($C$5<>\"\",Table2[Status]=$C$5,TRUE))/(IF($C$6<>\"\",Table2[FPPDate]=$C$6,TRUE))/(IF($C$7<>\"\",Table2[ProposalCode]=$C$7,TRUE)),ROW(K131))),\"\")","v":""}]
[{"$f":"IF(LEN($B140),ROW(A132),\"\")","v":""},{"$f":"IFERROR(INDEX(Table2[FPPGroupCode],_xlfn.AGGREGATE(15,6,(ROW(Table2[FPPGroupCode])-2)/(Table2[DepoName]=$C$2)/(IF($C$3<>\"\",Table2[BULAN]=$C$3,TRUE))/(IF($C$4<>\"\",Table2[OFF/ON]=$C$4,TRUE))/(IF($C$5<>\"\",Table2[Status]=$C$5,TRUE))/(IF($C$6<>\"\",Table2[FPPDate]=$C$6,TRUE))/(IF($C$7<>\"\",Table2[ProposalCode]=$C$7,TRUE)),ROW(A132))),\"\")","v":""},{"$f":"IFERROR(VLOOKUP($B140,SIP!$D$3:$Q$12237,14,0),0)","v":0},{"$f":"IFERROR(INDEX(Table2[Activity],_xlfn.AGGREGATE(15,6,(ROW(Table2[FPPGroupCode])-2)/(Table2[DepoName]=$C$2)/(IF($C$3<>\"\",Table2[BULAN]=$C$3,TRUE))/(IF($C$4<>\"\",Table2[OFF/ON]=$C$4,TRUE))/(IF($C$5<>\"\",Table2[Status]=$C$5,TRUE))/(IF($C$6<>\"\",Table2[]=$C$6,TRUE))/(IF($C$7<>\"\",Table2[ProposalCode]=$C$7,TRUE)),ROW(B132))),\"\")","v":""},{"$f":"IFERROR(INDEX(Table2[Location],_xlfn.AGGREGATE(15,6,(ROW(Table2[FPPGroupCode])-2)/(Table2[DepoName]=$C$2)/(IF($C$3<>\"\",Table2[BULAN]=$C$3,TRUE))/(IF($C$4<>\"\",Table2[OFF/ON]=$C$4,TRUE))/(IF($C$5<>\"\",Table2[Status]=$C$5,TRUE))/(IF($C$6<>\"\",Table2[FPPDate]=$C$6,TRUE))/(IF($C$7<>\"\",Table2[ProposalCode]=$C$7,TRUE)),ROW(D132))),\"\")","v":""},{"$f":"IFERROR(INDEX(Table2[PeriodeStart],_xlfn.AGGREGATE(15,6,(ROW(Table2[FPPGroupCode])-2)/(Table2[DepoName]=$C$2)/(IF($C$3<>\"\",Table2[BULAN]=$C$3,TRUE))/(IF($C$4<>\"\",Table2[OFF/ON]=$C$4,TRUE))/(IF($C$5<>\"\",Table2[Status]=$C$5,TRUE))/(IF($C$6<>\"\",Table2[FPPDate]=$C$6,TRUE))/(IF($C$7<>\"\",Table2[ProposalCode]=$C$7,TRUE)),ROW(E132))),\"\")","v":""},{"$f":"IFERROR(INDEX(Table2[PeriodeEnd],_xlfn.AGGREGATE(15,6,(ROW(Table2[FPPGroupCode])-2)/(Table2[DepoName]=$C$2)/(IF($C$3<>\"\",Table2[BULAN]=$C$3,TRUE))/(IF($C$4<>\"\",Table2[OFF/ON]=$C$4,TRUE))/(IF($C$5<>\"\",Table2[Status]=$C$5,TRUE))/(IF($C$6<>\"\",Table2[FPPDate]=$C$6,TRUE))/(IF($C$7<>\"\",Table2[ProposalCode]=$C$7,TRUE)),ROW(F132))),\"\")","v":""},{"$f":"IFERROR(INDEX(Table2[Amount_FPPDepo],_xlfn.AGGREGATE(15,6,(ROW(Table2[FPPGroupCode])-2)/(Table2[DepoName]=$C$2)/(IF($C$3<>\"\",Table2[BULAN]=$C$3,TRUE))/(IF($C$4<>\"\",Table2[OFF/ON]=$C$4,TRUE))/(IF($C$5<>\"\",Table2[Status]=$C$5,TRUE))/(IF($C$6<>\"\",Table2[FPPDate]=$C$6,TRUE))/(IF($C$7<>\"\",Table2[ProposalCode]=$C$7,TRUE)),ROW(G132))),\"\")","v":""},{"$f":"IFERROR(VLOOKUP($B140,SIP!$D$5776:$P$6032,12,0),0)","v":0},{"$f":"IFERROR(H140-I140,0)","v":0},{"$f":"IFERROR(VLOOKUP($B140,SIP!$D$5776:$P$6032,8,0),0)","v":0},{"$f":"IFERROR(INDEX(Table2[OFF/ON],_xlfn.AGGREGATE(15,6,(ROW(Table2[FPPGroupCode])-2)/(Table2[DepoName]=$C$2)/(IF($C$3<>\"\",Table2[BULAN]=$C$3,TRUE))/(IF($C$4<>\"\",Table2[OFF/ON]=$C$4,TRUE))/(IF($C$5<>\"\",Table2[Status]=$C$5,TRUE))/(IF($C$6<>\"\",Table2[FPPDate]=$C$6,TRUE))/(IF($C$7<>\"\",Table2[ProposalCode]=$C$7,TRUE)),ROW(K132))),\"\")","v":""}]
[{"$f":"IF(LEN($B141),ROW(A133),\"\")","v":""},{"$f":"IFERROR(INDEX(Table2[FPPGroupCode],_xlfn.AGGREGATE(15,6,(ROW(Table2[FPPGroupCode])-2)/(Table2[DepoName]=$C$2)/(IF($C$3<>\"\",Table2[BULAN]=$C$3,TRUE))/(IF($C$4<>\"\",Table2[OFF/ON]=$C$4,TRUE))/(IF($C$5<>\"\",Table2[Status]=$C$5,TRUE))/(IF($C$6<>\"\",Table2[FPPDate]=$C$6,TRUE))/(IF($C$7<>\"\",Table2[ProposalCode]=$C$7,TRUE)),ROW(A133))),\"\")","v":""},{"$f":"IFERROR(VLOOKUP($B141,SIP!$D$3:$Q$12237,14,0),0)","v":0},{"$f":"IFERROR(INDEX(Table2[Activity],_xlfn.AGGREGATE(15,6,(ROW(Table2[FPPGroupCode])-2)/(Table2[DepoName]=$C$2)/(IF($C$3<>\"\",Table2[BULAN]=$C$3,TRUE))/(IF($C$4<>\"\",Table2[OFF/ON]=$C$4,TRUE))/(IF($C$5<>\"\",Table2[Status]=$C$5,TRUE))/(IF($C$6<>\"\",Table2[]=$C$6,TRUE))/(IF($C$7<>\"\",Table2[ProposalCode]=$C$7,TRUE)),ROW(B133))),\"\")","v":""},{"$f":"IFERROR(INDEX(Table2[Location],_xlfn.AGGREGATE(15,6,(ROW(Table2[FPPGroupCode])-2)/(Table2[DepoName]=$C$2)/(IF($C$3<>\"\",Table2[BULAN]=$C$3,TRUE))/(IF($C$4<>\"\",Table2[OFF/ON]=$C$4,TRUE))/(IF($C$5<>\"\",Table2[Status]=$C$5,TRUE))/(IF($C$6<>\"\",Table2[FPPDate]=$C$6,TRUE))/(IF($C$7<>\"\",Table2[ProposalCode]=$C$7,TRUE)),ROW(D133))),\"\")","v":""},{"$f":"IFERROR(INDEX(Table2[PeriodeStart],_xlfn.AGGREGATE(15,6,(ROW(Table2[FPPGroupCode])-2)/(Table2[DepoName]=$C$2)/(IF($C$3<>\"\",Table2[BULAN]=$C$3,TRUE))/(IF($C$4<>\"\",Table2[OFF/ON]=$C$4,TRUE))/(IF($C$5<>\"\",Table2[Status]=$C$5,TRUE))/(IF($C$6<>\"\",Table2[FPPDate]=$C$6,TRUE))/(IF($C$7<>\"\",Table2[ProposalCode]=$C$7,TRUE)),ROW(E133))),\"\")","v":""},{"$f":"IFERROR(INDEX(Table2[PeriodeEnd],_xlfn.AGGREGATE(15,6,(ROW(Table2[FPPGroupCode])-2)/(Table2[DepoName]=$C$2)/(IF($C$3<>\"\",Table2[BULAN]=$C$3,TRUE))/(IF($C$4<>\"\",Table2[OFF/ON]=$C$4,TRUE))/(IF($C$5<>\"\",Table2[Status]=$C$5,TRUE))/(IF($C$6<>\"\",Table2[FPPDate]=$C$6,TRUE))/(IF($C$7<>\"\",Table2[ProposalCode]=$C$7,TRUE)),ROW(F133))),\"\")","v":""},{"$f":"IFERROR(INDEX(Table2[Amount_FPPDepo],_xlfn.AGGREGATE(15,6,(ROW(Table2[FPPGroupCode])-2)/(Table2[DepoName]=$C$2)/(IF($C$3<>\"\",Table2[BULAN]=$C$3,TRUE))/(IF($C$4<>\"\",Table2[OFF/ON]=$C$4,TRUE))/(IF($C$5<>\"\",Table2[Status]=$C$5,TRUE))/(IF($C$6<>\"\",Table2[FPPDate]=$C$6,TRUE))/(IF($C$7<>\"\",Table2[ProposalCode]=$C$7,TRUE)),ROW(G133))),\"\")","v":""},{"$f":"IFERROR(VLOOKUP($B141,SIP!$D$5776:$P$6032,12,0),0)","v":0},{"$f":"IFERROR(H141-I141,0)","v":0},{"$f":"IFERROR(VLOOKUP($B141,SIP!$D$5776:$P$6032,8,0),0)","v":0},{"$f":"IFERROR(INDEX(Table2[OFF/ON],_xlfn.AGGREGATE(15,6,(ROW(Table2[FPPGroupCode])-2)/(Table2[DepoName]=$C$2)/(IF($C$3<>\"\",Table2[BULAN]=$C$3,TRUE))/(IF($C$4<>\"\",Table2[OFF/ON]=$C$4,TRUE))/(IF($C$5<>\"\",Table2[Status]=$C$5,TRUE))/(IF($C$6<>\"\",Table2[FPPDate]=$C$6,TRUE))/(IF($C$7<>\"\",Table2[ProposalCode]=$C$7,TRUE)),ROW(K133))),\"\")","v":""}]
[{"$f":"IF(LEN($B142),ROW(A134),\"\")","v":""},{"$f":"IFERROR(INDEX(Table2[FPPGroupCode],_xlfn.AGGREGATE(15,6,(ROW(Table2[FPPGroupCode])-2)/(Table2[DepoName]=$C$2)/(IF($C$3<>\"\",Table2[BULAN]=$C$3,TRUE))/(IF($C$4<>\"\",Table2[OFF/ON]=$C$4,TRUE))/(IF($C$5<>\"\",Table2[Status]=$C$5,TRUE))/(IF($C$6<>\"\",Table2[FPPDate]=$C$6,TRUE))/(IF($C$7<>\"\",Table2[ProposalCode]=$C$7,TRUE)),ROW(A134))),\"\")","v":""},{"$f":"IFERROR(VLOOKUP($B142,SIP!$D$3:$Q$12237,14,0),0)","v":0},{"$f":"IFERROR(INDEX(Table2[Activity],_xlfn.AGGREGATE(15,6,(ROW(Table2[FPPGroupCode])-2)/(Table2[DepoName]=$C$2)/(IF($C$3<>\"\",Table2[BULAN]=$C$3,TRUE))/(IF($C$4<>\"\",Table2[OFF/ON]=$C$4,TRUE))/(IF($C$5<>\"\",Table2[Status]=$C$5,TRUE))/(IF($C$6<>\"\",Table2[]=$C$6,TRUE))/(IF($C$7<>\"\",Table2[ProposalCode]=$C$7,TRUE)),ROW(B134))),\"\")","v":""},{"$f":"IFERROR(INDEX(Table2[Location],_xlfn.AGGREGATE(15,6,(ROW(Table2[FPPGroupCode])-2)/(Table2[DepoName]=$C$2)/(IF($C$3<>\"\",Table2[BULAN]=$C$3,TRUE))/(IF($C$4<>\"\",Table2[OFF/ON]=$C$4,TRUE))/(IF($C$5<>\"\",Table2[Status]=$C$5,TRUE))/(IF($C$6<>\"\",Table2[FPPDate]=$C$6,TRUE))/(IF($C$7<>\"\",Table2[ProposalCode]=$C$7,TRUE)),ROW(D134))),\"\")","v":""},{"$f":"IFERROR(INDEX(Table2[PeriodeStart],_xlfn.AGGREGATE(15,6,(ROW(Table2[FPPGroupCode])-2)/(Table2[DepoName]=$C$2)/(IF($C$3<>\"\",Table2[BULAN]=$C$3,TRUE))/(IF($C$4<>\"\",Table2[OFF/ON]=$C$4,TRUE))/(IF($C$5<>\"\",Table2[Status]=$C$5,TRUE))/(IF($C$6<>\"\",Table2[FPPDate]=$C$6,TRUE))/(IF($C$7<>\"\",Table2[ProposalCode]=$C$7,TRUE)),ROW(E134))),\"\")","v":""},{"$f":"IFERROR(INDEX(Table2[PeriodeEnd],_xlfn.AGGREGATE(15,6,(ROW(Table2[FPPGroupCode])-2)/(Table2[DepoName]=$C$2)/(IF($C$3<>\"\",Table2[BULAN]=$C$3,TRUE))/(IF($C$4<>\"\",Table2[OFF/ON]=$C$4,TRUE))/(IF($C$5<>\"\",Table2[Status]=$C$5,TRUE))/(IF($C$6<>\"\",Table2[FPPDate]=$C$6,TRUE))/(IF($C$7<>\"\",Table2[ProposalCode]=$C$7,TRUE)),ROW(F134))),\"\")","v":""},{"$f":"IFERROR(INDEX(Table2[Amount_FPPDepo],_xlfn.AGGREGATE(15,6,(ROW(Table2[FPPGroupCode])-2)/(Table2[DepoName]=$C$2)/(IF($C$3<>\"\",Table2[BULAN]=$C$3,TRUE))/(IF($C$4<>\"\",Table2[OFF/ON]=$C$4,TRUE))/(IF($C$5<>\"\",Table2[Status]=$C$5,TRUE))/(IF($C$6<>\"\",Table2[FPPDate]=$C$6,TRUE))/(IF($C$7<>\"\",Table2[ProposalCode]=$C$7,TRUE)),ROW(G134))),\"\")","v":""},{"$f":"IFERROR(VLOOKUP($B142,SIP!$D$5776:$P$6032,12,0),0)","v":0},{"$f":"IFERROR(H142-I142,0)","v":0},{"$f":"IFERROR(VLOOKUP($B142,SIP!$D$5776:$P$6032,8,0),0)","v":0},{"$f":"IFERROR(INDEX(Table2[OFF/ON],_xlfn.AGGREGATE(15,6,(ROW(Table2[FPPGroupCode])-2)/(Table2[DepoName]=$C$2)/(IF($C$3<>\"\",Table2[BULAN]=$C$3,TRUE))/(IF($C$4<>\"\",Table2[OFF/ON]=$C$4,TRUE))/(IF($C$5<>\"\",Table2[Status]=$C$5,TRUE))/(IF($C$6<>\"\",Table2[FPPDate]=$C$6,TRUE))/(IF($C$7<>\"\",Table2[ProposalCode]=$C$7,TRUE)),ROW(K134))),\"\")","v":""}]
[{"$f":"IF(LEN($B143),ROW(A135),\"\")","v":""},{"$f":"IFERROR(INDEX(Table2[FPPGroupCode],_xlfn.AGGREGATE(15,6,(ROW(Table2[FPPGroupCode])-2)/(Table2[DepoName]=$C$2)/(IF($C$3<>\"\",Table2[BULAN]=$C$3,TRUE))/(IF($C$4<>\"\",Table2[OFF/ON]=$C$4,TRUE))/(IF($C$5<>\"\",Table2[Status]=$C$5,TRUE))/(IF($C$6<>\"\",Table2[FPPDate]=$C$6,TRUE))/(IF($C$7<>\"\",Table2[ProposalCode]=$C$7,TRUE)),ROW(A135))),\"\")","v":""},{"$f":"IFERROR(VLOOKUP($B143,SIP!$D$3:$Q$12237,14,0),0)","v":0},{"$f":"IFERROR(INDEX(Table2[Activity],_xlfn.AGGREGATE(15,6,(ROW(Table2[FPPGroupCode])-2)/(Table2[DepoName]=$C$2)/(IF($C$3<>\"\",Table2[BULAN]=$C$3,TRUE))/(IF($C$4<>\"\",Table2[OFF/ON]=$C$4,TRUE))/(IF($C$5<>\"\",Table2[Status]=$C$5,TRUE))/(IF($C$6<>\"\",Table2[]=$C$6,TRUE))/(IF($C$7<>\"\",Table2[ProposalCode]=$C$7,TRUE)),ROW(B135))),\"\")","v":""},{"$f":"IFERROR(INDEX(Table2[Location],_xlfn.AGGREGATE(15,6,(ROW(Table2[FPPGroupCode])-2)/(Table2[DepoName]=$C$2)/(IF($C$3<>\"\",Table2[BULAN]=$C$3,TRUE))/(IF($C$4<>\"\",Table2[OFF/ON]=$C$4,TRUE))/(IF($C$5<>\"\",Table2[Status]=$C$5,TRUE))/(IF($C$6<>\"\",Table2[FPPDate]=$C$6,TRUE))/(IF($C$7<>\"\",Table2[ProposalCode]=$C$7,TRUE)),ROW(D135))),\"\")","v":""},{"$f":"IFERROR(INDEX(Table2[PeriodeStart],_xlfn.AGGREGATE(15,6,(ROW(Table2[FPPGroupCode])-2)/(Table2[DepoName]=$C$2)/(IF($C$3<>\"\",Table2[BULAN]=$C$3,TRUE))/(IF($C$4<>\"\",Table2[OFF/ON]=$C$4,TRUE))/(IF($C$5<>\"\",Table2[Status]=$C$5,TRUE))/(IF($C$6<>\"\",Table2[FPPDate]=$C$6,TRUE))/(IF($C$7<>\"\",Table2[ProposalCode]=$C$7,TRUE)),ROW(E135))),\"\")","v":""},{"$f":"IFERROR(INDEX(Table2[PeriodeEnd],_xlfn.AGGREGATE(15,6,(ROW(Table2[FPPGroupCode])-2)/(Table2[DepoName]=$C$2)/(IF($C$3<>\"\",Table2[BULAN]=$C$3,TRUE))/(IF($C$4<>\"\",Table2[OFF/ON]=$C$4,TRUE))/(IF($C$5<>\"\",Table2[Status]=$C$5,TRUE))/(IF($C$6<>\"\",Table2[FPPDate]=$C$6,TRUE))/(IF($C$7<>\"\",Table2[ProposalCode]=$C$7,TRUE)),ROW(F135))),\"\")","v":""},{"$f":"IFERROR(INDEX(Table2[Amount_FPPDepo],_xlfn.AGGREGATE(15,6,(ROW(Table2[FPPGroupCode])-2)/(Table2[DepoName]=$C$2)/(IF($C$3<>\"\",Table2[BULAN]=$C$3,TRUE))/(IF($C$4<>\"\",Table2[OFF/ON]=$C$4,TRUE))/(IF($C$5<>\"\",Table2[Status]=$C$5,TRUE))/(IF($C$6<>\"\",Table2[FPPDate]=$C$6,TRUE))/(IF($C$7<>\"\",Table2[ProposalCode]=$C$7,TRUE)),ROW(G135))),\"\")","v":""},{"$f":"IFERROR(VLOOKUP($B143,SIP!$D$5776:$P$6032,12,0),0)","v":0},{"$f":"IFERROR(H143-I143,0)","v":0},{"$f":"IFERROR(VLOOKUP($B143,SIP!$D$5776:$P$6032,8,0),0)","v":0},{"$f":"IFERROR(INDEX(Table2[OFF/ON],_xlfn.AGGREGATE(15,6,(ROW(Table2[FPPGroupCode])-2)/(Table2[DepoName]=$C$2)/(IF($C$3<>\"\",Table2[BULAN]=$C$3,TRUE))/(IF($C$4<>\"\",Table2[OFF/ON]=$C$4,TRUE))/(IF($C$5<>\"\",Table2[Status]=$C$5,TRUE))/(IF($C$6<>\"\",Table2[FPPDate]=$C$6,TRUE))/(IF($C$7<>\"\",Table2[ProposalCode]=$C$7,TRUE)),ROW(K135))),\"\")","v":""}]
[{"$f":"IF(LEN($B144),ROW(A136),\"\")","v":""},{"$f":"IFERROR(INDEX(Table2[FPPGroupCode],_xlfn.AGGREGATE(15,6,(ROW(Table2[FPPGroupCode])-2)/(Table2[DepoName]=$C$2)/(IF($C$3<>\"\",Table2[BULAN]=$C$3,TRUE))/(IF($C$4<>\"\",Table2[OFF/ON]=$C$4,TRUE))/(IF($C$5<>\"\",Table2[Status]=$C$5,TRUE))/(IF($C$6<>\"\",Table2[FPPDate]=$C$6,TRUE))/(IF($C$7<>\"\",Table2[ProposalCode]=$C$7,TRUE)),ROW(A136))),\"\")","v":""},{"$f":"IFERROR(VLOOKUP($B144,SIP!$D$3:$Q$12237,14,0),0)","v":0},{"$f":"IFERROR(INDEX(Table2[Activity],_xlfn.AGGREGATE(15,6,(ROW(Table2[FPPGroupCode])-2)/(Table2[DepoName]=$C$2)/(IF($C$3<>\"\",Table2[BULAN]=$C$3,TRUE))/(IF($C$4<>\"\",Table2[OFF/ON]=$C$4,TRUE))/(IF($C$5<>\"\",Table2[Status]=$C$5,TRUE))/(IF($C$6<>\"\",Table2[]=$C$6,TRUE))/(IF($C$7<>\"\",Table2[ProposalCode]=$C$7,TRUE)),ROW(B136))),\"\")","v":""},{"$f":"IFERROR(INDEX(Table2[Location],_xlfn.AGGREGATE(15,6,(ROW(Table2[FPPGroupCode])-2)/(Table2[DepoName]=$C$2)/(IF($C$3<>\"\",Table2[BULAN]=$C$3,TRUE))/(IF($C$4<>\"\",Table2[OFF/ON]=$C$4,TRUE))/(IF($C$5<>\"\",Table2[Status]=$C$5,TRUE))/(IF($C$6<>\"\",Table2[FPPDate]=$C$6,TRUE))/(IF($C$7<>\"\",Table2[ProposalCode]=$C$7,TRUE)),ROW(D136))),\"\")","v":""},{"$f":"IFERROR(INDEX(Table2[PeriodeStart],_xlfn.AGGREGATE(15,6,(ROW(Table2[FPPGroupCode])-2)/(Table2[DepoName]=$C$2)/(IF($C$3<>\"\",Table2[BULAN]=$C$3,TRUE))/(IF($C$4<>\"\",Table2[OFF/ON]=$C$4,TRUE))/(IF($C$5<>\"\",Table2[Status]=$C$5,TRUE))/(IF($C$6<>\"\",Table2[FPPDate]=$C$6,TRUE))/(IF($C$7<>\"\",Table2[ProposalCode]=$C$7,TRUE)),ROW(E136))),\"\")","v":""},{"$f":"IFERROR(INDEX(Table2[PeriodeEnd],_xlfn.AGGREGATE(15,6,(ROW(Table2[FPPGroupCode])-2)/(Table2[DepoName]=$C$2)/(IF($C$3<>\"\",Table2[BULAN]=$C$3,TRUE))/(IF($C$4<>\"\",Table2[OFF/ON]=$C$4,TRUE))/(IF($C$5<>\"\",Table2[Status]=$C$5,TRUE))/(IF($C$6<>\"\",Table2[FPPDate]=$C$6,TRUE))/(IF($C$7<>\"\",Table2[ProposalCode]=$C$7,TRUE)),ROW(F136))),\"\")","v":""},{"$f":"IFERROR(INDEX(Table2[Amount_FPPDepo],_xlfn.AGGREGATE(15,6,(ROW(Table2[FPPGroupCode])-2)/(Table2[DepoName]=$C$2)/(IF($C$3<>\"\",Table2[BULAN]=$C$3,TRUE))/(IF($C$4<>\"\",Table2[OFF/ON]=$C$4,TRUE))/(IF($C$5<>\"\",Table2[Status]=$C$5,TRUE))/(IF($C$6<>\"\",Table2[FPPDate]=$C$6,TRUE))/(IF($C$7<>\"\",Table2[ProposalCode]=$C$7,TRUE)),ROW(G136))),\"\")","v":""},{"$f":"IFERROR(VLOOKUP($B144,SIP!$D$5776:$P$6032,12,0),0)","v":0},{"$f":"IFERROR(H144-I144,0)","v":0},{"$f":"IFERROR(VLOOKUP($B144,SIP!$D$5776:$P$6032,8,0),0)","v":0},{"$f":"IFERROR(INDEX(Table2[OFF/ON],_xlfn.AGGREGATE(15,6,(ROW(Table2[FPPGroupCode])-2)/(Table2[DepoName]=$C$2)/(IF($C$3<>\"\",Table2[BULAN]=$C$3,TRUE))/(IF($C$4<>\"\",Table2[OFF/ON]=$C$4,TRUE))/(IF($C$5<>\"\",Table2[Status]=$C$5,TRUE))/(IF($C$6<>\"\",Table2[FPPDate]=$C$6,TRUE))/(IF($C$7<>\"\",Table2[ProposalCode]=$C$7,TRUE)),ROW(K136))),\"\")","v":""}]
[{"$f":"IF(LEN($B145),ROW(A137),\"\")","v":""},{"$f":"IFERROR(INDEX(Table2[FPPGroupCode],_xlfn.AGGREGATE(15,6,(ROW(Table2[FPPGroupCode])-2)/(Table2[DepoName]=$C$2)/(IF($C$3<>\"\",Table2[BULAN]=$C$3,TRUE))/(IF($C$4<>\"\",Table2[OFF/ON]=$C$4,TRUE))/(IF($C$5<>\"\",Table2[Status]=$C$5,TRUE))/(IF($C$6<>\"\",Table2[FPPDate]=$C$6,TRUE))/(IF($C$7<>\"\",Table2[ProposalCode]=$C$7,TRUE)),ROW(A137))),\"\")","v":""},{"$f":"IFERROR(VLOOKUP($B145,SIP!$D$3:$Q$12237,14,0),0)","v":0},{"$f":"IFERROR(INDEX(Table2[Activity],_xlfn.AGGREGATE(15,6,(ROW(Table2[FPPGroupCode])-2)/(Table2[DepoName]=$C$2)/(IF($C$3<>\"\",Table2[BULAN]=$C$3,TRUE))/(IF($C$4<>\"\",Table2[OFF/ON]=$C$4,TRUE))/(IF($C$5<>\"\",Table2[Status]=$C$5,TRUE))/(IF($C$6<>\"\",Table2[]=$C$6,TRUE))/(IF($C$7<>\"\",Table2[ProposalCode]=$C$7,TRUE)),ROW(B137))),\"\")","v":""},{"$f":"IFERROR(INDEX(Table2[Location],_xlfn.AGGREGATE(15,6,(ROW(Table2[FPPGroupCode])-2)/(Table2[DepoName]=$C$2)/(IF($C$3<>\"\",Table2[BULAN]=$C$3,TRUE))/(IF($C$4<>\"\",Table2[OFF/ON]=$C$4,TRUE))/(IF($C$5<>\"\",Table2[Status]=$C$5,TRUE))/(IF($C$6<>\"\",Table2[FPPDate]=$C$6,TRUE))/(IF($C$7<>\"\",Table2[ProposalCode]=$C$7,TRUE)),ROW(D137))),\"\")","v":""},{"$f":"IFERROR(INDEX(Table2[PeriodeStart],_xlfn.AGGREGATE(15,6,(ROW(Table2[FPPGroupCode])-2)/(Table2[DepoName]=$C$2)/(IF($C$3<>\"\",Table2[BULAN]=$C$3,TRUE))/(IF($C$4<>\"\",Table2[OFF/ON]=$C$4,TRUE))/(IF($C$5<>\"\",Table2[Status]=$C$5,TRUE))/(IF($C$6<>\"\",Table2[FPPDate]=$C$6,TRUE))/(IF($C$7<>\"\",Table2[ProposalCode]=$C$7,TRUE)),ROW(E137))),\"\")","v":""},{"$f":"IFERROR(INDEX(Table2[PeriodeEnd],_xlfn.AGGREGATE(15,6,(ROW(Table2[FPPGroupCode])-2)/(Table2[DepoName]=$C$2)/(IF($C$3<>\"\",Table2[BULAN]=$C$3,TRUE))/(IF($C$4<>\"\",Table2[OFF/ON]=$C$4,TRUE))/(IF($C$5<>\"\",Table2[Status]=$C$5,TRUE))/(IF($C$6<>\"\",Table2[FPPDate]=$C$6,TRUE))/(IF($C$7<>\"\",Table2[ProposalCode]=$C$7,TRUE)),ROW(F137))),\"\")","v":""},{"$f":"IFERROR(INDEX(Table2[Amount_FPPDepo],_xlfn.AGGREGATE(15,6,(ROW(Table2[FPPGroupCode])-2)/(Table2[DepoName]=$C$2)/(IF($C$3<>\"\",Table2[BULAN]=$C$3,TRUE))/(IF($C$4<>\"\",Table2[OFF/ON]=$C$4,TRUE))/(IF($C$5<>\"\",Table2[Status]=$C$5,TRUE))/(IF($C$6<>\"\",Table2[FPPDate]=$C$6,TRUE))/(IF($C$7<>\"\",Table2[ProposalCode]=$C$7,TRUE)),ROW(G137))),\"\")","v":""},{"$f":"IFERROR(VLOOKUP($B145,SIP!$D$5776:$P$6032,12,0),0)","v":0},{"$f":"IFERROR(H145-I145,0)","v":0},{"$f":"IFERROR(VLOOKUP($B145,SIP!$D$5776:$P$6032,8,0),0)","v":0},{"$f":"IFERROR(INDEX(Table2[OFF/ON],_xlfn.AGGREGATE(15,6,(ROW(Table2[FPPGroupCode])-2)/(Table2[DepoName]=$C$2)/(IF($C$3<>\"\",Table2[BULAN]=$C$3,TRUE))/(IF($C$4<>\"\",Table2[OFF/ON]=$C$4,TRUE))/(IF($C$5<>\"\",Table2[Status]=$C$5,TRUE))/(IF($C$6<>\"\",Table2[FPPDate]=$C$6,TRUE))/(IF($C$7<>\"\",Table2[ProposalCode]=$C$7,TRUE)),ROW(K137))),\"\")","v":""}]
[{"$f":"IF(LEN($B146),ROW(A138),\"\")","v":""},{"$f":"IFERROR(INDEX(Table2[FPPGroupCode],_xlfn.AGGREGATE(15,6,(ROW(Table2[FPPGroupCode])-2)/(Table2[DepoName]=$C$2)/(IF($C$3<>\"\",Table2[BULAN]=$C$3,TRUE))/(IF($C$4<>\"\",Table2[OFF/ON]=$C$4,TRUE))/(IF($C$5<>\"\",Table2[Status]=$C$5,TRUE))/(IF($C$6<>\"\",Table2[FPPDate]=$C$6,TRUE))/(IF($C$7<>\"\",Table2[ProposalCode]=$C$7,TRUE)),ROW(A138))),\"\")","v":""},{"$f":"IFERROR(VLOOKUP($B146,SIP!$D$3:$Q$12237,14,0),0)","v":0},{"$f":"IFERROR(INDEX(Table2[Activity],_xlfn.AGGREGATE(15,6,(ROW(Table2[FPPGroupCode])-2)/(Table2[DepoName]=$C$2)/(IF($C$3<>\"\",Table2[BULAN]=$C$3,TRUE))/(IF($C$4<>\"\",Table2[OFF/ON]=$C$4,TRUE))/(IF($C$5<>\"\",Table2[Status]=$C$5,TRUE))/(IF($C$6<>\"\",Table2[]=$C$6,TRUE))/(IF($C$7<>\"\",Table2[ProposalCode]=$C$7,TRUE)),ROW(B138))),\"\")","v":""},{"$f":"IFERROR(INDEX(Table2[Location],_xlfn.AGGREGATE(15,6,(ROW(Table2[FPPGroupCode])-2)/(Table2[DepoName]=$C$2)/(IF($C$3<>\"\",Table2[BULAN]=$C$3,TRUE))/(IF($C$4<>\"\",Table2[OFF/ON]=$C$4,TRUE))/(IF($C$5<>\"\",Table2[Status]=$C$5,TRUE))/(IF($C$6<>\"\",Table2[FPPDate]=$C$6,TRUE))/(IF($C$7<>\"\",Table2[ProposalCode]=$C$7,TRUE)),ROW(D138))),\"\")","v":""},{"$f":"IFERROR(INDEX(Table2[PeriodeStart],_xlfn.AGGREGATE(15,6,(ROW(Table2[FPPGroupCode])-2)/(Table2[DepoName]=$C$2)/(IF($C$3<>\"\",Table2[BULAN]=$C$3,TRUE))/(IF($C$4<>\"\",Table2[OFF/ON]=$C$4,TRUE))/(IF($C$5<>\"\",Table2[Status]=$C$5,TRUE))/(IF($C$6<>\"\",Table2[FPPDate]=$C$6,TRUE))/(IF($C$7<>\"\",Table2[ProposalCode]=$C$7,TRUE)),ROW(E138))),\"\")","v":""},{"$f":"IFERROR(INDEX(Table2[PeriodeEnd],_xlfn.AGGREGATE(15,6,(ROW(Table2[FPPGroupCode])-2)/(Table2[DepoName]=$C$2)/(IF($C$3<>\"\",Table2[BULAN]=$C$3,TRUE))/(IF($C$4<>\"\",Table2[OFF/ON]=$C$4,TRUE))/(IF($C$5<>\"\",Table2[Status]=$C$5,TRUE))/(IF($C$6<>\"\",Table2[FPPDate]=$C$6,TRUE))/(IF($C$7<>\"\",Table2[ProposalCode]=$C$7,TRUE)),ROW(F138))),\"\")","v":""},{"$f":"IFERROR(INDEX(Table2[Amount_FPPDepo],_xlfn.AGGREGATE(15,6,(ROW(Table2[FPPGroupCode])-2)/(Table2[DepoName]=$C$2)/(IF($C$3<>\"\",Table2[BULAN]=$C$3,TRUE))/(IF($C$4<>\"\",Table2[OFF/ON]=$C$4,TRUE))/(IF($C$5<>\"\",Table2[Status]=$C$5,TRUE))/(IF($C$6<>\"\",Table2[FPPDate]=$C$6,TRUE))/(IF($C$7<>\"\",Table2[ProposalCode]=$C$7,TRUE)),ROW(G138))),\"\")","v":""},{"$f":"IFERROR(VLOOKUP($B146,SIP!$D$5776:$P$6032,12,0),0)","v":0},{"$f":"IFERROR(H146-I146,0)","v":0},{"$f":"IFERROR(VLOOKUP($B146,SIP!$D$5776:$P$6032,8,0),0)","v":0},{"$f":"IFERROR(INDEX(Table2[OFF/ON],_xlfn.AGGREGATE(15,6,(ROW(Table2[FPPGroupCode])-2)/(Table2[DepoName]=$C$2)/(IF($C$3<>\"\",Table2[BULAN]=$C$3,TRUE))/(IF($C$4<>\"\",Table2[OFF/ON]=$C$4,TRUE))/(IF($C$5<>\"\",Table2[Status]=$C$5,TRUE))/(IF($C$6<>\"\",Table2[FPPDate]=$C$6,TRUE))/(IF($C$7<>\"\",Table2[ProposalCode]=$C$7,TRUE)),ROW(K138))),\"\")","v":""}]
[{"$f":"IF(LEN($B147),ROW(A139),\"\")","v":""},{"$f":"IFERROR(INDEX(Table2[FPPGroupCode],_xlfn.AGGREGATE(15,6,(ROW(Table2[FPPGroupCode])-2)/(Table2[DepoName]=$C$2)/(IF($C$3<>\"\",Table2[BULAN]=$C$3,TRUE))/(IF($C$4<>\"\",Table2[OFF/ON]=$C$4,TRUE))/(IF($C$5<>\"\",Table2[Status]=$C$5,TRUE))/(IF($C$6<>\"\",Table2[FPPDate]=$C$6,TRUE))/(IF($C$7<>\"\",Table2[ProposalCode]=$C$7,TRUE)),ROW(A139))),\"\")","v":""},{"$f":"IFERROR(VLOOKUP($B147,SIP!$D$3:$Q$12237,14,0),0)","v":0},{"$f":"IFERROR(INDEX(Table2[Activity],_xlfn.AGGREGATE(15,6,(ROW(Table2[FPPGroupCode])-2)/(Table2[DepoName]=$C$2)/(IF($C$3<>\"\",Table2[BULAN]=$C$3,TRUE))/(IF($C$4<>\"\",Table2[OFF/ON]=$C$4,TRUE))/(IF($C$5<>\"\",Table2[Status]=$C$5,TRUE))/(IF($C$6<>\"\",Table2[]=$C$6,TRUE))/(IF($C$7<>\"\",Table2[ProposalCode]=$C$7,TRUE)),ROW(B139))),\"\")","v":""},{"$f":"IFERROR(INDEX(Table2[Location],_xlfn.AGGREGATE(15,6,(ROW(Table2[FPPGroupCode])-2)/(Table2[DepoName]=$C$2)/(IF($C$3<>\"\",Table2[BULAN]=$C$3,TRUE))/(IF($C$4<>\"\",Table2[OFF/ON]=$C$4,TRUE))/(IF($C$5<>\"\",Table2[Status]=$C$5,TRUE))/(IF($C$6<>\"\",Table2[FPPDate]=$C$6,TRUE))/(IF($C$7<>\"\",Table2[ProposalCode]=$C$7,TRUE)),ROW(D139))),\"\")","v":""},{"$f":"IFERROR(INDEX(Table2[PeriodeStart],_xlfn.AGGREGATE(15,6,(ROW(Table2[FPPGroupCode])-2)/(Table2[DepoName]=$C$2)/(IF($C$3<>\"\",Table2[BULAN]=$C$3,TRUE))/(IF($C$4<>\"\",Table2[OFF/ON]=$C$4,TRUE))/(IF($C$5<>\"\",Table2[Status]=$C$5,TRUE))/(IF($C$6<>\"\",Table2[FPPDate]=$C$6,TRUE))/(IF($C$7<>\"\",Table2[ProposalCode]=$C$7,TRUE)),ROW(E139))),\"\")","v":""},{"$f":"IFERROR(INDEX(Table2[PeriodeEnd],_xlfn.AGGREGATE(15,6,(ROW(Table2[FPPGroupCode])-2)/(Table2[DepoName]=$C$2)/(IF($C$3<>\"\",Table2[BULAN]=$C$3,TRUE))/(IF($C$4<>\"\",Table2[OFF/ON]=$C$4,TRUE))/(IF($C$5<>\"\",Table2[Status]=$C$5,TRUE))/(IF($C$6<>\"\",Table2[FPPDate]=$C$6,TRUE))/(IF($C$7<>\"\",Table2[ProposalCode]=$C$7,TRUE)),ROW(F139))),\"\")","v":""},{"$f":"IFERROR(INDEX(Table2[Amount_FPPDepo],_xlfn.AGGREGATE(15,6,(ROW(Table2[FPPGroupCode])-2)/(Table2[DepoName]=$C$2)/(IF($C$3<>\"\",Table2[BULAN]=$C$3,TRUE))/(IF($C$4<>\"\",Table2[OFF/ON]=$C$4,TRUE))/(IF($C$5<>\"\",Table2[Status]=$C$5,TRUE))/(IF($C$6<>\"\",Table2[FPPDate]=$C$6,TRUE))/(IF($C$7<>\"\",Table2[ProposalCode]=$C$7,TRUE)),ROW(G139))),\"\")","v":""},{"$f":"IFERROR(VLOOKUP($B147,SIP!$D$5776:$P$6032,12,0),0)","v":0},{"$f":"IFERROR(H147-I147,0)","v":0},{"$f":"IFERROR(VLOOKUP($B147,SIP!$D$5776:$P$6032,8,0),0)","v":0},{"$f":"IFERROR(INDEX(Table2[OFF/ON],_xlfn.AGGREGATE(15,6,(ROW(Table2[FPPGroupCode])-2)/(Table2[DepoName]=$C$2)/(IF($C$3<>\"\",Table2[BULAN]=$C$3,TRUE))/(IF($C$4<>\"\",Table2[OFF/ON]=$C$4,TRUE))/(IF($C$5<>\"\",Table2[Status]=$C$5,TRUE))/(IF($C$6<>\"\",Table2[FPPDate]=$C$6,TRUE))/(IF($C$7<>\"\",Table2[ProposalCode]=$C$7,TRUE)),ROW(K139))),\"\")","v":""}]
[{"$f":"IF(LEN($B148),ROW(A140),\"\")","v":""},{"$f":"IFERROR(INDEX(Table2[FPPGroupCode],_xlfn.AGGREGATE(15,6,(ROW(Table2[FPPGroupCode])-2)/(Table2[DepoName]=$C$2)/(IF($C$3<>\"\",Table2[BULAN]=$C$3,TRUE))/(IF($C$4<>\"\",Table2[OFF/ON]=$C$4,TRUE))/(IF($C$5<>\"\",Table2[Status]=$C$5,TRUE))/(IF($C$6<>\"\",Table2[FPPDate]=$C$6,TRUE))/(IF($C$7<>\"\",Table2[ProposalCode]=$C$7,TRUE)),ROW(A140))),\"\")","v":""},{"$f":"IFERROR(VLOOKUP($B148,SIP!$D$3:$Q$12237,14,0),0)","v":0},{"$f":"IFERROR(INDEX(Table2[Activity],_xlfn.AGGREGATE(15,6,(ROW(Table2[FPPGroupCode])-2)/(Table2[DepoName]=$C$2)/(IF($C$3<>\"\",Table2[BULAN]=$C$3,TRUE))/(IF($C$4<>\"\",Table2[OFF/ON]=$C$4,TRUE))/(IF($C$5<>\"\",Table2[Status]=$C$5,TRUE))/(IF($C$6<>\"\",Table2[]=$C$6,TRUE))/(IF($C$7<>\"\",Table2[ProposalCode]=$C$7,TRUE)),ROW(B140))),\"\")","v":""},{"$f":"IFERROR(INDEX(Table2[Location],_xlfn.AGGREGATE(15,6,(ROW(Table2[FPPGroupCode])-2)/(Table2[DepoName]=$C$2)/(IF($C$3<>\"\",Table2[BULAN]=$C$3,TRUE))/(IF($C$4<>\"\",Table2[OFF/ON]=$C$4,TRUE))/(IF($C$5<>\"\",Table2[Status]=$C$5,TRUE))/(IF($C$6<>\"\",Table2[FPPDate]=$C$6,TRUE))/(IF($C$7<>\"\",Table2[ProposalCode]=$C$7,TRUE)),ROW(D140))),\"\")","v":""},{"$f":"IFERROR(INDEX(Table2[PeriodeStart],_xlfn.AGGREGATE(15,6,(ROW(Table2[FPPGroupCode])-2)/(Table2[DepoName]=$C$2)/(IF($C$3<>\"\",Table2[BULAN]=$C$3,TRUE))/(IF($C$4<>\"\",Table2[OFF/ON]=$C$4,TRUE))/(IF($C$5<>\"\",Table2[Status]=$C$5,TRUE))/(IF($C$6<>\"\",Table2[FPPDate]=$C$6,TRUE))/(IF($C$7<>\"\",Table2[ProposalCode]=$C$7,TRUE)),ROW(E140))),\"\")","v":""},{"$f":"IFERROR(INDEX(Table2[PeriodeEnd],_xlfn.AGGREGATE(15,6,(ROW(Table2[FPPGroupCode])-2)/(Table2[DepoName]=$C$2)/(IF($C$3<>\"\",Table2[BULAN]=$C$3,TRUE))/(IF($C$4<>\"\",Table2[OFF/ON]=$C$4,TRUE))/(IF($C$5<>\"\",Table2[Status]=$C$5,TRUE))/(IF($C$6<>\"\",Table2[FPPDate]=$C$6,TRUE))/(IF($C$7<>\"\",Table2[ProposalCode]=$C$7,TRUE)),ROW(F140))),\"\")","v":""},{"$f":"IFERROR(INDEX(Table2[Amount_FPPDepo],_xlfn.AGGREGATE(15,6,(ROW(Table2[FPPGroupCode])-2)/(Table2[DepoName]=$C$2)/(IF($C$3<>\"\",Table2[BULAN]=$C$3,TRUE))/(IF($C$4<>\"\",Table2[OFF/ON]=$C$4,TRUE))/(IF($C$5<>\"\",Table2[Status]=$C$5,TRUE))/(IF($C$6<>\"\",Table2[FPPDate]=$C$6,TRUE))/(IF($C$7<>\"\",Table2[ProposalCode]=$C$7,TRUE)),ROW(G140))),\"\")","v":""},{"$f":"IFERROR(VLOOKUP($B148,SIP!$D$5776:$P$6032,12,0),0)","v":0},{"$f":"IFERROR(H148-I148,0)","v":0},{"$f":"IFERROR(VLOOKUP($B148,SIP!$D$5776:$P$6032,8,0),0)","v":0},{"$f":"IFERROR(INDEX(Table2[OFF/ON],_xlfn.AGGREGATE(15,6,(ROW(Table2[FPPGroupCode])-2)/(Table2[DepoName]=$C$2)/(IF($C$3<>\"\",Table2[BULAN]=$C$3,TRUE))/(IF($C$4<>\"\",Table2[OFF/ON]=$C$4,TRUE))/(IF($C$5<>\"\",Table2[Status]=$C$5,TRUE))/(IF($C$6<>\"\",Table2[FPPDate]=$C$6,TRUE))/(IF($C$7<>\"\",Table2[ProposalCode]=$C$7,TRUE)),ROW(K140))),\"\")","v":""}]
[{"$f":"IF(LEN($B149),ROW(A141),\"\")","v":""},{"$f":"IFERROR(INDEX(Table2[FPPGroupCode],_xlfn.AGGREGATE(15,6,(ROW(Table2[FPPGroupCode])-2)/(Table2[DepoName]=$C$2)/(IF($C$3<>\"\",Table2[BULAN]=$C$3,TRUE))/(IF($C$4<>\"\",Table2[OFF/ON]=$C$4,TRUE))/(IF($C$5<>\"\",Table2[Status]=$C$5,TRUE))/(IF($C$6<>\"\",Table2[FPPDate]=$C$6,TRUE))/(IF($C$7<>\"\",Table2[ProposalCode]=$C$7,TRUE)),ROW(A141))),\"\")","v":""},{"$f":"IFERROR(VLOOKUP($B149,SIP!$D$3:$Q$12237,14,0),0)","v":0},{"$f":"IFERROR(INDEX(Table2[Activity],_xlfn.AGGREGATE(15,6,(ROW(Table2[FPPGroupCode])-2)/(Table2[DepoName]=$C$2)/(IF($C$3<>\"\",Table2[BULAN]=$C$3,TRUE))/(IF($C$4<>\"\",Table2[OFF/ON]=$C$4,TRUE))/(IF($C$5<>\"\",Table2[Status]=$C$5,TRUE))/(IF($C$6<>\"\",Table2[]=$C$6,TRUE))/(IF($C$7<>\"\",Table2[ProposalCode]=$C$7,TRUE)),ROW(B141))),\"\")","v":""},{"$f":"IFERROR(INDEX(Table2[Location],_xlfn.AGGREGATE(15,6,(ROW(Table2[FPPGroupCode])-2)/(Table2[DepoName]=$C$2)/(IF($C$3<>\"\",Table2[BULAN]=$C$3,TRUE))/(IF($C$4<>\"\",Table2[OFF/ON]=$C$4,TRUE))/(IF($C$5<>\"\",Table2[Status]=$C$5,TRUE))/(IF($C$6<>\"\",Table2[FPPDate]=$C$6,TRUE))/(IF($C$7<>\"\",Table2[ProposalCode]=$C$7,TRUE)),ROW(D141))),\"\")","v":""},{"$f":"IFERROR(INDEX(Table2[PeriodeStart],_xlfn.AGGREGATE(15,6,(ROW(Table2[FPPGroupCode])-2)/(Table2[DepoName]=$C$2)/(IF($C$3<>\"\",Table2[BULAN]=$C$3,TRUE))/(IF($C$4<>\"\",Table2[OFF/ON]=$C$4,TRUE))/(IF($C$5<>\"\",Table2[Status]=$C$5,TRUE))/(IF($C$6<>\"\",Table2[FPPDate]=$C$6,TRUE))/(IF($C$7<>\"\",Table2[ProposalCode]=$C$7,TRUE)),ROW(E141))),\"\")","v":""},{"$f":"IFERROR(INDEX(Table2[PeriodeEnd],_xlfn.AGGREGATE(15,6,(ROW(Table2[FPPGroupCode])-2)/(Table2[DepoName]=$C$2)/(IF($C$3<>\"\",Table2[BULAN]=$C$3,TRUE))/(IF($C$4<>\"\",Table2[OFF/ON]=$C$4,TRUE))/(IF($C$5<>\"\",Table2[Status]=$C$5,TRUE))/(IF($C$6<>\"\",Table2[FPPDate]=$C$6,TRUE))/(IF($C$7<>\"\",Table2[ProposalCode]=$C$7,TRUE)),ROW(F141))),\"\")","v":""},{"$f":"IFERROR(INDEX(Table2[Amount_FPPDepo],_xlfn.AGGREGATE(15,6,(ROW(Table2[FPPGroupCode])-2)/(Table2[DepoName]=$C$2)/(IF($C$3<>\"\",Table2[BULAN]=$C$3,TRUE))/(IF($C$4<>\"\",Table2[OFF/ON]=$C$4,TRUE))/(IF($C$5<>\"\",Table2[Status]=$C$5,TRUE))/(IF($C$6<>\"\",Table2[FPPDate]=$C$6,TRUE))/(IF($C$7<>\"\",Table2[ProposalCode]=$C$7,TRUE)),ROW(G141))),\"\")","v":""},{"$f":"IFERROR(VLOOKUP($B149,SIP!$D$5776:$P$6032,12,0),0)","v":0},{"$f":"IFERROR(H149-I149,0)","v":0},{"$f":"IFERROR(VLOOKUP($B149,SIP!$D$5776:$P$6032,8,0),0)","v":0},{"$f":"IFERROR(INDEX(Table2[OFF/ON],_xlfn.AGGREGATE(15,6,(ROW(Table2[FPPGroupCode])-2)/(Table2[DepoName]=$C$2)/(IF($C$3<>\"\",Table2[BULAN]=$C$3,TRUE))/(IF($C$4<>\"\",Table2[OFF/ON]=$C$4,TRUE))/(IF($C$5<>\"\",Table2[Status]=$C$5,TRUE))/(IF($C$6<>\"\",Table2[FPPDate]=$C$6,TRUE))/(IF($C$7<>\"\",Table2[ProposalCode]=$C$7,TRUE)),ROW(K141))),\"\")","v":""}]
[{"$f":"IF(LEN($B150),ROW(A142),\"\")","v":""},{"$f":"IFERROR(INDEX(Table2[FPPGroupCode],_xlfn.AGGREGATE(15,6,(ROW(Table2[FPPGroupCode])-2)/(Table2[DepoName]=$C$2)/(IF($C$3<>\"\",Table2[BULAN]=$C$3,TRUE))/(IF($C$4<>\"\",Table2[OFF/ON]=$C$4,TRUE))/(IF($C$5<>\"\",Table2[Status]=$C$5,TRUE))/(IF($C$6<>\"\",Table2[FPPDate]=$C$6,TRUE))/(IF($C$7<>\"\",Table2[ProposalCode]=$C$7,TRUE)),ROW(A142))),\"\")","v":""},{"$f":"IFERROR(VLOOKUP($B150,SIP!$D$3:$Q$12237,14,0),0)","v":0},{"$f":"IFERROR(INDEX(Table2[Activity],_xlfn.AGGREGATE(15,6,(ROW(Table2[FPPGroupCode])-2)/(Table2[DepoName]=$C$2)/(IF($C$3<>\"\",Table2[BULAN]=$C$3,TRUE))/(IF($C$4<>\"\",Table2[OFF/ON]=$C$4,TRUE))/(IF($C$5<>\"\",Table2[Status]=$C$5,TRUE))/(IF($C$6<>\"\",Table2[]=$C$6,TRUE))/(IF($C$7<>\"\",Table2[ProposalCode]=$C$7,TRUE)),ROW(B142))),\"\")","v":""},{"$f":"IFERROR(INDEX(Table2[Location],_xlfn.AGGREGATE(15,6,(ROW(Table2[FPPGroupCode])-2)/(Table2[DepoName]=$C$2)/(IF($C$3<>\"\",Table2[BULAN]=$C$3,TRUE))/(IF($C$4<>\"\",Table2[OFF/ON]=$C$4,TRUE))/(IF($C$5<>\"\",Table2[Status]=$C$5,TRUE))/(IF($C$6<>\"\",Table2[FPPDate]=$C$6,TRUE))/(IF($C$7<>\"\",Table2[ProposalCode]=$C$7,TRUE)),ROW(D142))),\"\")","v":""},{"$f":"IFERROR(INDEX(Table2[PeriodeStart],_xlfn.AGGREGATE(15,6,(ROW(Table2[FPPGroupCode])-2)/(Table2[DepoName]=$C$2)/(IF($C$3<>\"\",Table2[BULAN]=$C$3,TRUE))/(IF($C$4<>\"\",Table2[OFF/ON]=$C$4,TRUE))/(IF($C$5<>\"\",Table2[Status]=$C$5,TRUE))/(IF($C$6<>\"\",Table2[FPPDate]=$C$6,TRUE))/(IF($C$7<>\"\",Table2[ProposalCode]=$C$7,TRUE)),ROW(E142))),\"\")","v":""},{"$f":"IFERROR(INDEX(Table2[PeriodeEnd],_xlfn.AGGREGATE(15,6,(ROW(Table2[FPPGroupCode])-2)/(Table2[DepoName]=$C$2)/(IF($C$3<>\"\",Table2[BULAN]=$C$3,TRUE))/(IF($C$4<>\"\",Table2[OFF/ON]=$C$4,TRUE))/(IF($C$5<>\"\",Table2[Status]=$C$5,TRUE))/(IF($C$6<>\"\",Table2[FPPDate]=$C$6,TRUE))/(IF($C$7<>\"\",Table2[ProposalCode]=$C$7,TRUE)),ROW(F142))),\"\")","v":""},{"$f":"IFERROR(INDEX(Table2[Amount_FPPDepo],_xlfn.AGGREGATE(15,6,(ROW(Table2[FPPGroupCode])-2)/(Table2[DepoName]=$C$2)/(IF($C$3<>\"\",Table2[BULAN]=$C$3,TRUE))/(IF($C$4<>\"\",Table2[OFF/ON]=$C$4,TRUE))/(IF($C$5<>\"\",Table2[Status]=$C$5,TRUE))/(IF($C$6<>\"\",Table2[FPPDate]=$C$6,TRUE))/(IF($C$7<>\"\",Table2[ProposalCode]=$C$7,TRUE)),ROW(G142))),\"\")","v":""},{"$f":"IFERROR(VLOOKUP($B150,SIP!$D$5776:$P$6032,12,0),0)","v":0},{"$f":"IFERROR(H150-I150,0)","v":0},{"$f":"IFERROR(VLOOKUP($B150,SIP!$D$5776:$P$6032,8,0),0)","v":0},{"$f":"IFERROR(INDEX(Table2[OFF/ON],_xlfn.AGGREGATE(15,6,(ROW(Table2[FPPGroupCode])-2)/(Table2[DepoName]=$C$2)/(IF($C$3<>\"\",Table2[BULAN]=$C$3,TRUE))/(IF($C$4<>\"\",Table2[OFF/ON]=$C$4,TRUE))/(IF($C$5<>\"\",Table2[Status]=$C$5,TRUE))/(IF($C$6<>\"\",Table2[FPPDate]=$C$6,TRUE))/(IF($C$7<>\"\",Table2[ProposalCode]=$C$7,TRUE)),ROW(K142))),\"\")","v":""}]
[{"$f":"IF(LEN($B151),ROW(A143),\"\")","v":""},{"$f":"IFERROR(INDEX(Table2[FPPGroupCode],_xlfn.AGGREGATE(15,6,(ROW(Table2[FPPGroupCode])-2)/(Table2[DepoName]=$C$2)/(IF($C$3<>\"\",Table2[BULAN]=$C$3,TRUE))/(IF($C$4<>\"\",Table2[OFF/ON]=$C$4,TRUE))/(IF($C$5<>\"\",Table2[Status]=$C$5,TRUE))/(IF($C$6<>\"\",Table2[FPPDate]=$C$6,TRUE))/(IF($C$7<>\"\",Table2[ProposalCode]=$C$7,TRUE)),ROW(A143))),\"\")","v":""},{"$f":"IFERROR(VLOOKUP($B151,SIP!$D$3:$Q$12237,14,0),0)","v":0},{"$f":"IFERROR(INDEX(Table2[Activity],_xlfn.AGGREGATE(15,6,(ROW(Table2[FPPGroupCode])-2)/(Table2[DepoName]=$C$2)/(IF($C$3<>\"\",Table2[BULAN]=$C$3,TRUE))/(IF($C$4<>\"\",Table2[OFF/ON]=$C$4,TRUE))/(IF($C$5<>\"\",Table2[Status]=$C$5,TRUE))/(IF($C$6<>\"\",Table2[]=$C$6,TRUE))/(IF($C$7<>\"\",Table2[ProposalCode]=$C$7,TRUE)),ROW(B143))),\"\")","v":""},{"$f":"IFERROR(INDEX(Table2[Location],_xlfn.AGGREGATE(15,6,(ROW(Table2[FPPGroupCode])-2)/(Table2[DepoName]=$C$2)/(IF($C$3<>\"\",Table2[BULAN]=$C$3,TRUE))/(IF($C$4<>\"\",Table2[OFF/ON]=$C$4,TRUE))/(IF($C$5<>\"\",Table2[Status]=$C$5,TRUE))/(IF($C$6<>\"\",Table2[FPPDate]=$C$6,TRUE))/(IF($C$7<>\"\",Table2[ProposalCode]=$C$7,TRUE)),ROW(D143))),\"\")","v":""},{"$f":"IFERROR(INDEX(Table2[PeriodeStart],_xlfn.AGGREGATE(15,6,(ROW(Table2[FPPGroupCode])-2)/(Table2[DepoName]=$C$2)/(IF($C$3<>\"\",Table2[BULAN]=$C$3,TRUE))/(IF($C$4<>\"\",Table2[OFF/ON]=$C$4,TRUE))/(IF($C$5<>\"\",Table2[Status]=$C$5,TRUE))/(IF($C$6<>\"\",Table2[FPPDate]=$C$6,TRUE))/(IF($C$7<>\"\",Table2[ProposalCode]=$C$7,TRUE)),ROW(E143))),\"\")","v":""},{"$f":"IFERROR(INDEX(Table2[PeriodeEnd],_xlfn.AGGREGATE(15,6,(ROW(Table2[FPPGroupCode])-2)/(Table2[DepoName]=$C$2)/(IF($C$3<>\"\",Table2[BULAN]=$C$3,TRUE))/(IF($C$4<>\"\",Table2[OFF/ON]=$C$4,TRUE))/(IF($C$5<>\"\",Table2[Status]=$C$5,TRUE))/(IF($C$6<>\"\",Table2[FPPDate]=$C$6,TRUE))/(IF($C$7<>\"\",Table2[ProposalCode]=$C$7,TRUE)),ROW(F143))),\"\")","v":""},{"$f":"IFERROR(INDEX(Table2[Amount_FPPDepo],_xlfn.AGGREGATE(15,6,(ROW(Table2[FPPGroupCode])-2)/(Table2[DepoName]=$C$2)/(IF($C$3<>\"\",Table2[BULAN]=$C$3,TRUE))/(IF($C$4<>\"\",Table2[OFF/ON]=$C$4,TRUE))/(IF($C$5<>\"\",Table2[Status]=$C$5,TRUE))/(IF($C$6<>\"\",Table2[FPPDate]=$C$6,TRUE))/(IF($C$7<>\"\",Table2[ProposalCode]=$C$7,TRUE)),ROW(G143))),\"\")","v":""},{"$f":"IFERROR(VLOOKUP($B151,SIP!$D$5776:$P$6032,12,0),0)","v":0},{"$f":"IFERROR(H151-I151,0)","v":0},{"$f":"IFERROR(VLOOKUP($B151,SIP!$D$5776:$P$6032,8,0),0)","v":0},{"$f":"IFERROR(INDEX(Table2[OFF/ON],_xlfn.AGGREGATE(15,6,(ROW(Table2[FPPGroupCode])-2)/(Table2[DepoName]=$C$2)/(IF($C$3<>\"\",Table2[BULAN]=$C$3,TRUE))/(IF($C$4<>\"\",Table2[OFF/ON]=$C$4,TRUE))/(IF($C$5<>\"\",Table2[Status]=$C$5,TRUE))/(IF($C$6<>\"\",Table2[FPPDate]=$C$6,TRUE))/(IF($C$7<>\"\",Table2[ProposalCode]=$C$7,TRUE)),ROW(K143))),\"\")","v":""}]
[{"$f":"IF(LEN($B152),ROW(A144),\"\")","v":""},{"$f":"IFERROR(INDEX(Table2[FPPGroupCode],_xlfn.AGGREGATE(15,6,(ROW(Table2[FPPGroupCode])-2)/(Table2[DepoName]=$C$2)/(IF($C$3<>\"\",Table2[BULAN]=$C$3,TRUE))/(IF($C$4<>\"\",Table2[OFF/ON]=$C$4,TRUE))/(IF($C$5<>\"\",Table2[Status]=$C$5,TRUE))/(IF($C$6<>\"\",Table2[FPPDate]=$C$6,TRUE))/(IF($C$7<>\"\",Table2[ProposalCode]=$C$7,TRUE)),ROW(A144))),\"\")","v":""},{"$f":"IFERROR(VLOOKUP($B152,SIP!$D$3:$Q$12237,14,0),0)","v":0},{"$f":"IFERROR(INDEX(Table2[Activity],_xlfn.AGGREGATE(15,6,(ROW(Table2[FPPGroupCode])-2)/(Table2[DepoName]=$C$2)/(IF($C$3<>\"\",Table2[BULAN]=$C$3,TRUE))/(IF($C$4<>\"\",Table2[OFF/ON]=$C$4,TRUE))/(IF($C$5<>\"\",Table2[Status]=$C$5,TRUE))/(IF($C$6<>\"\",Table2[]=$C$6,TRUE))/(IF($C$7<>\"\",Table2[ProposalCode]=$C$7,TRUE)),ROW(B144))),\"\")","v":""},{"$f":"IFERROR(INDEX(Table2[Location],_xlfn.AGGREGATE(15,6,(ROW(Table2[FPPGroupCode])-2)/(Table2[DepoName]=$C$2)/(IF($C$3<>\"\",Table2[BULAN]=$C$3,TRUE))/(IF($C$4<>\"\",Table2[OFF/ON]=$C$4,TRUE))/(IF($C$5<>\"\",Table2[Status]=$C$5,TRUE))/(IF($C$6<>\"\",Table2[FPPDate]=$C$6,TRUE))/(IF($C$7<>\"\",Table2[ProposalCode]=$C$7,TRUE)),ROW(D144))),\"\")","v":""},{"$f":"IFERROR(INDEX(Table2[PeriodeStart],_xlfn.AGGREGATE(15,6,(ROW(Table2[FPPGroupCode])-2)/(Table2[DepoName]=$C$2)/(IF($C$3<>\"\",Table2[BULAN]=$C$3,TRUE))/(IF($C$4<>\"\",Table2[OFF/ON]=$C$4,TRUE))/(IF($C$5<>\"\",Table2[Status]=$C$5,TRUE))/(IF($C$6<>\"\",Table2[FPPDate]=$C$6,TRUE))/(IF($C$7<>\"\",Table2[ProposalCode]=$C$7,TRUE)),ROW(E144))),\"\")","v":""},{"$f":"IFERROR(INDEX(Table2[PeriodeEnd],_xlfn.AGGREGATE(15,6,(ROW(Table2[FPPGroupCode])-2)/(Table2[DepoName]=$C$2)/(IF($C$3<>\"\",Table2[BULAN]=$C$3,TRUE))/(IF($C$4<>\"\",Table2[OFF/ON]=$C$4,TRUE))/(IF($C$5<>\"\",Table2[Status]=$C$5,TRUE))/(IF($C$6<>\"\",Table2[FPPDate]=$C$6,TRUE))/(IF($C$7<>\"\",Table2[ProposalCode]=$C$7,TRUE)),ROW(F144))),\"\")","v":""},{"$f":"IFERROR(INDEX(Table2[Amount_FPPDepo],_xlfn.AGGREGATE(15,6,(ROW(Table2[FPPGroupCode])-2)/(Table2[DepoName]=$C$2)/(IF($C$3<>\"\",Table2[BULAN]=$C$3,TRUE))/(IF($C$4<>\"\",Table2[OFF/ON]=$C$4,TRUE))/(IF($C$5<>\"\",Table2[Status]=$C$5,TRUE))/(IF($C$6<>\"\",Table2[FPPDate]=$C$6,TRUE))/(IF($C$7<>\"\",Table2[ProposalCode]=$C$7,TRUE)),ROW(G144))),\"\")","v":""},{"$f":"IFERROR(VLOOKUP($B152,SIP!$D$5776:$P$6032,12,0),0)","v":0},{"$f":"IFERROR(H152-I152,0)","v":0},{"$f":"IFERROR(VLOOKUP($B152,SIP!$D$5776:$P$6032,8,0),0)","v":0},{"$f":"IFERROR(INDEX(Table2[OFF/ON],_xlfn.AGGREGATE(15,6,(ROW(Table2[FPPGroupCode])-2)/(Table2[DepoName]=$C$2)/(IF($C$3<>\"\",Table2[BULAN]=$C$3,TRUE))/(IF($C$4<>\"\",Table2[OFF/ON]=$C$4,TRUE))/(IF($C$5<>\"\",Table2[Status]=$C$5,TRUE))/(IF($C$6<>\"\",Table2[FPPDate]=$C$6,TRUE))/(IF($C$7<>\"\",Table2[ProposalCode]=$C$7,TRUE)),ROW(K144))),\"\")","v":""}]
[{"$f":"IF(LEN($B153),ROW(A145),\"\")","v":""},{"$f":"IFERROR(INDEX(Table2[FPPGroupCode],_xlfn.AGGREGATE(15,6,(ROW(Table2[FPPGroupCode])-2)/(Table2[DepoName]=$C$2)/(IF($C$3<>\"\",Table2[BULAN]=$C$3,TRUE))/(IF($C$4<>\"\",Table2[OFF/ON]=$C$4,TRUE))/(IF($C$5<>\"\",Table2[Status]=$C$5,TRUE))/(IF($C$6<>\"\",Table2[FPPDate]=$C$6,TRUE))/(IF($C$7<>\"\",Table2[ProposalCode]=$C$7,TRUE)),ROW(A145))),\"\")","v":""},{"$f":"IFERROR(VLOOKUP($B153,SIP!$D$3:$Q$12237,14,0),0)","v":0},{"$f":"IFERROR(INDEX(Table2[Activity],_xlfn.AGGREGATE(15,6,(ROW(Table2[FPPGroupCode])-2)/(Table2[DepoName]=$C$2)/(IF($C$3<>\"\",Table2[BULAN]=$C$3,TRUE))/(IF($C$4<>\"\",Table2[OFF/ON]=$C$4,TRUE))/(IF($C$5<>\"\",Table2[Status]=$C$5,TRUE))/(IF($C$6<>\"\",Table2[]=$C$6,TRUE))/(IF($C$7<>\"\",Table2[ProposalCode]=$C$7,TRUE)),ROW(B145))),\"\")","v":""},{"$f":"IFERROR(INDEX(Table2[Location],_xlfn.AGGREGATE(15,6,(ROW(Table2[FPPGroupCode])-2)/(Table2[DepoName]=$C$2)/(IF($C$3<>\"\",Table2[BULAN]=$C$3,TRUE))/(IF($C$4<>\"\",Table2[OFF/ON]=$C$4,TRUE))/(IF($C$5<>\"\",Table2[Status]=$C$5,TRUE))/(IF($C$6<>\"\",Table2[FPPDate]=$C$6,TRUE))/(IF($C$7<>\"\",Table2[ProposalCode]=$C$7,TRUE)),ROW(D145))),\"\")","v":""},{"$f":"IFERROR(INDEX(Table2[PeriodeStart],_xlfn.AGGREGATE(15,6,(ROW(Table2[FPPGroupCode])-2)/(Table2[DepoName]=$C$2)/(IF($C$3<>\"\",Table2[BULAN]=$C$3,TRUE))/(IF($C$4<>\"\",Table2[OFF/ON]=$C$4,TRUE))/(IF($C$5<>\"\",Table2[Status]=$C$5,TRUE))/(IF($C$6<>\"\",Table2[FPPDate]=$C$6,TRUE))/(IF($C$7<>\"\",Table2[ProposalCode]=$C$7,TRUE)),ROW(E145))),\"\")","v":""},{"$f":"IFERROR(INDEX(Table2[PeriodeEnd],_xlfn.AGGREGATE(15,6,(ROW(Table2[FPPGroupCode])-2)/(Table2[DepoName]=$C$2)/(IF($C$3<>\"\",Table2[BULAN]=$C$3,TRUE))/(IF($C$4<>\"\",Table2[OFF/ON]=$C$4,TRUE))/(IF($C$5<>\"\",Table2[Status]=$C$5,TRUE))/(IF($C$6<>\"\",Table2[FPPDate]=$C$6,TRUE))/(IF($C$7<>\"\",Table2[ProposalCode]=$C$7,TRUE)),ROW(F145))),\"\")","v":""},{"$f":"IFERROR(INDEX(Table2[Amount_FPPDepo],_xlfn.AGGREGATE(15,6,(ROW(Table2[FPPGroupCode])-2)/(Table2[DepoName]=$C$2)/(IF($C$3<>\"\",Table2[BULAN]=$C$3,TRUE))/(IF($C$4<>\"\",Table2[OFF/ON]=$C$4,TRUE))/(IF($C$5<>\"\",Table2[Status]=$C$5,TRUE))/(IF($C$6<>\"\",Table2[FPPDate]=$C$6,TRUE))/(IF($C$7<>\"\",Table2[ProposalCode]=$C$7,TRUE)),ROW(G145))),\"\")","v":""},{"$f":"IFERROR(VLOOKUP($B153,SIP!$D$5776:$P$6032,12,0),0)","v":0},{"$f":"IFERROR(H153-I153,0)","v":0},{"$f":"IFERROR(VLOOKUP($B153,SIP!$D$5776:$P$6032,8,0),0)","v":0},{"$f":"IFERROR(INDEX(Table2[OFF/ON],_xlfn.AGGREGATE(15,6,(ROW(Table2[FPPGroupCode])-2)/(Table2[DepoName]=$C$2)/(IF($C$3<>\"\",Table2[BULAN]=$C$3,TRUE))/(IF($C$4<>\"\",Table2[OFF/ON]=$C$4,TRUE))/(IF($C$5<>\"\",Table2[Status]=$C$5,TRUE))/(IF($C$6<>\"\",Table2[FPPDate]=$C$6,TRUE))/(IF($C$7<>\"\",Table2[ProposalCode]=$C$7,TRUE)),ROW(K145))),\"\")","v":""}]
[{"$f":"IF(LEN($B154),ROW(A146),\"\")","v":""},{"$f":"IFERROR(INDEX(Table2[FPPGroupCode],_xlfn.AGGREGATE(15,6,(ROW(Table2[FPPGroupCode])-2)/(Table2[DepoName]=$C$2)/(IF($C$3<>\"\",Table2[BULAN]=$C$3,TRUE))/(IF($C$4<>\"\",Table2[OFF/ON]=$C$4,TRUE))/(IF($C$5<>\"\",Table2[Status]=$C$5,TRUE))/(IF($C$6<>\"\",Table2[FPPDate]=$C$6,TRUE))/(IF($C$7<>\"\",Table2[ProposalCode]=$C$7,TRUE)),ROW(A146))),\"\")","v":""},{"$f":"IFERROR(VLOOKUP($B154,SIP!$D$3:$Q$12237,14,0),0)","v":0},{"$f":"IFERROR(INDEX(Table2[Activity],_xlfn.AGGREGATE(15,6,(ROW(Table2[FPPGroupCode])-2)/(Table2[DepoName]=$C$2)/(IF($C$3<>\"\",Table2[BULAN]=$C$3,TRUE))/(IF($C$4<>\"\",Table2[OFF/ON]=$C$4,TRUE))/(IF($C$5<>\"\",Table2[Status]=$C$5,TRUE))/(IF($C$6<>\"\",Table2[]=$C$6,TRUE))/(IF($C$7<>\"\",Table2[ProposalCode]=$C$7,TRUE)),ROW(B146))),\"\")","v":""},{"$f":"IFERROR(INDEX(Table2[Location],_xlfn.AGGREGATE(15,6,(ROW(Table2[FPPGroupCode])-2)/(Table2[DepoName]=$C$2)/(IF($C$3<>\"\",Table2[BULAN]=$C$3,TRUE))/(IF($C$4<>\"\",Table2[OFF/ON]=$C$4,TRUE))/(IF($C$5<>\"\",Table2[Status]=$C$5,TRUE))/(IF($C$6<>\"\",Table2[FPPDate]=$C$6,TRUE))/(IF($C$7<>\"\",Table2[ProposalCode]=$C$7,TRUE)),ROW(D146))),\"\")","v":""},{"$f":"IFERROR(INDEX(Table2[PeriodeStart],_xlfn.AGGREGATE(15,6,(ROW(Table2[FPPGroupCode])-2)/(Table2[DepoName]=$C$2)/(IF($C$3<>\"\",Table2[BULAN]=$C$3,TRUE))/(IF($C$4<>\"\",Table2[OFF/ON]=$C$4,TRUE))/(IF($C$5<>\"\",Table2[Status]=$C$5,TRUE))/(IF($C$6<>\"\",Table2[FPPDate]=$C$6,TRUE))/(IF($C$7<>\"\",Table2[ProposalCode]=$C$7,TRUE)),ROW(E146))),\"\")","v":""},{"$f":"IFERROR(INDEX(Table2[PeriodeEnd],_xlfn.AGGREGATE(15,6,(ROW(Table2[FPPGroupCode])-2)/(Table2[DepoName]=$C$2)/(IF($C$3<>\"\",Table2[BULAN]=$C$3,TRUE))/(IF($C$4<>\"\",Table2[OFF/ON]=$C$4,TRUE))/(IF($C$5<>\"\",Table2[Status]=$C$5,TRUE))/(IF($C$6<>\"\",Table2[FPPDate]=$C$6,TRUE))/(IF($C$7<>\"\",Table2[ProposalCode]=$C$7,TRUE)),ROW(F146))),\"\")","v":""},{"$f":"IFERROR(INDEX(Table2[Amount_FPPDepo],_xlfn.AGGREGATE(15,6,(ROW(Table2[FPPGroupCode])-2)/(Table2[DepoName]=$C$2)/(IF($C$3<>\"\",Table2[BULAN]=$C$3,TRUE))/(IF($C$4<>\"\",Table2[OFF/ON]=$C$4,TRUE))/(IF($C$5<>\"\",Table2[Status]=$C$5,TRUE))/(IF($C$6<>\"\",Table2[FPPDate]=$C$6,TRUE))/(IF($C$7<>\"\",Table2[ProposalCode]=$C$7,TRUE)),ROW(G146))),\"\")","v":""},{"$f":"IFERROR(VLOOKUP($B154,SIP!$D$5776:$P$6032,12,0),0)","v":0},{"$f":"IFERROR(H154-I154,0)","v":0},{"$f":"IFERROR(VLOOKUP($B154,SIP!$D$5776:$P$6032,8,0),0)","v":0},{"$f":"IFERROR(INDEX(Table2[OFF/ON],_xlfn.AGGREGATE(15,6,(ROW(Table2[FPPGroupCode])-2)/(Table2[DepoName]=$C$2)/(IF($C$3<>\"\",Table2[BULAN]=$C$3,TRUE))/(IF($C$4<>\"\",Table2[OFF/ON]=$C$4,TRUE))/(IF($C$5<>\"\",Table2[Status]=$C$5,TRUE))/(IF($C$6<>\"\",Table2[FPPDate]=$C$6,TRUE))/(IF($C$7<>\"\",Table2[ProposalCode]=$C$7,TRUE)),ROW(K146))),\"\")","v":""}]
[{"$f":"IF(LEN($B155),ROW(A147),\"\")","v":""},{"$f":"IFERROR(INDEX(Table2[FPPGroupCode],_xlfn.AGGREGATE(15,6,(ROW(Table2[FPPGroupCode])-2)/(Table2[DepoName]=$C$2)/(IF($C$3<>\"\",Table2[BULAN]=$C$3,TRUE))/(IF($C$4<>\"\",Table2[OFF/ON]=$C$4,TRUE))/(IF($C$5<>\"\",Table2[Status]=$C$5,TRUE))/(IF($C$6<>\"\",Table2[FPPDate]=$C$6,TRUE))/(IF($C$7<>\"\",Table2[ProposalCode]=$C$7,TRUE)),ROW(A147))),\"\")","v":""},{"$f":"IFERROR(VLOOKUP($B155,SIP!$D$3:$Q$12237,14,0),0)","v":0},{"$f":"IFERROR(INDEX(Table2[Activity],_xlfn.AGGREGATE(15,6,(ROW(Table2[FPPGroupCode])-2)/(Table2[DepoName]=$C$2)/(IF($C$3<>\"\",Table2[BULAN]=$C$3,TRUE))/(IF($C$4<>\"\",Table2[OFF/ON]=$C$4,TRUE))/(IF($C$5<>\"\",Table2[Status]=$C$5,TRUE))/(IF($C$6<>\"\",Table2[]=$C$6,TRUE))/(IF($C$7<>\"\",Table2[ProposalCode]=$C$7,TRUE)),ROW(B147))),\"\")","v":""},{"$f":"IFERROR(INDEX(Table2[Location],_xlfn.AGGREGATE(15,6,(ROW(Table2[FPPGroupCode])-2)/(Table2[DepoName]=$C$2)/(IF($C$3<>\"\",Table2[BULAN]=$C$3,TRUE))/(IF($C$4<>\"\",Table2[OFF/ON]=$C$4,TRUE))/(IF($C$5<>\"\",Table2[Status]=$C$5,TRUE))/(IF($C$6<>\"\",Table2[FPPDate]=$C$6,TRUE))/(IF($C$7<>\"\",Table2[ProposalCode]=$C$7,TRUE)),ROW(D147))),\"\")","v":""},{"$f":"IFERROR(INDEX(Table2[PeriodeStart],_xlfn.AGGREGATE(15,6,(ROW(Table2[FPPGroupCode])-2)/(Table2[DepoName]=$C$2)/(IF($C$3<>\"\",Table2[BULAN]=$C$3,TRUE))/(IF($C$4<>\"\",Table2[OFF/ON]=$C$4,TRUE))/(IF($C$5<>\"\",Table2[Status]=$C$5,TRUE))/(IF($C$6<>\"\",Table2[FPPDate]=$C$6,TRUE))/(IF($C$7<>\"\",Table2[ProposalCode]=$C$7,TRUE)),ROW(E147))),\"\")","v":""},{"$f":"IFERROR(INDEX(Table2[PeriodeEnd],_xlfn.AGGREGATE(15,6,(ROW(Table2[FPPGroupCode])-2)/(Table2[DepoName]=$C$2)/(IF($C$3<>\"\",Table2[BULAN]=$C$3,TRUE))/(IF($C$4<>\"\",Table2[OFF/ON]=$C$4,TRUE))/(IF($C$5<>\"\",Table2[Status]=$C$5,TRUE))/(IF($C$6<>\"\",Table2[FPPDate]=$C$6,TRUE))/(IF($C$7<>\"\",Table2[ProposalCode]=$C$7,TRUE)),ROW(F147))),\"\")","v":""},{"$f":"IFERROR(INDEX(Table2[Amount_FPPDepo],_xlfn.AGGREGATE(15,6,(ROW(Table2[FPPGroupCode])-2)/(Table2[DepoName]=$C$2)/(IF($C$3<>\"\",Table2[BULAN]=$C$3,TRUE))/(IF($C$4<>\"\",Table2[OFF/ON]=$C$4,TRUE))/(IF($C$5<>\"\",Table2[Status]=$C$5,TRUE))/(IF($C$6<>\"\",Table2[FPPDate]=$C$6,TRUE))/(IF($C$7<>\"\",Table2[ProposalCode]=$C$7,TRUE)),ROW(G147))),\"\")","v":""},{"$f":"IFERROR(VLOOKUP($B155,SIP!$D$5776:$P$6032,12,0),0)","v":0},{"$f":"IFERROR(H155-I155,0)","v":0},{"$f":"IFERROR(VLOOKUP($B155,SIP!$D$5776:$P$6032,8,0),0)","v":0},{"$f":"IFERROR(INDEX(Table2[OFF/ON],_xlfn.AGGREGATE(15,6,(ROW(Table2[FPPGroupCode])-2)/(Table2[DepoName]=$C$2)/(IF($C$3<>\"\",Table2[BULAN]=$C$3,TRUE))/(IF($C$4<>\"\",Table2[OFF/ON]=$C$4,TRUE))/(IF($C$5<>\"\",Table2[Status]=$C$5,TRUE))/(IF($C$6<>\"\",Table2[FPPDate]=$C$6,TRUE))/(IF($C$7<>\"\",Table2[ProposalCode]=$C$7,TRUE)),ROW(K147))),\"\")","v":""}]
[{"$f":"IF(LEN($B156),ROW(A148),\"\")","v":""},{"$f":"IFERROR(INDEX(Table2[FPPGroupCode],_xlfn.AGGREGATE(15,6,(ROW(Table2[FPPGroupCode])-2)/(Table2[DepoName]=$C$2)/(IF($C$3<>\"\",Table2[BULAN]=$C$3,TRUE))/(IF($C$4<>\"\",Table2[OFF/ON]=$C$4,TRUE))/(IF($C$5<>\"\",Table2[Status]=$C$5,TRUE))/(IF($C$6<>\"\",Table2[FPPDate]=$C$6,TRUE))/(IF($C$7<>\"\",Table2[ProposalCode]=$C$7,TRUE)),ROW(A148))),\"\")","v":""},{"$f":"IFERROR(VLOOKUP($B156,SIP!$D$3:$Q$12237,14,0),0)","v":0},{"$f":"IFERROR(INDEX(Table2[Activity],_xlfn.AGGREGATE(15,6,(ROW(Table2[FPPGroupCode])-2)/(Table2[DepoName]=$C$2)/(IF($C$3<>\"\",Table2[BULAN]=$C$3,TRUE))/(IF($C$4<>\"\",Table2[OFF/ON]=$C$4,TRUE))/(IF($C$5<>\"\",Table2[Status]=$C$5,TRUE))/(IF($C$6<>\"\",Table2[]=$C$6,TRUE))/(IF($C$7<>\"\",Table2[ProposalCode]=$C$7,TRUE)),ROW(B148))),\"\")","v":""},{"$f":"IFERROR(INDEX(Table2[Location],_xlfn.AGGREGATE(15,6,(ROW(Table2[FPPGroupCode])-2)/(Table2[DepoName]=$C$2)/(IF($C$3<>\"\",Table2[BULAN]=$C$3,TRUE))/(IF($C$4<>\"\",Table2[OFF/ON]=$C$4,TRUE))/(IF($C$5<>\"\",Table2[Status]=$C$5,TRUE))/(IF($C$6<>\"\",Table2[FPPDate]=$C$6,TRUE))/(IF($C$7<>\"\",Table2[ProposalCode]=$C$7,TRUE)),ROW(D148))),\"\")","v":""},{"$f":"IFERROR(INDEX(Table2[PeriodeStart],_xlfn.AGGREGATE(15,6,(ROW(Table2[FPPGroupCode])-2)/(Table2[DepoName]=$C$2)/(IF($C$3<>\"\",Table2[BULAN]=$C$3,TRUE))/(IF($C$4<>\"\",Table2[OFF/ON]=$C$4,TRUE))/(IF($C$5<>\"\",Table2[Status]=$C$5,TRUE))/(IF($C$6<>\"\",Table2[FPPDate]=$C$6,TRUE))/(IF($C$7<>\"\",Table2[ProposalCode]=$C$7,TRUE)),ROW(E148))),\"\")","v":""},{"$f":"IFERROR(INDEX(Table2[PeriodeEnd],_xlfn.AGGREGATE(15,6,(ROW(Table2[FPPGroupCode])-2)/(Table2[DepoName]=$C$2)/(IF($C$3<>\"\",Table2[BULAN]=$C$3,TRUE))/(IF($C$4<>\"\",Table2[OFF/ON]=$C$4,TRUE))/(IF($C$5<>\"\",Table2[Status]=$C$5,TRUE))/(IF($C$6<>\"\",Table2[FPPDate]=$C$6,TRUE))/(IF($C$7<>\"\",Table2[ProposalCode]=$C$7,TRUE)),ROW(F148))),\"\")","v":""},{"$f":"IFERROR(INDEX(Table2[Amount_FPPDepo],_xlfn.AGGREGATE(15,6,(ROW(Table2[FPPGroupCode])-2)/(Table2[DepoName]=$C$2)/(IF($C$3<>\"\",Table2[BULAN]=$C$3,TRUE))/(IF($C$4<>\"\",Table2[OFF/ON]=$C$4,TRUE))/(IF($C$5<>\"\",Table2[Status]=$C$5,TRUE))/(IF($C$6<>\"\",Table2[FPPDate]=$C$6,TRUE))/(IF($C$7<>\"\",Table2[ProposalCode]=$C$7,TRUE)),ROW(G148))),\"\")","v":""},{"$f":"IFERROR(VLOOKUP($B156,SIP!$D$5776:$P$6032,12,0),0)","v":0},{"$f":"IFERROR(H156-I156,0)","v":0},{"$f":"IFERROR(VLOOKUP($B156,SIP!$D$5776:$P$6032,8,0),0)","v":0},{"$f":"IFERROR(INDEX(Table2[OFF/ON],_xlfn.AGGREGATE(15,6,(ROW(Table2[FPPGroupCode])-2)/(Table2[DepoName]=$C$2)/(IF($C$3<>\"\",Table2[BULAN]=$C$3,TRUE))/(IF($C$4<>\"\",Table2[OFF/ON]=$C$4,TRUE))/(IF($C$5<>\"\",Table2[Status]=$C$5,TRUE))/(IF($C$6<>\"\",Table2[FPPDate]=$C$6,TRUE))/(IF($C$7<>\"\",Table2[ProposalCode]=$C$7,TRUE)),ROW(K148))),\"\")","v":""}]
[{"$f":"IF(LEN($B157),ROW(A149),\"\")","v":""},{"$f":"IFERROR(INDEX(Table2[FPPGroupCode],_xlfn.AGGREGATE(15,6,(ROW(Table2[FPPGroupCode])-2)/(Table2[DepoName]=$C$2)/(IF($C$3<>\"\",Table2[BULAN]=$C$3,TRUE))/(IF($C$4<>\"\",Table2[OFF/ON]=$C$4,TRUE))/(IF($C$5<>\"\",Table2[Status]=$C$5,TRUE))/(IF($C$6<>\"\",Table2[FPPDate]=$C$6,TRUE))/(IF($C$7<>\"\",Table2[ProposalCode]=$C$7,TRUE)),ROW(A149))),\"\")","v":""},{"$f":"IFERROR(VLOOKUP($B157,SIP!$D$3:$Q$12237,14,0),0)","v":0},{"$f":"IFERROR(INDEX(Table2[Activity],_xlfn.AGGREGATE(15,6,(ROW(Table2[FPPGroupCode])-2)/(Table2[DepoName]=$C$2)/(IF($C$3<>\"\",Table2[BULAN]=$C$3,TRUE))/(IF($C$4<>\"\",Table2[OFF/ON]=$C$4,TRUE))/(IF($C$5<>\"\",Table2[Status]=$C$5,TRUE))/(IF($C$6<>\"\",Table2[]=$C$6,TRUE))/(IF($C$7<>\"\",Table2[ProposalCode]=$C$7,TRUE)),ROW(B149))),\"\")","v":""},{"$f":"IFERROR(INDEX(Table2[Location],_xlfn.AGGREGATE(15,6,(ROW(Table2[FPPGroupCode])-2)/(Table2[DepoName]=$C$2)/(IF($C$3<>\"\",Table2[BULAN]=$C$3,TRUE))/(IF($C$4<>\"\",Table2[OFF/ON]=$C$4,TRUE))/(IF($C$5<>\"\",Table2[Status]=$C$5,TRUE))/(IF($C$6<>\"\",Table2[FPPDate]=$C$6,TRUE))/(IF($C$7<>\"\",Table2[ProposalCode]=$C$7,TRUE)),ROW(D149))),\"\")","v":""},{"$f":"IFERROR(INDEX(Table2[PeriodeStart],_xlfn.AGGREGATE(15,6,(ROW(Table2[FPPGroupCode])-2)/(Table2[DepoName]=$C$2)/(IF($C$3<>\"\",Table2[BULAN]=$C$3,TRUE))/(IF($C$4<>\"\",Table2[OFF/ON]=$C$4,TRUE))/(IF($C$5<>\"\",Table2[Status]=$C$5,TRUE))/(IF($C$6<>\"\",Table2[FPPDate]=$C$6,TRUE))/(IF($C$7<>\"\",Table2[ProposalCode]=$C$7,TRUE)),ROW(E149))),\"\")","v":""},{"$f":"IFERROR(INDEX(Table2[PeriodeEnd],_xlfn.AGGREGATE(15,6,(ROW(Table2[FPPGroupCode])-2)/(Table2[DepoName]=$C$2)/(IF($C$3<>\"\",Table2[BULAN]=$C$3,TRUE))/(IF($C$4<>\"\",Table2[OFF/ON]=$C$4,TRUE))/(IF($C$5<>\"\",Table2[Status]=$C$5,TRUE))/(IF($C$6<>\"\",Table2[FPPDate]=$C$6,TRUE))/(IF($C$7<>\"\",Table2[ProposalCode]=$C$7,TRUE)),ROW(F149))),\"\")","v":""},{"$f":"IFERROR(INDEX(Table2[Amount_FPPDepo],_xlfn.AGGREGATE(15,6,(ROW(Table2[FPPGroupCode])-2)/(Table2[DepoName]=$C$2)/(IF($C$3<>\"\",Table2[BULAN]=$C$3,TRUE))/(IF($C$4<>\"\",Table2[OFF/ON]=$C$4,TRUE))/(IF($C$5<>\"\",Table2[Status]=$C$5,TRUE))/(IF($C$6<>\"\",Table2[FPPDate]=$C$6,TRUE))/(IF($C$7<>\"\",Table2[ProposalCode]=$C$7,TRUE)),ROW(G149))),\"\")","v":""},{"$f":"IFERROR(VLOOKUP($B157,SIP!$D$5776:$P$6032,12,0),0)","v":0},{"$f":"IFERROR(H157-I157,0)","v":0},{"$f":"IFERROR(VLOOKUP($B157,SIP!$D$5776:$P$6032,8,0),0)","v":0},{"$f":"IFERROR(INDEX(Table2[OFF/ON],_xlfn.AGGREGATE(15,6,(ROW(Table2[FPPGroupCode])-2)/(Table2[DepoName]=$C$2)/(IF($C$3<>\"\",Table2[BULAN]=$C$3,TRUE))/(IF($C$4<>\"\",Table2[OFF/ON]=$C$4,TRUE))/(IF($C$5<>\"\",Table2[Status]=$C$5,TRUE))/(IF($C$6<>\"\",Table2[FPPDate]=$C$6,TRUE))/(IF($C$7<>\"\",Table2[ProposalCode]=$C$7,TRUE)),ROW(K149))),\"\")","v":""}]
[{"$f":"IF(LEN($B158),ROW(A150),\"\")","v":""},{"$f":"IFERROR(INDEX(Table2[FPPGroupCode],_xlfn.AGGREGATE(15,6,(ROW(Table2[FPPGroupCode])-2)/(Table2[DepoName]=$C$2)/(IF($C$3<>\"\",Table2[BULAN]=$C$3,TRUE))/(IF($C$4<>\"\",Table2[OFF/ON]=$C$4,TRUE))/(IF($C$5<>\"\",Table2[Status]=$C$5,TRUE))/(IF($C$6<>\"\",Table2[FPPDate]=$C$6,TRUE))/(IF($C$7<>\"\",Table2[ProposalCode]=$C$7,TRUE)),ROW(A150))),\"\")","v":""},{"$f":"IFERROR(VLOOKUP($B158,SIP!$D$3:$Q$12237,14,0),0)","v":0},{"$f":"IFERROR(INDEX(Table2[Activity],_xlfn.AGGREGATE(15,6,(ROW(Table2[FPPGroupCode])-2)/(Table2[DepoName]=$C$2)/(IF($C$3<>\"\",Table2[BULAN]=$C$3,TRUE))/(IF($C$4<>\"\",Table2[OFF/ON]=$C$4,TRUE))/(IF($C$5<>\"\",Table2[Status]=$C$5,TRUE))/(IF($C$6<>\"\",Table2[]=$C$6,TRUE))/(IF($C$7<>\"\",Table2[ProposalCode]=$C$7,TRUE)),ROW(B150))),\"\")","v":""},{"$f":"IFERROR(INDEX(Table2[Location],_xlfn.AGGREGATE(15,6,(ROW(Table2[FPPGroupCode])-2)/(Table2[DepoName]=$C$2)/(IF($C$3<>\"\",Table2[BULAN]=$C$3,TRUE))/(IF($C$4<>\"\",Table2[OFF/ON]=$C$4,TRUE))/(IF($C$5<>\"\",Table2[Status]=$C$5,TRUE))/(IF($C$6<>\"\",Table2[FPPDate]=$C$6,TRUE))/(IF($C$7<>\"\",Table2[ProposalCode]=$C$7,TRUE)),ROW(D150))),\"\")","v":""},{"$f":"IFERROR(INDEX(Table2[PeriodeStart],_xlfn.AGGREGATE(15,6,(ROW(Table2[FPPGroupCode])-2)/(Table2[DepoName]=$C$2)/(IF($C$3<>\"\",Table2[BULAN]=$C$3,TRUE))/(IF($C$4<>\"\",Table2[OFF/ON]=$C$4,TRUE))/(IF($C$5<>\"\",Table2[Status]=$C$5,TRUE))/(IF($C$6<>\"\",Table2[FPPDate]=$C$6,TRUE))/(IF($C$7<>\"\",Table2[ProposalCode]=$C$7,TRUE)),ROW(E150))),\"\")","v":""},{"$f":"IFERROR(INDEX(Table2[PeriodeEnd],_xlfn.AGGREGATE(15,6,(ROW(Table2[FPPGroupCode])-2)/(Table2[DepoName]=$C$2)/(IF($C$3<>\"\",Table2[BULAN]=$C$3,TRUE))/(IF($C$4<>\"\",Table2[OFF/ON]=$C$4,TRUE))/(IF($C$5<>\"\",Table2[Status]=$C$5,TRUE))/(IF($C$6<>\"\",Table2[FPPDate]=$C$6,TRUE))/(IF($C$7<>\"\",Table2[ProposalCode]=$C$7,TRUE)),ROW(F150))),\"\")","v":""},{"$f":"IFERROR(INDEX(Table2[Amount_FPPDepo],_xlfn.AGGREGATE(15,6,(ROW(Table2[FPPGroupCode])-2)/(Table2[DepoName]=$C$2)/(IF($C$3<>\"\",Table2[BULAN]=$C$3,TRUE))/(IF($C$4<>\"\",Table2[OFF/ON]=$C$4,TRUE))/(IF($C$5<>\"\",Table2[Status]=$C$5,TRUE))/(IF($C$6<>\"\",Table2[FPPDate]=$C$6,TRUE))/(IF($C$7<>\"\",Table2[ProposalCode]=$C$7,TRUE)),ROW(G150))),\"\")","v":""},{"$f":"IFERROR(VLOOKUP($B158,SIP!$D$5776:$P$6032,12,0),0)","v":0},{"$f":"IFERROR(H158-I158,0)","v":0},{"$f":"IFERROR(VLOOKUP($B158,SIP!$D$5776:$P$6032,8,0),0)","v":0},{"$f":"IFERROR(INDEX(Table2[OFF/ON],_xlfn.AGGREGATE(15,6,(ROW(Table2[FPPGroupCode])-2)/(Table2[DepoName]=$C$2)/(IF($C$3<>\"\",Table2[BULAN]=$C$3,TRUE))/(IF($C$4<>\"\",Table2[OFF/ON]=$C$4,TRUE))/(IF($C$5<>\"\",Table2[Status]=$C$5,TRUE))/(IF($C$6<>\"\",Table2[FPPDate]=$C$6,TRUE))/(IF($C$7<>\"\",Table2[ProposalCode]=$C$7,TRUE)),ROW(K150))),\"\")","v":""}]
[{"$f":"IF(LEN($B159),ROW(A151),\"\")","v":""},{"$f":"IFERROR(INDEX(Table2[FPPGroupCode],_xlfn.AGGREGATE(15,6,(ROW(Table2[FPPGroupCode])-2)/(Table2[DepoName]=$C$2)/(IF($C$3<>\"\",Table2[BULAN]=$C$3,TRUE))/(IF($C$4<>\"\",Table2[OFF/ON]=$C$4,TRUE))/(IF($C$5<>\"\",Table2[Status]=$C$5,TRUE))/(IF($C$6<>\"\",Table2[FPPDate]=$C$6,TRUE))/(IF($C$7<>\"\",Table2[ProposalCode]=$C$7,TRUE)),ROW(A151))),\"\")","v":""},{"$f":"IFERROR(VLOOKUP($B159,SIP!$D$3:$Q$12237,14,0),0)","v":0},{"$f":"IFERROR(INDEX(Table2[Activity],_xlfn.AGGREGATE(15,6,(ROW(Table2[FPPGroupCode])-2)/(Table2[DepoName]=$C$2)/(IF($C$3<>\"\",Table2[BULAN]=$C$3,TRUE))/(IF($C$4<>\"\",Table2[OFF/ON]=$C$4,TRUE))/(IF($C$5<>\"\",Table2[Status]=$C$5,TRUE))/(IF($C$6<>\"\",Table2[]=$C$6,TRUE))/(IF($C$7<>\"\",Table2[ProposalCode]=$C$7,TRUE)),ROW(B151))),\"\")","v":""},{"$f":"IFERROR(INDEX(Table2[Location],_xlfn.AGGREGATE(15,6,(ROW(Table2[FPPGroupCode])-2)/(Table2[DepoName]=$C$2)/(IF($C$3<>\"\",Table2[BULAN]=$C$3,TRUE))/(IF($C$4<>\"\",Table2[OFF/ON]=$C$4,TRUE))/(IF($C$5<>\"\",Table2[Status]=$C$5,TRUE))/(IF($C$6<>\"\",Table2[FPPDate]=$C$6,TRUE))/(IF($C$7<>\"\",Table2[ProposalCode]=$C$7,TRUE)),ROW(D151))),\"\")","v":""},{"$f":"IFERROR(INDEX(Table2[PeriodeStart],_xlfn.AGGREGATE(15,6,(ROW(Table2[FPPGroupCode])-2)/(Table2[DepoName]=$C$2)/(IF($C$3<>\"\",Table2[BULAN]=$C$3,TRUE))/(IF($C$4<>\"\",Table2[OFF/ON]=$C$4,TRUE))/(IF($C$5<>\"\",Table2[Status]=$C$5,TRUE))/(IF($C$6<>\"\",Table2[FPPDate]=$C$6,TRUE))/(IF($C$7<>\"\",Table2[ProposalCode]=$C$7,TRUE)),ROW(E151))),\"\")","v":""},{"$f":"IFERROR(INDEX(Table2[PeriodeEnd],_xlfn.AGGREGATE(15,6,(ROW(Table2[FPPGroupCode])-2)/(Table2[DepoName]=$C$2)/(IF($C$3<>\"\",Table2[BULAN]=$C$3,TRUE))/(IF($C$4<>\"\",Table2[OFF/ON]=$C$4,TRUE))/(IF($C$5<>\"\",Table2[Status]=$C$5,TRUE))/(IF($C$6<>\"\",Table2[FPPDate]=$C$6,TRUE))/(IF($C$7<>\"\",Table2[ProposalCode]=$C$7,TRUE)),ROW(F151))),\"\")","v":""},{"$f":"IFERROR(INDEX(Table2[Amount_FPPDepo],_xlfn.AGGREGATE(15,6,(ROW(Table2[FPPGroupCode])-2)/(Table2[DepoName]=$C$2)/(IF($C$3<>\"\",Table2[BULAN]=$C$3,TRUE))/(IF($C$4<>\"\",Table2[OFF/ON]=$C$4,TRUE))/(IF($C$5<>\"\",Table2[Status]=$C$5,TRUE))/(IF($C$6<>\"\",Table2[FPPDate]=$C$6,TRUE))/(IF($C$7<>\"\",Table2[ProposalCode]=$C$7,TRUE)),ROW(G151))),\"\")","v":""},{"$f":"IFERROR(VLOOKUP($B159,SIP!$D$5776:$P$6032,12,0),0)","v":0},{"$f":"IFERROR(H159-I159,0)","v":0},{"$f":"IFERROR(VLOOKUP($B159,SIP!$D$5776:$P$6032,8,0),0)","v":0},{"$f":"IFERROR(INDEX(Table2[OFF/ON],_xlfn.AGGREGATE(15,6,(ROW(Table2[FPPGroupCode])-2)/(Table2[DepoName]=$C$2)/(IF($C$3<>\"\",Table2[BULAN]=$C$3,TRUE))/(IF($C$4<>\"\",Table2[OFF/ON]=$C$4,TRUE))/(IF($C$5<>\"\",Table2[Status]=$C$5,TRUE))/(IF($C$6<>\"\",Table2[FPPDate]=$C$6,TRUE))/(IF($C$7<>\"\",Table2[ProposalCode]=$C$7,TRUE)),ROW(K151))),\"\")","v":""}]
[{"$f":"IF(LEN($B160),ROW(A152),\"\")","v":""},{"$f":"IFERROR(INDEX(Table2[FPPGroupCode],_xlfn.AGGREGATE(15,6,(ROW(Table2[FPPGroupCode])-2)/(Table2[DepoName]=$C$2)/(IF($C$3<>\"\",Table2[BULAN]=$C$3,TRUE))/(IF($C$4<>\"\",Table2[OFF/ON]=$C$4,TRUE))/(IF($C$5<>\"\",Table2[Status]=$C$5,TRUE))/(IF($C$6<>\"\",Table2[FPPDate]=$C$6,TRUE))/(IF($C$7<>\"\",Table2[ProposalCode]=$C$7,TRUE)),ROW(A152))),\"\")","v":""},{"$f":"IFERROR(VLOOKUP($B160,SIP!$D$3:$Q$12237,14,0),0)","v":0},{"$f":"IFERROR(INDEX(Table2[Activity],_xlfn.AGGREGATE(15,6,(ROW(Table2[FPPGroupCode])-2)/(Table2[DepoName]=$C$2)/(IF($C$3<>\"\",Table2[BULAN]=$C$3,TRUE))/(IF($C$4<>\"\",Table2[OFF/ON]=$C$4,TRUE))/(IF($C$5<>\"\",Table2[Status]=$C$5,TRUE))/(IF($C$6<>\"\",Table2[]=$C$6,TRUE))/(IF($C$7<>\"\",Table2[ProposalCode]=$C$7,TRUE)),ROW(B152))),\"\")","v":""},{"$f":"IFERROR(INDEX(Table2[Location],_xlfn.AGGREGATE(15,6,(ROW(Table2[FPPGroupCode])-2)/(Table2[DepoName]=$C$2)/(IF($C$3<>\"\",Table2[BULAN]=$C$3,TRUE))/(IF($C$4<>\"\",Table2[OFF/ON]=$C$4,TRUE))/(IF($C$5<>\"\",Table2[Status]=$C$5,TRUE))/(IF($C$6<>\"\",Table2[FPPDate]=$C$6,TRUE))/(IF($C$7<>\"\",Table2[ProposalCode]=$C$7,TRUE)),ROW(D152))),\"\")","v":""},{"$f":"IFERROR(INDEX(Table2[PeriodeStart],_xlfn.AGGREGATE(15,6,(ROW(Table2[FPPGroupCode])-2)/(Table2[DepoName]=$C$2)/(IF($C$3<>\"\",Table2[BULAN]=$C$3,TRUE))/(IF($C$4<>\"\",Table2[OFF/ON]=$C$4,TRUE))/(IF($C$5<>\"\",Table2[Status]=$C$5,TRUE))/(IF($C$6<>\"\",Table2[FPPDate]=$C$6,TRUE))/(IF($C$7<>\"\",Table2[ProposalCode]=$C$7,TRUE)),ROW(E152))),\"\")","v":""},{"$f":"IFERROR(INDEX(Table2[PeriodeEnd],_xlfn.AGGREGATE(15,6,(ROW(Table2[FPPGroupCode])-2)/(Table2[DepoName]=$C$2)/(IF($C$3<>\"\",Table2[BULAN]=$C$3,TRUE))/(IF($C$4<>\"\",Table2[OFF/ON]=$C$4,TRUE))/(IF($C$5<>\"\",Table2[Status]=$C$5,TRUE))/(IF($C$6<>\"\",Table2[FPPDate]=$C$6,TRUE))/(IF($C$7<>\"\",Table2[ProposalCode]=$C$7,TRUE)),ROW(F152))),\"\")","v":""},{"$f":"IFERROR(INDEX(Table2[Amount_FPPDepo],_xlfn.AGGREGATE(15,6,(ROW(Table2[FPPGroupCode])-2)/(Table2[DepoName]=$C$2)/(IF($C$3<>\"\",Table2[BULAN]=$C$3,TRUE))/(IF($C$4<>\"\",Table2[OFF/ON]=$C$4,TRUE))/(IF($C$5<>\"\",Table2[Status]=$C$5,TRUE))/(IF($C$6<>\"\",Table2[FPPDate]=$C$6,TRUE))/(IF($C$7<>\"\",Table2[ProposalCode]=$C$7,TRUE)),ROW(G152))),\"\")","v":""},{"$f":"IFERROR(VLOOKUP($B160,SIP!$D$5776:$P$6032,12,0),0)","v":0},{"$f":"IFERROR(H160-I160,0)","v":0},{"$f":"IFERROR(VLOOKUP($B160,SIP!$D$5776:$P$6032,8,0),0)","v":0},{"$f":"IFERROR(INDEX(Table2[OFF/ON],_xlfn.AGGREGATE(15,6,(ROW(Table2[FPPGroupCode])-2)/(Table2[DepoName]=$C$2)/(IF($C$3<>\"\",Table2[BULAN]=$C$3,TRUE))/(IF($C$4<>\"\",Table2[OFF/ON]=$C$4,TRUE))/(IF($C$5<>\"\",Table2[Status]=$C$5,TRUE))/(IF($C$6<>\"\",Table2[FPPDate]=$C$6,TRUE))/(IF($C$7<>\"\",Table2[ProposalCode]=$C$7,TRUE)),ROW(K152))),\"\")","v":""}]
[{"$f":"IF(LEN($B161),ROW(A153),\"\")","v":""},{"$f":"IFERROR(INDEX(Table2[FPPGroupCode],_xlfn.AGGREGATE(15,6,(ROW(Table2[FPPGroupCode])-2)/(Table2[DepoName]=$C$2)/(IF($C$3<>\"\",Table2[BULAN]=$C$3,TRUE))/(IF($C$4<>\"\",Table2[OFF/ON]=$C$4,TRUE))/(IF($C$5<>\"\",Table2[Status]=$C$5,TRUE))/(IF($C$6<>\"\",Table2[FPPDate]=$C$6,TRUE))/(IF($C$7<>\"\",Table2[ProposalCode]=$C$7,TRUE)),ROW(A153))),\"\")","v":""},{"$f":"IFERROR(VLOOKUP($B161,SIP!$D$3:$Q$12237,14,0),0)","v":0},{"$f":"IFERROR(INDEX(Table2[Activity],_xlfn.AGGREGATE(15,6,(ROW(Table2[FPPGroupCode])-2)/(Table2[DepoName]=$C$2)/(IF($C$3<>\"\",Table2[BULAN]=$C$3,TRUE))/(IF($C$4<>\"\",Table2[OFF/ON]=$C$4,TRUE))/(IF($C$5<>\"\",Table2[Status]=$C$5,TRUE))/(IF($C$6<>\"\",Table2[]=$C$6,TRUE))/(IF($C$7<>\"\",Table2[ProposalCode]=$C$7,TRUE)),ROW(B153))),\"\")","v":""},{"$f":"IFERROR(INDEX(Table2[Location],_xlfn.AGGREGATE(15,6,(ROW(Table2[FPPGroupCode])-2)/(Table2[DepoName]=$C$2)/(IF($C$3<>\"\",Table2[BULAN]=$C$3,TRUE))/(IF($C$4<>\"\",Table2[OFF/ON]=$C$4,TRUE))/(IF($C$5<>\"\",Table2[Status]=$C$5,TRUE))/(IF($C$6<>\"\",Table2[FPPDate]=$C$6,TRUE))/(IF($C$7<>\"\",Table2[ProposalCode]=$C$7,TRUE)),ROW(D153))),\"\")","v":""},{"$f":"IFERROR(INDEX(Table2[PeriodeStart],_xlfn.AGGREGATE(15,6,(ROW(Table2[FPPGroupCode])-2)/(Table2[DepoName]=$C$2)/(IF($C$3<>\"\",Table2[BULAN]=$C$3,TRUE))/(IF($C$4<>\"\",Table2[OFF/ON]=$C$4,TRUE))/(IF($C$5<>\"\",Table2[Status]=$C$5,TRUE))/(IF($C$6<>\"\",Table2[FPPDate]=$C$6,TRUE))/(IF($C$7<>\"\",Table2[ProposalCode]=$C$7,TRUE)),ROW(E153))),\"\")","v":""},{"$f":"IFERROR(INDEX(Table2[PeriodeEnd],_xlfn.AGGREGATE(15,6,(ROW(Table2[FPPGroupCode])-2)/(Table2[DepoName]=$C$2)/(IF($C$3<>\"\",Table2[BULAN]=$C$3,TRUE))/(IF($C$4<>\"\",Table2[OFF/ON]=$C$4,TRUE))/(IF($C$5<>\"\",Table2[Status]=$C$5,TRUE))/(IF($C$6<>\"\",Table2[FPPDate]=$C$6,TRUE))/(IF($C$7<>\"\",Table2[ProposalCode]=$C$7,TRUE)),ROW(F153))),\"\")","v":""},{"$f":"IFERROR(INDEX(Table2[Amount_FPPDepo],_xlfn.AGGREGATE(15,6,(ROW(Table2[FPPGroupCode])-2)/(Table2[DepoName]=$C$2)/(IF($C$3<>\"\",Table2[BULAN]=$C$3,TRUE))/(IF($C$4<>\"\",Table2[OFF/ON]=$C$4,TRUE))/(IF($C$5<>\"\",Table2[Status]=$C$5,TRUE))/(IF($C$6<>\"\",Table2[FPPDate]=$C$6,TRUE))/(IF($C$7<>\"\",Table2[ProposalCode]=$C$7,TRUE)),ROW(G153))),\"\")","v":""},{"$f":"IFERROR(VLOOKUP($B161,SIP!$D$5776:$P$6032,12,0),0)","v":0},{"$f":"IFERROR(H161-I161,0)","v":0},{"$f":"IFERROR(VLOOKUP($B161,SIP!$D$5776:$P$6032,8,0),0)","v":0},{"$f":"IFERROR(INDEX(Table2[OFF/ON],_xlfn.AGGREGATE(15,6,(ROW(Table2[FPPGroupCode])-2)/(Table2[DepoName]=$C$2)/(IF($C$3<>\"\",Table2[BULAN]=$C$3,TRUE))/(IF($C$4<>\"\",Table2[OFF/ON]=$C$4,TRUE))/(IF($C$5<>\"\",Table2[Status]=$C$5,TRUE))/(IF($C$6<>\"\",Table2[FPPDate]=$C$6,TRUE))/(IF($C$7<>\"\",Table2[ProposalCode]=$C$7,TRUE)),ROW(K153))),\"\")","v":""}]
[{"$f":"IF(LEN($B162),ROW(A154),\"\")","v":""},{"$f":"IFERROR(INDEX(Table2[FPPGroupCode],_xlfn.AGGREGATE(15,6,(ROW(Table2[FPPGroupCode])-2)/(Table2[DepoName]=$C$2)/(IF($C$3<>\"\",Table2[BULAN]=$C$3,TRUE))/(IF($C$4<>\"\",Table2[OFF/ON]=$C$4,TRUE))/(IF($C$5<>\"\",Table2[Status]=$C$5,TRUE))/(IF($C$6<>\"\",Table2[FPPDate]=$C$6,TRUE))/(IF($C$7<>\"\",Table2[ProposalCode]=$C$7,TRUE)),ROW(A154))),\"\")","v":""},{"$f":"IFERROR(VLOOKUP($B162,SIP!$D$3:$Q$12237,14,0),0)","v":0},{"$f":"IFERROR(INDEX(Table2[Activity],_xlfn.AGGREGATE(15,6,(ROW(Table2[FPPGroupCode])-2)/(Table2[DepoName]=$C$2)/(IF($C$3<>\"\",Table2[BULAN]=$C$3,TRUE))/(IF($C$4<>\"\",Table2[OFF/ON]=$C$4,TRUE))/(IF($C$5<>\"\",Table2[Status]=$C$5,TRUE))/(IF($C$6<>\"\",Table2[]=$C$6,TRUE))/(IF($C$7<>\"\",Table2[ProposalCode]=$C$7,TRUE)),ROW(B154))),\"\")","v":""},{"$f":"IFERROR(INDEX(Table2[Location],_xlfn.AGGREGATE(15,6,(ROW(Table2[FPPGroupCode])-2)/(Table2[DepoName]=$C$2)/(IF($C$3<>\"\",Table2[BULAN]=$C$3,TRUE))/(IF($C$4<>\"\",Table2[OFF/ON]=$C$4,TRUE))/(IF($C$5<>\"\",Table2[Status]=$C$5,TRUE))/(IF($C$6<>\"\",Table2[FPPDate]=$C$6,TRUE))/(IF($C$7<>\"\",Table2[ProposalCode]=$C$7,TRUE)),ROW(D154))),\"\")","v":""},{"$f":"IFERROR(INDEX(Table2[PeriodeStart],_xlfn.AGGREGATE(15,6,(ROW(Table2[FPPGroupCode])-2)/(Table2[DepoName]=$C$2)/(IF($C$3<>\"\",Table2[BULAN]=$C$3,TRUE))/(IF($C$4<>\"\",Table2[OFF/ON]=$C$4,TRUE))/(IF($C$5<>\"\",Table2[Status]=$C$5,TRUE))/(IF($C$6<>\"\",Table2[FPPDate]=$C$6,TRUE))/(IF($C$7<>\"\",Table2[ProposalCode]=$C$7,TRUE)),ROW(E154))),\"\")","v":""},{"$f":"IFERROR(INDEX(Table2[PeriodeEnd],_xlfn.AGGREGATE(15,6,(ROW(Table2[FPPGroupCode])-2)/(Table2[DepoName]=$C$2)/(IF($C$3<>\"\",Table2[BULAN]=$C$3,TRUE))/(IF($C$4<>\"\",Table2[OFF/ON]=$C$4,TRUE))/(IF($C$5<>\"\",Table2[Status]=$C$5,TRUE))/(IF($C$6<>\"\",Table2[FPPDate]=$C$6,TRUE))/(IF($C$7<>\"\",Table2[ProposalCode]=$C$7,TRUE)),ROW(F154))),\"\")","v":""},{"$f":"IFERROR(INDEX(Table2[Amount_FPPDepo],_xlfn.AGGREGATE(15,6,(ROW(Table2[FPPGroupCode])-2)/(Table2[DepoName]=$C$2)/(IF($C$3<>\"\",Table2[BULAN]=$C$3,TRUE))/(IF($C$4<>\"\",Table2[OFF/ON]=$C$4,TRUE))/(IF($C$5<>\"\",Table2[Status]=$C$5,TRUE))/(IF($C$6<>\"\",Table2[FPPDate]=$C$6,TRUE))/(IF($C$7<>\"\",Table2[ProposalCode]=$C$7,TRUE)),ROW(G154))),\"\")","v":""},{"$f":"IFERROR(VLOOKUP($B162,SIP!$D$5776:$P$6032,12,0),0)","v":0},{"$f":"IFERROR(H162-I162,0)","v":0},{"$f":"IFERROR(VLOOKUP($B162,SIP!$D$5776:$P$6032,8,0),0)","v":0},{"$f":"IFERROR(INDEX(Table2[OFF/ON],_xlfn.AGGREGATE(15,6,(ROW(Table2[FPPGroupCode])-2)/(Table2[DepoName]=$C$2)/(IF($C$3<>\"\",Table2[BULAN]=$C$3,TRUE))/(IF($C$4<>\"\",Table2[OFF/ON]=$C$4,TRUE))/(IF($C$5<>\"\",Table2[Status]=$C$5,TRUE))/(IF($C$6<>\"\",Table2[FPPDate]=$C$6,TRUE))/(IF($C$7<>\"\",Table2[ProposalCode]=$C$7,TRUE)),ROW(K154))),\"\")","v":""}]
[{"$f":"IF(LEN($B163),ROW(A155),\"\")","v":""},{"$f":"IFERROR(INDEX(Table2[FPPGroupCode],_xlfn.AGGREGATE(15,6,(ROW(Table2[FPPGroupCode])-2)/(Table2[DepoName]=$C$2)/(IF($C$3<>\"\",Table2[BULAN]=$C$3,TRUE))/(IF($C$4<>\"\",Table2[OFF/ON]=$C$4,TRUE))/(IF($C$5<>\"\",Table2[Status]=$C$5,TRUE))/(IF($C$6<>\"\",Table2[FPPDate]=$C$6,TRUE))/(IF($C$7<>\"\",Table2[ProposalCode]=$C$7,TRUE)),ROW(A155))),\"\")","v":""},{"$f":"IFERROR(VLOOKUP($B163,SIP!$D$3:$Q$12237,14,0),0)","v":0},{"$f":"IFERROR(INDEX(Table2[Activity],_xlfn.AGGREGATE(15,6,(ROW(Table2[FPPGroupCode])-2)/(Table2[DepoName]=$C$2)/(IF($C$3<>\"\",Table2[BULAN]=$C$3,TRUE))/(IF($C$4<>\"\",Table2[OFF/ON]=$C$4,TRUE))/(IF($C$5<>\"\",Table2[Status]=$C$5,TRUE))/(IF($C$6<>\"\",Table2[]=$C$6,TRUE))/(IF($C$7<>\"\",Table2[ProposalCode]=$C$7,TRUE)),ROW(B155))),\"\")","v":""},{"$f":"IFERROR(INDEX(Table2[Location],_xlfn.AGGREGATE(15,6,(ROW(Table2[FPPGroupCode])-2)/(Table2[DepoName]=$C$2)/(IF($C$3<>\"\",Table2[BULAN]=$C$3,TRUE))/(IF($C$4<>\"\",Table2[OFF/ON]=$C$4,TRUE))/(IF($C$5<>\"\",Table2[Status]=$C$5,TRUE))/(IF($C$6<>\"\",Table2[FPPDate]=$C$6,TRUE))/(IF($C$7<>\"\",Table2[ProposalCode]=$C$7,TRUE)),ROW(D155))),\"\")","v":""},{"$f":"IFERROR(INDEX(Table2[PeriodeStart],_xlfn.AGGREGATE(15,6,(ROW(Table2[FPPGroupCode])-2)/(Table2[DepoName]=$C$2)/(IF($C$3<>\"\",Table2[BULAN]=$C$3,TRUE))/(IF($C$4<>\"\",Table2[OFF/ON]=$C$4,TRUE))/(IF($C$5<>\"\",Table2[Status]=$C$5,TRUE))/(IF($C$6<>\"\",Table2[FPPDate]=$C$6,TRUE))/(IF($C$7<>\"\",Table2[ProposalCode]=$C$7,TRUE)),ROW(E155))),\"\")","v":""},{"$f":"IFERROR(INDEX(Table2[PeriodeEnd],_xlfn.AGGREGATE(15,6,(ROW(Table2[FPPGroupCode])-2)/(Table2[DepoName]=$C$2)/(IF($C$3<>\"\",Table2[BULAN]=$C$3,TRUE))/(IF($C$4<>\"\",Table2[OFF/ON]=$C$4,TRUE))/(IF($C$5<>\"\",Table2[Status]=$C$5,TRUE))/(IF($C$6<>\"\",Table2[FPPDate]=$C$6,TRUE))/(IF($C$7<>\"\",Table2[ProposalCode]=$C$7,TRUE)),ROW(F155))),\"\")","v":""},{"$f":"IFERROR(INDEX(Table2[Amount_FPPDepo],_xlfn.AGGREGATE(15,6,(ROW(Table2[FPPGroupCode])-2)/(Table2[DepoName]=$C$2)/(IF($C$3<>\"\",Table2[BULAN]=$C$3,TRUE))/(IF($C$4<>\"\",Table2[OFF/ON]=$C$4,TRUE))/(IF($C$5<>\"\",Table2[Status]=$C$5,TRUE))/(IF($C$6<>\"\",Table2[FPPDate]=$C$6,TRUE))/(IF($C$7<>\"\",Table2[ProposalCode]=$C$7,TRUE)),ROW(G155))),\"\")","v":""},{"$f":"IFERROR(VLOOKUP($B163,SIP!$D$5776:$P$6032,12,0),0)","v":0},{"$f":"IFERROR(H163-I163,0)","v":0},{"$f":"IFERROR(VLOOKUP($B163,SIP!$D$5776:$P$6032,8,0),0)","v":0},{"$f":"IFERROR(INDEX(Table2[OFF/ON],_xlfn.AGGREGATE(15,6,(ROW(Table2[FPPGroupCode])-2)/(Table2[DepoName]=$C$2)/(IF($C$3<>\"\",Table2[BULAN]=$C$3,TRUE))/(IF($C$4<>\"\",Table2[OFF/ON]=$C$4,TRUE))/(IF($C$5<>\"\",Table2[Status]=$C$5,TRUE))/(IF($C$6<>\"\",Table2[FPPDate]=$C$6,TRUE))/(IF($C$7<>\"\",Table2[ProposalCode]=$C$7,TRUE)),ROW(K155))),\"\")","v":""}]
[{"$f":"IF(LEN($B164),ROW(A156),\"\")","v":""},{"$f":"IFERROR(INDEX(Table2[FPPGroupCode],_xlfn.AGGREGATE(15,6,(ROW(Table2[FPPGroupCode])-2)/(Table2[DepoName]=$C$2)/(IF($C$3<>\"\",Table2[BULAN]=$C$3,TRUE))/(IF($C$4<>\"\",Table2[OFF/ON]=$C$4,TRUE))/(IF($C$5<>\"\",Table2[Status]=$C$5,TRUE))/(IF($C$6<>\"\",Table2[FPPDate]=$C$6,TRUE))/(IF($C$7<>\"\",Table2[ProposalCode]=$C$7,TRUE)),ROW(A156))),\"\")","v":""},{"$f":"IFERROR(VLOOKUP($B164,SIP!$D$3:$Q$12237,14,0),0)","v":0},{"$f":"IFERROR(INDEX(Table2[Activity],_xlfn.AGGREGATE(15,6,(ROW(Table2[FPPGroupCode])-2)/(Table2[DepoName]=$C$2)/(IF($C$3<>\"\",Table2[BULAN]=$C$3,TRUE))/(IF($C$4<>\"\",Table2[OFF/ON]=$C$4,TRUE))/(IF($C$5<>\"\",Table2[Status]=$C$5,TRUE))/(IF($C$6<>\"\",Table2[]=$C$6,TRUE))/(IF($C$7<>\"\",Table2[ProposalCode]=$C$7,TRUE)),ROW(B156))),\"\")","v":""},{"$f":"IFERROR(INDEX(Table2[Location],_xlfn.AGGREGATE(15,6,(ROW(Table2[FPPGroupCode])-2)/(Table2[DepoName]=$C$2)/(IF($C$3<>\"\",Table2[BULAN]=$C$3,TRUE))/(IF($C$4<>\"\",Table2[OFF/ON]=$C$4,TRUE))/(IF($C$5<>\"\",Table2[Status]=$C$5,TRUE))/(IF($C$6<>\"\",Table2[FPPDate]=$C$6,TRUE))/(IF($C$7<>\"\",Table2[ProposalCode]=$C$7,TRUE)),ROW(D156))),\"\")","v":""},{"$f":"IFERROR(INDEX(Table2[PeriodeStart],_xlfn.AGGREGATE(15,6,(ROW(Table2[FPPGroupCode])-2)/(Table2[DepoName]=$C$2)/(IF($C$3<>\"\",Table2[BULAN]=$C$3,TRUE))/(IF($C$4<>\"\",Table2[OFF/ON]=$C$4,TRUE))/(IF($C$5<>\"\",Table2[Status]=$C$5,TRUE))/(IF($C$6<>\"\",Table2[FPPDate]=$C$6,TRUE))/(IF($C$7<>\"\",Table2[ProposalCode]=$C$7,TRUE)),ROW(E156))),\"\")","v":""},{"$f":"IFERROR(INDEX(Table2[PeriodeEnd],_xlfn.AGGREGATE(15,6,(ROW(Table2[FPPGroupCode])-2)/(Table2[DepoName]=$C$2)/(IF($C$3<>\"\",Table2[BULAN]=$C$3,TRUE))/(IF($C$4<>\"\",Table2[OFF/ON]=$C$4,TRUE))/(IF($C$5<>\"\",Table2[Status]=$C$5,TRUE))/(IF($C$6<>\"\",Table2[FPPDate]=$C$6,TRUE))/(IF($C$7<>\"\",Table2[ProposalCode]=$C$7,TRUE)),ROW(F156))),\"\")","v":""},{"$f":"IFERROR(INDEX(Table2[Amount_FPPDepo],_xlfn.AGGREGATE(15,6,(ROW(Table2[FPPGroupCode])-2)/(Table2[DepoName]=$C$2)/(IF($C$3<>\"\",Table2[BULAN]=$C$3,TRUE))/(IF($C$4<>\"\",Table2[OFF/ON]=$C$4,TRUE))/(IF($C$5<>\"\",Table2[Status]=$C$5,TRUE))/(IF($C$6<>\"\",Table2[FPPDate]=$C$6,TRUE))/(IF($C$7<>\"\",Table2[ProposalCode]=$C$7,TRUE)),ROW(G156))),\"\")","v":""},{"$f":"IFERROR(VLOOKUP($B164,SIP!$D$5776:$P$6032,12,0),0)","v":0},{"$f":"IFERROR(H164-I164,0)","v":0},{"$f":"IFERROR(VLOOKUP($B164,SIP!$D$5776:$P$6032,8,0),0)","v":0},{"$f":"IFERROR(INDEX(Table2[OFF/ON],_xlfn.AGGREGATE(15,6,(ROW(Table2[FPPGroupCode])-2)/(Table2[DepoName]=$C$2)/(IF($C$3<>\"\",Table2[BULAN]=$C$3,TRUE))/(IF($C$4<>\"\",Table2[OFF/ON]=$C$4,TRUE))/(IF($C$5<>\"\",Table2[Status]=$C$5,TRUE))/(IF($C$6<>\"\",Table2[FPPDate]=$C$6,TRUE))/(IF($C$7<>\"\",Table2[ProposalCode]=$C$7,TRUE)),ROW(K156))),\"\")","v":""}]
[{"$f":"IF(LEN($B165),ROW(A157),\"\")","v":""},{"$f":"IFERROR(INDEX(Table2[FPPGroupCode],_xlfn.AGGREGATE(15,6,(ROW(Table2[FPPGroupCode])-2)/(Table2[DepoName]=$C$2)/(IF($C$3<>\"\",Table2[BULAN]=$C$3,TRUE))/(IF($C$4<>\"\",Table2[OFF/ON]=$C$4,TRUE))/(IF($C$5<>\"\",Table2[Status]=$C$5,TRUE))/(IF($C$6<>\"\",Table2[FPPDate]=$C$6,TRUE))/(IF($C$7<>\"\",Table2[ProposalCode]=$C$7,TRUE)),ROW(A157))),\"\")","v":""},{"$f":"IFERROR(VLOOKUP($B165,SIP!$D$3:$Q$12237,14,0),0)","v":0},{"$f":"IFERROR(INDEX(Table2[Activity],_xlfn.AGGREGATE(15,6,(ROW(Table2[FPPGroupCode])-2)/(Table2[DepoName]=$C$2)/(IF($C$3<>\"\",Table2[BULAN]=$C$3,TRUE))/(IF($C$4<>\"\",Table2[OFF/ON]=$C$4,TRUE))/(IF($C$5<>\"\",Table2[Status]=$C$5,TRUE))/(IF($C$6<>\"\",Table2[]=$C$6,TRUE))/(IF($C$7<>\"\",Table2[ProposalCode]=$C$7,TRUE)),ROW(B157))),\"\")","v":""},{"$f":"IFERROR(INDEX(Table2[Location],_xlfn.AGGREGATE(15,6,(ROW(Table2[FPPGroupCode])-2)/(Table2[DepoName]=$C$2)/(IF($C$3<>\"\",Table2[BULAN]=$C$3,TRUE))/(IF($C$4<>\"\",Table2[OFF/ON]=$C$4,TRUE))/(IF($C$5<>\"\",Table2[Status]=$C$5,TRUE))/(IF($C$6<>\"\",Table2[FPPDate]=$C$6,TRUE))/(IF($C$7<>\"\",Table2[ProposalCode]=$C$7,TRUE)),ROW(D157))),\"\")","v":""},{"$f":"IFERROR(INDEX(Table2[PeriodeStart],_xlfn.AGGREGATE(15,6,(ROW(Table2[FPPGroupCode])-2)/(Table2[DepoName]=$C$2)/(IF($C$3<>\"\",Table2[BULAN]=$C$3,TRUE))/(IF($C$4<>\"\",Table2[OFF/ON]=$C$4,TRUE))/(IF($C$5<>\"\",Table2[Status]=$C$5,TRUE))/(IF($C$6<>\"\",Table2[FPPDate]=$C$6,TRUE))/(IF($C$7<>\"\",Table2[ProposalCode]=$C$7,TRUE)),ROW(E157))),\"\")","v":""},{"$f":"IFERROR(INDEX(Table2[PeriodeEnd],_xlfn.AGGREGATE(15,6,(ROW(Table2[FPPGroupCode])-2)/(Table2[DepoName]=$C$2)/(IF($C$3<>\"\",Table2[BULAN]=$C$3,TRUE))/(IF($C$4<>\"\",Table2[OFF/ON]=$C$4,TRUE))/(IF($C$5<>\"\",Table2[Status]=$C$5,TRUE))/(IF($C$6<>\"\",Table2[FPPDate]=$C$6,TRUE))/(IF($C$7<>\"\",Table2[ProposalCode]=$C$7,TRUE)),ROW(F157))),\"\")","v":""},{"$f":"IFERROR(INDEX(Table2[Amount_FPPDepo],_xlfn.AGGREGATE(15,6,(ROW(Table2[FPPGroupCode])-2)/(Table2[DepoName]=$C$2)/(IF($C$3<>\"\",Table2[BULAN]=$C$3,TRUE))/(IF($C$4<>\"\",Table2[OFF/ON]=$C$4,TRUE))/(IF($C$5<>\"\",Table2[Status]=$C$5,TRUE))/(IF($C$6<>\"\",Table2[FPPDate]=$C$6,TRUE))/(IF($C$7<>\"\",Table2[ProposalCode]=$C$7,TRUE)),ROW(G157))),\"\")","v":""},{"$f":"IFERROR(VLOOKUP($B165,SIP!$D$5776:$P$6032,12,0),0)","v":0},{"$f":"IFERROR(H165-I165,0)","v":0},{"$f":"IFERROR(VLOOKUP($B165,SIP!$D$5776:$P$6032,8,0),0)","v":0},{"$f":"IFERROR(INDEX(Table2[OFF/ON],_xlfn.AGGREGATE(15,6,(ROW(Table2[FPPGroupCode])-2)/(Table2[DepoName]=$C$2)/(IF($C$3<>\"\",Table2[BULAN]=$C$3,TRUE))/(IF($C$4<>\"\",Table2[OFF/ON]=$C$4,TRUE))/(IF($C$5<>\"\",Table2[Status]=$C$5,TRUE))/(IF($C$6<>\"\",Table2[FPPDate]=$C$6,TRUE))/(IF($C$7<>\"\",Table2[ProposalCode]=$C$7,TRUE)),ROW(K157))),\"\")","v":""}]
[{"$f":"IF(LEN($B166),ROW(A158),\"\")","v":""},{"$f":"IFERROR(INDEX(Table2[FPPGroupCode],_xlfn.AGGREGATE(15,6,(ROW(Table2[FPPGroupCode])-2)/(Table2[DepoName]=$C$2)/(IF($C$3<>\"\",Table2[BULAN]=$C$3,TRUE))/(IF($C$4<>\"\",Table2[OFF/ON]=$C$4,TRUE))/(IF($C$5<>\"\",Table2[Status]=$C$5,TRUE))/(IF($C$6<>\"\",Table2[FPPDate]=$C$6,TRUE))/(IF($C$7<>\"\",Table2[ProposalCode]=$C$7,TRUE)),ROW(A158))),\"\")","v":""},{"$f":"IFERROR(VLOOKUP($B166,SIP!$D$3:$Q$12237,14,0),0)","v":0},{"$f":"IFERROR(INDEX(Table2[Activity],_xlfn.AGGREGATE(15,6,(ROW(Table2[FPPGroupCode])-2)/(Table2[DepoName]=$C$2)/(IF($C$3<>\"\",Table2[BULAN]=$C$3,TRUE))/(IF($C$4<>\"\",Table2[OFF/ON]=$C$4,TRUE))/(IF($C$5<>\"\",Table2[Status]=$C$5,TRUE))/(IF($C$6<>\"\",Table2[]=$C$6,TRUE))/(IF($C$7<>\"\",Table2[ProposalCode]=$C$7,TRUE)),ROW(B158))),\"\")","v":""},{"$f":"IFERROR(INDEX(Table2[Location],_xlfn.AGGREGATE(15,6,(ROW(Table2[FPPGroupCode])-2)/(Table2[DepoName]=$C$2)/(IF($C$3<>\"\",Table2[BULAN]=$C$3,TRUE))/(IF($C$4<>\"\",Table2[OFF/ON]=$C$4,TRUE))/(IF($C$5<>\"\",Table2[Status]=$C$5,TRUE))/(IF($C$6<>\"\",Table2[FPPDate]=$C$6,TRUE))/(IF($C$7<>\"\",Table2[ProposalCode]=$C$7,TRUE)),ROW(D158))),\"\")","v":""},{"$f":"IFERROR(INDEX(Table2[PeriodeStart],_xlfn.AGGREGATE(15,6,(ROW(Table2[FPPGroupCode])-2)/(Table2[DepoName]=$C$2)/(IF($C$3<>\"\",Table2[BULAN]=$C$3,TRUE))/(IF($C$4<>\"\",Table2[OFF/ON]=$C$4,TRUE))/(IF($C$5<>\"\",Table2[Status]=$C$5,TRUE))/(IF($C$6<>\"\",Table2[FPPDate]=$C$6,TRUE))/(IF($C$7<>\"\",Table2[ProposalCode]=$C$7,TRUE)),ROW(E158))),\"\")","v":""},{"$f":"IFERROR(INDEX(Table2[PeriodeEnd],_xlfn.AGGREGATE(15,6,(ROW(Table2[FPPGroupCode])-2)/(Table2[DepoName]=$C$2)/(IF($C$3<>\"\",Table2[BULAN]=$C$3,TRUE))/(IF($C$4<>\"\",Table2[OFF/ON]=$C$4,TRUE))/(IF($C$5<>\"\",Table2[Status]=$C$5,TRUE))/(IF($C$6<>\"\",Table2[FPPDate]=$C$6,TRUE))/(IF($C$7<>\"\",Table2[ProposalCode]=$C$7,TRUE)),ROW(F158))),\"\")","v":""},{"$f":"IFERROR(INDEX(Table2[Amount_FPPDepo],_xlfn.AGGREGATE(15,6,(ROW(Table2[FPPGroupCode])-2)/(Table2[DepoName]=$C$2)/(IF($C$3<>\"\",Table2[BULAN]=$C$3,TRUE))/(IF($C$4<>\"\",Table2[OFF/ON]=$C$4,TRUE))/(IF($C$5<>\"\",Table2[Status]=$C$5,TRUE))/(IF($C$6<>\"\",Table2[FPPDate]=$C$6,TRUE))/(IF($C$7<>\"\",Table2[ProposalCode]=$C$7,TRUE)),ROW(G158))),\"\")","v":""},{"$f":"IFERROR(VLOOKUP($B166,SIP!$D$5776:$P$6032,12,0),0)","v":0},{"$f":"IFERROR(H166-I166,0)","v":0},{"$f":"IFERROR(VLOOKUP($B166,SIP!$D$5776:$P$6032,8,0),0)","v":0},{"$f":"IFERROR(INDEX(Table2[OFF/ON],_xlfn.AGGREGATE(15,6,(ROW(Table2[FPPGroupCode])-2)/(Table2[DepoName]=$C$2)/(IF($C$3<>\"\",Table2[BULAN]=$C$3,TRUE))/(IF($C$4<>\"\",Table2[OFF/ON]=$C$4,TRUE))/(IF($C$5<>\"\",Table2[Status]=$C$5,TRUE))/(IF($C$6<>\"\",Table2[FPPDate]=$C$6,TRUE))/(IF($C$7<>\"\",Table2[ProposalCode]=$C$7,TRUE)),ROW(K158))),\"\")","v":""}]
[{"$f":"IF(LEN($B167),ROW(A159),\"\")","v":""},{"$f":"IFERROR(INDEX(Table2[FPPGroupCode],_xlfn.AGGREGATE(15,6,(ROW(Table2[FPPGroupCode])-2)/(Table2[DepoName]=$C$2)/(IF($C$3<>\"\",Table2[BULAN]=$C$3,TRUE))/(IF($C$4<>\"\",Table2[OFF/ON]=$C$4,TRUE))/(IF($C$5<>\"\",Table2[Status]=$C$5,TRUE))/(IF($C$6<>\"\",Table2[FPPDate]=$C$6,TRUE))/(IF($C$7<>\"\",Table2[ProposalCode]=$C$7,TRUE)),ROW(A159))),\"\")","v":""},{"$f":"IFERROR(VLOOKUP($B167,SIP!$D$3:$Q$12237,14,0),0)","v":0},{"$f":"IFERROR(INDEX(Table2[Activity],_xlfn.AGGREGATE(15,6,(ROW(Table2[FPPGroupCode])-2)/(Table2[DepoName]=$C$2)/(IF($C$3<>\"\",Table2[BULAN]=$C$3,TRUE))/(IF($C$4<>\"\",Table2[OFF/ON]=$C$4,TRUE))/(IF($C$5<>\"\",Table2[Status]=$C$5,TRUE))/(IF($C$6<>\"\",Table2[]=$C$6,TRUE))/(IF($C$7<>\"\",Table2[ProposalCode]=$C$7,TRUE)),ROW(B159))),\"\")","v":""},{"$f":"IFERROR(INDEX(Table2[Location],_xlfn.AGGREGATE(15,6,(ROW(Table2[FPPGroupCode])-2)/(Table2[DepoName]=$C$2)/(IF($C$3<>\"\",Table2[BULAN]=$C$3,TRUE))/(IF($C$4<>\"\",Table2[OFF/ON]=$C$4,TRUE))/(IF($C$5<>\"\",Table2[Status]=$C$5,TRUE))/(IF($C$6<>\"\",Table2[FPPDate]=$C$6,TRUE))/(IF($C$7<>\"\",Table2[ProposalCode]=$C$7,TRUE)),ROW(D159))),\"\")","v":""},{"$f":"IFERROR(INDEX(Table2[PeriodeStart],_xlfn.AGGREGATE(15,6,(ROW(Table2[FPPGroupCode])-2)/(Table2[DepoName]=$C$2)/(IF($C$3<>\"\",Table2[BULAN]=$C$3,TRUE))/(IF($C$4<>\"\",Table2[OFF/ON]=$C$4,TRUE))/(IF($C$5<>\"\",Table2[Status]=$C$5,TRUE))/(IF($C$6<>\"\",Table2[FPPDate]=$C$6,TRUE))/(IF($C$7<>\"\",Table2[ProposalCode]=$C$7,TRUE)),ROW(E159))),\"\")","v":""},{"$f":"IFERROR(INDEX(Table2[PeriodeEnd],_xlfn.AGGREGATE(15,6,(ROW(Table2[FPPGroupCode])-2)/(Table2[DepoName]=$C$2)/(IF($C$3<>\"\",Table2[BULAN]=$C$3,TRUE))/(IF($C$4<>\"\",Table2[OFF/ON]=$C$4,TRUE))/(IF($C$5<>\"\",Table2[Status]=$C$5,TRUE))/(IF($C$6<>\"\",Table2[FPPDate]=$C$6,TRUE))/(IF($C$7<>\"\",Table2[ProposalCode]=$C$7,TRUE)),ROW(F159))),\"\")","v":""},{"$f":"IFERROR(INDEX(Table2[Amount_FPPDepo],_xlfn.AGGREGATE(15,6,(ROW(Table2[FPPGroupCode])-2)/(Table2[DepoName]=$C$2)/(IF($C$3<>\"\",Table2[BULAN]=$C$3,TRUE))/(IF($C$4<>\"\",Table2[OFF/ON]=$C$4,TRUE))/(IF($C$5<>\"\",Table2[Status]=$C$5,TRUE))/(IF($C$6<>\"\",Table2[FPPDate]=$C$6,TRUE))/(IF($C$7<>\"\",Table2[ProposalCode]=$C$7,TRUE)),ROW(G159))),\"\")","v":""},{"$f":"IFERROR(VLOOKUP($B167,SIP!$D$5776:$P$6032,12,0),0)","v":0},{"$f":"IFERROR(H167-I167,0)","v":0},{"$f":"IFERROR(VLOOKUP($B167,SIP!$D$5776:$P$6032,8,0),0)","v":0},{"$f":"IFERROR(INDEX(Table2[OFF/ON],_xlfn.AGGREGATE(15,6,(ROW(Table2[FPPGroupCode])-2)/(Table2[DepoName]=$C$2)/(IF($C$3<>\"\",Table2[BULAN]=$C$3,TRUE))/(IF($C$4<>\"\",Table2[OFF/ON]=$C$4,TRUE))/(IF($C$5<>\"\",Table2[Status]=$C$5,TRUE))/(IF($C$6<>\"\",Table2[FPPDate]=$C$6,TRUE))/(IF($C$7<>\"\",Table2[ProposalCode]=$C$7,TRUE)),ROW(K159))),\"\")","v":""}]
[{"$f":"IF(LEN($B168),ROW(A160),\"\")","v":""},{"$f":"IFERROR(INDEX(Table2[FPPGroupCode],_xlfn.AGGREGATE(15,6,(ROW(Table2[FPPGroupCode])-2)/(Table2[DepoName]=$C$2)/(IF($C$3<>\"\",Table2[BULAN]=$C$3,TRUE))/(IF($C$4<>\"\",Table2[OFF/ON]=$C$4,TRUE))/(IF($C$5<>\"\",Table2[Status]=$C$5,TRUE))/(IF($C$6<>\"\",Table2[FPPDate]=$C$6,TRUE))/(IF($C$7<>\"\",Table2[ProposalCode]=$C$7,TRUE)),ROW(A160))),\"\")","v":""},{"$f":"IFERROR(VLOOKUP($B168,SIP!$D$3:$Q$12237,14,0),0)","v":0},{"$f":"IFERROR(INDEX(Table2[Activity],_xlfn.AGGREGATE(15,6,(ROW(Table2[FPPGroupCode])-2)/(Table2[DepoName]=$C$2)/(IF($C$3<>\"\",Table2[BULAN]=$C$3,TRUE))/(IF($C$4<>\"\",Table2[OFF/ON]=$C$4,TRUE))/(IF($C$5<>\"\",Table2[Status]=$C$5,TRUE))/(IF($C$6<>\"\",Table2[]=$C$6,TRUE))/(IF($C$7<>\"\",Table2[ProposalCode]=$C$7,TRUE)),ROW(B160))),\"\")","v":""},{"$f":"IFERROR(INDEX(Table2[Location],_xlfn.AGGREGATE(15,6,(ROW(Table2[FPPGroupCode])-2)/(Table2[DepoName]=$C$2)/(IF($C$3<>\"\",Table2[BULAN]=$C$3,TRUE))/(IF($C$4<>\"\",Table2[OFF/ON]=$C$4,TRUE))/(IF($C$5<>\"\",Table2[Status]=$C$5,TRUE))/(IF($C$6<>\"\",Table2[FPPDate]=$C$6,TRUE))/(IF($C$7<>\"\",Table2[ProposalCode]=$C$7,TRUE)),ROW(D160))),\"\")","v":""},{"$f":"IFERROR(INDEX(Table2[PeriodeStart],_xlfn.AGGREGATE(15,6,(ROW(Table2[FPPGroupCode])-2)/(Table2[DepoName]=$C$2)/(IF($C$3<>\"\",Table2[BULAN]=$C$3,TRUE))/(IF($C$4<>\"\",Table2[OFF/ON]=$C$4,TRUE))/(IF($C$5<>\"\",Table2[Status]=$C$5,TRUE))/(IF($C$6<>\"\",Table2[FPPDate]=$C$6,TRUE))/(IF($C$7<>\"\",Table2[ProposalCode]=$C$7,TRUE)),ROW(E160))),\"\")","v":""},{"$f":"IFERROR(INDEX(Table2[PeriodeEnd],_xlfn.AGGREGATE(15,6,(ROW(Table2[FPPGroupCode])-2)/(Table2[DepoName]=$C$2)/(IF($C$3<>\"\",Table2[BULAN]=$C$3,TRUE))/(IF($C$4<>\"\",Table2[OFF/ON]=$C$4,TRUE))/(IF($C$5<>\"\",Table2[Status]=$C$5,TRUE))/(IF($C$6<>\"\",Table2[FPPDate]=$C$6,TRUE))/(IF($C$7<>\"\",Table2[ProposalCode]=$C$7,TRUE)),ROW(F160))),\"\")","v":""},{"$f":"IFERROR(INDEX(Table2[Amount_FPPDepo],_xlfn.AGGREGATE(15,6,(ROW(Table2[FPPGroupCode])-2)/(Table2[DepoName]=$C$2)/(IF($C$3<>\"\",Table2[BULAN]=$C$3,TRUE))/(IF($C$4<>\"\",Table2[OFF/ON]=$C$4,TRUE))/(IF($C$5<>\"\",Table2[Status]=$C$5,TRUE))/(IF($C$6<>\"\",Table2[FPPDate]=$C$6,TRUE))/(IF($C$7<>\"\",Table2[ProposalCode]=$C$7,TRUE)),ROW(G160))),\"\")","v":""},{"$f":"IFERROR(VLOOKUP($B168,SIP!$D$5776:$P$6032,12,0),0)","v":0},{"$f":"IFERROR(H168-I168,0)","v":0},{"$f":"IFERROR(VLOOKUP($B168,SIP!$D$5776:$P$6032,8,0),0)","v":0},{"$f":"IFERROR(INDEX(Table2[OFF/ON],_xlfn.AGGREGATE(15,6,(ROW(Table2[FPPGroupCode])-2)/(Table2[DepoName]=$C$2)/(IF($C$3<>\"\",Table2[BULAN]=$C$3,TRUE))/(IF($C$4<>\"\",Table2[OFF/ON]=$C$4,TRUE))/(IF($C$5<>\"\",Table2[Status]=$C$5,TRUE))/(IF($C$6<>\"\",Table2[FPPDate]=$C$6,TRUE))/(IF($C$7<>\"\",Table2[ProposalCode]=$C$7,TRUE)),ROW(K160))),\"\")","v":""}]
[{"$f":"IF(LEN($B169),ROW(A161),\"\")","v":""},{"$f":"IFERROR(INDEX(Table2[FPPGroupCode],_xlfn.AGGREGATE(15,6,(ROW(Table2[FPPGroupCode])-2)/(Table2[DepoName]=$C$2)/(IF($C$3<>\"\",Table2[BULAN]=$C$3,TRUE))/(IF($C$4<>\"\",Table2[OFF/ON]=$C$4,TRUE))/(IF($C$5<>\"\",Table2[Status]=$C$5,TRUE))/(IF($C$6<>\"\",Table2[FPPDate]=$C$6,TRUE))/(IF($C$7<>\"\",Table2[ProposalCode]=$C$7,TRUE)),ROW(A161))),\"\")","v":""},{"$f":"IFERROR(VLOOKUP($B169,SIP!$D$3:$Q$12237,14,0),0)","v":0},{"$f":"IFERROR(INDEX(Table2[Activity],_xlfn.AGGREGATE(15,6,(ROW(Table2[FPPGroupCode])-2)/(Table2[DepoName]=$C$2)/(IF($C$3<>\"\",Table2[BULAN]=$C$3,TRUE))/(IF($C$4<>\"\",Table2[OFF/ON]=$C$4,TRUE))/(IF($C$5<>\"\",Table2[Status]=$C$5,TRUE))/(IF($C$6<>\"\",Table2[]=$C$6,TRUE))/(IF($C$7<>\"\",Table2[ProposalCode]=$C$7,TRUE)),ROW(B161))),\"\")","v":""},{"$f":"IFERROR(INDEX(Table2[Location],_xlfn.AGGREGATE(15,6,(ROW(Table2[FPPGroupCode])-2)/(Table2[DepoName]=$C$2)/(IF($C$3<>\"\",Table2[BULAN]=$C$3,TRUE))/(IF($C$4<>\"\",Table2[OFF/ON]=$C$4,TRUE))/(IF($C$5<>\"\",Table2[Status]=$C$5,TRUE))/(IF($C$6<>\"\",Table2[FPPDate]=$C$6,TRUE))/(IF($C$7<>\"\",Table2[ProposalCode]=$C$7,TRUE)),ROW(D161))),\"\")","v":""},{"$f":"IFERROR(INDEX(Table2[PeriodeStart],_xlfn.AGGREGATE(15,6,(ROW(Table2[FPPGroupCode])-2)/(Table2[DepoName]=$C$2)/(IF($C$3<>\"\",Table2[BULAN]=$C$3,TRUE))/(IF($C$4<>\"\",Table2[OFF/ON]=$C$4,TRUE))/(IF($C$5<>\"\",Table2[Status]=$C$5,TRUE))/(IF($C$6<>\"\",Table2[FPPDate]=$C$6,TRUE))/(IF($C$7<>\"\",Table2[ProposalCode]=$C$7,TRUE)),ROW(E161))),\"\")","v":""},{"$f":"IFERROR(INDEX(Table2[PeriodeEnd],_xlfn.AGGREGATE(15,6,(ROW(Table2[FPPGroupCode])-2)/(Table2[DepoName]=$C$2)/(IF($C$3<>\"\",Table2[BULAN]=$C$3,TRUE))/(IF($C$4<>\"\",Table2[OFF/ON]=$C$4,TRUE))/(IF($C$5<>\"\",Table2[Status]=$C$5,TRUE))/(IF($C$6<>\"\",Table2[FPPDate]=$C$6,TRUE))/(IF($C$7<>\"\",Table2[ProposalCode]=$C$7,TRUE)),ROW(F161))),\"\")","v":""},{"$f":"IFERROR(INDEX(Table2[Amount_FPPDepo],_xlfn.AGGREGATE(15,6,(ROW(Table2[FPPGroupCode])-2)/(Table2[DepoName]=$C$2)/(IF($C$3<>\"\",Table2[BULAN]=$C$3,TRUE))/(IF($C$4<>\"\",Table2[OFF/ON]=$C$4,TRUE))/(IF($C$5<>\"\",Table2[Status]=$C$5,TRUE))/(IF($C$6<>\"\",Table2[FPPDate]=$C$6,TRUE))/(IF($C$7<>\"\",Table2[ProposalCode]=$C$7,TRUE)),ROW(G161))),\"\")","v":""},{"$f":"IFERROR(VLOOKUP($B169,SIP!$D$5776:$P$6032,12,0),0)","v":0},{"$f":"IFERROR(H169-I169,0)","v":0},{"$f":"IFERROR(VLOOKUP($B169,SIP!$D$5776:$P$6032,8,0),0)","v":0},{"$f":"IFERROR(INDEX(Table2[OFF/ON],_xlfn.AGGREGATE(15,6,(ROW(Table2[FPPGroupCode])-2)/(Table2[DepoName]=$C$2)/(IF($C$3<>\"\",Table2[BULAN]=$C$3,TRUE))/(IF($C$4<>\"\",Table2[OFF/ON]=$C$4,TRUE))/(IF($C$5<>\"\",Table2[Status]=$C$5,TRUE))/(IF($C$6<>\"\",Table2[FPPDate]=$C$6,TRUE))/(IF($C$7<>\"\",Table2[ProposalCode]=$C$7,TRUE)),ROW(K161))),\"\")","v":""}]
[{"$f":"IF(LEN($B170),ROW(A162),\"\")","v":""},{"$f":"IFERROR(INDEX(Table2[FPPGroupCode],_xlfn.AGGREGATE(15,6,(ROW(Table2[FPPGroupCode])-2)/(Table2[DepoName]=$C$2)/(IF($C$3<>\"\",Table2[BULAN]=$C$3,TRUE))/(IF($C$4<>\"\",Table2[OFF/ON]=$C$4,TRUE))/(IF($C$5<>\"\",Table2[Status]=$C$5,TRUE))/(IF($C$6<>\"\",Table2[FPPDate]=$C$6,TRUE))/(IF($C$7<>\"\",Table2[ProposalCode]=$C$7,TRUE)),ROW(A162))),\"\")","v":""},{"$f":"IFERROR(VLOOKUP($B170,SIP!$D$3:$Q$12237,14,0),0)","v":0},{"$f":"IFERROR(INDEX(Table2[Activity],_xlfn.AGGREGATE(15,6,(ROW(Table2[FPPGroupCode])-2)/(Table2[DepoName]=$C$2)/(IF($C$3<>\"\",Table2[BULAN]=$C$3,TRUE))/(IF($C$4<>\"\",Table2[OFF/ON]=$C$4,TRUE))/(IF($C$5<>\"\",Table2[Status]=$C$5,TRUE))/(IF($C$6<>\"\",Table2[]=$C$6,TRUE))/(IF($C$7<>\"\",Table2[ProposalCode]=$C$7,TRUE)),ROW(B162))),\"\")","v":""},{"$f":"IFERROR(INDEX(Table2[Location],_xlfn.AGGREGATE(15,6,(ROW(Table2[FPPGroupCode])-2)/(Table2[DepoName]=$C$2)/(IF($C$3<>\"\",Table2[BULAN]=$C$3,TRUE))/(IF($C$4<>\"\",Table2[OFF/ON]=$C$4,TRUE))/(IF($C$5<>\"\",Table2[Status]=$C$5,TRUE))/(IF($C$6<>\"\",Table2[FPPDate]=$C$6,TRUE))/(IF($C$7<>\"\",Table2[ProposalCode]=$C$7,TRUE)),ROW(D162))),\"\")","v":""},{"$f":"IFERROR(INDEX(Table2[PeriodeStart],_xlfn.AGGREGATE(15,6,(ROW(Table2[FPPGroupCode])-2)/(Table2[DepoName]=$C$2)/(IF($C$3<>\"\",Table2[BULAN]=$C$3,TRUE))/(IF($C$4<>\"\",Table2[OFF/ON]=$C$4,TRUE))/(IF($C$5<>\"\",Table2[Status]=$C$5,TRUE))/(IF($C$6<>\"\",Table2[FPPDate]=$C$6,TRUE))/(IF($C$7<>\"\",Table2[ProposalCode]=$C$7,TRUE)),ROW(E162))),\"\")","v":""},{"$f":"IFERROR(INDEX(Table2[PeriodeEnd],_xlfn.AGGREGATE(15,6,(ROW(Table2[FPPGroupCode])-2)/(Table2[DepoName]=$C$2)/(IF($C$3<>\"\",Table2[BULAN]=$C$3,TRUE))/(IF($C$4<>\"\",Table2[OFF/ON]=$C$4,TRUE))/(IF($C$5<>\"\",Table2[Status]=$C$5,TRUE))/(IF($C$6<>\"\",Table2[FPPDate]=$C$6,TRUE))/(IF($C$7<>\"\",Table2[ProposalCode]=$C$7,TRUE)),ROW(F162))),\"\")","v":""},{"$f":"IFERROR(INDEX(Table2[Amount_FPPDepo],_xlfn.AGGREGATE(15,6,(ROW(Table2[FPPGroupCode])-2)/(Table2[DepoName]=$C$2)/(IF($C$3<>\"\",Table2[BULAN]=$C$3,TRUE))/(IF($C$4<>\"\",Table2[OFF/ON]=$C$4,TRUE))/(IF($C$5<>\"\",Table2[Status]=$C$5,TRUE))/(IF($C$6<>\"\",Table2[FPPDate]=$C$6,TRUE))/(IF($C$7<>\"\",Table2[ProposalCode]=$C$7,TRUE)),ROW(G162))),\"\")","v":""},{"$f":"IFERROR(VLOOKUP($B170,SIP!$D$5776:$P$6032,12,0),0)","v":0},{"$f":"IFERROR(H170-I170,0)","v":0},{"$f":"IFERROR(VLOOKUP($B170,SIP!$D$5776:$P$6032,8,0),0)","v":0},{"$f":"IFERROR(INDEX(Table2[OFF/ON],_xlfn.AGGREGATE(15,6,(ROW(Table2[FPPGroupCode])-2)/(Table2[DepoName]=$C$2)/(IF($C$3<>\"\",Table2[BULAN]=$C$3,TRUE))/(IF($C$4<>\"\",Table2[OFF/ON]=$C$4,TRUE))/(IF($C$5<>\"\",Table2[Status]=$C$5,TRUE))/(IF($C$6<>\"\",Table2[FPPDate]=$C$6,TRUE))/(IF($C$7<>\"\",Table2[ProposalCode]=$C$7,TRUE)),ROW(K162))),\"\")","v":""}]
[{"$f":"IF(LEN($B171),ROW(A163),\"\")","v":""},{"$f":"IFERROR(INDEX(Table2[FPPGroupCode],_xlfn.AGGREGATE(15,6,(ROW(Table2[FPPGroupCode])-2)/(Table2[DepoName]=$C$2)/(IF($C$3<>\"\",Table2[BULAN]=$C$3,TRUE))/(IF($C$4<>\"\",Table2[OFF/ON]=$C$4,TRUE))/(IF($C$5<>\"\",Table2[Status]=$C$5,TRUE))/(IF($C$6<>\"\",Table2[FPPDate]=$C$6,TRUE))/(IF($C$7<>\"\",Table2[ProposalCode]=$C$7,TRUE)),ROW(A163))),\"\")","v":""},{"$f":"IFERROR(VLOOKUP($B171,SIP!$D$3:$Q$12237,14,0),0)","v":0},{"$f":"IFERROR(INDEX(Table2[Activity],_xlfn.AGGREGATE(15,6,(ROW(Table2[FPPGroupCode])-2)/(Table2[DepoName]=$C$2)/(IF($C$3<>\"\",Table2[BULAN]=$C$3,TRUE))/(IF($C$4<>\"\",Table2[OFF/ON]=$C$4,TRUE))/(IF($C$5<>\"\",Table2[Status]=$C$5,TRUE))/(IF($C$6<>\"\",Table2[]=$C$6,TRUE))/(IF($C$7<>\"\",Table2[ProposalCode]=$C$7,TRUE)),ROW(B163))),\"\")","v":""},{"$f":"IFERROR(INDEX(Table2[Location],_xlfn.AGGREGATE(15,6,(ROW(Table2[FPPGroupCode])-2)/(Table2[DepoName]=$C$2)/(IF($C$3<>\"\",Table2[BULAN]=$C$3,TRUE))/(IF($C$4<>\"\",Table2[OFF/ON]=$C$4,TRUE))/(IF($C$5<>\"\",Table2[Status]=$C$5,TRUE))/(IF($C$6<>\"\",Table2[FPPDate]=$C$6,TRUE))/(IF($C$7<>\"\",Table2[ProposalCode]=$C$7,TRUE)),ROW(D163))),\"\")","v":""},{"$f":"IFERROR(INDEX(Table2[PeriodeStart],_xlfn.AGGREGATE(15,6,(ROW(Table2[FPPGroupCode])-2)/(Table2[DepoName]=$C$2)/(IF($C$3<>\"\",Table2[BULAN]=$C$3,TRUE))/(IF($C$4<>\"\",Table2[OFF/ON]=$C$4,TRUE))/(IF($C$5<>\"\",Table2[Status]=$C$5,TRUE))/(IF($C$6<>\"\",Table2[FPPDate]=$C$6,TRUE))/(IF($C$7<>\"\",Table2[ProposalCode]=$C$7,TRUE)),ROW(E163))),\"\")","v":""},{"$f":"IFERROR(INDEX(Table2[PeriodeEnd],_xlfn.AGGREGATE(15,6,(ROW(Table2[FPPGroupCode])-2)/(Table2[DepoName]=$C$2)/(IF($C$3<>\"\",Table2[BULAN]=$C$3,TRUE))/(IF($C$4<>\"\",Table2[OFF/ON]=$C$4,TRUE))/(IF($C$5<>\"\",Table2[Status]=$C$5,TRUE))/(IF($C$6<>\"\",Table2[FPPDate]=$C$6,TRUE))/(IF($C$7<>\"\",Table2[ProposalCode]=$C$7,TRUE)),ROW(F163))),\"\")","v":""},{"$f":"IFERROR(INDEX(Table2[Amount_FPPDepo],_xlfn.AGGREGATE(15,6,(ROW(Table2[FPPGroupCode])-2)/(Table2[DepoName]=$C$2)/(IF($C$3<>\"\",Table2[BULAN]=$C$3,TRUE))/(IF($C$4<>\"\",Table2[OFF/ON]=$C$4,TRUE))/(IF($C$5<>\"\",Table2[Status]=$C$5,TRUE))/(IF($C$6<>\"\",Table2[FPPDate]=$C$6,TRUE))/(IF($C$7<>\"\",Table2[ProposalCode]=$C$7,TRUE)),ROW(G163))),\"\")","v":""},{"$f":"IFERROR(VLOOKUP($B171,SIP!$D$5776:$P$6032,12,0),0)","v":0},{"$f":"IFERROR(H171-I171,0)","v":0},{"$f":"IFERROR(VLOOKUP($B171,SIP!$D$5776:$P$6032,8,0),0)","v":0},{"$f":"IFERROR(INDEX(Table2[OFF/ON],_xlfn.AGGREGATE(15,6,(ROW(Table2[FPPGroupCode])-2)/(Table2[DepoName]=$C$2)/(IF($C$3<>\"\",Table2[BULAN]=$C$3,TRUE))/(IF($C$4<>\"\",Table2[OFF/ON]=$C$4,TRUE))/(IF($C$5<>\"\",Table2[Status]=$C$5,TRUE))/(IF($C$6<>\"\",Table2[FPPDate]=$C$6,TRUE))/(IF($C$7<>\"\",Table2[ProposalCode]=$C$7,TRUE)),ROW(K163))),\"\")","v":""}]
[{"$f":"IF(LEN($B172),ROW(A164),\"\")","v":""},{"$f":"IFERROR(INDEX(Table2[FPPGroupCode],_xlfn.AGGREGATE(15,6,(ROW(Table2[FPPGroupCode])-2)/(Table2[DepoName]=$C$2)/(IF($C$3<>\"\",Table2[BULAN]=$C$3,TRUE))/(IF($C$4<>\"\",Table2[OFF/ON]=$C$4,TRUE))/(IF($C$5<>\"\",Table2[Status]=$C$5,TRUE))/(IF($C$6<>\"\",Table2[FPPDate]=$C$6,TRUE))/(IF($C$7<>\"\",Table2[ProposalCode]=$C$7,TRUE)),ROW(A164))),\"\")","v":""},{"$f":"IFERROR(VLOOKUP($B172,SIP!$D$3:$Q$12237,14,0),0)","v":0},{"$f":"IFERROR(INDEX(Table2[Activity],_xlfn.AGGREGATE(15,6,(ROW(Table2[FPPGroupCode])-2)/(Table2[DepoName]=$C$2)/(IF($C$3<>\"\",Table2[BULAN]=$C$3,TRUE))/(IF($C$4<>\"\",Table2[OFF/ON]=$C$4,TRUE))/(IF($C$5<>\"\",Table2[Status]=$C$5,TRUE))/(IF($C$6<>\"\",Table2[]=$C$6,TRUE))/(IF($C$7<>\"\",Table2[ProposalCode]=$C$7,TRUE)),ROW(B164))),\"\")","v":""},{"$f":"IFERROR(INDEX(Table2[Location],_xlfn.AGGREGATE(15,6,(ROW(Table2[FPPGroupCode])-2)/(Table2[DepoName]=$C$2)/(IF($C$3<>\"\",Table2[BULAN]=$C$3,TRUE))/(IF($C$4<>\"\",Table2[OFF/ON]=$C$4,TRUE))/(IF($C$5<>\"\",Table2[Status]=$C$5,TRUE))/(IF($C$6<>\"\",Table2[FPPDate]=$C$6,TRUE))/(IF($C$7<>\"\",Table2[ProposalCode]=$C$7,TRUE)),ROW(D164))),\"\")","v":""},{"$f":"IFERROR(INDEX(Table2[PeriodeStart],_xlfn.AGGREGATE(15,6,(ROW(Table2[FPPGroupCode])-2)/(Table2[DepoName]=$C$2)/(IF($C$3<>\"\",Table2[BULAN]=$C$3,TRUE))/(IF($C$4<>\"\",Table2[OFF/ON]=$C$4,TRUE))/(IF($C$5<>\"\",Table2[Status]=$C$5,TRUE))/(IF($C$6<>\"\",Table2[FPPDate]=$C$6,TRUE))/(IF($C$7<>\"\",Table2[ProposalCode]=$C$7,TRUE)),ROW(E164))),\"\")","v":""},{"$f":"IFERROR(INDEX(Table2[PeriodeEnd],_xlfn.AGGREGATE(15,6,(ROW(Table2[FPPGroupCode])-2)/(Table2[DepoName]=$C$2)/(IF($C$3<>\"\",Table2[BULAN]=$C$3,TRUE))/(IF($C$4<>\"\",Table2[OFF/ON]=$C$4,TRUE))/(IF($C$5<>\"\",Table2[Status]=$C$5,TRUE))/(IF($C$6<>\"\",Table2[FPPDate]=$C$6,TRUE))/(IF($C$7<>\"\",Table2[ProposalCode]=$C$7,TRUE)),ROW(F164))),\"\")","v":""},{"$f":"IFERROR(INDEX(Table2[Amount_FPPDepo],_xlfn.AGGREGATE(15,6,(ROW(Table2[FPPGroupCode])-2)/(Table2[DepoName]=$C$2)/(IF($C$3<>\"\",Table2[BULAN]=$C$3,TRUE))/(IF($C$4<>\"\",Table2[OFF/ON]=$C$4,TRUE))/(IF($C$5<>\"\",Table2[Status]=$C$5,TRUE))/(IF($C$6<>\"\",Table2[FPPDate]=$C$6,TRUE))/(IF($C$7<>\"\",Table2[ProposalCode]=$C$7,TRUE)),ROW(G164))),\"\")","v":""},{"$f":"IFERROR(VLOOKUP($B172,SIP!$D$5776:$P$6032,12,0),0)","v":0},{"$f":"IFERROR(H172-I172,0)","v":0},{"$f":"IFERROR(VLOOKUP($B172,SIP!$D$5776:$P$6032,8,0),0)","v":0},{"$f":"IFERROR(INDEX(Table2[OFF/ON],_xlfn.AGGREGATE(15,6,(ROW(Table2[FPPGroupCode])-2)/(Table2[DepoName]=$C$2)/(IF($C$3<>\"\",Table2[BULAN]=$C$3,TRUE))/(IF($C$4<>\"\",Table2[OFF/ON]=$C$4,TRUE))/(IF($C$5<>\"\",Table2[Status]=$C$5,TRUE))/(IF($C$6<>\"\",Table2[FPPDate]=$C$6,TRUE))/(IF($C$7<>\"\",Table2[ProposalCode]=$C$7,TRUE)),ROW(K164))),\"\")","v":""}]
[{"$f":"IF(LEN($B173),ROW(A165),\"\")","v":""},{"$f":"IFERROR(INDEX(Table2[FPPGroupCode],_xlfn.AGGREGATE(15,6,(ROW(Table2[FPPGroupCode])-2)/(Table2[DepoName]=$C$2)/(IF($C$3<>\"\",Table2[BULAN]=$C$3,TRUE))/(IF($C$4<>\"\",Table2[OFF/ON]=$C$4,TRUE))/(IF($C$5<>\"\",Table2[Status]=$C$5,TRUE))/(IF($C$6<>\"\",Table2[FPPDate]=$C$6,TRUE))/(IF($C$7<>\"\",Table2[ProposalCode]=$C$7,TRUE)),ROW(A165))),\"\")","v":""},{"$f":"IFERROR(VLOOKUP($B173,SIP!$D$3:$Q$12237,14,0),0)","v":0},{"$f":"IFERROR(INDEX(Table2[Activity],_xlfn.AGGREGATE(15,6,(ROW(Table2[FPPGroupCode])-2)/(Table2[DepoName]=$C$2)/(IF($C$3<>\"\",Table2[BULAN]=$C$3,TRUE))/(IF($C$4<>\"\",Table2[OFF/ON]=$C$4,TRUE))/(IF($C$5<>\"\",Table2[Status]=$C$5,TRUE))/(IF($C$6<>\"\",Table2[]=$C$6,TRUE))/(IF($C$7<>\"\",Table2[ProposalCode]=$C$7,TRUE)),ROW(B165))),\"\")","v":""},{"$f":"IFERROR(INDEX(Table2[Location],_xlfn.AGGREGATE(15,6,(ROW(Table2[FPPGroupCode])-2)/(Table2[DepoName]=$C$2)/(IF($C$3<>\"\",Table2[BULAN]=$C$3,TRUE))/(IF($C$4<>\"\",Table2[OFF/ON]=$C$4,TRUE))/(IF($C$5<>\"\",Table2[Status]=$C$5,TRUE))/(IF($C$6<>\"\",Table2[FPPDate]=$C$6,TRUE))/(IF($C$7<>\"\",Table2[ProposalCode]=$C$7,TRUE)),ROW(D165))),\"\")","v":""},{"$f":"IFERROR(INDEX(Table2[PeriodeStart],_xlfn.AGGREGATE(15,6,(ROW(Table2[FPPGroupCode])-2)/(Table2[DepoName]=$C$2)/(IF($C$3<>\"\",Table2[BULAN]=$C$3,TRUE))/(IF($C$4<>\"\",Table2[OFF/ON]=$C$4,TRUE))/(IF($C$5<>\"\",Table2[Status]=$C$5,TRUE))/(IF($C$6<>\"\",Table2[FPPDate]=$C$6,TRUE))/(IF($C$7<>\"\",Table2[ProposalCode]=$C$7,TRUE)),ROW(E165))),\"\")","v":""},{"$f":"IFERROR(INDEX(Table2[PeriodeEnd],_xlfn.AGGREGATE(15,6,(ROW(Table2[FPPGroupCode])-2)/(Table2[DepoName]=$C$2)/(IF($C$3<>\"\",Table2[BULAN]=$C$3,TRUE))/(IF($C$4<>\"\",Table2[OFF/ON]=$C$4,TRUE))/(IF($C$5<>\"\",Table2[Status]=$C$5,TRUE))/(IF($C$6<>\"\",Table2[FPPDate]=$C$6,TRUE))/(IF($C$7<>\"\",Table2[ProposalCode]=$C$7,TRUE)),ROW(F165))),\"\")","v":""},{"$f":"IFERROR(INDEX(Table2[Amount_FPPDepo],_xlfn.AGGREGATE(15,6,(ROW(Table2[FPPGroupCode])-2)/(Table2[DepoName]=$C$2)/(IF($C$3<>\"\",Table2[BULAN]=$C$3,TRUE))/(IF($C$4<>\"\",Table2[OFF/ON]=$C$4,TRUE))/(IF($C$5<>\"\",Table2[Status]=$C$5,TRUE))/(IF($C$6<>\"\",Table2[FPPDate]=$C$6,TRUE))/(IF($C$7<>\"\",Table2[ProposalCode]=$C$7,TRUE)),ROW(G165))),\"\")","v":""},{"$f":"IFERROR(VLOOKUP($B173,SIP!$D$5776:$P$6032,12,0),0)","v":0},{"$f":"IFERROR(H173-I173,0)","v":0},{"$f":"IFERROR(VLOOKUP($B173,SIP!$D$5776:$P$6032,8,0),0)","v":0},{"$f":"IFERROR(INDEX(Table2[OFF/ON],_xlfn.AGGREGATE(15,6,(ROW(Table2[FPPGroupCode])-2)/(Table2[DepoName]=$C$2)/(IF($C$3<>\"\",Table2[BULAN]=$C$3,TRUE))/(IF($C$4<>\"\",Table2[OFF/ON]=$C$4,TRUE))/(IF($C$5<>\"\",Table2[Status]=$C$5,TRUE))/(IF($C$6<>\"\",Table2[FPPDate]=$C$6,TRUE))/(IF($C$7<>\"\",Table2[ProposalCode]=$C$7,TRUE)),ROW(K165))),\"\")","v":""}]
[{"$f":"IF(LEN($B174),ROW(A166),\"\")","v":""},{"$f":"IFERROR(INDEX(Table2[FPPGroupCode],_xlfn.AGGREGATE(15,6,(ROW(Table2[FPPGroupCode])-2)/(Table2[DepoName]=$C$2)/(IF($C$3<>\"\",Table2[BULAN]=$C$3,TRUE))/(IF($C$4<>\"\",Table2[OFF/ON]=$C$4,TRUE))/(IF($C$5<>\"\",Table2[Status]=$C$5,TRUE))/(IF($C$6<>\"\",Table2[FPPDate]=$C$6,TRUE))/(IF($C$7<>\"\",Table2[ProposalCode]=$C$7,TRUE)),ROW(A166))),\"\")","v":""},{"$f":"IFERROR(VLOOKUP($B174,SIP!$D$3:$Q$12237,14,0),0)","v":0},{"$f":"IFERROR(INDEX(Table2[Activity],_xlfn.AGGREGATE(15,6,(ROW(Table2[FPPGroupCode])-2)/(Table2[DepoName]=$C$2)/(IF($C$3<>\"\",Table2[BULAN]=$C$3,TRUE))/(IF($C$4<>\"\",Table2[OFF/ON]=$C$4,TRUE))/(IF($C$5<>\"\",Table2[Status]=$C$5,TRUE))/(IF($C$6<>\"\",Table2[]=$C$6,TRUE))/(IF($C$7<>\"\",Table2[ProposalCode]=$C$7,TRUE)),ROW(B166))),\"\")","v":""},{"$f":"IFERROR(INDEX(Table2[Location],_xlfn.AGGREGATE(15,6,(ROW(Table2[FPPGroupCode])-2)/(Table2[DepoName]=$C$2)/(IF($C$3<>\"\",Table2[BULAN]=$C$3,TRUE))/(IF($C$4<>\"\",Table2[OFF/ON]=$C$4,TRUE))/(IF($C$5<>\"\",Table2[Status]=$C$5,TRUE))/(IF($C$6<>\"\",Table2[FPPDate]=$C$6,TRUE))/(IF($C$7<>\"\",Table2[ProposalCode]=$C$7,TRUE)),ROW(D166))),\"\")","v":""},{"$f":"IFERROR(INDEX(Table2[PeriodeStart],_xlfn.AGGREGATE(15,6,(ROW(Table2[FPPGroupCode])-2)/(Table2[DepoName]=$C$2)/(IF($C$3<>\"\",Table2[BULAN]=$C$3,TRUE))/(IF($C$4<>\"\",Table2[OFF/ON]=$C$4,TRUE))/(IF($C$5<>\"\",Table2[Status]=$C$5,TRUE))/(IF($C$6<>\"\",Table2[FPPDate]=$C$6,TRUE))/(IF($C$7<>\"\",Table2[ProposalCode]=$C$7,TRUE)),ROW(E166))),\"\")","v":""},{"$f":"IFERROR(INDEX(Table2[PeriodeEnd],_xlfn.AGGREGATE(15,6,(ROW(Table2[FPPGroupCode])-2)/(Table2[DepoName]=$C$2)/(IF($C$3<>\"\",Table2[BULAN]=$C$3,TRUE))/(IF($C$4<>\"\",Table2[OFF/ON]=$C$4,TRUE))/(IF($C$5<>\"\",Table2[Status]=$C$5,TRUE))/(IF($C$6<>\"\",Table2[FPPDate]=$C$6,TRUE))/(IF($C$7<>\"\",Table2[ProposalCode]=$C$7,TRUE)),ROW(F166))),\"\")","v":""},{"$f":"IFERROR(INDEX(Table2[Amount_FPPDepo],_xlfn.AGGREGATE(15,6,(ROW(Table2[FPPGroupCode])-2)/(Table2[DepoName]=$C$2)/(IF($C$3<>\"\",Table2[BULAN]=$C$3,TRUE))/(IF($C$4<>\"\",Table2[OFF/ON]=$C$4,TRUE))/(IF($C$5<>\"\",Table2[Status]=$C$5,TRUE))/(IF($C$6<>\"\",Table2[FPPDate]=$C$6,TRUE))/(IF($C$7<>\"\",Table2[ProposalCode]=$C$7,TRUE)),ROW(G166))),\"\")","v":""},{"$f":"IFERROR(VLOOKUP($B174,SIP!$D$5776:$P$6032,12,0),0)","v":0},{"$f":"IFERROR(H174-I174,0)","v":0},{"$f":"IFERROR(VLOOKUP($B174,SIP!$D$5776:$P$6032,8,0),0)","v":0},{"$f":"IFERROR(INDEX(Table2[OFF/ON],_xlfn.AGGREGATE(15,6,(ROW(Table2[FPPGroupCode])-2)/(Table2[DepoName]=$C$2)/(IF($C$3<>\"\",Table2[BULAN]=$C$3,TRUE))/(IF($C$4<>\"\",Table2[OFF/ON]=$C$4,TRUE))/(IF($C$5<>\"\",Table2[Status]=$C$5,TRUE))/(IF($C$6<>\"\",Table2[FPPDate]=$C$6,TRUE))/(IF($C$7<>\"\",Table2[ProposalCode]=$C$7,TRUE)),ROW(K166))),\"\")","v":""}]
[{"$f":"IF(LEN($B175),ROW(A167),\"\")","v":""},{"$f":"IFERROR(INDEX(Table2[FPPGroupCode],_xlfn.AGGREGATE(15,6,(ROW(Table2[FPPGroupCode])-2)/(Table2[DepoName]=$C$2)/(IF($C$3<>\"\",Table2[BULAN]=$C$3,TRUE))/(IF($C$4<>\"\",Table2[OFF/ON]=$C$4,TRUE))/(IF($C$5<>\"\",Table2[Status]=$C$5,TRUE))/(IF($C$6<>\"\",Table2[FPPDate]=$C$6,TRUE))/(IF($C$7<>\"\",Table2[ProposalCode]=$C$7,TRUE)),ROW(A167))),\"\")","v":""},{"$f":"IFERROR(VLOOKUP($B175,SIP!$D$3:$Q$12237,14,0),0)","v":0},{"$f":"IFERROR(INDEX(Table2[Activity],_xlfn.AGGREGATE(15,6,(ROW(Table2[FPPGroupCode])-2)/(Table2[DepoName]=$C$2)/(IF($C$3<>\"\",Table2[BULAN]=$C$3,TRUE))/(IF($C$4<>\"\",Table2[OFF/ON]=$C$4,TRUE))/(IF($C$5<>\"\",Table2[Status]=$C$5,TRUE))/(IF($C$6<>\"\",Table2[]=$C$6,TRUE))/(IF($C$7<>\"\",Table2[ProposalCode]=$C$7,TRUE)),ROW(B167))),\"\")","v":""},{"$f":"IFERROR(INDEX(Table2[Location],_xlfn.AGGREGATE(15,6,(ROW(Table2[FPPGroupCode])-2)/(Table2[DepoName]=$C$2)/(IF($C$3<>\"\",Table2[BULAN]=$C$3,TRUE))/(IF($C$4<>\"\",Table2[OFF/ON]=$C$4,TRUE))/(IF($C$5<>\"\",Table2[Status]=$C$5,TRUE))/(IF($C$6<>\"\",Table2[FPPDate]=$C$6,TRUE))/(IF($C$7<>\"\",Table2[ProposalCode]=$C$7,TRUE)),ROW(D167))),\"\")","v":""},{"$f":"IFERROR(INDEX(Table2[PeriodeStart],_xlfn.AGGREGATE(15,6,(ROW(Table2[FPPGroupCode])-2)/(Table2[DepoName]=$C$2)/(IF($C$3<>\"\",Table2[BULAN]=$C$3,TRUE))/(IF($C$4<>\"\",Table2[OFF/ON]=$C$4,TRUE))/(IF($C$5<>\"\",Table2[Status]=$C$5,TRUE))/(IF($C$6<>\"\",Table2[FPPDate]=$C$6,TRUE))/(IF($C$7<>\"\",Table2[ProposalCode]=$C$7,TRUE)),ROW(E167))),\"\")","v":""},{"$f":"IFERROR(INDEX(Table2[PeriodeEnd],_xlfn.AGGREGATE(15,6,(ROW(Table2[FPPGroupCode])-2)/(Table2[DepoName]=$C$2)/(IF($C$3<>\"\",Table2[BULAN]=$C$3,TRUE))/(IF($C$4<>\"\",Table2[OFF/ON]=$C$4,TRUE))/(IF($C$5<>\"\",Table2[Status]=$C$5,TRUE))/(IF($C$6<>\"\",Table2[FPPDate]=$C$6,TRUE))/(IF($C$7<>\"\",Table2[ProposalCode]=$C$7,TRUE)),ROW(F167))),\"\")","v":""},{"$f":"IFERROR(INDEX(Table2[Amount_FPPDepo],_xlfn.AGGREGATE(15,6,(ROW(Table2[FPPGroupCode])-2)/(Table2[DepoName]=$C$2)/(IF($C$3<>\"\",Table2[BULAN]=$C$3,TRUE))/(IF($C$4<>\"\",Table2[OFF/ON]=$C$4,TRUE))/(IF($C$5<>\"\",Table2[Status]=$C$5,TRUE))/(IF($C$6<>\"\",Table2[FPPDate]=$C$6,TRUE))/(IF($C$7<>\"\",Table2[ProposalCode]=$C$7,TRUE)),ROW(G167))),\"\")","v":""},{"$f":"IFERROR(VLOOKUP($B175,SIP!$D$5776:$P$6032,12,0),0)","v":0},{"$f":"IFERROR(H175-I175,0)","v":0},{"$f":"IFERROR(VLOOKUP($B175,SIP!$D$5776:$P$6032,8,0),0)","v":0},{"$f":"IFERROR(INDEX(Table2[OFF/ON],_xlfn.AGGREGATE(15,6,(ROW(Table2[FPPGroupCode])-2)/(Table2[DepoName]=$C$2)/(IF($C$3<>\"\",Table2[BULAN]=$C$3,TRUE))/(IF($C$4<>\"\",Table2[OFF/ON]=$C$4,TRUE))/(IF($C$5<>\"\",Table2[Status]=$C$5,TRUE))/(IF($C$6<>\"\",Table2[FPPDate]=$C$6,TRUE))/(IF($C$7<>\"\",Table2[ProposalCode]=$C$7,TRUE)),ROW(K167))),\"\")","v":""}]
[{"$f":"IF(LEN($B176),ROW(A168),\"\")","v":""},{"$f":"IFERROR(INDEX(Table2[FPPGroupCode],_xlfn.AGGREGATE(15,6,(ROW(Table2[FPPGroupCode])-2)/(Table2[DepoName]=$C$2)/(IF($C$3<>\"\",Table2[BULAN]=$C$3,TRUE))/(IF($C$4<>\"\",Table2[OFF/ON]=$C$4,TRUE))/(IF($C$5<>\"\",Table2[Status]=$C$5,TRUE))/(IF($C$6<>\"\",Table2[FPPDate]=$C$6,TRUE))/(IF($C$7<>\"\",Table2[ProposalCode]=$C$7,TRUE)),ROW(A168))),\"\")","v":""},{"$f":"IFERROR(VLOOKUP($B176,SIP!$D$3:$Q$12237,14,0),0)","v":0},{"$f":"IFERROR(INDEX(Table2[Activity],_xlfn.AGGREGATE(15,6,(ROW(Table2[FPPGroupCode])-2)/(Table2[DepoName]=$C$2)/(IF($C$3<>\"\",Table2[BULAN]=$C$3,TRUE))/(IF($C$4<>\"\",Table2[OFF/ON]=$C$4,TRUE))/(IF($C$5<>\"\",Table2[Status]=$C$5,TRUE))/(IF($C$6<>\"\",Table2[]=$C$6,TRUE))/(IF($C$7<>\"\",Table2[ProposalCode]=$C$7,TRUE)),ROW(B168))),\"\")","v":""},{"$f":"IFERROR(INDEX(Table2[Location],_xlfn.AGGREGATE(15,6,(ROW(Table2[FPPGroupCode])-2)/(Table2[DepoName]=$C$2)/(IF($C$3<>\"\",Table2[BULAN]=$C$3,TRUE))/(IF($C$4<>\"\",Table2[OFF/ON]=$C$4,TRUE))/(IF($C$5<>\"\",Table2[Status]=$C$5,TRUE))/(IF($C$6<>\"\",Table2[FPPDate]=$C$6,TRUE))/(IF($C$7<>\"\",Table2[ProposalCode]=$C$7,TRUE)),ROW(D168))),\"\")","v":""},{"$f":"IFERROR(INDEX(Table2[PeriodeStart],_xlfn.AGGREGATE(15,6,(ROW(Table2[FPPGroupCode])-2)/(Table2[DepoName]=$C$2)/(IF($C$3<>\"\",Table2[BULAN]=$C$3,TRUE))/(IF($C$4<>\"\",Table2[OFF/ON]=$C$4,TRUE))/(IF($C$5<>\"\",Table2[Status]=$C$5,TRUE))/(IF($C$6<>\"\",Table2[FPPDate]=$C$6,TRUE))/(IF($C$7<>\"\",Table2[ProposalCode]=$C$7,TRUE)),ROW(E168))),\"\")","v":""},{"$f":"IFERROR(INDEX(Table2[PeriodeEnd],_xlfn.AGGREGATE(15,6,(ROW(Table2[FPPGroupCode])-2)/(Table2[DepoName]=$C$2)/(IF($C$3<>\"\",Table2[BULAN]=$C$3,TRUE))/(IF($C$4<>\"\",Table2[OFF/ON]=$C$4,TRUE))/(IF($C$5<>\"\",Table2[Status]=$C$5,TRUE))/(IF($C$6<>\"\",Table2[FPPDate]=$C$6,TRUE))/(IF($C$7<>\"\",Table2[ProposalCode]=$C$7,TRUE)),ROW(F168))),\"\")","v":""},{"$f":"IFERROR(INDEX(Table2[Amount_FPPDepo],_xlfn.AGGREGATE(15,6,(ROW(Table2[FPPGroupCode])-2)/(Table2[DepoName]=$C$2)/(IF($C$3<>\"\",Table2[BULAN]=$C$3,TRUE))/(IF($C$4<>\"\",Table2[OFF/ON]=$C$4,TRUE))/(IF($C$5<>\"\",Table2[Status]=$C$5,TRUE))/(IF($C$6<>\"\",Table2[FPPDate]=$C$6,TRUE))/(IF($C$7<>\"\",Table2[ProposalCode]=$C$7,TRUE)),ROW(G168))),\"\")","v":""},{"$f":"IFERROR(VLOOKUP($B176,SIP!$D$5776:$P$6032,12,0),0)","v":0},{"$f":"IFERROR(H176-I176,0)","v":0},{"$f":"IFERROR(VLOOKUP($B176,SIP!$D$5776:$P$6032,8,0),0)","v":0},{"$f":"IFERROR(INDEX(Table2[OFF/ON],_xlfn.AGGREGATE(15,6,(ROW(Table2[FPPGroupCode])-2)/(Table2[DepoName]=$C$2)/(IF($C$3<>\"\",Table2[BULAN]=$C$3,TRUE))/(IF($C$4<>\"\",Table2[OFF/ON]=$C$4,TRUE))/(IF($C$5<>\"\",Table2[Status]=$C$5,TRUE))/(IF($C$6<>\"\",Table2[FPPDate]=$C$6,TRUE))/(IF($C$7<>\"\",Table2[ProposalCode]=$C$7,TRUE)),ROW(K168))),\"\")","v":""}]
[{"$f":"IF(LEN($B177),ROW(A169),\"\")","v":""},{"$f":"IFERROR(INDEX(Table2[FPPGroupCode],_xlfn.AGGREGATE(15,6,(ROW(Table2[FPPGroupCode])-2)/(Table2[DepoName]=$C$2)/(IF($C$3<>\"\",Table2[BULAN]=$C$3,TRUE))/(IF($C$4<>\"\",Table2[OFF/ON]=$C$4,TRUE))/(IF($C$5<>\"\",Table2[Status]=$C$5,TRUE))/(IF($C$6<>\"\",Table2[FPPDate]=$C$6,TRUE))/(IF($C$7<>\"\",Table2[ProposalCode]=$C$7,TRUE)),ROW(A169))),\"\")","v":""},{"$f":"IFERROR(VLOOKUP($B177,SIP!$D$3:$Q$12237,14,0),0)","v":0},{"$f":"IFERROR(INDEX(Table2[Activity],_xlfn.AGGREGATE(15,6,(ROW(Table2[FPPGroupCode])-2)/(Table2[DepoName]=$C$2)/(IF($C$3<>\"\",Table2[BULAN]=$C$3,TRUE))/(IF($C$4<>\"\",Table2[OFF/ON]=$C$4,TRUE))/(IF($C$5<>\"\",Table2[Status]=$C$5,TRUE))/(IF($C$6<>\"\",Table2[]=$C$6,TRUE))/(IF($C$7<>\"\",Table2[ProposalCode]=$C$7,TRUE)),ROW(B169))),\"\")","v":""},{"$f":"IFERROR(INDEX(Table2[Location],_xlfn.AGGREGATE(15,6,(ROW(Table2[FPPGroupCode])-2)/(Table2[DepoName]=$C$2)/(IF($C$3<>\"\",Table2[BULAN]=$C$3,TRUE))/(IF($C$4<>\"\",Table2[OFF/ON]=$C$4,TRUE))/(IF($C$5<>\"\",Table2[Status]=$C$5,TRUE))/(IF($C$6<>\"\",Table2[FPPDate]=$C$6,TRUE))/(IF($C$7<>\"\",Table2[ProposalCode]=$C$7,TRUE)),ROW(D169))),\"\")","v":""},{"$f":"IFERROR(INDEX(Table2[PeriodeStart],_xlfn.AGGREGATE(15,6,(ROW(Table2[FPPGroupCode])-2)/(Table2[DepoName]=$C$2)/(IF($C$3<>\"\",Table2[BULAN]=$C$3,TRUE))/(IF($C$4<>\"\",Table2[OFF/ON]=$C$4,TRUE))/(IF($C$5<>\"\",Table2[Status]=$C$5,TRUE))/(IF($C$6<>\"\",Table2[FPPDate]=$C$6,TRUE))/(IF($C$7<>\"\",Table2[ProposalCode]=$C$7,TRUE)),ROW(E169))),\"\")","v":""},{"$f":"IFERROR(INDEX(Table2[PeriodeEnd],_xlfn.AGGREGATE(15,6,(ROW(Table2[FPPGroupCode])-2)/(Table2[DepoName]=$C$2)/(IF($C$3<>\"\",Table2[BULAN]=$C$3,TRUE))/(IF($C$4<>\"\",Table2[OFF/ON]=$C$4,TRUE))/(IF($C$5<>\"\",Table2[Status]=$C$5,TRUE))/(IF($C$6<>\"\",Table2[FPPDate]=$C$6,TRUE))/(IF($C$7<>\"\",Table2[ProposalCode]=$C$7,TRUE)),ROW(F169))),\"\")","v":""},{"$f":"IFERROR(INDEX(Table2[Amount_FPPDepo],_xlfn.AGGREGATE(15,6,(ROW(Table2[FPPGroupCode])-2)/(Table2[DepoName]=$C$2)/(IF($C$3<>\"\",Table2[BULAN]=$C$3,TRUE))/(IF($C$4<>\"\",Table2[OFF/ON]=$C$4,TRUE))/(IF($C$5<>\"\",Table2[Status]=$C$5,TRUE))/(IF($C$6<>\"\",Table2[FPPDate]=$C$6,TRUE))/(IF($C$7<>\"\",Table2[ProposalCode]=$C$7,TRUE)),ROW(G169))),\"\")","v":""},{"$f":"IFERROR(VLOOKUP($B177,SIP!$D$5776:$P$6032,12,0),0)","v":0},{"$f":"IFERROR(H177-I177,0)","v":0},{"$f":"IFERROR(VLOOKUP($B177,SIP!$D$5776:$P$6032,8,0),0)","v":0},{"$f":"IFERROR(INDEX(Table2[OFF/ON],_xlfn.AGGREGATE(15,6,(ROW(Table2[FPPGroupCode])-2)/(Table2[DepoName]=$C$2)/(IF($C$3<>\"\",Table2[BULAN]=$C$3,TRUE))/(IF($C$4<>\"\",Table2[OFF/ON]=$C$4,TRUE))/(IF($C$5<>\"\",Table2[Status]=$C$5,TRUE))/(IF($C$6<>\"\",Table2[FPPDate]=$C$6,TRUE))/(IF($C$7<>\"\",Table2[ProposalCode]=$C$7,TRUE)),ROW(K169))),\"\")","v":""}]
[{"$f":"IF(LEN($B178),ROW(A170),\"\")","v":""},{"$f":"IFERROR(INDEX(Table2[FPPGroupCode],_xlfn.AGGREGATE(15,6,(ROW(Table2[FPPGroupCode])-2)/(Table2[DepoName]=$C$2)/(IF($C$3<>\"\",Table2[BULAN]=$C$3,TRUE))/(IF($C$4<>\"\",Table2[OFF/ON]=$C$4,TRUE))/(IF($C$5<>\"\",Table2[Status]=$C$5,TRUE))/(IF($C$6<>\"\",Table2[FPPDate]=$C$6,TRUE))/(IF($C$7<>\"\",Table2[ProposalCode]=$C$7,TRUE)),ROW(A170))),\"\")","v":""},{"$f":"IFERROR(VLOOKUP($B178,SIP!$D$3:$Q$12237,14,0),0)","v":0},{"$f":"IFERROR(INDEX(Table2[Activity],_xlfn.AGGREGATE(15,6,(ROW(Table2[FPPGroupCode])-2)/(Table2[DepoName]=$C$2)/(IF($C$3<>\"\",Table2[BULAN]=$C$3,TRUE))/(IF($C$4<>\"\",Table2[OFF/ON]=$C$4,TRUE))/(IF($C$5<>\"\",Table2[Status]=$C$5,TRUE))/(IF($C$6<>\"\",Table2[]=$C$6,TRUE))/(IF($C$7<>\"\",Table2[ProposalCode]=$C$7,TRUE)),ROW(B170))),\"\")","v":""},{"$f":"IFERROR(INDEX(Table2[Location],_xlfn.AGGREGATE(15,6,(ROW(Table2[FPPGroupCode])-2)/(Table2[DepoName]=$C$2)/(IF($C$3<>\"\",Table2[BULAN]=$C$3,TRUE))/(IF($C$4<>\"\",Table2[OFF/ON]=$C$4,TRUE))/(IF($C$5<>\"\",Table2[Status]=$C$5,TRUE))/(IF($C$6<>\"\",Table2[FPPDate]=$C$6,TRUE))/(IF($C$7<>\"\",Table2[ProposalCode]=$C$7,TRUE)),ROW(D170))),\"\")","v":""},{"$f":"IFERROR(INDEX(Table2[PeriodeStart],_xlfn.AGGREGATE(15,6,(ROW(Table2[FPPGroupCode])-2)/(Table2[DepoName]=$C$2)/(IF($C$3<>\"\",Table2[BULAN]=$C$3,TRUE))/(IF($C$4<>\"\",Table2[OFF/ON]=$C$4,TRUE))/(IF($C$5<>\"\",Table2[Status]=$C$5,TRUE))/(IF($C$6<>\"\",Table2[FPPDate]=$C$6,TRUE))/(IF($C$7<>\"\",Table2[ProposalCode]=$C$7,TRUE)),ROW(E170))),\"\")","v":""},{"$f":"IFERROR(INDEX(Table2[PeriodeEnd],_xlfn.AGGREGATE(15,6,(ROW(Table2[FPPGroupCode])-2)/(Table2[DepoName]=$C$2)/(IF($C$3<>\"\",Table2[BULAN]=$C$3,TRUE))/(IF($C$4<>\"\",Table2[OFF/ON]=$C$4,TRUE))/(IF($C$5<>\"\",Table2[Status]=$C$5,TRUE))/(IF($C$6<>\"\",Table2[FPPDate]=$C$6,TRUE))/(IF($C$7<>\"\",Table2[ProposalCode]=$C$7,TRUE)),ROW(F170))),\"\")","v":""},{"$f":"IFERROR(INDEX(Table2[Amount_FPPDepo],_xlfn.AGGREGATE(15,6,(ROW(Table2[FPPGroupCode])-2)/(Table2[DepoName]=$C$2)/(IF($C$3<>\"\",Table2[BULAN]=$C$3,TRUE))/(IF($C$4<>\"\",Table2[OFF/ON]=$C$4,TRUE))/(IF($C$5<>\"\",Table2[Status]=$C$5,TRUE))/(IF($C$6<>\"\",Table2[FPPDate]=$C$6,TRUE))/(IF($C$7<>\"\",Table2[ProposalCode]=$C$7,TRUE)),ROW(G170))),\"\")","v":""},{"$f":"IFERROR(VLOOKUP($B178,SIP!$D$5776:$P$6032,12,0),0)","v":0},{"$f":"IFERROR(H178-I178,0)","v":0},{"$f":"IFERROR(VLOOKUP($B178,SIP!$D$5776:$P$6032,8,0),0)","v":0},{"$f":"IFERROR(INDEX(Table2[OFF/ON],_xlfn.AGGREGATE(15,6,(ROW(Table2[FPPGroupCode])-2)/(Table2[DepoName]=$C$2)/(IF($C$3<>\"\",Table2[BULAN]=$C$3,TRUE))/(IF($C$4<>\"\",Table2[OFF/ON]=$C$4,TRUE))/(IF($C$5<>\"\",Table2[Status]=$C$5,TRUE))/(IF($C$6<>\"\",Table2[FPPDate]=$C$6,TRUE))/(IF($C$7<>\"\",Table2[ProposalCode]=$C$7,TRUE)),ROW(K170))),\"\")","v":""}]
[{"$f":"IF(LEN($B179),ROW(A171),\"\")","v":""},{"$f":"IFERROR(INDEX(Table2[FPPGroupCode],_xlfn.AGGREGATE(15,6,(ROW(Table2[FPPGroupCode])-2)/(Table2[DepoName]=$C$2)/(IF($C$3<>\"\",Table2[BULAN]=$C$3,TRUE))/(IF($C$4<>\"\",Table2[OFF/ON]=$C$4,TRUE))/(IF($C$5<>\"\",Table2[Status]=$C$5,TRUE))/(IF($C$6<>\"\",Table2[FPPDate]=$C$6,TRUE))/(IF($C$7<>\"\",Table2[ProposalCode]=$C$7,TRUE)),ROW(A171))),\"\")","v":""},{"$f":"IFERROR(VLOOKUP($B179,SIP!$D$3:$Q$12237,14,0),0)","v":0},{"$f":"IFERROR(INDEX(Table2[Activity],_xlfn.AGGREGATE(15,6,(ROW(Table2[FPPGroupCode])-2)/(Table2[DepoName]=$C$2)/(IF($C$3<>\"\",Table2[BULAN]=$C$3,TRUE))/(IF($C$4<>\"\",Table2[OFF/ON]=$C$4,TRUE))/(IF($C$5<>\"\",Table2[Status]=$C$5,TRUE))/(IF($C$6<>\"\",Table2[]=$C$6,TRUE))/(IF($C$7<>\"\",Table2[ProposalCode]=$C$7,TRUE)),ROW(B171))),\"\")","v":""},{"$f":"IFERROR(INDEX(Table2[Location],_xlfn.AGGREGATE(15,6,(ROW(Table2[FPPGroupCode])-2)/(Table2[DepoName]=$C$2)/(IF($C$3<>\"\",Table2[BULAN]=$C$3,TRUE))/(IF($C$4<>\"\",Table2[OFF/ON]=$C$4,TRUE))/(IF($C$5<>\"\",Table2[Status]=$C$5,TRUE))/(IF($C$6<>\"\",Table2[FPPDate]=$C$6,TRUE))/(IF($C$7<>\"\",Table2[ProposalCode]=$C$7,TRUE)),ROW(D171))),\"\")","v":""},{"$f":"IFERROR(INDEX(Table2[PeriodeStart],_xlfn.AGGREGATE(15,6,(ROW(Table2[FPPGroupCode])-2)/(Table2[DepoName]=$C$2)/(IF($C$3<>\"\",Table2[BULAN]=$C$3,TRUE))/(IF($C$4<>\"\",Table2[OFF/ON]=$C$4,TRUE))/(IF($C$5<>\"\",Table2[Status]=$C$5,TRUE))/(IF($C$6<>\"\",Table2[FPPDate]=$C$6,TRUE))/(IF($C$7<>\"\",Table2[ProposalCode]=$C$7,TRUE)),ROW(E171))),\"\")","v":""},{"$f":"IFERROR(INDEX(Table2[PeriodeEnd],_xlfn.AGGREGATE(15,6,(ROW(Table2[FPPGroupCode])-2)/(Table2[DepoName]=$C$2)/(IF($C$3<>\"\",Table2[BULAN]=$C$3,TRUE))/(IF($C$4<>\"\",Table2[OFF/ON]=$C$4,TRUE))/(IF($C$5<>\"\",Table2[Status]=$C$5,TRUE))/(IF($C$6<>\"\",Table2[FPPDate]=$C$6,TRUE))/(IF($C$7<>\"\",Table2[ProposalCode]=$C$7,TRUE)),ROW(F171))),\"\")","v":""},{"$f":"IFERROR(INDEX(Table2[Amount_FPPDepo],_xlfn.AGGREGATE(15,6,(ROW(Table2[FPPGroupCode])-2)/(Table2[DepoName]=$C$2)/(IF($C$3<>\"\",Table2[BULAN]=$C$3,TRUE))/(IF($C$4<>\"\",Table2[OFF/ON]=$C$4,TRUE))/(IF($C$5<>\"\",Table2[Status]=$C$5,TRUE))/(IF($C$6<>\"\",Table2[FPPDate]=$C$6,TRUE))/(IF($C$7<>\"\",Table2[ProposalCode]=$C$7,TRUE)),ROW(G171))),\"\")","v":""},{"$f":"IFERROR(VLOOKUP($B179,SIP!$D$5776:$P$6032,12,0),0)","v":0},{"$f":"IFERROR(H179-I179,0)","v":0},{"$f":"IFERROR(VLOOKUP($B179,SIP!$D$5776:$P$6032,8,0),0)","v":0},{"$f":"IFERROR(INDEX(Table2[OFF/ON],_xlfn.AGGREGATE(15,6,(ROW(Table2[FPPGroupCode])-2)/(Table2[DepoName]=$C$2)/(IF($C$3<>\"\",Table2[BULAN]=$C$3,TRUE))/(IF($C$4<>\"\",Table2[OFF/ON]=$C$4,TRUE))/(IF($C$5<>\"\",Table2[Status]=$C$5,TRUE))/(IF($C$6<>\"\",Table2[FPPDate]=$C$6,TRUE))/(IF($C$7<>\"\",Table2[ProposalCode]=$C$7,TRUE)),ROW(K171))),\"\")","v":""}]
[{"$f":"IF(LEN($B180),ROW(A172),\"\")","v":""},{"$f":"IFERROR(INDEX(Table2[FPPGroupCode],_xlfn.AGGREGATE(15,6,(ROW(Table2[FPPGroupCode])-2)/(Table2[DepoName]=$C$2)/(IF($C$3<>\"\",Table2[BULAN]=$C$3,TRUE))/(IF($C$4<>\"\",Table2[OFF/ON]=$C$4,TRUE))/(IF($C$5<>\"\",Table2[Status]=$C$5,TRUE))/(IF($C$6<>\"\",Table2[FPPDate]=$C$6,TRUE))/(IF($C$7<>\"\",Table2[ProposalCode]=$C$7,TRUE)),ROW(A172))),\"\")","v":""},{"$f":"IFERROR(VLOOKUP($B180,SIP!$D$3:$Q$12237,14,0),0)","v":0},{"$f":"IFERROR(INDEX(Table2[Activity],_xlfn.AGGREGATE(15,6,(ROW(Table2[FPPGroupCode])-2)/(Table2[DepoName]=$C$2)/(IF($C$3<>\"\",Table2[BULAN]=$C$3,TRUE))/(IF($C$4<>\"\",Table2[OFF/ON]=$C$4,TRUE))/(IF($C$5<>\"\",Table2[Status]=$C$5,TRUE))/(IF($C$6<>\"\",Table2[]=$C$6,TRUE))/(IF($C$7<>\"\",Table2[ProposalCode]=$C$7,TRUE)),ROW(B172))),\"\")","v":""},{"$f":"IFERROR(INDEX(Table2[Location],_xlfn.AGGREGATE(15,6,(ROW(Table2[FPPGroupCode])-2)/(Table2[DepoName]=$C$2)/(IF($C$3<>\"\",Table2[BULAN]=$C$3,TRUE))/(IF($C$4<>\"\",Table2[OFF/ON]=$C$4,TRUE))/(IF($C$5<>\"\",Table2[Status]=$C$5,TRUE))/(IF($C$6<>\"\",Table2[FPPDate]=$C$6,TRUE))/(IF($C$7<>\"\",Table2[ProposalCode]=$C$7,TRUE)),ROW(D172))),\"\")","v":""},{"$f":"IFERROR(INDEX(Table2[PeriodeStart],_xlfn.AGGREGATE(15,6,(ROW(Table2[FPPGroupCode])-2)/(Table2[DepoName]=$C$2)/(IF($C$3<>\"\",Table2[BULAN]=$C$3,TRUE))/(IF($C$4<>\"\",Table2[OFF/ON]=$C$4,TRUE))/(IF($C$5<>\"\",Table2[Status]=$C$5,TRUE))/(IF($C$6<>\"\",Table2[FPPDate]=$C$6,TRUE))/(IF($C$7<>\"\",Table2[ProposalCode]=$C$7,TRUE)),ROW(E172))),\"\")","v":""},{"$f":"IFERROR(INDEX(Table2[PeriodeEnd],_xlfn.AGGREGATE(15,6,(ROW(Table2[FPPGroupCode])-2)/(Table2[DepoName]=$C$2)/(IF($C$3<>\"\",Table2[BULAN]=$C$3,TRUE))/(IF($C$4<>\"\",Table2[OFF/ON]=$C$4,TRUE))/(IF($C$5<>\"\",Table2[Status]=$C$5,TRUE))/(IF($C$6<>\"\",Table2[FPPDate]=$C$6,TRUE))/(IF($C$7<>\"\",Table2[ProposalCode]=$C$7,TRUE)),ROW(F172))),\"\")","v":""},{"$f":"IFERROR(INDEX(Table2[Amount_FPPDepo],_xlfn.AGGREGATE(15,6,(ROW(Table2[FPPGroupCode])-2)/(Table2[DepoName]=$C$2)/(IF($C$3<>\"\",Table2[BULAN]=$C$3,TRUE))/(IF($C$4<>\"\",Table2[OFF/ON]=$C$4,TRUE))/(IF($C$5<>\"\",Table2[Status]=$C$5,TRUE))/(IF($C$6<>\"\",Table2[FPPDate]=$C$6,TRUE))/(IF($C$7<>\"\",Table2[ProposalCode]=$C$7,TRUE)),ROW(G172))),\"\")","v":""},{"$f":"IFERROR(VLOOKUP($B180,SIP!$D$5776:$P$6032,12,0),0)","v":0},{"$f":"IFERROR(H180-I180,0)","v":0},{"$f":"IFERROR(VLOOKUP($B180,SIP!$D$5776:$P$6032,8,0),0)","v":0},{"$f":"IFERROR(INDEX(Table2[OFF/ON],_xlfn.AGGREGATE(15,6,(ROW(Table2[FPPGroupCode])-2)/(Table2[DepoName]=$C$2)/(IF($C$3<>\"\",Table2[BULAN]=$C$3,TRUE))/(IF($C$4<>\"\",Table2[OFF/ON]=$C$4,TRUE))/(IF($C$5<>\"\",Table2[Status]=$C$5,TRUE))/(IF($C$6<>\"\",Table2[FPPDate]=$C$6,TRUE))/(IF($C$7<>\"\",Table2[ProposalCode]=$C$7,TRUE)),ROW(K172))),\"\")","v":""}]
[{"$f":"IF(LEN($B181),ROW(A173),\"\")","v":""},{"$f":"IFERROR(INDEX(Table2[FPPGroupCode],_xlfn.AGGREGATE(15,6,(ROW(Table2[FPPGroupCode])-2)/(Table2[DepoName]=$C$2)/(IF($C$3<>\"\",Table2[BULAN]=$C$3,TRUE))/(IF($C$4<>\"\",Table2[OFF/ON]=$C$4,TRUE))/(IF($C$5<>\"\",Table2[Status]=$C$5,TRUE))/(IF($C$6<>\"\",Table2[FPPDate]=$C$6,TRUE))/(IF($C$7<>\"\",Table2[ProposalCode]=$C$7,TRUE)),ROW(A173))),\"\")","v":""},{"$f":"IFERROR(VLOOKUP($B181,SIP!$D$3:$Q$12237,14,0),0)","v":0},{"$f":"IFERROR(INDEX(Table2[Activity],_xlfn.AGGREGATE(15,6,(ROW(Table2[FPPGroupCode])-2)/(Table2[DepoName]=$C$2)/(IF($C$3<>\"\",Table2[BULAN]=$C$3,TRUE))/(IF($C$4<>\"\",Table2[OFF/ON]=$C$4,TRUE))/(IF($C$5<>\"\",Table2[Status]=$C$5,TRUE))/(IF($C$6<>\"\",Table2[]=$C$6,TRUE))/(IF($C$7<>\"\",Table2[ProposalCode]=$C$7,TRUE)),ROW(B173))),\"\")","v":""},{"$f":"IFERROR(INDEX(Table2[Location],_xlfn.AGGREGATE(15,6,(ROW(Table2[FPPGroupCode])-2)/(Table2[DepoName]=$C$2)/(IF($C$3<>\"\",Table2[BULAN]=$C$3,TRUE))/(IF($C$4<>\"\",Table2[OFF/ON]=$C$4,TRUE))/(IF($C$5<>\"\",Table2[Status]=$C$5,TRUE))/(IF($C$6<>\"\",Table2[FPPDate]=$C$6,TRUE))/(IF($C$7<>\"\",Table2[ProposalCode]=$C$7,TRUE)),ROW(D173))),\"\")","v":""},{"$f":"IFERROR(INDEX(Table2[PeriodeStart],_xlfn.AGGREGATE(15,6,(ROW(Table2[FPPGroupCode])-2)/(Table2[DepoName]=$C$2)/(IF($C$3<>\"\",Table2[BULAN]=$C$3,TRUE))/(IF($C$4<>\"\",Table2[OFF/ON]=$C$4,TRUE))/(IF($C$5<>\"\",Table2[Status]=$C$5,TRUE))/(IF($C$6<>\"\",Table2[FPPDate]=$C$6,TRUE))/(IF($C$7<>\"\",Table2[ProposalCode]=$C$7,TRUE)),ROW(E173))),\"\")","v":""},{"$f":"IFERROR(INDEX(Table2[PeriodeEnd],_xlfn.AGGREGATE(15,6,(ROW(Table2[FPPGroupCode])-2)/(Table2[DepoName]=$C$2)/(IF($C$3<>\"\",Table2[BULAN]=$C$3,TRUE))/(IF($C$4<>\"\",Table2[OFF/ON]=$C$4,TRUE))/(IF($C$5<>\"\",Table2[Status]=$C$5,TRUE))/(IF($C$6<>\"\",Table2[FPPDate]=$C$6,TRUE))/(IF($C$7<>\"\",Table2[ProposalCode]=$C$7,TRUE)),ROW(F173))),\"\")","v":""},{"$f":"IFERROR(INDEX(Table2[Amount_FPPDepo],_xlfn.AGGREGATE(15,6,(ROW(Table2[FPPGroupCode])-2)/(Table2[DepoName]=$C$2)/(IF($C$3<>\"\",Table2[BULAN]=$C$3,TRUE))/(IF($C$4<>\"\",Table2[OFF/ON]=$C$4,TRUE))/(IF($C$5<>\"\",Table2[Status]=$C$5,TRUE))/(IF($C$6<>\"\",Table2[FPPDate]=$C$6,TRUE))/(IF($C$7<>\"\",Table2[ProposalCode]=$C$7,TRUE)),ROW(G173))),\"\")","v":""},{"$f":"IFERROR(VLOOKUP($B181,SIP!$D$5776:$P$6032,12,0),0)","v":0},{"$f":"IFERROR(H181-I181,0)","v":0},{"$f":"IFERROR(VLOOKUP($B181,SIP!$D$5776:$P$6032,8,0),0)","v":0},{"$f":"IFERROR(INDEX(Table2[OFF/ON],_xlfn.AGGREGATE(15,6,(ROW(Table2[FPPGroupCode])-2)/(Table2[DepoName]=$C$2)/(IF($C$3<>\"\",Table2[BULAN]=$C$3,TRUE))/(IF($C$4<>\"\",Table2[OFF/ON]=$C$4,TRUE))/(IF($C$5<>\"\",Table2[Status]=$C$5,TRUE))/(IF($C$6<>\"\",Table2[FPPDate]=$C$6,TRUE))/(IF($C$7<>\"\",Table2[ProposalCode]=$C$7,TRUE)),ROW(K173))),\"\")","v":""}]
[{"$f":"IF(LEN($B182),ROW(A174),\"\")","v":""},{"$f":"IFERROR(INDEX(Table2[FPPGroupCode],_xlfn.AGGREGATE(15,6,(ROW(Table2[FPPGroupCode])-2)/(Table2[DepoName]=$C$2)/(IF($C$3<>\"\",Table2[BULAN]=$C$3,TRUE))/(IF($C$4<>\"\",Table2[OFF/ON]=$C$4,TRUE))/(IF($C$5<>\"\",Table2[Status]=$C$5,TRUE))/(IF($C$6<>\"\",Table2[FPPDate]=$C$6,TRUE))/(IF($C$7<>\"\",Table2[ProposalCode]=$C$7,TRUE)),ROW(A174))),\"\")","v":""},{"$f":"IFERROR(VLOOKUP($B182,SIP!$D$3:$Q$12237,14,0),0)","v":0},{"$f":"IFERROR(INDEX(Table2[Activity],_xlfn.AGGREGATE(15,6,(ROW(Table2[FPPGroupCode])-2)/(Table2[DepoName]=$C$2)/(IF($C$3<>\"\",Table2[BULAN]=$C$3,TRUE))/(IF($C$4<>\"\",Table2[OFF/ON]=$C$4,TRUE))/(IF($C$5<>\"\",Table2[Status]=$C$5,TRUE))/(IF($C$6<>\"\",Table2[]=$C$6,TRUE))/(IF($C$7<>\"\",Table2[ProposalCode]=$C$7,TRUE)),ROW(B174))),\"\")","v":""},{"$f":"IFERROR(INDEX(Table2[Location],_xlfn.AGGREGATE(15,6,(ROW(Table2[FPPGroupCode])-2)/(Table2[DepoName]=$C$2)/(IF($C$3<>\"\",Table2[BULAN]=$C$3,TRUE))/(IF($C$4<>\"\",Table2[OFF/ON]=$C$4,TRUE))/(IF($C$5<>\"\",Table2[Status]=$C$5,TRUE))/(IF($C$6<>\"\",Table2[FPPDate]=$C$6,TRUE))/(IF($C$7<>\"\",Table2[ProposalCode]=$C$7,TRUE)),ROW(D174))),\"\")","v":""},{"$f":"IFERROR(INDEX(Table2[PeriodeStart],_xlfn.AGGREGATE(15,6,(ROW(Table2[FPPGroupCode])-2)/(Table2[DepoName]=$C$2)/(IF($C$3<>\"\",Table2[BULAN]=$C$3,TRUE))/(IF($C$4<>\"\",Table2[OFF/ON]=$C$4,TRUE))/(IF($C$5<>\"\",Table2[Status]=$C$5,TRUE))/(IF($C$6<>\"\",Table2[FPPDate]=$C$6,TRUE))/(IF($C$7<>\"\",Table2[ProposalCode]=$C$7,TRUE)),ROW(E174))),\"\")","v":""},{"$f":"IFERROR(INDEX(Table2[PeriodeEnd],_xlfn.AGGREGATE(15,6,(ROW(Table2[FPPGroupCode])-2)/(Table2[DepoName]=$C$2)/(IF($C$3<>\"\",Table2[BULAN]=$C$3,TRUE))/(IF($C$4<>\"\",Table2[OFF/ON]=$C$4,TRUE))/(IF($C$5<>\"\",Table2[Status]=$C$5,TRUE))/(IF($C$6<>\"\",Table2[FPPDate]=$C$6,TRUE))/(IF($C$7<>\"\",Table2[ProposalCode]=$C$7,TRUE)),ROW(F174))),\"\")","v":""},{"$f":"IFERROR(INDEX(Table2[Amount_FPPDepo],_xlfn.AGGREGATE(15,6,(ROW(Table2[FPPGroupCode])-2)/(Table2[DepoName]=$C$2)/(IF($C$3<>\"\",Table2[BULAN]=$C$3,TRUE))/(IF($C$4<>\"\",Table2[OFF/ON]=$C$4,TRUE))/(IF($C$5<>\"\",Table2[Status]=$C$5,TRUE))/(IF($C$6<>\"\",Table2[FPPDate]=$C$6,TRUE))/(IF($C$7<>\"\",Table2[ProposalCode]=$C$7,TRUE)),ROW(G174))),\"\")","v":""},{"$f":"IFERROR(VLOOKUP($B182,SIP!$D$5776:$P$6032,12,0),0)","v":0},{"$f":"IFERROR(H182-I182,0)","v":0},{"$f":"IFERROR(VLOOKUP($B182,SIP!$D$5776:$P$6032,8,0),0)","v":0},{"$f":"IFERROR(INDEX(Table2[OFF/ON],_xlfn.AGGREGATE(15,6,(ROW(Table2[FPPGroupCode])-2)/(Table2[DepoName]=$C$2)/(IF($C$3<>\"\",Table2[BULAN]=$C$3,TRUE))/(IF($C$4<>\"\",Table2[OFF/ON]=$C$4,TRUE))/(IF($C$5<>\"\",Table2[Status]=$C$5,TRUE))/(IF($C$6<>\"\",Table2[FPPDate]=$C$6,TRUE))/(IF($C$7<>\"\",Table2[ProposalCode]=$C$7,TRUE)),ROW(K174))),\"\")","v":""}]
[{"$f":"IF(LEN($B183),ROW(A175),\"\")","v":""},{"$f":"IFERROR(INDEX(Table2[FPPGroupCode],_xlfn.AGGREGATE(15,6,(ROW(Table2[FPPGroupCode])-2)/(Table2[DepoName]=$C$2)/(IF($C$3<>\"\",Table2[BULAN]=$C$3,TRUE))/(IF($C$4<>\"\",Table2[OFF/ON]=$C$4,TRUE))/(IF($C$5<>\"\",Table2[Status]=$C$5,TRUE))/(IF($C$6<>\"\",Table2[FPPDate]=$C$6,TRUE))/(IF($C$7<>\"\",Table2[ProposalCode]=$C$7,TRUE)),ROW(A175))),\"\")","v":""},{"$f":"IFERROR(VLOOKUP($B183,SIP!$D$3:$Q$12237,14,0),0)","v":0},{"$f":"IFERROR(INDEX(Table2[Activity],_xlfn.AGGREGATE(15,6,(ROW(Table2[FPPGroupCode])-2)/(Table2[DepoName]=$C$2)/(IF($C$3<>\"\",Table2[BULAN]=$C$3,TRUE))/(IF($C$4<>\"\",Table2[OFF/ON]=$C$4,TRUE))/(IF($C$5<>\"\",Table2[Status]=$C$5,TRUE))/(IF($C$6<>\"\",Table2[]=$C$6,TRUE))/(IF($C$7<>\"\",Table2[ProposalCode]=$C$7,TRUE)),ROW(B175))),\"\")","v":""},{"$f":"IFERROR(INDEX(Table2[Location],_xlfn.AGGREGATE(15,6,(ROW(Table2[FPPGroupCode])-2)/(Table2[DepoName]=$C$2)/(IF($C$3<>\"\",Table2[BULAN]=$C$3,TRUE))/(IF($C$4<>\"\",Table2[OFF/ON]=$C$4,TRUE))/(IF($C$5<>\"\",Table2[Status]=$C$5,TRUE))/(IF($C$6<>\"\",Table2[FPPDate]=$C$6,TRUE))/(IF($C$7<>\"\",Table2[ProposalCode]=$C$7,TRUE)),ROW(D175))),\"\")","v":""},{"$f":"IFERROR(INDEX(Table2[PeriodeStart],_xlfn.AGGREGATE(15,6,(ROW(Table2[FPPGroupCode])-2)/(Table2[DepoName]=$C$2)/(IF($C$3<>\"\",Table2[BULAN]=$C$3,TRUE))/(IF($C$4<>\"\",Table2[OFF/ON]=$C$4,TRUE))/(IF($C$5<>\"\",Table2[Status]=$C$5,TRUE))/(IF($C$6<>\"\",Table2[FPPDate]=$C$6,TRUE))/(IF($C$7<>\"\",Table2[ProposalCode]=$C$7,TRUE)),ROW(E175))),\"\")","v":""},{"$f":"IFERROR(INDEX(Table2[PeriodeEnd],_xlfn.AGGREGATE(15,6,(ROW(Table2[FPPGroupCode])-2)/(Table2[DepoName]=$C$2)/(IF($C$3<>\"\",Table2[BULAN]=$C$3,TRUE))/(IF($C$4<>\"\",Table2[OFF/ON]=$C$4,TRUE))/(IF($C$5<>\"\",Table2[Status]=$C$5,TRUE))/(IF($C$6<>\"\",Table2[FPPDate]=$C$6,TRUE))/(IF($C$7<>\"\",Table2[ProposalCode]=$C$7,TRUE)),ROW(F175))),\"\")","v":""},{"$f":"IFERROR(INDEX(Table2[Amount_FPPDepo],_xlfn.AGGREGATE(15,6,(ROW(Table2[FPPGroupCode])-2)/(Table2[DepoName]=$C$2)/(IF($C$3<>\"\",Table2[BULAN]=$C$3,TRUE))/(IF($C$4<>\"\",Table2[OFF/ON]=$C$4,TRUE))/(IF($C$5<>\"\",Table2[Status]=$C$5,TRUE))/(IF($C$6<>\"\",Table2[FPPDate]=$C$6,TRUE))/(IF($C$7<>\"\",Table2[ProposalCode]=$C$7,TRUE)),ROW(G175))),\"\")","v":""},{"$f":"IFERROR(VLOOKUP($B183,SIP!$D$5776:$P$6032,12,0),0)","v":0},{"$f":"IFERROR(H183-I183,0)","v":0},{"$f":"IFERROR(VLOOKUP($B183,SIP!$D$5776:$P$6032,8,0),0)","v":0},{"$f":"IFERROR(INDEX(Table2[OFF/ON],_xlfn.AGGREGATE(15,6,(ROW(Table2[FPPGroupCode])-2)/(Table2[DepoName]=$C$2)/(IF($C$3<>\"\",Table2[BULAN]=$C$3,TRUE))/(IF($C$4<>\"\",Table2[OFF/ON]=$C$4,TRUE))/(IF($C$5<>\"\",Table2[Status]=$C$5,TRUE))/(IF($C$6<>\"\",Table2[FPPDate]=$C$6,TRUE))/(IF($C$7<>\"\",Table2[ProposalCode]=$C$7,TRUE)),ROW(K175))),\"\")","v":""}]
[{"$f":"IF(LEN($B184),ROW(A176),\"\")","v":""},{"$f":"IFERROR(INDEX(Table2[FPPGroupCode],_xlfn.AGGREGATE(15,6,(ROW(Table2[FPPGroupCode])-2)/(Table2[DepoName]=$C$2)/(IF($C$3<>\"\",Table2[BULAN]=$C$3,TRUE))/(IF($C$4<>\"\",Table2[OFF/ON]=$C$4,TRUE))/(IF($C$5<>\"\",Table2[Status]=$C$5,TRUE))/(IF($C$6<>\"\",Table2[FPPDate]=$C$6,TRUE))/(IF($C$7<>\"\",Table2[ProposalCode]=$C$7,TRUE)),ROW(A176))),\"\")","v":""},{"$f":"IFERROR(VLOOKUP($B184,SIP!$D$3:$Q$12237,14,0),0)","v":0},{"$f":"IFERROR(INDEX(Table2[Activity],_xlfn.AGGREGATE(15,6,(ROW(Table2[FPPGroupCode])-2)/(Table2[DepoName]=$C$2)/(IF($C$3<>\"\",Table2[BULAN]=$C$3,TRUE))/(IF($C$4<>\"\",Table2[OFF/ON]=$C$4,TRUE))/(IF($C$5<>\"\",Table2[Status]=$C$5,TRUE))/(IF($C$6<>\"\",Table2[]=$C$6,TRUE))/(IF($C$7<>\"\",Table2[ProposalCode]=$C$7,TRUE)),ROW(B176))),\"\")","v":""},{"$f":"IFERROR(INDEX(Table2[Location],_xlfn.AGGREGATE(15,6,(ROW(Table2[FPPGroupCode])-2)/(Table2[DepoName]=$C$2)/(IF($C$3<>\"\",Table2[BULAN]=$C$3,TRUE))/(IF($C$4<>\"\",Table2[OFF/ON]=$C$4,TRUE))/(IF($C$5<>\"\",Table2[Status]=$C$5,TRUE))/(IF($C$6<>\"\",Table2[FPPDate]=$C$6,TRUE))/(IF($C$7<>\"\",Table2[ProposalCode]=$C$7,TRUE)),ROW(D176))),\"\")","v":""},{"$f":"IFERROR(INDEX(Table2[PeriodeStart],_xlfn.AGGREGATE(15,6,(ROW(Table2[FPPGroupCode])-2)/(Table2[DepoName]=$C$2)/(IF($C$3<>\"\",Table2[BULAN]=$C$3,TRUE))/(IF($C$4<>\"\",Table2[OFF/ON]=$C$4,TRUE))/(IF($C$5<>\"\",Table2[Status]=$C$5,TRUE))/(IF($C$6<>\"\",Table2[FPPDate]=$C$6,TRUE))/(IF($C$7<>\"\",Table2[ProposalCode]=$C$7,TRUE)),ROW(E176))),\"\")","v":""},{"$f":"IFERROR(INDEX(Table2[PeriodeEnd],_xlfn.AGGREGATE(15,6,(ROW(Table2[FPPGroupCode])-2)/(Table2[DepoName]=$C$2)/(IF($C$3<>\"\",Table2[BULAN]=$C$3,TRUE))/(IF($C$4<>\"\",Table2[OFF/ON]=$C$4,TRUE))/(IF($C$5<>\"\",Table2[Status]=$C$5,TRUE))/(IF($C$6<>\"\",Table2[FPPDate]=$C$6,TRUE))/(IF($C$7<>\"\",Table2[ProposalCode]=$C$7,TRUE)),ROW(F176))),\"\")","v":""},{"$f":"IFERROR(INDEX(Table2[Amount_FPPDepo],_xlfn.AGGREGATE(15,6,(ROW(Table2[FPPGroupCode])-2)/(Table2[DepoName]=$C$2)/(IF($C$3<>\"\",Table2[BULAN]=$C$3,TRUE))/(IF($C$4<>\"\",Table2[OFF/ON]=$C$4,TRUE))/(IF($C$5<>\"\",Table2[Status]=$C$5,TRUE))/(IF($C$6<>\"\",Table2[FPPDate]=$C$6,TRUE))/(IF($C$7<>\"\",Table2[ProposalCode]=$C$7,TRUE)),ROW(G176))),\"\")","v":""},{"$f":"IFERROR(VLOOKUP($B184,SIP!$D$5776:$P$6032,12,0),0)","v":0},{"$f":"IFERROR(H184-I184,0)","v":0},{"$f":"IFERROR(VLOOKUP($B184,SIP!$D$5776:$P$6032,8,0),0)","v":0},{"$f":"IFERROR(INDEX(Table2[OFF/ON],_xlfn.AGGREGATE(15,6,(ROW(Table2[FPPGroupCode])-2)/(Table2[DepoName]=$C$2)/(IF($C$3<>\"\",Table2[BULAN]=$C$3,TRUE))/(IF($C$4<>\"\",Table2[OFF/ON]=$C$4,TRUE))/(IF($C$5<>\"\",Table2[Status]=$C$5,TRUE))/(IF($C$6<>\"\",Table2[FPPDate]=$C$6,TRUE))/(IF($C$7<>\"\",Table2[ProposalCode]=$C$7,TRUE)),ROW(K176))),\"\")","v":""}]
[{"$f":"IF(LEN($B185),ROW(A177),\"\")","v":""},{"$f":"IFERROR(INDEX(Table2[FPPGroupCode],_xlfn.AGGREGATE(15,6,(ROW(Table2[FPPGroupCode])-2)/(Table2[DepoName]=$C$2)/(IF($C$3<>\"\",Table2[BULAN]=$C$3,TRUE))/(IF($C$4<>\"\",Table2[OFF/ON]=$C$4,TRUE))/(IF($C$5<>\"\",Table2[Status]=$C$5,TRUE))/(IF($C$6<>\"\",Table2[FPPDate]=$C$6,TRUE))/(IF($C$7<>\"\",Table2[ProposalCode]=$C$7,TRUE)),ROW(A177))),\"\")","v":""},{"$f":"IFERROR(VLOOKUP($B185,SIP!$D$3:$Q$12237,14,0),0)","v":0},{"$f":"IFERROR(INDEX(Table2[Activity],_xlfn.AGGREGATE(15,6,(ROW(Table2[FPPGroupCode])-2)/(Table2[DepoName]=$C$2)/(IF($C$3<>\"\",Table2[BULAN]=$C$3,TRUE))/(IF($C$4<>\"\",Table2[OFF/ON]=$C$4,TRUE))/(IF($C$5<>\"\",Table2[Status]=$C$5,TRUE))/(IF($C$6<>\"\",Table2[]=$C$6,TRUE))/(IF($C$7<>\"\",Table2[ProposalCode]=$C$7,TRUE)),ROW(B177))),\"\")","v":""},{"$f":"IFERROR(INDEX(Table2[Location],_xlfn.AGGREGATE(15,6,(ROW(Table2[FPPGroupCode])-2)/(Table2[DepoName]=$C$2)/(IF($C$3<>\"\",Table2[BULAN]=$C$3,TRUE))/(IF($C$4<>\"\",Table2[OFF/ON]=$C$4,TRUE))/(IF($C$5<>\"\",Table2[Status]=$C$5,TRUE))/(IF($C$6<>\"\",Table2[FPPDate]=$C$6,TRUE))/(IF($C$7<>\"\",Table2[ProposalCode]=$C$7,TRUE)),ROW(D177))),\"\")","v":""},{"$f":"IFERROR(INDEX(Table2[PeriodeStart],_xlfn.AGGREGATE(15,6,(ROW(Table2[FPPGroupCode])-2)/(Table2[DepoName]=$C$2)/(IF($C$3<>\"\",Table2[BULAN]=$C$3,TRUE))/(IF($C$4<>\"\",Table2[OFF/ON]=$C$4,TRUE))/(IF($C$5<>\"\",Table2[Status]=$C$5,TRUE))/(IF($C$6<>\"\",Table2[FPPDate]=$C$6,TRUE))/(IF($C$7<>\"\",Table2[ProposalCode]=$C$7,TRUE)),ROW(E177))),\"\")","v":""},{"$f":"IFERROR(INDEX(Table2[PeriodeEnd],_xlfn.AGGREGATE(15,6,(ROW(Table2[FPPGroupCode])-2)/(Table2[DepoName]=$C$2)/(IF($C$3<>\"\",Table2[BULAN]=$C$3,TRUE))/(IF($C$4<>\"\",Table2[OFF/ON]=$C$4,TRUE))/(IF($C$5<>\"\",Table2[Status]=$C$5,TRUE))/(IF($C$6<>\"\",Table2[FPPDate]=$C$6,TRUE))/(IF($C$7<>\"\",Table2[ProposalCode]=$C$7,TRUE)),ROW(F177))),\"\")","v":""},{"$f":"IFERROR(INDEX(Table2[Amount_FPPDepo],_xlfn.AGGREGATE(15,6,(ROW(Table2[FPPGroupCode])-2)/(Table2[DepoName]=$C$2)/(IF($C$3<>\"\",Table2[BULAN]=$C$3,TRUE))/(IF($C$4<>\"\",Table2[OFF/ON]=$C$4,TRUE))/(IF($C$5<>\"\",Table2[Status]=$C$5,TRUE))/(IF($C$6<>\"\",Table2[FPPDate]=$C$6,TRUE))/(IF($C$7<>\"\",Table2[ProposalCode]=$C$7,TRUE)),ROW(G177))),\"\")","v":""},{"$f":"IFERROR(VLOOKUP($B185,SIP!$D$5776:$P$6032,12,0),0)","v":0},{"$f":"IFERROR(H185-I185,0)","v":0},{"$f":"IFERROR(VLOOKUP($B185,SIP!$D$5776:$P$6032,8,0),0)","v":0},{"$f":"IFERROR(INDEX(Table2[OFF/ON],_xlfn.AGGREGATE(15,6,(ROW(Table2[FPPGroupCode])-2)/(Table2[DepoName]=$C$2)/(IF($C$3<>\"\",Table2[BULAN]=$C$3,TRUE))/(IF($C$4<>\"\",Table2[OFF/ON]=$C$4,TRUE))/(IF($C$5<>\"\",Table2[Status]=$C$5,TRUE))/(IF($C$6<>\"\",Table2[FPPDate]=$C$6,TRUE))/(IF($C$7<>\"\",Table2[ProposalCode]=$C$7,TRUE)),ROW(K177))),\"\")","v":""}]
[{"$f":"IF(LEN($B186),ROW(A178),\"\")","v":""},{"$f":"IFERROR(INDEX(Table2[FPPGroupCode],_xlfn.AGGREGATE(15,6,(ROW(Table2[FPPGroupCode])-2)/(Table2[DepoName]=$C$2)/(IF($C$3<>\"\",Table2[BULAN]=$C$3,TRUE))/(IF($C$4<>\"\",Table2[OFF/ON]=$C$4,TRUE))/(IF($C$5<>\"\",Table2[Status]=$C$5,TRUE))/(IF($C$6<>\"\",Table2[FPPDate]=$C$6,TRUE))/(IF($C$7<>\"\",Table2[ProposalCode]=$C$7,TRUE)),ROW(A178))),\"\")","v":""},{"$f":"IFERROR(VLOOKUP($B186,SIP!$D$3:$Q$12237,14,0),0)","v":0},{"$f":"IFERROR(INDEX(Table2[Activity],_xlfn.AGGREGATE(15,6,(ROW(Table2[FPPGroupCode])-2)/(Table2[DepoName]=$C$2)/(IF($C$3<>\"\",Table2[BULAN]=$C$3,TRUE))/(IF($C$4<>\"\",Table2[OFF/ON]=$C$4,TRUE))/(IF($C$5<>\"\",Table2[Status]=$C$5,TRUE))/(IF($C$6<>\"\",Table2[]=$C$6,TRUE))/(IF($C$7<>\"\",Table2[ProposalCode]=$C$7,TRUE)),ROW(B178))),\"\")","v":""},{"$f":"IFERROR(INDEX(Table2[Location],_xlfn.AGGREGATE(15,6,(ROW(Table2[FPPGroupCode])-2)/(Table2[DepoName]=$C$2)/(IF($C$3<>\"\",Table2[BULAN]=$C$3,TRUE))/(IF($C$4<>\"\",Table2[OFF/ON]=$C$4,TRUE))/(IF($C$5<>\"\",Table2[Status]=$C$5,TRUE))/(IF($C$6<>\"\",Table2[FPPDate]=$C$6,TRUE))/(IF($C$7<>\"\",Table2[ProposalCode]=$C$7,TRUE)),ROW(D178))),\"\")","v":""},{"$f":"IFERROR(INDEX(Table2[PeriodeStart],_xlfn.AGGREGATE(15,6,(ROW(Table2[FPPGroupCode])-2)/(Table2[DepoName]=$C$2)/(IF($C$3<>\"\",Table2[BULAN]=$C$3,TRUE))/(IF($C$4<>\"\",Table2[OFF/ON]=$C$4,TRUE))/(IF($C$5<>\"\",Table2[Status]=$C$5,TRUE))/(IF($C$6<>\"\",Table2[FPPDate]=$C$6,TRUE))/(IF($C$7<>\"\",Table2[ProposalCode]=$C$7,TRUE)),ROW(E178))),\"\")","v":""},{"$f":"IFERROR(INDEX(Table2[PeriodeEnd],_xlfn.AGGREGATE(15,6,(ROW(Table2[FPPGroupCode])-2)/(Table2[DepoName]=$C$2)/(IF($C$3<>\"\",Table2[BULAN]=$C$3,TRUE))/(IF($C$4<>\"\",Table2[OFF/ON]=$C$4,TRUE))/(IF($C$5<>\"\",Table2[Status]=$C$5,TRUE))/(IF($C$6<>\"\",Table2[FPPDate]=$C$6,TRUE))/(IF($C$7<>\"\",Table2[ProposalCode]=$C$7,TRUE)),ROW(F178))),\"\")","v":""},{"$f":"IFERROR(INDEX(Table2[Amount_FPPDepo],_xlfn.AGGREGATE(15,6,(ROW(Table2[FPPGroupCode])-2)/(Table2[DepoName]=$C$2)/(IF($C$3<>\"\",Table2[BULAN]=$C$3,TRUE))/(IF($C$4<>\"\",Table2[OFF/ON]=$C$4,TRUE))/(IF($C$5<>\"\",Table2[Status]=$C$5,TRUE))/(IF($C$6<>\"\",Table2[FPPDate]=$C$6,TRUE))/(IF($C$7<>\"\",Table2[ProposalCode]=$C$7,TRUE)),ROW(G178))),\"\")","v":""},{"$f":"IFERROR(VLOOKUP($B186,SIP!$D$5776:$P$6032,12,0),0)","v":0},{"$f":"IFERROR(H186-I186,0)","v":0},{"$f":"IFERROR(VLOOKUP($B186,SIP!$D$5776:$P$6032,8,0),0)","v":0},{"$f":"IFERROR(INDEX(Table2[OFF/ON],_xlfn.AGGREGATE(15,6,(ROW(Table2[FPPGroupCode])-2)/(Table2[DepoName]=$C$2)/(IF($C$3<>\"\",Table2[BULAN]=$C$3,TRUE))/(IF($C$4<>\"\",Table2[OFF/ON]=$C$4,TRUE))/(IF($C$5<>\"\",Table2[Status]=$C$5,TRUE))/(IF($C$6<>\"\",Table2[FPPDate]=$C$6,TRUE))/(IF($C$7<>\"\",Table2[ProposalCode]=$C$7,TRUE)),ROW(K178))),\"\")","v":""}]
[{"$f":"IF(LEN($B187),ROW(A179),\"\")","v":""},{"$f":"IFERROR(INDEX(Table2[FPPGroupCode],_xlfn.AGGREGATE(15,6,(ROW(Table2[FPPGroupCode])-2)/(Table2[DepoName]=$C$2)/(IF($C$3<>\"\",Table2[BULAN]=$C$3,TRUE))/(IF($C$4<>\"\",Table2[OFF/ON]=$C$4,TRUE))/(IF($C$5<>\"\",Table2[Status]=$C$5,TRUE))/(IF($C$6<>\"\",Table2[FPPDate]=$C$6,TRUE))/(IF($C$7<>\"\",Table2[ProposalCode]=$C$7,TRUE)),ROW(A179))),\"\")","v":""},{"$f":"IFERROR(VLOOKUP($B187,SIP!$D$3:$Q$12237,14,0),0)","v":0},{"$f":"IFERROR(INDEX(Table2[Activity],_xlfn.AGGREGATE(15,6,(ROW(Table2[FPPGroupCode])-2)/(Table2[DepoName]=$C$2)/(IF($C$3<>\"\",Table2[BULAN]=$C$3,TRUE))/(IF($C$4<>\"\",Table2[OFF/ON]=$C$4,TRUE))/(IF($C$5<>\"\",Table2[Status]=$C$5,TRUE))/(IF($C$6<>\"\",Table2[]=$C$6,TRUE))/(IF($C$7<>\"\",Table2[ProposalCode]=$C$7,TRUE)),ROW(B179))),\"\")","v":""},{"$f":"IFERROR(INDEX(Table2[Location],_xlfn.AGGREGATE(15,6,(ROW(Table2[FPPGroupCode])-2)/(Table2[DepoName]=$C$2)/(IF($C$3<>\"\",Table2[BULAN]=$C$3,TRUE))/(IF($C$4<>\"\",Table2[OFF/ON]=$C$4,TRUE))/(IF($C$5<>\"\",Table2[Status]=$C$5,TRUE))/(IF($C$6<>\"\",Table2[FPPDate]=$C$6,TRUE))/(IF($C$7<>\"\",Table2[ProposalCode]=$C$7,TRUE)),ROW(D179))),\"\")","v":""},{"$f":"IFERROR(INDEX(Table2[PeriodeStart],_xlfn.AGGREGATE(15,6,(ROW(Table2[FPPGroupCode])-2)/(Table2[DepoName]=$C$2)/(IF($C$3<>\"\",Table2[BULAN]=$C$3,TRUE))/(IF($C$4<>\"\",Table2[OFF/ON]=$C$4,TRUE))/(IF($C$5<>\"\",Table2[Status]=$C$5,TRUE))/(IF($C$6<>\"\",Table2[FPPDate]=$C$6,TRUE))/(IF($C$7<>\"\",Table2[ProposalCode]=$C$7,TRUE)),ROW(E179))),\"\")","v":""},{"$f":"IFERROR(INDEX(Table2[PeriodeEnd],_xlfn.AGGREGATE(15,6,(ROW(Table2[FPPGroupCode])-2)/(Table2[DepoName]=$C$2)/(IF($C$3<>\"\",Table2[BULAN]=$C$3,TRUE))/(IF($C$4<>\"\",Table2[OFF/ON]=$C$4,TRUE))/(IF($C$5<>\"\",Table2[Status]=$C$5,TRUE))/(IF($C$6<>\"\",Table2[FPPDate]=$C$6,TRUE))/(IF($C$7<>\"\",Table2[ProposalCode]=$C$7,TRUE)),ROW(F179))),\"\")","v":""},{"$f":"IFERROR(INDEX(Table2[Amount_FPPDepo],_xlfn.AGGREGATE(15,6,(ROW(Table2[FPPGroupCode])-2)/(Table2[DepoName]=$C$2)/(IF($C$3<>\"\",Table2[BULAN]=$C$3,TRUE))/(IF($C$4<>\"\",Table2[OFF/ON]=$C$4,TRUE))/(IF($C$5<>\"\",Table2[Status]=$C$5,TRUE))/(IF($C$6<>\"\",Table2[FPPDate]=$C$6,TRUE))/(IF($C$7<>\"\",Table2[ProposalCode]=$C$7,TRUE)),ROW(G179))),\"\")","v":""},{"$f":"IFERROR(VLOOKUP($B187,SIP!$D$5776:$P$6032,12,0),0)","v":0},{"$f":"IFERROR(H187-I187,0)","v":0},{"$f":"IFERROR(VLOOKUP($B187,SIP!$D$5776:$P$6032,8,0),0)","v":0},{"$f":"IFERROR(INDEX(Table2[OFF/ON],_xlfn.AGGREGATE(15,6,(ROW(Table2[FPPGroupCode])-2)/(Table2[DepoName]=$C$2)/(IF($C$3<>\"\",Table2[BULAN]=$C$3,TRUE))/(IF($C$4<>\"\",Table2[OFF/ON]=$C$4,TRUE))/(IF($C$5<>\"\",Table2[Status]=$C$5,TRUE))/(IF($C$6<>\"\",Table2[FPPDate]=$C$6,TRUE))/(IF($C$7<>\"\",Table2[ProposalCode]=$C$7,TRUE)),ROW(K179))),\"\")","v":""}]
[{"$f":"IF(LEN($B188),ROW(A180),\"\")","v":""},{"$f":"IFERROR(INDEX(Table2[FPPGroupCode],_xlfn.AGGREGATE(15,6,(ROW(Table2[FPPGroupCode])-2)/(Table2[DepoName]=$C$2)/(IF($C$3<>\"\",Table2[BULAN]=$C$3,TRUE))/(IF($C$4<>\"\",Table2[OFF/ON]=$C$4,TRUE))/(IF($C$5<>\"\",Table2[Status]=$C$5,TRUE))/(IF($C$6<>\"\",Table2[FPPDate]=$C$6,TRUE))/(IF($C$7<>\"\",Table2[ProposalCode]=$C$7,TRUE)),ROW(A180))),\"\")","v":""},{"$f":"IFERROR(VLOOKUP($B188,SIP!$D$3:$Q$12237,14,0),0)","v":0},{"$f":"IFERROR(INDEX(Table2[Activity],_xlfn.AGGREGATE(15,6,(ROW(Table2[FPPGroupCode])-2)/(Table2[DepoName]=$C$2)/(IF($C$3<>\"\",Table2[BULAN]=$C$3,TRUE))/(IF($C$4<>\"\",Table2[OFF/ON]=$C$4,TRUE))/(IF($C$5<>\"\",Table2[Status]=$C$5,TRUE))/(IF($C$6<>\"\",Table2[]=$C$6,TRUE))/(IF($C$7<>\"\",Table2[ProposalCode]=$C$7,TRUE)),ROW(B180))),\"\")","v":""},{"$f":"IFERROR(INDEX(Table2[Location],_xlfn.AGGREGATE(15,6,(ROW(Table2[FPPGroupCode])-2)/(Table2[DepoName]=$C$2)/(IF($C$3<>\"\",Table2[BULAN]=$C$3,TRUE))/(IF($C$4<>\"\",Table2[OFF/ON]=$C$4,TRUE))/(IF($C$5<>\"\",Table2[Status]=$C$5,TRUE))/(IF($C$6<>\"\",Table2[FPPDate]=$C$6,TRUE))/(IF($C$7<>\"\",Table2[ProposalCode]=$C$7,TRUE)),ROW(D180))),\"\")","v":""},{"$f":"IFERROR(INDEX(Table2[PeriodeStart],_xlfn.AGGREGATE(15,6,(ROW(Table2[FPPGroupCode])-2)/(Table2[DepoName]=$C$2)/(IF($C$3<>\"\",Table2[BULAN]=$C$3,TRUE))/(IF($C$4<>\"\",Table2[OFF/ON]=$C$4,TRUE))/(IF($C$5<>\"\",Table2[Status]=$C$5,TRUE))/(IF($C$6<>\"\",Table2[FPPDate]=$C$6,TRUE))/(IF($C$7<>\"\",Table2[ProposalCode]=$C$7,TRUE)),ROW(E180))),\"\")","v":""},{"$f":"IFERROR(INDEX(Table2[PeriodeEnd],_xlfn.AGGREGATE(15,6,(ROW(Table2[FPPGroupCode])-2)/(Table2[DepoName]=$C$2)/(IF($C$3<>\"\",Table2[BULAN]=$C$3,TRUE))/(IF($C$4<>\"\",Table2[OFF/ON]=$C$4,TRUE))/(IF($C$5<>\"\",Table2[Status]=$C$5,TRUE))/(IF($C$6<>\"\",Table2[FPPDate]=$C$6,TRUE))/(IF($C$7<>\"\",Table2[ProposalCode]=$C$7,TRUE)),ROW(F180))),\"\")","v":""},{"$f":"IFERROR(INDEX(Table2[Amount_FPPDepo],_xlfn.AGGREGATE(15,6,(ROW(Table2[FPPGroupCode])-2)/(Table2[DepoName]=$C$2)/(IF($C$3<>\"\",Table2[BULAN]=$C$3,TRUE))/(IF($C$4<>\"\",Table2[OFF/ON]=$C$4,TRUE))/(IF($C$5<>\"\",Table2[Status]=$C$5,TRUE))/(IF($C$6<>\"\",Table2[FPPDate]=$C$6,TRUE))/(IF($C$7<>\"\",Table2[ProposalCode]=$C$7,TRUE)),ROW(G180))),\"\")","v":""},{"$f":"IFERROR(VLOOKUP($B188,SIP!$D$5776:$P$6032,12,0),0)","v":0},{"$f":"IFERROR(H188-I188,0)","v":0},{"$f":"IFERROR(VLOOKUP($B188,SIP!$D$5776:$P$6032,8,0),0)","v":0},{"$f":"IFERROR(INDEX(Table2[OFF/ON],_xlfn.AGGREGATE(15,6,(ROW(Table2[FPPGroupCode])-2)/(Table2[DepoName]=$C$2)/(IF($C$3<>\"\",Table2[BULAN]=$C$3,TRUE))/(IF($C$4<>\"\",Table2[OFF/ON]=$C$4,TRUE))/(IF($C$5<>\"\",Table2[Status]=$C$5,TRUE))/(IF($C$6<>\"\",Table2[FPPDate]=$C$6,TRUE))/(IF($C$7<>\"\",Table2[ProposalCode]=$C$7,TRUE)),ROW(K180))),\"\")","v":""}]
[{"$f":"IF(LEN($B189),ROW(A181),\"\")","v":""},{"$f":"IFERROR(INDEX(Table2[FPPGroupCode],_xlfn.AGGREGATE(15,6,(ROW(Table2[FPPGroupCode])-2)/(Table2[DepoName]=$C$2)/(IF($C$3<>\"\",Table2[BULAN]=$C$3,TRUE))/(IF($C$4<>\"\",Table2[OFF/ON]=$C$4,TRUE))/(IF($C$5<>\"\",Table2[Status]=$C$5,TRUE))/(IF($C$6<>\"\",Table2[FPPDate]=$C$6,TRUE))/(IF($C$7<>\"\",Table2[ProposalCode]=$C$7,TRUE)),ROW(A181))),\"\")","v":""},{"$f":"IFERROR(VLOOKUP($B189,SIP!$D$3:$Q$12237,14,0),0)","v":0},{"$f":"IFERROR(INDEX(Table2[Activity],_xlfn.AGGREGATE(15,6,(ROW(Table2[FPPGroupCode])-2)/(Table2[DepoName]=$C$2)/(IF($C$3<>\"\",Table2[BULAN]=$C$3,TRUE))/(IF($C$4<>\"\",Table2[OFF/ON]=$C$4,TRUE))/(IF($C$5<>\"\",Table2[Status]=$C$5,TRUE))/(IF($C$6<>\"\",Table2[]=$C$6,TRUE))/(IF($C$7<>\"\",Table2[ProposalCode]=$C$7,TRUE)),ROW(B181))),\"\")","v":""},{"$f":"IFERROR(INDEX(Table2[Location],_xlfn.AGGREGATE(15,6,(ROW(Table2[FPPGroupCode])-2)/(Table2[DepoName]=$C$2)/(IF($C$3<>\"\",Table2[BULAN]=$C$3,TRUE))/(IF($C$4<>\"\",Table2[OFF/ON]=$C$4,TRUE))/(IF($C$5<>\"\",Table2[Status]=$C$5,TRUE))/(IF($C$6<>\"\",Table2[FPPDate]=$C$6,TRUE))/(IF($C$7<>\"\",Table2[ProposalCode]=$C$7,TRUE)),ROW(D181))),\"\")","v":""},{"$f":"IFERROR(INDEX(Table2[PeriodeStart],_xlfn.AGGREGATE(15,6,(ROW(Table2[FPPGroupCode])-2)/(Table2[DepoName]=$C$2)/(IF($C$3<>\"\",Table2[BULAN]=$C$3,TRUE))/(IF($C$4<>\"\",Table2[OFF/ON]=$C$4,TRUE))/(IF($C$5<>\"\",Table2[Status]=$C$5,TRUE))/(IF($C$6<>\"\",Table2[FPPDate]=$C$6,TRUE))/(IF($C$7<>\"\",Table2[ProposalCode]=$C$7,TRUE)),ROW(E181))),\"\")","v":""},{"$f":"IFERROR(INDEX(Table2[PeriodeEnd],_xlfn.AGGREGATE(15,6,(ROW(Table2[FPPGroupCode])-2)/(Table2[DepoName]=$C$2)/(IF($C$3<>\"\",Table2[BULAN]=$C$3,TRUE))/(IF($C$4<>\"\",Table2[OFF/ON]=$C$4,TRUE))/(IF($C$5<>\"\",Table2[Status]=$C$5,TRUE))/(IF($C$6<>\"\",Table2[FPPDate]=$C$6,TRUE))/(IF($C$7<>\"\",Table2[ProposalCode]=$C$7,TRUE)),ROW(F181))),\"\")","v":""},{"$f":"IFERROR(INDEX(Table2[Amount_FPPDepo],_xlfn.AGGREGATE(15,6,(ROW(Table2[FPPGroupCode])-2)/(Table2[DepoName]=$C$2)/(IF($C$3<>\"\",Table2[BULAN]=$C$3,TRUE))/(IF($C$4<>\"\",Table2[OFF/ON]=$C$4,TRUE))/(IF($C$5<>\"\",Table2[Status]=$C$5,TRUE))/(IF($C$6<>\"\",Table2[FPPDate]=$C$6,TRUE))/(IF($C$7<>\"\",Table2[ProposalCode]=$C$7,TRUE)),ROW(G181))),\"\")","v":""},{"$f":"IFERROR(VLOOKUP($B189,SIP!$D$5776:$P$6032,12,0),0)","v":0},{"$f":"IFERROR(H189-I189,0)","v":0},{"$f":"IFERROR(VLOOKUP($B189,SIP!$D$5776:$P$6032,8,0),0)","v":0},{"$f":"IFERROR(INDEX(Table2[OFF/ON],_xlfn.AGGREGATE(15,6,(ROW(Table2[FPPGroupCode])-2)/(Table2[DepoName]=$C$2)/(IF($C$3<>\"\",Table2[BULAN]=$C$3,TRUE))/(IF($C$4<>\"\",Table2[OFF/ON]=$C$4,TRUE))/(IF($C$5<>\"\",Table2[Status]=$C$5,TRUE))/(IF($C$6<>\"\",Table2[FPPDate]=$C$6,TRUE))/(IF($C$7<>\"\",Table2[ProposalCode]=$C$7,TRUE)),ROW(K181))),\"\")","v":""}]
[{"$f":"IF(LEN($B190),ROW(A182),\"\")","v":""},{"$f":"IFERROR(INDEX(Table2[FPPGroupCode],_xlfn.AGGREGATE(15,6,(ROW(Table2[FPPGroupCode])-2)/(Table2[DepoName]=$C$2)/(IF($C$3<>\"\",Table2[BULAN]=$C$3,TRUE))/(IF($C$4<>\"\",Table2[OFF/ON]=$C$4,TRUE))/(IF($C$5<>\"\",Table2[Status]=$C$5,TRUE))/(IF($C$6<>\"\",Table2[FPPDate]=$C$6,TRUE))/(IF($C$7<>\"\",Table2[ProposalCode]=$C$7,TRUE)),ROW(A182))),\"\")","v":""},{"$f":"IFERROR(VLOOKUP($B190,SIP!$D$3:$Q$12237,14,0),0)","v":0},{"$f":"IFERROR(INDEX(Table2[Activity],_xlfn.AGGREGATE(15,6,(ROW(Table2[FPPGroupCode])-2)/(Table2[DepoName]=$C$2)/(IF($C$3<>\"\",Table2[BULAN]=$C$3,TRUE))/(IF($C$4<>\"\",Table2[OFF/ON]=$C$4,TRUE))/(IF($C$5<>\"\",Table2[Status]=$C$5,TRUE))/(IF($C$6<>\"\",Table2[]=$C$6,TRUE))/(IF($C$7<>\"\",Table2[ProposalCode]=$C$7,TRUE)),ROW(B182))),\"\")","v":""},{"$f":"IFERROR(INDEX(Table2[Location],_xlfn.AGGREGATE(15,6,(ROW(Table2[FPPGroupCode])-2)/(Table2[DepoName]=$C$2)/(IF($C$3<>\"\",Table2[BULAN]=$C$3,TRUE))/(IF($C$4<>\"\",Table2[OFF/ON]=$C$4,TRUE))/(IF($C$5<>\"\",Table2[Status]=$C$5,TRUE))/(IF($C$6<>\"\",Table2[FPPDate]=$C$6,TRUE))/(IF($C$7<>\"\",Table2[ProposalCode]=$C$7,TRUE)),ROW(D182))),\"\")","v":""},{"$f":"IFERROR(INDEX(Table2[PeriodeStart],_xlfn.AGGREGATE(15,6,(ROW(Table2[FPPGroupCode])-2)/(Table2[DepoName]=$C$2)/(IF($C$3<>\"\",Table2[BULAN]=$C$3,TRUE))/(IF($C$4<>\"\",Table2[OFF/ON]=$C$4,TRUE))/(IF($C$5<>\"\",Table2[Status]=$C$5,TRUE))/(IF($C$6<>\"\",Table2[FPPDate]=$C$6,TRUE))/(IF($C$7<>\"\",Table2[ProposalCode]=$C$7,TRUE)),ROW(E182))),\"\")","v":""},{"$f":"IFERROR(INDEX(Table2[PeriodeEnd],_xlfn.AGGREGATE(15,6,(ROW(Table2[FPPGroupCode])-2)/(Table2[DepoName]=$C$2)/(IF($C$3<>\"\",Table2[BULAN]=$C$3,TRUE))/(IF($C$4<>\"\",Table2[OFF/ON]=$C$4,TRUE))/(IF($C$5<>\"\",Table2[Status]=$C$5,TRUE))/(IF($C$6<>\"\",Table2[FPPDate]=$C$6,TRUE))/(IF($C$7<>\"\",Table2[ProposalCode]=$C$7,TRUE)),ROW(F182))),\"\")","v":""},{"$f":"IFERROR(INDEX(Table2[Amount_FPPDepo],_xlfn.AGGREGATE(15,6,(ROW(Table2[FPPGroupCode])-2)/(Table2[DepoName]=$C$2)/(IF($C$3<>\"\",Table2[BULAN]=$C$3,TRUE))/(IF($C$4<>\"\",Table2[OFF/ON]=$C$4,TRUE))/(IF($C$5<>\"\",Table2[Status]=$C$5,TRUE))/(IF($C$6<>\"\",Table2[FPPDate]=$C$6,TRUE))/(IF($C$7<>\"\",Table2[ProposalCode]=$C$7,TRUE)),ROW(G182))),\"\")","v":""},{"$f":"IFERROR(VLOOKUP($B190,SIP!$D$5776:$P$6032,12,0),0)","v":0},{"$f":"IFERROR(H190-I190,0)","v":0},{"$f":"IFERROR(VLOOKUP($B190,SIP!$D$5776:$P$6032,8,0),0)","v":0},{"$f":"IFERROR(INDEX(Table2[OFF/ON],_xlfn.AGGREGATE(15,6,(ROW(Table2[FPPGroupCode])-2)/(Table2[DepoName]=$C$2)/(IF($C$3<>\"\",Table2[BULAN]=$C$3,TRUE))/(IF($C$4<>\"\",Table2[OFF/ON]=$C$4,TRUE))/(IF($C$5<>\"\",Table2[Status]=$C$5,TRUE))/(IF($C$6<>\"\",Table2[FPPDate]=$C$6,TRUE))/(IF($C$7<>\"\",Table2[ProposalCode]=$C$7,TRUE)),ROW(K182))),\"\")","v":""}]
[{"$f":"IF(LEN($B191),ROW(A183),\"\")","v":""},{"$f":"IFERROR(INDEX(Table2[FPPGroupCode],_xlfn.AGGREGATE(15,6,(ROW(Table2[FPPGroupCode])-2)/(Table2[DepoName]=$C$2)/(IF($C$3<>\"\",Table2[BULAN]=$C$3,TRUE))/(IF($C$4<>\"\",Table2[OFF/ON]=$C$4,TRUE))/(IF($C$5<>\"\",Table2[Status]=$C$5,TRUE))/(IF($C$6<>\"\",Table2[FPPDate]=$C$6,TRUE))/(IF($C$7<>\"\",Table2[ProposalCode]=$C$7,TRUE)),ROW(A183))),\"\")","v":""},{"$f":"IFERROR(VLOOKUP($B191,SIP!$D$3:$Q$12237,14,0),0)","v":0},{"$f":"IFERROR(INDEX(Table2[Activity],_xlfn.AGGREGATE(15,6,(ROW(Table2[FPPGroupCode])-2)/(Table2[DepoName]=$C$2)/(IF($C$3<>\"\",Table2[BULAN]=$C$3,TRUE))/(IF($C$4<>\"\",Table2[OFF/ON]=$C$4,TRUE))/(IF($C$5<>\"\",Table2[Status]=$C$5,TRUE))/(IF($C$6<>\"\",Table2[]=$C$6,TRUE))/(IF($C$7<>\"\",Table2[ProposalCode]=$C$7,TRUE)),ROW(B183))),\"\")","v":""},{"$f":"IFERROR(INDEX(Table2[Location],_xlfn.AGGREGATE(15,6,(ROW(Table2[FPPGroupCode])-2)/(Table2[DepoName]=$C$2)/(IF($C$3<>\"\",Table2[BULAN]=$C$3,TRUE))/(IF($C$4<>\"\",Table2[OFF/ON]=$C$4,TRUE))/(IF($C$5<>\"\",Table2[Status]=$C$5,TRUE))/(IF($C$6<>\"\",Table2[FPPDate]=$C$6,TRUE))/(IF($C$7<>\"\",Table2[ProposalCode]=$C$7,TRUE)),ROW(D183))),\"\")","v":""},{"$f":"IFERROR(INDEX(Table2[PeriodeStart],_xlfn.AGGREGATE(15,6,(ROW(Table2[FPPGroupCode])-2)/(Table2[DepoName]=$C$2)/(IF($C$3<>\"\",Table2[BULAN]=$C$3,TRUE))/(IF($C$4<>\"\",Table2[OFF/ON]=$C$4,TRUE))/(IF($C$5<>\"\",Table2[Status]=$C$5,TRUE))/(IF($C$6<>\"\",Table2[FPPDate]=$C$6,TRUE))/(IF($C$7<>\"\",Table2[ProposalCode]=$C$7,TRUE)),ROW(E183))),\"\")","v":""},{"$f":"IFERROR(INDEX(Table2[PeriodeEnd],_xlfn.AGGREGATE(15,6,(ROW(Table2[FPPGroupCode])-2)/(Table2[DepoName]=$C$2)/(IF($C$3<>\"\",Table2[BULAN]=$C$3,TRUE))/(IF($C$4<>\"\",Table2[OFF/ON]=$C$4,TRUE))/(IF($C$5<>\"\",Table2[Status]=$C$5,TRUE))/(IF($C$6<>\"\",Table2[FPPDate]=$C$6,TRUE))/(IF($C$7<>\"\",Table2[ProposalCode]=$C$7,TRUE)),ROW(F183))),\"\")","v":""},{"$f":"IFERROR(INDEX(Table2[Amount_FPPDepo],_xlfn.AGGREGATE(15,6,(ROW(Table2[FPPGroupCode])-2)/(Table2[DepoName]=$C$2)/(IF($C$3<>\"\",Table2[BULAN]=$C$3,TRUE))/(IF($C$4<>\"\",Table2[OFF/ON]=$C$4,TRUE))/(IF($C$5<>\"\",Table2[Status]=$C$5,TRUE))/(IF($C$6<>\"\",Table2[FPPDate]=$C$6,TRUE))/(IF($C$7<>\"\",Table2[ProposalCode]=$C$7,TRUE)),ROW(G183))),\"\")","v":""},{"$f":"IFERROR(VLOOKUP($B191,SIP!$D$5776:$P$6032,12,0),0)","v":0},{"$f":"IFERROR(H191-I191,0)","v":0},{"$f":"IFERROR(VLOOKUP($B191,SIP!$D$5776:$P$6032,8,0),0)","v":0},{"$f":"IFERROR(INDEX(Table2[OFF/ON],_xlfn.AGGREGATE(15,6,(ROW(Table2[FPPGroupCode])-2)/(Table2[DepoName]=$C$2)/(IF($C$3<>\"\",Table2[BULAN]=$C$3,TRUE))/(IF($C$4<>\"\",Table2[OFF/ON]=$C$4,TRUE))/(IF($C$5<>\"\",Table2[Status]=$C$5,TRUE))/(IF($C$6<>\"\",Table2[FPPDate]=$C$6,TRUE))/(IF($C$7<>\"\",Table2[ProposalCode]=$C$7,TRUE)),ROW(K183))),\"\")","v":""}]
[{"$f":"IF(LEN($B192),ROW(A184),\"\")","v":""},{"$f":"IFERROR(INDEX(Table2[FPPGroupCode],_xlfn.AGGREGATE(15,6,(ROW(Table2[FPPGroupCode])-2)/(Table2[DepoName]=$C$2)/(IF($C$3<>\"\",Table2[BULAN]=$C$3,TRUE))/(IF($C$4<>\"\",Table2[OFF/ON]=$C$4,TRUE))/(IF($C$5<>\"\",Table2[Status]=$C$5,TRUE))/(IF($C$6<>\"\",Table2[FPPDate]=$C$6,TRUE))/(IF($C$7<>\"\",Table2[ProposalCode]=$C$7,TRUE)),ROW(A184))),\"\")","v":""},{"$f":"IFERROR(VLOOKUP($B192,SIP!$D$3:$Q$12237,14,0),0)","v":0},{"$f":"IFERROR(INDEX(Table2[Activity],_xlfn.AGGREGATE(15,6,(ROW(Table2[FPPGroupCode])-2)/(Table2[DepoName]=$C$2)/(IF($C$3<>\"\",Table2[BULAN]=$C$3,TRUE))/(IF($C$4<>\"\",Table2[OFF/ON]=$C$4,TRUE))/(IF($C$5<>\"\",Table2[Status]=$C$5,TRUE))/(IF($C$6<>\"\",Table2[]=$C$6,TRUE))/(IF($C$7<>\"\",Table2[ProposalCode]=$C$7,TRUE)),ROW(B184))),\"\")","v":""},{"$f":"IFERROR(INDEX(Table2[Location],_xlfn.AGGREGATE(15,6,(ROW(Table2[FPPGroupCode])-2)/(Table2[DepoName]=$C$2)/(IF($C$3<>\"\",Table2[BULAN]=$C$3,TRUE))/(IF($C$4<>\"\",Table2[OFF/ON]=$C$4,TRUE))/(IF($C$5<>\"\",Table2[Status]=$C$5,TRUE))/(IF($C$6<>\"\",Table2[FPPDate]=$C$6,TRUE))/(IF($C$7<>\"\",Table2[ProposalCode]=$C$7,TRUE)),ROW(D184))),\"\")","v":""},{"$f":"IFERROR(INDEX(Table2[PeriodeStart],_xlfn.AGGREGATE(15,6,(ROW(Table2[FPPGroupCode])-2)/(Table2[DepoName]=$C$2)/(IF($C$3<>\"\",Table2[BULAN]=$C$3,TRUE))/(IF($C$4<>\"\",Table2[OFF/ON]=$C$4,TRUE))/(IF($C$5<>\"\",Table2[Status]=$C$5,TRUE))/(IF($C$6<>\"\",Table2[FPPDate]=$C$6,TRUE))/(IF($C$7<>\"\",Table2[ProposalCode]=$C$7,TRUE)),ROW(E184))),\"\")","v":""},{"$f":"IFERROR(INDEX(Table2[PeriodeEnd],_xlfn.AGGREGATE(15,6,(ROW(Table2[FPPGroupCode])-2)/(Table2[DepoName]=$C$2)/(IF($C$3<>\"\",Table2[BULAN]=$C$3,TRUE))/(IF($C$4<>\"\",Table2[OFF/ON]=$C$4,TRUE))/(IF($C$5<>\"\",Table2[Status]=$C$5,TRUE))/(IF($C$6<>\"\",Table2[FPPDate]=$C$6,TRUE))/(IF($C$7<>\"\",Table2[ProposalCode]=$C$7,TRUE)),ROW(F184))),\"\")","v":""},{"$f":"IFERROR(INDEX(Table2[Amount_FPPDepo],_xlfn.AGGREGATE(15,6,(ROW(Table2[FPPGroupCode])-2)/(Table2[DepoName]=$C$2)/(IF($C$3<>\"\",Table2[BULAN]=$C$3,TRUE))/(IF($C$4<>\"\",Table2[OFF/ON]=$C$4,TRUE))/(IF($C$5<>\"\",Table2[Status]=$C$5,TRUE))/(IF($C$6<>\"\",Table2[FPPDate]=$C$6,TRUE))/(IF($C$7<>\"\",Table2[ProposalCode]=$C$7,TRUE)),ROW(G184))),\"\")","v":""},{"$f":"IFERROR(VLOOKUP($B192,SIP!$D$5776:$P$6032,12,0),0)","v":0},{"$f":"IFERROR(H192-I192,0)","v":0},{"$f":"IFERROR(VLOOKUP($B192,SIP!$D$5776:$P$6032,8,0),0)","v":0},{"$f":"IFERROR(INDEX(Table2[OFF/ON],_xlfn.AGGREGATE(15,6,(ROW(Table2[FPPGroupCode])-2)/(Table2[DepoName]=$C$2)/(IF($C$3<>\"\",Table2[BULAN]=$C$3,TRUE))/(IF($C$4<>\"\",Table2[OFF/ON]=$C$4,TRUE))/(IF($C$5<>\"\",Table2[Status]=$C$5,TRUE))/(IF($C$6<>\"\",Table2[FPPDate]=$C$6,TRUE))/(IF($C$7<>\"\",Table2[ProposalCode]=$C$7,TRUE)),ROW(K184))),\"\")","v":""}]
[{"$f":"IF(LEN($B193),ROW(A185),\"\")","v":""},{"$f":"IFERROR(INDEX(Table2[FPPGroupCode],_xlfn.AGGREGATE(15,6,(ROW(Table2[FPPGroupCode])-2)/(Table2[DepoName]=$C$2)/(IF($C$3<>\"\",Table2[BULAN]=$C$3,TRUE))/(IF($C$4<>\"\",Table2[OFF/ON]=$C$4,TRUE))/(IF($C$5<>\"\",Table2[Status]=$C$5,TRUE))/(IF($C$6<>\"\",Table2[FPPDate]=$C$6,TRUE))/(IF($C$7<>\"\",Table2[ProposalCode]=$C$7,TRUE)),ROW(A185))),\"\")","v":""},{"$f":"IFERROR(VLOOKUP($B193,SIP!$D$3:$Q$12237,14,0),0)","v":0},{"$f":"IFERROR(INDEX(Table2[Activity],_xlfn.AGGREGATE(15,6,(ROW(Table2[FPPGroupCode])-2)/(Table2[DepoName]=$C$2)/(IF($C$3<>\"\",Table2[BULAN]=$C$3,TRUE))/(IF($C$4<>\"\",Table2[OFF/ON]=$C$4,TRUE))/(IF($C$5<>\"\",Table2[Status]=$C$5,TRUE))/(IF($C$6<>\"\",Table2[]=$C$6,TRUE))/(IF($C$7<>\"\",Table2[ProposalCode]=$C$7,TRUE)),ROW(B185))),\"\")","v":""},{"$f":"IFERROR(INDEX(Table2[Location],_xlfn.AGGREGATE(15,6,(ROW(Table2[FPPGroupCode])-2)/(Table2[DepoName]=$C$2)/(IF($C$3<>\"\",Table2[BULAN]=$C$3,TRUE))/(IF($C$4<>\"\",Table2[OFF/ON]=$C$4,TRUE))/(IF($C$5<>\"\",Table2[Status]=$C$5,TRUE))/(IF($C$6<>\"\",Table2[FPPDate]=$C$6,TRUE))/(IF($C$7<>\"\",Table2[ProposalCode]=$C$7,TRUE)),ROW(D185))),\"\")","v":""},{"$f":"IFERROR(INDEX(Table2[PeriodeStart],_xlfn.AGGREGATE(15,6,(ROW(Table2[FPPGroupCode])-2)/(Table2[DepoName]=$C$2)/(IF($C$3<>\"\",Table2[BULAN]=$C$3,TRUE))/(IF($C$4<>\"\",Table2[OFF/ON]=$C$4,TRUE))/(IF($C$5<>\"\",Table2[Status]=$C$5,TRUE))/(IF($C$6<>\"\",Table2[FPPDate]=$C$6,TRUE))/(IF($C$7<>\"\",Table2[ProposalCode]=$C$7,TRUE)),ROW(E185))),\"\")","v":""},{"$f":"IFERROR(INDEX(Table2[PeriodeEnd],_xlfn.AGGREGATE(15,6,(ROW(Table2[FPPGroupCode])-2)/(Table2[DepoName]=$C$2)/(IF($C$3<>\"\",Table2[BULAN]=$C$3,TRUE))/(IF($C$4<>\"\",Table2[OFF/ON]=$C$4,TRUE))/(IF($C$5<>\"\",Table2[Status]=$C$5,TRUE))/(IF($C$6<>\"\",Table2[FPPDate]=$C$6,TRUE))/(IF($C$7<>\"\",Table2[ProposalCode]=$C$7,TRUE)),ROW(F185))),\"\")","v":""},{"$f":"IFERROR(INDEX(Table2[Amount_FPPDepo],_xlfn.AGGREGATE(15,6,(ROW(Table2[FPPGroupCode])-2)/(Table2[DepoName]=$C$2)/(IF($C$3<>\"\",Table2[BULAN]=$C$3,TRUE))/(IF($C$4<>\"\",Table2[OFF/ON]=$C$4,TRUE))/(IF($C$5<>\"\",Table2[Status]=$C$5,TRUE))/(IF($C$6<>\"\",Table2[FPPDate]=$C$6,TRUE))/(IF($C$7<>\"\",Table2[ProposalCode]=$C$7,TRUE)),ROW(G185))),\"\")","v":""},{"$f":"IFERROR(VLOOKUP($B193,SIP!$D$5776:$P$6032,12,0),0)","v":0},{"$f":"IFERROR(H193-I193,0)","v":0},{"$f":"IFERROR(VLOOKUP($B193,SIP!$D$5776:$P$6032,8,0),0)","v":0},{"$f":"IFERROR(INDEX(Table2[OFF/ON],_xlfn.AGGREGATE(15,6,(ROW(Table2[FPPGroupCode])-2)/(Table2[DepoName]=$C$2)/(IF($C$3<>\"\",Table2[BULAN]=$C$3,TRUE))/(IF($C$4<>\"\",Table2[OFF/ON]=$C$4,TRUE))/(IF($C$5<>\"\",Table2[Status]=$C$5,TRUE))/(IF($C$6<>\"\",Table2[FPPDate]=$C$6,TRUE))/(IF($C$7<>\"\",Table2[ProposalCode]=$C$7,TRUE)),ROW(K185))),\"\")","v":""}]
[{"$f":"IF(LEN($B194),ROW(A186),\"\")","v":""},{"$f":"IFERROR(INDEX(Table2[FPPGroupCode],_xlfn.AGGREGATE(15,6,(ROW(Table2[FPPGroupCode])-2)/(Table2[DepoName]=$C$2)/(IF($C$3<>\"\",Table2[BULAN]=$C$3,TRUE))/(IF($C$4<>\"\",Table2[OFF/ON]=$C$4,TRUE))/(IF($C$5<>\"\",Table2[Status]=$C$5,TRUE))/(IF($C$6<>\"\",Table2[FPPDate]=$C$6,TRUE))/(IF($C$7<>\"\",Table2[ProposalCode]=$C$7,TRUE)),ROW(A186))),\"\")","v":""},{"$f":"IFERROR(VLOOKUP($B194,SIP!$D$3:$Q$12237,14,0),0)","v":0},{"$f":"IFERROR(INDEX(Table2[Activity],_xlfn.AGGREGATE(15,6,(ROW(Table2[FPPGroupCode])-2)/(Table2[DepoName]=$C$2)/(IF($C$3<>\"\",Table2[BULAN]=$C$3,TRUE))/(IF($C$4<>\"\",Table2[OFF/ON]=$C$4,TRUE))/(IF($C$5<>\"\",Table2[Status]=$C$5,TRUE))/(IF($C$6<>\"\",Table2[]=$C$6,TRUE))/(IF($C$7<>\"\",Table2[ProposalCode]=$C$7,TRUE)),ROW(B186))),\"\")","v":""},{"$f":"IFERROR(INDEX(Table2[Location],_xlfn.AGGREGATE(15,6,(ROW(Table2[FPPGroupCode])-2)/(Table2[DepoName]=$C$2)/(IF($C$3<>\"\",Table2[BULAN]=$C$3,TRUE))/(IF($C$4<>\"\",Table2[OFF/ON]=$C$4,TRUE))/(IF($C$5<>\"\",Table2[Status]=$C$5,TRUE))/(IF($C$6<>\"\",Table2[FPPDate]=$C$6,TRUE))/(IF($C$7<>\"\",Table2[ProposalCode]=$C$7,TRUE)),ROW(D186))),\"\")","v":""},{"$f":"IFERROR(INDEX(Table2[PeriodeStart],_xlfn.AGGREGATE(15,6,(ROW(Table2[FPPGroupCode])-2)/(Table2[DepoName]=$C$2)/(IF($C$3<>\"\",Table2[BULAN]=$C$3,TRUE))/(IF($C$4<>\"\",Table2[OFF/ON]=$C$4,TRUE))/(IF($C$5<>\"\",Table2[Status]=$C$5,TRUE))/(IF($C$6<>\"\",Table2[FPPDate]=$C$6,TRUE))/(IF($C$7<>\"\",Table2[ProposalCode]=$C$7,TRUE)),ROW(E186))),\"\")","v":""},{"$f":"IFERROR(INDEX(Table2[PeriodeEnd],_xlfn.AGGREGATE(15,6,(ROW(Table2[FPPGroupCode])-2)/(Table2[DepoName]=$C$2)/(IF($C$3<>\"\",Table2[BULAN]=$C$3,TRUE))/(IF($C$4<>\"\",Table2[OFF/ON]=$C$4,TRUE))/(IF($C$5<>\"\",Table2[Status]=$C$5,TRUE))/(IF($C$6<>\"\",Table2[FPPDate]=$C$6,TRUE))/(IF($C$7<>\"\",Table2[ProposalCode]=$C$7,TRUE)),ROW(F186))),\"\")","v":""},{"$f":"IFERROR(INDEX(Table2[Amount_FPPDepo],_xlfn.AGGREGATE(15,6,(ROW(Table2[FPPGroupCode])-2)/(Table2[DepoName]=$C$2)/(IF($C$3<>\"\",Table2[BULAN]=$C$3,TRUE))/(IF($C$4<>\"\",Table2[OFF/ON]=$C$4,TRUE))/(IF($C$5<>\"\",Table2[Status]=$C$5,TRUE))/(IF($C$6<>\"\",Table2[FPPDate]=$C$6,TRUE))/(IF($C$7<>\"\",Table2[ProposalCode]=$C$7,TRUE)),ROW(G186))),\"\")","v":""},{"$f":"IFERROR(VLOOKUP($B194,SIP!$D$5776:$P$6032,12,0),0)","v":0},{"$f":"IFERROR(H194-I194,0)","v":0},{"$f":"IFERROR(VLOOKUP($B194,SIP!$D$5776:$P$6032,8,0),0)","v":0},{"$f":"IFERROR(INDEX(Table2[OFF/ON],_xlfn.AGGREGATE(15,6,(ROW(Table2[FPPGroupCode])-2)/(Table2[DepoName]=$C$2)/(IF($C$3<>\"\",Table2[BULAN]=$C$3,TRUE))/(IF($C$4<>\"\",Table2[OFF/ON]=$C$4,TRUE))/(IF($C$5<>\"\",Table2[Status]=$C$5,TRUE))/(IF($C$6<>\"\",Table2[FPPDate]=$C$6,TRUE))/(IF($C$7<>\"\",Table2[ProposalCode]=$C$7,TRUE)),ROW(K186))),\"\")","v":""}]
[{"$f":"IF(LEN($B195),ROW(A187),\"\")","v":""},{"$f":"IFERROR(INDEX(Table2[FPPGroupCode],_xlfn.AGGREGATE(15,6,(ROW(Table2[FPPGroupCode])-2)/(Table2[DepoName]=$C$2)/(IF($C$3<>\"\",Table2[BULAN]=$C$3,TRUE))/(IF($C$4<>\"\",Table2[OFF/ON]=$C$4,TRUE))/(IF($C$5<>\"\",Table2[Status]=$C$5,TRUE))/(IF($C$6<>\"\",Table2[FPPDate]=$C$6,TRUE))/(IF($C$7<>\"\",Table2[ProposalCode]=$C$7,TRUE)),ROW(A187))),\"\")","v":""},{"$f":"IFERROR(VLOOKUP($B195,SIP!$D$3:$Q$12237,14,0),0)","v":0},{"$f":"IFERROR(INDEX(Table2[Activity],_xlfn.AGGREGATE(15,6,(ROW(Table2[FPPGroupCode])-2)/(Table2[DepoName]=$C$2)/(IF($C$3<>\"\",Table2[BULAN]=$C$3,TRUE))/(IF($C$4<>\"\",Table2[OFF/ON]=$C$4,TRUE))/(IF($C$5<>\"\",Table2[Status]=$C$5,TRUE))/(IF($C$6<>\"\",Table2[]=$C$6,TRUE))/(IF($C$7<>\"\",Table2[ProposalCode]=$C$7,TRUE)),ROW(B187))),\"\")","v":""},{"$f":"IFERROR(INDEX(Table2[Location],_xlfn.AGGREGATE(15,6,(ROW(Table2[FPPGroupCode])-2)/(Table2[DepoName]=$C$2)/(IF($C$3<>\"\",Table2[BULAN]=$C$3,TRUE))/(IF($C$4<>\"\",Table2[OFF/ON]=$C$4,TRUE))/(IF($C$5<>\"\",Table2[Status]=$C$5,TRUE))/(IF($C$6<>\"\",Table2[FPPDate]=$C$6,TRUE))/(IF($C$7<>\"\",Table2[ProposalCode]=$C$7,TRUE)),ROW(D187))),\"\")","v":""},{"$f":"IFERROR(INDEX(Table2[PeriodeStart],_xlfn.AGGREGATE(15,6,(ROW(Table2[FPPGroupCode])-2)/(Table2[DepoName]=$C$2)/(IF($C$3<>\"\",Table2[BULAN]=$C$3,TRUE))/(IF($C$4<>\"\",Table2[OFF/ON]=$C$4,TRUE))/(IF($C$5<>\"\",Table2[Status]=$C$5,TRUE))/(IF($C$6<>\"\",Table2[FPPDate]=$C$6,TRUE))/(IF($C$7<>\"\",Table2[ProposalCode]=$C$7,TRUE)),ROW(E187))),\"\")","v":""},{"$f":"IFERROR(INDEX(Table2[PeriodeEnd],_xlfn.AGGREGATE(15,6,(ROW(Table2[FPPGroupCode])-2)/(Table2[DepoName]=$C$2)/(IF($C$3<>\"\",Table2[BULAN]=$C$3,TRUE))/(IF($C$4<>\"\",Table2[OFF/ON]=$C$4,TRUE))/(IF($C$5<>\"\",Table2[Status]=$C$5,TRUE))/(IF($C$6<>\"\",Table2[FPPDate]=$C$6,TRUE))/(IF($C$7<>\"\",Table2[ProposalCode]=$C$7,TRUE)),ROW(F187))),\"\")","v":""},{"$f":"IFERROR(INDEX(Table2[Amount_FPPDepo],_xlfn.AGGREGATE(15,6,(ROW(Table2[FPPGroupCode])-2)/(Table2[DepoName]=$C$2)/(IF($C$3<>\"\",Table2[BULAN]=$C$3,TRUE))/(IF($C$4<>\"\",Table2[OFF/ON]=$C$4,TRUE))/(IF($C$5<>\"\",Table2[Status]=$C$5,TRUE))/(IF($C$6<>\"\",Table2[FPPDate]=$C$6,TRUE))/(IF($C$7<>\"\",Table2[ProposalCode]=$C$7,TRUE)),ROW(G187))),\"\")","v":""},{"$f":"IFERROR(VLOOKUP($B195,SIP!$D$5776:$P$6032,12,0),0)","v":0},{"$f":"IFERROR(H195-I195,0)","v":0},{"$f":"IFERROR(VLOOKUP($B195,SIP!$D$5776:$P$6032,8,0),0)","v":0},{"$f":"IFERROR(INDEX(Table2[OFF/ON],_xlfn.AGGREGATE(15,6,(ROW(Table2[FPPGroupCode])-2)/(Table2[DepoName]=$C$2)/(IF($C$3<>\"\",Table2[BULAN]=$C$3,TRUE))/(IF($C$4<>\"\",Table2[OFF/ON]=$C$4,TRUE))/(IF($C$5<>\"\",Table2[Status]=$C$5,TRUE))/(IF($C$6<>\"\",Table2[FPPDate]=$C$6,TRUE))/(IF($C$7<>\"\",Table2[ProposalCode]=$C$7,TRUE)),ROW(K187))),\"\")","v":""}]
[{"$f":"IF(LEN($B196),ROW(A188),\"\")","v":""},{"$f":"IFERROR(INDEX(Table2[FPPGroupCode],_xlfn.AGGREGATE(15,6,(ROW(Table2[FPPGroupCode])-2)/(Table2[DepoName]=$C$2)/(IF($C$3<>\"\",Table2[BULAN]=$C$3,TRUE))/(IF($C$4<>\"\",Table2[OFF/ON]=$C$4,TRUE))/(IF($C$5<>\"\",Table2[Status]=$C$5,TRUE))/(IF($C$6<>\"\",Table2[FPPDate]=$C$6,TRUE))/(IF($C$7<>\"\",Table2[ProposalCode]=$C$7,TRUE)),ROW(A188))),\"\")","v":""},{"$f":"IFERROR(VLOOKUP($B196,SIP!$D$3:$Q$12237,14,0),0)","v":0},{"$f":"IFERROR(INDEX(Table2[Activity],_xlfn.AGGREGATE(15,6,(ROW(Table2[FPPGroupCode])-2)/(Table2[DepoName]=$C$2)/(IF($C$3<>\"\",Table2[BULAN]=$C$3,TRUE))/(IF($C$4<>\"\",Table2[OFF/ON]=$C$4,TRUE))/(IF($C$5<>\"\",Table2[Status]=$C$5,TRUE))/(IF($C$6<>\"\",Table2[]=$C$6,TRUE))/(IF($C$7<>\"\",Table2[ProposalCode]=$C$7,TRUE)),ROW(B188))),\"\")","v":""},{"$f":"IFERROR(INDEX(Table2[Location],_xlfn.AGGREGATE(15,6,(ROW(Table2[FPPGroupCode])-2)/(Table2[DepoName]=$C$2)/(IF($C$3<>\"\",Table2[BULAN]=$C$3,TRUE))/(IF($C$4<>\"\",Table2[OFF/ON]=$C$4,TRUE))/(IF($C$5<>\"\",Table2[Status]=$C$5,TRUE))/(IF($C$6<>\"\",Table2[FPPDate]=$C$6,TRUE))/(IF($C$7<>\"\",Table2[ProposalCode]=$C$7,TRUE)),ROW(D188))),\"\")","v":""},{"$f":"IFERROR(INDEX(Table2[PeriodeStart],_xlfn.AGGREGATE(15,6,(ROW(Table2[FPPGroupCode])-2)/(Table2[DepoName]=$C$2)/(IF($C$3<>\"\",Table2[BULAN]=$C$3,TRUE))/(IF($C$4<>\"\",Table2[OFF/ON]=$C$4,TRUE))/(IF($C$5<>\"\",Table2[Status]=$C$5,TRUE))/(IF($C$6<>\"\",Table2[FPPDate]=$C$6,TRUE))/(IF($C$7<>\"\",Table2[ProposalCode]=$C$7,TRUE)),ROW(E188))),\"\")","v":""},{"$f":"IFERROR(INDEX(Table2[PeriodeEnd],_xlfn.AGGREGATE(15,6,(ROW(Table2[FPPGroupCode])-2)/(Table2[DepoName]=$C$2)/(IF($C$3<>\"\",Table2[BULAN]=$C$3,TRUE))/(IF($C$4<>\"\",Table2[OFF/ON]=$C$4,TRUE))/(IF($C$5<>\"\",Table2[Status]=$C$5,TRUE))/(IF($C$6<>\"\",Table2[FPPDate]=$C$6,TRUE))/(IF($C$7<>\"\",Table2[ProposalCode]=$C$7,TRUE)),ROW(F188))),\"\")","v":""},{"$f":"IFERROR(INDEX(Table2[Amount_FPPDepo],_xlfn.AGGREGATE(15,6,(ROW(Table2[FPPGroupCode])-2)/(Table2[DepoName]=$C$2)/(IF($C$3<>\"\",Table2[BULAN]=$C$3,TRUE))/(IF($C$4<>\"\",Table2[OFF/ON]=$C$4,TRUE))/(IF($C$5<>\"\",Table2[Status]=$C$5,TRUE))/(IF($C$6<>\"\",Table2[FPPDate]=$C$6,TRUE))/(IF($C$7<>\"\",Table2[ProposalCode]=$C$7,TRUE)),ROW(G188))),\"\")","v":""},{"$f":"IFERROR(VLOOKUP($B196,SIP!$D$5776:$P$6032,12,0),0)","v":0},{"$f":"IFERROR(H196-I196,0)","v":0},{"$f":"IFERROR(VLOOKUP($B196,SIP!$D$5776:$P$6032,8,0),0)","v":0},{"$f":"IFERROR(INDEX(Table2[OFF/ON],_xlfn.AGGREGATE(15,6,(ROW(Table2[FPPGroupCode])-2)/(Table2[DepoName]=$C$2)/(IF($C$3<>\"\",Table2[BULAN]=$C$3,TRUE))/(IF($C$4<>\"\",Table2[OFF/ON]=$C$4,TRUE))/(IF($C$5<>\"\",Table2[Status]=$C$5,TRUE))/(IF($C$6<>\"\",Table2[FPPDate]=$C$6,TRUE))/(IF($C$7<>\"\",Table2[ProposalCode]=$C$7,TRUE)),ROW(K188))),\"\")","v":""}]
[{"$f":"IF(LEN($B197),ROW(A189),\"\")","v":""},{"$f":"IFERROR(INDEX(Table2[FPPGroupCode],_xlfn.AGGREGATE(15,6,(ROW(Table2[FPPGroupCode])-2)/(Table2[DepoName]=$C$2)/(IF($C$3<>\"\",Table2[BULAN]=$C$3,TRUE))/(IF($C$4<>\"\",Table2[OFF/ON]=$C$4,TRUE))/(IF($C$5<>\"\",Table2[Status]=$C$5,TRUE))/(IF($C$6<>\"\",Table2[FPPDate]=$C$6,TRUE))/(IF($C$7<>\"\",Table2[ProposalCode]=$C$7,TRUE)),ROW(A189))),\"\")","v":""},{"$f":"IFERROR(VLOOKUP($B197,SIP!$D$3:$Q$12237,14,0),0)","v":0},{"$f":"IFERROR(INDEX(Table2[Activity],_xlfn.AGGREGATE(15,6,(ROW(Table2[FPPGroupCode])-2)/(Table2[DepoName]=$C$2)/(IF($C$3<>\"\",Table2[BULAN]=$C$3,TRUE))/(IF($C$4<>\"\",Table2[OFF/ON]=$C$4,TRUE))/(IF($C$5<>\"\",Table2[Status]=$C$5,TRUE))/(IF($C$6<>\"\",Table2[]=$C$6,TRUE))/(IF($C$7<>\"\",Table2[ProposalCode]=$C$7,TRUE)),ROW(B189))),\"\")","v":""},{"$f":"IFERROR(INDEX(Table2[Location],_xlfn.AGGREGATE(15,6,(ROW(Table2[FPPGroupCode])-2)/(Table2[DepoName]=$C$2)/(IF($C$3<>\"\",Table2[BULAN]=$C$3,TRUE))/(IF($C$4<>\"\",Table2[OFF/ON]=$C$4,TRUE))/(IF($C$5<>\"\",Table2[Status]=$C$5,TRUE))/(IF($C$6<>\"\",Table2[FPPDate]=$C$6,TRUE))/(IF($C$7<>\"\",Table2[ProposalCode]=$C$7,TRUE)),ROW(D189))),\"\")","v":""},{"$f":"IFERROR(INDEX(Table2[PeriodeStart],_xlfn.AGGREGATE(15,6,(ROW(Table2[FPPGroupCode])-2)/(Table2[DepoName]=$C$2)/(IF($C$3<>\"\",Table2[BULAN]=$C$3,TRUE))/(IF($C$4<>\"\",Table2[OFF/ON]=$C$4,TRUE))/(IF($C$5<>\"\",Table2[Status]=$C$5,TRUE))/(IF($C$6<>\"\",Table2[FPPDate]=$C$6,TRUE))/(IF($C$7<>\"\",Table2[ProposalCode]=$C$7,TRUE)),ROW(E189))),\"\")","v":""},{"$f":"IFERROR(INDEX(Table2[PeriodeEnd],_xlfn.AGGREGATE(15,6,(ROW(Table2[FPPGroupCode])-2)/(Table2[DepoName]=$C$2)/(IF($C$3<>\"\",Table2[BULAN]=$C$3,TRUE))/(IF($C$4<>\"\",Table2[OFF/ON]=$C$4,TRUE))/(IF($C$5<>\"\",Table2[Status]=$C$5,TRUE))/(IF($C$6<>\"\",Table2[FPPDate]=$C$6,TRUE))/(IF($C$7<>\"\",Table2[ProposalCode]=$C$7,TRUE)),ROW(F189))),\"\")","v":""},{"$f":"IFERROR(INDEX(Table2[Amount_FPPDepo],_xlfn.AGGREGATE(15,6,(ROW(Table2[FPPGroupCode])-2)/(Table2[DepoName]=$C$2)/(IF($C$3<>\"\",Table2[BULAN]=$C$3,TRUE))/(IF($C$4<>\"\",Table2[OFF/ON]=$C$4,TRUE))/(IF($C$5<>\"\",Table2[Status]=$C$5,TRUE))/(IF($C$6<>\"\",Table2[FPPDate]=$C$6,TRUE))/(IF($C$7<>\"\",Table2[ProposalCode]=$C$7,TRUE)),ROW(G189))),\"\")","v":""},{"$f":"IFERROR(VLOOKUP($B197,SIP!$D$5776:$P$6032,12,0),0)","v":0},{"$f":"IFERROR(H197-I197,0)","v":0},{"$f":"IFERROR(VLOOKUP($B197,SIP!$D$5776:$P$6032,8,0),0)","v":0},{"$f":"IFERROR(INDEX(Table2[OFF/ON],_xlfn.AGGREGATE(15,6,(ROW(Table2[FPPGroupCode])-2)/(Table2[DepoName]=$C$2)/(IF($C$3<>\"\",Table2[BULAN]=$C$3,TRUE))/(IF($C$4<>\"\",Table2[OFF/ON]=$C$4,TRUE))/(IF($C$5<>\"\",Table2[Status]=$C$5,TRUE))/(IF($C$6<>\"\",Table2[FPPDate]=$C$6,TRUE))/(IF($C$7<>\"\",Table2[ProposalCode]=$C$7,TRUE)),ROW(K189))),\"\")","v":""}]
[{"$f":"IF(LEN($B198),ROW(A190),\"\")","v":""},{"$f":"IFERROR(INDEX(Table2[FPPGroupCode],_xlfn.AGGREGATE(15,6,(ROW(Table2[FPPGroupCode])-2)/(Table2[DepoName]=$C$2)/(IF($C$3<>\"\",Table2[BULAN]=$C$3,TRUE))/(IF($C$4<>\"\",Table2[OFF/ON]=$C$4,TRUE))/(IF($C$5<>\"\",Table2[Status]=$C$5,TRUE))/(IF($C$6<>\"\",Table2[FPPDate]=$C$6,TRUE))/(IF($C$7<>\"\",Table2[ProposalCode]=$C$7,TRUE)),ROW(A190))),\"\")","v":""},{"$f":"IFERROR(VLOOKUP($B198,SIP!$D$3:$Q$12237,14,0),0)","v":0},{"$f":"IFERROR(INDEX(Table2[Activity],_xlfn.AGGREGATE(15,6,(ROW(Table2[FPPGroupCode])-2)/(Table2[DepoName]=$C$2)/(IF($C$3<>\"\",Table2[BULAN]=$C$3,TRUE))/(IF($C$4<>\"\",Table2[OFF/ON]=$C$4,TRUE))/(IF($C$5<>\"\",Table2[Status]=$C$5,TRUE))/(IF($C$6<>\"\",Table2[]=$C$6,TRUE))/(IF($C$7<>\"\",Table2[ProposalCode]=$C$7,TRUE)),ROW(B190))),\"\")","v":""},{"$f":"IFERROR(INDEX(Table2[Location],_xlfn.AGGREGATE(15,6,(ROW(Table2[FPPGroupCode])-2)/(Table2[DepoName]=$C$2)/(IF($C$3<>\"\",Table2[BULAN]=$C$3,TRUE))/(IF($C$4<>\"\",Table2[OFF/ON]=$C$4,TRUE))/(IF($C$5<>\"\",Table2[Status]=$C$5,TRUE))/(IF($C$6<>\"\",Table2[FPPDate]=$C$6,TRUE))/(IF($C$7<>\"\",Table2[ProposalCode]=$C$7,TRUE)),ROW(D190))),\"\")","v":""},{"$f":"IFERROR(INDEX(Table2[PeriodeStart],_xlfn.AGGREGATE(15,6,(ROW(Table2[FPPGroupCode])-2)/(Table2[DepoName]=$C$2)/(IF($C$3<>\"\",Table2[BULAN]=$C$3,TRUE))/(IF($C$4<>\"\",Table2[OFF/ON]=$C$4,TRUE))/(IF($C$5<>\"\",Table2[Status]=$C$5,TRUE))/(IF($C$6<>\"\",Table2[FPPDate]=$C$6,TRUE))/(IF($C$7<>\"\",Table2[ProposalCode]=$C$7,TRUE)),ROW(E190))),\"\")","v":""},{"$f":"IFERROR(INDEX(Table2[PeriodeEnd],_xlfn.AGGREGATE(15,6,(ROW(Table2[FPPGroupCode])-2)/(Table2[DepoName]=$C$2)/(IF($C$3<>\"\",Table2[BULAN]=$C$3,TRUE))/(IF($C$4<>\"\",Table2[OFF/ON]=$C$4,TRUE))/(IF($C$5<>\"\",Table2[Status]=$C$5,TRUE))/(IF($C$6<>\"\",Table2[FPPDate]=$C$6,TRUE))/(IF($C$7<>\"\",Table2[ProposalCode]=$C$7,TRUE)),ROW(F190))),\"\")","v":""},{"$f":"IFERROR(INDEX(Table2[Amount_FPPDepo],_xlfn.AGGREGATE(15,6,(ROW(Table2[FPPGroupCode])-2)/(Table2[DepoName]=$C$2)/(IF($C$3<>\"\",Table2[BULAN]=$C$3,TRUE))/(IF($C$4<>\"\",Table2[OFF/ON]=$C$4,TRUE))/(IF($C$5<>\"\",Table2[Status]=$C$5,TRUE))/(IF($C$6<>\"\",Table2[FPPDate]=$C$6,TRUE))/(IF($C$7<>\"\",Table2[ProposalCode]=$C$7,TRUE)),ROW(G190))),\"\")","v":""},{"$f":"IFERROR(VLOOKUP($B198,SIP!$D$5776:$P$6032,12,0),0)","v":0},{"$f":"IFERROR(H198-I198,0)","v":0},{"$f":"IFERROR(VLOOKUP($B198,SIP!$D$5776:$P$6032,8,0),0)","v":0},{"$f":"IFERROR(INDEX(Table2[OFF/ON],_xlfn.AGGREGATE(15,6,(ROW(Table2[FPPGroupCode])-2)/(Table2[DepoName]=$C$2)/(IF($C$3<>\"\",Table2[BULAN]=$C$3,TRUE))/(IF($C$4<>\"\",Table2[OFF/ON]=$C$4,TRUE))/(IF($C$5<>\"\",Table2[Status]=$C$5,TRUE))/(IF($C$6<>\"\",Table2[FPPDate]=$C$6,TRUE))/(IF($C$7<>\"\",Table2[ProposalCode]=$C$7,TRUE)),ROW(K190))),\"\")","v":""}]
[{"$f":"IF(LEN($B199),ROW(A191),\"\")","v":""},{"$f":"IFERROR(INDEX(Table2[FPPGroupCode],_xlfn.AGGREGATE(15,6,(ROW(Table2[FPPGroupCode])-2)/(Table2[DepoName]=$C$2)/(IF($C$3<>\"\",Table2[BULAN]=$C$3,TRUE))/(IF($C$4<>\"\",Table2[OFF/ON]=$C$4,TRUE))/(IF($C$5<>\"\",Table2[Status]=$C$5,TRUE))/(IF($C$6<>\"\",Table2[FPPDate]=$C$6,TRUE))/(IF($C$7<>\"\",Table2[ProposalCode]=$C$7,TRUE)),ROW(A191))),\"\")","v":""},{"$f":"IFERROR(VLOOKUP($B199,SIP!$D$3:$Q$12237,14,0),0)","v":0},{"$f":"IFERROR(INDEX(Table2[Activity],_xlfn.AGGREGATE(15,6,(ROW(Table2[FPPGroupCode])-2)/(Table2[DepoName]=$C$2)/(IF($C$3<>\"\",Table2[BULAN]=$C$3,TRUE))/(IF($C$4<>\"\",Table2[OFF/ON]=$C$4,TRUE))/(IF($C$5<>\"\",Table2[Status]=$C$5,TRUE))/(IF($C$6<>\"\",Table2[]=$C$6,TRUE))/(IF($C$7<>\"\",Table2[ProposalCode]=$C$7,TRUE)),ROW(B191))),\"\")","v":""},{"$f":"IFERROR(INDEX(Table2[Location],_xlfn.AGGREGATE(15,6,(ROW(Table2[FPPGroupCode])-2)/(Table2[DepoName]=$C$2)/(IF($C$3<>\"\",Table2[BULAN]=$C$3,TRUE))/(IF($C$4<>\"\",Table2[OFF/ON]=$C$4,TRUE))/(IF($C$5<>\"\",Table2[Status]=$C$5,TRUE))/(IF($C$6<>\"\",Table2[FPPDate]=$C$6,TRUE))/(IF($C$7<>\"\",Table2[ProposalCode]=$C$7,TRUE)),ROW(D191))),\"\")","v":""},{"$f":"IFERROR(INDEX(Table2[PeriodeStart],_xlfn.AGGREGATE(15,6,(ROW(Table2[FPPGroupCode])-2)/(Table2[DepoName]=$C$2)/(IF($C$3<>\"\",Table2[BULAN]=$C$3,TRUE))/(IF($C$4<>\"\",Table2[OFF/ON]=$C$4,TRUE))/(IF($C$5<>\"\",Table2[Status]=$C$5,TRUE))/(IF($C$6<>\"\",Table2[FPPDate]=$C$6,TRUE))/(IF($C$7<>\"\",Table2[ProposalCode]=$C$7,TRUE)),ROW(E191))),\"\")","v":""},{"$f":"IFERROR(INDEX(Table2[PeriodeEnd],_xlfn.AGGREGATE(15,6,(ROW(Table2[FPPGroupCode])-2)/(Table2[DepoName]=$C$2)/(IF($C$3<>\"\",Table2[BULAN]=$C$3,TRUE))/(IF($C$4<>\"\",Table2[OFF/ON]=$C$4,TRUE))/(IF($C$5<>\"\",Table2[Status]=$C$5,TRUE))/(IF($C$6<>\"\",Table2[FPPDate]=$C$6,TRUE))/(IF($C$7<>\"\",Table2[ProposalCode]=$C$7,TRUE)),ROW(F191))),\"\")","v":""},{"$f":"IFERROR(INDEX(Table2[Amount_FPPDepo],_xlfn.AGGREGATE(15,6,(ROW(Table2[FPPGroupCode])-2)/(Table2[DepoName]=$C$2)/(IF($C$3<>\"\",Table2[BULAN]=$C$3,TRUE))/(IF($C$4<>\"\",Table2[OFF/ON]=$C$4,TRUE))/(IF($C$5<>\"\",Table2[Status]=$C$5,TRUE))/(IF($C$6<>\"\",Table2[FPPDate]=$C$6,TRUE))/(IF($C$7<>\"\",Table2[ProposalCode]=$C$7,TRUE)),ROW(G191))),\"\")","v":""},{"$f":"IFERROR(VLOOKUP($B199,SIP!$D$5776:$P$6032,12,0),0)","v":0},{"$f":"IFERROR(H199-I199,0)","v":0},{"$f":"IFERROR(VLOOKUP($B199,SIP!$D$5776:$P$6032,8,0),0)","v":0},{"$f":"IFERROR(INDEX(Table2[OFF/ON],_xlfn.AGGREGATE(15,6,(ROW(Table2[FPPGroupCode])-2)/(Table2[DepoName]=$C$2)/(IF($C$3<>\"\",Table2[BULAN]=$C$3,TRUE))/(IF($C$4<>\"\",Table2[OFF/ON]=$C$4,TRUE))/(IF($C$5<>\"\",Table2[Status]=$C$5,TRUE))/(IF($C$6<>\"\",Table2[FPPDate]=$C$6,TRUE))/(IF($C$7<>\"\",Table2[ProposalCode]=$C$7,TRUE)),ROW(K191))),\"\")","v":""}]
[{"$f":"IF(LEN($B200),ROW(A192),\"\")","v":""},{"$f":"IFERROR(INDEX(Table2[FPPGroupCode],_xlfn.AGGREGATE(15,6,(ROW(Table2[FPPGroupCode])-2)/(Table2[DepoName]=$C$2)/(IF($C$3<>\"\",Table2[BULAN]=$C$3,TRUE))/(IF($C$4<>\"\",Table2[OFF/ON]=$C$4,TRUE))/(IF($C$5<>\"\",Table2[Status]=$C$5,TRUE))/(IF($C$6<>\"\",Table2[FPPDate]=$C$6,TRUE))/(IF($C$7<>\"\",Table2[ProposalCode]=$C$7,TRUE)),ROW(A192))),\"\")","v":""},{"$f":"IFERROR(VLOOKUP($B200,SIP!$D$3:$Q$12237,14,0),0)","v":0},{"$f":"IFERROR(INDEX(Table2[Activity],_xlfn.AGGREGATE(15,6,(ROW(Table2[FPPGroupCode])-2)/(Table2[DepoName]=$C$2)/(IF($C$3<>\"\",Table2[BULAN]=$C$3,TRUE))/(IF($C$4<>\"\",Table2[OFF/ON]=$C$4,TRUE))/(IF($C$5<>\"\",Table2[Status]=$C$5,TRUE))/(IF($C$6<>\"\",Table2[]=$C$6,TRUE))/(IF($C$7<>\"\",Table2[ProposalCode]=$C$7,TRUE)),ROW(B192))),\"\")","v":""},{"$f":"IFERROR(INDEX(Table2[Location],_xlfn.AGGREGATE(15,6,(ROW(Table2[FPPGroupCode])-2)/(Table2[DepoName]=$C$2)/(IF($C$3<>\"\",Table2[BULAN]=$C$3,TRUE))/(IF($C$4<>\"\",Table2[OFF/ON]=$C$4,TRUE))/(IF($C$5<>\"\",Table2[Status]=$C$5,TRUE))/(IF($C$6<>\"\",Table2[FPPDate]=$C$6,TRUE))/(IF($C$7<>\"\",Table2[ProposalCode]=$C$7,TRUE)),ROW(D192))),\"\")","v":""},{"$f":"IFERROR(INDEX(Table2[PeriodeStart],_xlfn.AGGREGATE(15,6,(ROW(Table2[FPPGroupCode])-2)/(Table2[DepoName]=$C$2)/(IF($C$3<>\"\",Table2[BULAN]=$C$3,TRUE))/(IF($C$4<>\"\",Table2[OFF/ON]=$C$4,TRUE))/(IF($C$5<>\"\",Table2[Status]=$C$5,TRUE))/(IF($C$6<>\"\",Table2[FPPDate]=$C$6,TRUE))/(IF($C$7<>\"\",Table2[ProposalCode]=$C$7,TRUE)),ROW(E192))),\"\")","v":""},{"$f":"IFERROR(INDEX(Table2[PeriodeEnd],_xlfn.AGGREGATE(15,6,(ROW(Table2[FPPGroupCode])-2)/(Table2[DepoName]=$C$2)/(IF($C$3<>\"\",Table2[BULAN]=$C$3,TRUE))/(IF($C$4<>\"\",Table2[OFF/ON]=$C$4,TRUE))/(IF($C$5<>\"\",Table2[Status]=$C$5,TRUE))/(IF($C$6<>\"\",Table2[FPPDate]=$C$6,TRUE))/(IF($C$7<>\"\",Table2[ProposalCode]=$C$7,TRUE)),ROW(F192))),\"\")","v":""},{"$f":"IFERROR(INDEX(Table2[Amount_FPPDepo],_xlfn.AGGREGATE(15,6,(ROW(Table2[FPPGroupCode])-2)/(Table2[DepoName]=$C$2)/(IF($C$3<>\"\",Table2[BULAN]=$C$3,TRUE))/(IF($C$4<>\"\",Table2[OFF/ON]=$C$4,TRUE))/(IF($C$5<>\"\",Table2[Status]=$C$5,TRUE))/(IF($C$6<>\"\",Table2[FPPDate]=$C$6,TRUE))/(IF($C$7<>\"\",Table2[ProposalCode]=$C$7,TRUE)),ROW(G192))),\"\")","v":""},{"$f":"IFERROR(VLOOKUP($B200,SIP!$D$5776:$P$6032,12,0),0)","v":0},{"$f":"IFERROR(H200-I200,0)","v":0},{"$f":"IFERROR(VLOOKUP($B200,SIP!$D$5776:$P$6032,8,0),0)","v":0},{"$f":"IFERROR(INDEX(Table2[OFF/ON],_xlfn.AGGREGATE(15,6,(ROW(Table2[FPPGroupCode])-2)/(Table2[DepoName]=$C$2)/(IF($C$3<>\"\",Table2[BULAN]=$C$3,TRUE))/(IF($C$4<>\"\",Table2[OFF/ON]=$C$4,TRUE))/(IF($C$5<>\"\",Table2[Status]=$C$5,TRUE))/(IF($C$6<>\"\",Table2[FPPDate]=$C$6,TRUE))/(IF($C$7<>\"\",Table2[ProposalCode]=$C$7,TRUE)),ROW(K192))),\"\")","v":""}]
[{"$f":"IF(LEN($B201),ROW(A193),\"\")","v":""},{"$f":"IFERROR(INDEX(Table2[FPPGroupCode],_xlfn.AGGREGATE(15,6,(ROW(Table2[FPPGroupCode])-2)/(Table2[DepoName]=$C$2)/(IF($C$3<>\"\",Table2[BULAN]=$C$3,TRUE))/(IF($C$4<>\"\",Table2[OFF/ON]=$C$4,TRUE))/(IF($C$5<>\"\",Table2[Status]=$C$5,TRUE))/(IF($C$6<>\"\",Table2[FPPDate]=$C$6,TRUE))/(IF($C$7<>\"\",Table2[ProposalCode]=$C$7,TRUE)),ROW(A193))),\"\")","v":""},{"$f":"IFERROR(VLOOKUP($B201,SIP!$D$3:$Q$12237,14,0),0)","v":0},{"$f":"IFERROR(INDEX(Table2[Activity],_xlfn.AGGREGATE(15,6,(ROW(Table2[FPPGroupCode])-2)/(Table2[DepoName]=$C$2)/(IF($C$3<>\"\",Table2[BULAN]=$C$3,TRUE))/(IF($C$4<>\"\",Table2[OFF/ON]=$C$4,TRUE))/(IF($C$5<>\"\",Table2[Status]=$C$5,TRUE))/(IF($C$6<>\"\",Table2[]=$C$6,TRUE))/(IF($C$7<>\"\",Table2[ProposalCode]=$C$7,TRUE)),ROW(B193))),\"\")","v":""},{"$f":"IFERROR(INDEX(Table2[Location],_xlfn.AGGREGATE(15,6,(ROW(Table2[FPPGroupCode])-2)/(Table2[DepoName]=$C$2)/(IF($C$3<>\"\",Table2[BULAN]=$C$3,TRUE))/(IF($C$4<>\"\",Table2[OFF/ON]=$C$4,TRUE))/(IF($C$5<>\"\",Table2[Status]=$C$5,TRUE))/(IF($C$6<>\"\",Table2[FPPDate]=$C$6,TRUE))/(IF($C$7<>\"\",Table2[ProposalCode]=$C$7,TRUE)),ROW(D193))),\"\")","v":""},{"$f":"IFERROR(INDEX(Table2[PeriodeStart],_xlfn.AGGREGATE(15,6,(ROW(Table2[FPPGroupCode])-2)/(Table2[DepoName]=$C$2)/(IF($C$3<>\"\",Table2[BULAN]=$C$3,TRUE))/(IF($C$4<>\"\",Table2[OFF/ON]=$C$4,TRUE))/(IF($C$5<>\"\",Table2[Status]=$C$5,TRUE))/(IF($C$6<>\"\",Table2[FPPDate]=$C$6,TRUE))/(IF($C$7<>\"\",Table2[ProposalCode]=$C$7,TRUE)),ROW(E193))),\"\")","v":""},{"$f":"IFERROR(INDEX(Table2[PeriodeEnd],_xlfn.AGGREGATE(15,6,(ROW(Table2[FPPGroupCode])-2)/(Table2[DepoName]=$C$2)/(IF($C$3<>\"\",Table2[BULAN]=$C$3,TRUE))/(IF($C$4<>\"\",Table2[OFF/ON]=$C$4,TRUE))/(IF($C$5<>\"\",Table2[Status]=$C$5,TRUE))/(IF($C$6<>\"\",Table2[FPPDate]=$C$6,TRUE))/(IF($C$7<>\"\",Table2[ProposalCode]=$C$7,TRUE)),ROW(F193))),\"\")","v":""},{"$f":"IFERROR(INDEX(Table2[Amount_FPPDepo],_xlfn.AGGREGATE(15,6,(ROW(Table2[FPPGroupCode])-2)/(Table2[DepoName]=$C$2)/(IF($C$3<>\"\",Table2[BULAN]=$C$3,TRUE))/(IF($C$4<>\"\",Table2[OFF/ON]=$C$4,TRUE))/(IF($C$5<>\"\",Table2[Status]=$C$5,TRUE))/(IF($C$6<>\"\",Table2[FPPDate]=$C$6,TRUE))/(IF($C$7<>\"\",Table2[ProposalCode]=$C$7,TRUE)),ROW(G193))),\"\")","v":""},{"$f":"IFERROR(VLOOKUP($B201,SIP!$D$5776:$P$6032,12,0),0)","v":0},{"$f":"IFERROR(H201-I201,0)","v":0},{"$f":"IFERROR(VLOOKUP($B201,SIP!$D$5776:$P$6032,8,0),0)","v":0},{"$f":"IFERROR(INDEX(Table2[OFF/ON],_xlfn.AGGREGATE(15,6,(ROW(Table2[FPPGroupCode])-2)/(Table2[DepoName]=$C$2)/(IF($C$3<>\"\",Table2[BULAN]=$C$3,TRUE))/(IF($C$4<>\"\",Table2[OFF/ON]=$C$4,TRUE))/(IF($C$5<>\"\",Table2[Status]=$C$5,TRUE))/(IF($C$6<>\"\",Table2[FPPDate]=$C$6,TRUE))/(IF($C$7<>\"\",Table2[ProposalCode]=$C$7,TRUE)),ROW(K193))),\"\")","v":""}]
[{"$f":"IF(LEN($B202),ROW(A194),\"\")","v":""},{"$f":"IFERROR(INDEX(Table2[FPPGroupCode],_xlfn.AGGREGATE(15,6,(ROW(Table2[FPPGroupCode])-2)/(Table2[DepoName]=$C$2)/(IF($C$3<>\"\",Table2[BULAN]=$C$3,TRUE))/(IF($C$4<>\"\",Table2[OFF/ON]=$C$4,TRUE))/(IF($C$5<>\"\",Table2[Status]=$C$5,TRUE))/(IF($C$6<>\"\",Table2[FPPDate]=$C$6,TRUE))/(IF($C$7<>\"\",Table2[ProposalCode]=$C$7,TRUE)),ROW(A194))),\"\")","v":""},{"$f":"IFERROR(VLOOKUP($B202,SIP!$D$3:$Q$12237,14,0),0)","v":0},{"$f":"IFERROR(INDEX(Table2[Activity],_xlfn.AGGREGATE(15,6,(ROW(Table2[FPPGroupCode])-2)/(Table2[DepoName]=$C$2)/(IF($C$3<>\"\",Table2[BULAN]=$C$3,TRUE))/(IF($C$4<>\"\",Table2[OFF/ON]=$C$4,TRUE))/(IF($C$5<>\"\",Table2[Status]=$C$5,TRUE))/(IF($C$6<>\"\",Table2[]=$C$6,TRUE))/(IF($C$7<>\"\",Table2[ProposalCode]=$C$7,TRUE)),ROW(B194))),\"\")","v":""},{"$f":"IFERROR(INDEX(Table2[Location],_xlfn.AGGREGATE(15,6,(ROW(Table2[FPPGroupCode])-2)/(Table2[DepoName]=$C$2)/(IF($C$3<>\"\",Table2[BULAN]=$C$3,TRUE))/(IF($C$4<>\"\",Table2[OFF/ON]=$C$4,TRUE))/(IF($C$5<>\"\",Table2[Status]=$C$5,TRUE))/(IF($C$6<>\"\",Table2[FPPDate]=$C$6,TRUE))/(IF($C$7<>\"\",Table2[ProposalCode]=$C$7,TRUE)),ROW(D194))),\"\")","v":""},{"$f":"IFERROR(INDEX(Table2[PeriodeStart],_xlfn.AGGREGATE(15,6,(ROW(Table2[FPPGroupCode])-2)/(Table2[DepoName]=$C$2)/(IF($C$3<>\"\",Table2[BULAN]=$C$3,TRUE))/(IF($C$4<>\"\",Table2[OFF/ON]=$C$4,TRUE))/(IF($C$5<>\"\",Table2[Status]=$C$5,TRUE))/(IF($C$6<>\"\",Table2[FPPDate]=$C$6,TRUE))/(IF($C$7<>\"\",Table2[ProposalCode]=$C$7,TRUE)),ROW(E194))),\"\")","v":""},{"$f":"IFERROR(INDEX(Table2[PeriodeEnd],_xlfn.AGGREGATE(15,6,(ROW(Table2[FPPGroupCode])-2)/(Table2[DepoName]=$C$2)/(IF($C$3<>\"\",Table2[BULAN]=$C$3,TRUE))/(IF($C$4<>\"\",Table2[OFF/ON]=$C$4,TRUE))/(IF($C$5<>\"\",Table2[Status]=$C$5,TRUE))/(IF($C$6<>\"\",Table2[FPPDate]=$C$6,TRUE))/(IF($C$7<>\"\",Table2[ProposalCode]=$C$7,TRUE)),ROW(F194))),\"\")","v":""},{"$f":"IFERROR(INDEX(Table2[Amount_FPPDepo],_xlfn.AGGREGATE(15,6,(ROW(Table2[FPPGroupCode])-2)/(Table2[DepoName]=$C$2)/(IF($C$3<>\"\",Table2[BULAN]=$C$3,TRUE))/(IF($C$4<>\"\",Table2[OFF/ON]=$C$4,TRUE))/(IF($C$5<>\"\",Table2[Status]=$C$5,TRUE))/(IF($C$6<>\"\",Table2[FPPDate]=$C$6,TRUE))/(IF($C$7<>\"\",Table2[ProposalCode]=$C$7,TRUE)),ROW(G194))),\"\")","v":""},{"$f":"IFERROR(VLOOKUP($B202,SIP!$D$5776:$P$6032,12,0),0)","v":0},{"$f":"IFERROR(H202-I202,0)","v":0},{"$f":"IFERROR(VLOOKUP($B202,SIP!$D$5776:$P$6032,8,0),0)","v":0},{"$f":"IFERROR(INDEX(Table2[OFF/ON],_xlfn.AGGREGATE(15,6,(ROW(Table2[FPPGroupCode])-2)/(Table2[DepoName]=$C$2)/(IF($C$3<>\"\",Table2[BULAN]=$C$3,TRUE))/(IF($C$4<>\"\",Table2[OFF/ON]=$C$4,TRUE))/(IF($C$5<>\"\",Table2[Status]=$C$5,TRUE))/(IF($C$6<>\"\",Table2[FPPDate]=$C$6,TRUE))/(IF($C$7<>\"\",Table2[ProposalCode]=$C$7,TRUE)),ROW(K194))),\"\")","v":""}]
[{"$f":"IF(LEN($B203),ROW(A195),\"\")","v":""},{"$f":"IFERROR(INDEX(Table2[FPPGroupCode],_xlfn.AGGREGATE(15,6,(ROW(Table2[FPPGroupCode])-2)/(Table2[DepoName]=$C$2)/(IF($C$3<>\"\",Table2[BULAN]=$C$3,TRUE))/(IF($C$4<>\"\",Table2[OFF/ON]=$C$4,TRUE))/(IF($C$5<>\"\",Table2[Status]=$C$5,TRUE))/(IF($C$6<>\"\",Table2[FPPDate]=$C$6,TRUE))/(IF($C$7<>\"\",Table2[ProposalCode]=$C$7,TRUE)),ROW(A195))),\"\")","v":""},{"$f":"IFERROR(VLOOKUP($B203,SIP!$D$3:$Q$12237,14,0),0)","v":0},{"$f":"IFERROR(INDEX(Table2[Activity],_xlfn.AGGREGATE(15,6,(ROW(Table2[FPPGroupCode])-2)/(Table2[DepoName]=$C$2)/(IF($C$3<>\"\",Table2[BULAN]=$C$3,TRUE))/(IF($C$4<>\"\",Table2[OFF/ON]=$C$4,TRUE))/(IF($C$5<>\"\",Table2[Status]=$C$5,TRUE))/(IF($C$6<>\"\",Table2[]=$C$6,TRUE))/(IF($C$7<>\"\",Table2[ProposalCode]=$C$7,TRUE)),ROW(B195))),\"\")","v":""},{"$f":"IFERROR(INDEX(Table2[Location],_xlfn.AGGREGATE(15,6,(ROW(Table2[FPPGroupCode])-2)/(Table2[DepoName]=$C$2)/(IF($C$3<>\"\",Table2[BULAN]=$C$3,TRUE))/(IF($C$4<>\"\",Table2[OFF/ON]=$C$4,TRUE))/(IF($C$5<>\"\",Table2[Status]=$C$5,TRUE))/(IF($C$6<>\"\",Table2[FPPDate]=$C$6,TRUE))/(IF($C$7<>\"\",Table2[ProposalCode]=$C$7,TRUE)),ROW(D195))),\"\")","v":""},{"$f":"IFERROR(INDEX(Table2[PeriodeStart],_xlfn.AGGREGATE(15,6,(ROW(Table2[FPPGroupCode])-2)/(Table2[DepoName]=$C$2)/(IF($C$3<>\"\",Table2[BULAN]=$C$3,TRUE))/(IF($C$4<>\"\",Table2[OFF/ON]=$C$4,TRUE))/(IF($C$5<>\"\",Table2[Status]=$C$5,TRUE))/(IF($C$6<>\"\",Table2[FPPDate]=$C$6,TRUE))/(IF($C$7<>\"\",Table2[ProposalCode]=$C$7,TRUE)),ROW(E195))),\"\")","v":""},{"$f":"IFERROR(INDEX(Table2[PeriodeEnd],_xlfn.AGGREGATE(15,6,(ROW(Table2[FPPGroupCode])-2)/(Table2[DepoName]=$C$2)/(IF($C$3<>\"\",Table2[BULAN]=$C$3,TRUE))/(IF($C$4<>\"\",Table2[OFF/ON]=$C$4,TRUE))/(IF($C$5<>\"\",Table2[Status]=$C$5,TRUE))/(IF($C$6<>\"\",Table2[FPPDate]=$C$6,TRUE))/(IF($C$7<>\"\",Table2[ProposalCode]=$C$7,TRUE)),ROW(F195))),\"\")","v":""},{"$f":"IFERROR(INDEX(Table2[Amount_FPPDepo],_xlfn.AGGREGATE(15,6,(ROW(Table2[FPPGroupCode])-2)/(Table2[DepoName]=$C$2)/(IF($C$3<>\"\",Table2[BULAN]=$C$3,TRUE))/(IF($C$4<>\"\",Table2[OFF/ON]=$C$4,TRUE))/(IF($C$5<>\"\",Table2[Status]=$C$5,TRUE))/(IF($C$6<>\"\",Table2[FPPDate]=$C$6,TRUE))/(IF($C$7<>\"\",Table2[ProposalCode]=$C$7,TRUE)),ROW(G195))),\"\")","v":""},{"$f":"IFERROR(VLOOKUP($B203,SIP!$D$5776:$P$6032,12,0),0)","v":0},{"$f":"IFERROR(H203-I203,0)","v":0},{"$f":"IFERROR(VLOOKUP($B203,SIP!$D$5776:$P$6032,8,0),0)","v":0},{"$f":"IFERROR(INDEX(Table2[OFF/ON],_xlfn.AGGREGATE(15,6,(ROW(Table2[FPPGroupCode])-2)/(Table2[DepoName]=$C$2)/(IF($C$3<>\"\",Table2[BULAN]=$C$3,TRUE))/(IF($C$4<>\"\",Table2[OFF/ON]=$C$4,TRUE))/(IF($C$5<>\"\",Table2[Status]=$C$5,TRUE))/(IF($C$6<>\"\",Table2[FPPDate]=$C$6,TRUE))/(IF($C$7<>\"\",Table2[ProposalCode]=$C$7,TRUE)),ROW(K195))),\"\")","v":""}]
[{"$f":"IF(LEN($B204),ROW(A196),\"\")","v":""},{"$f":"IFERROR(INDEX(Table2[FPPGroupCode],_xlfn.AGGREGATE(15,6,(ROW(Table2[FPPGroupCode])-2)/(Table2[DepoName]=$C$2)/(IF($C$3<>\"\",Table2[BULAN]=$C$3,TRUE))/(IF($C$4<>\"\",Table2[OFF/ON]=$C$4,TRUE))/(IF($C$5<>\"\",Table2[Status]=$C$5,TRUE))/(IF($C$6<>\"\",Table2[FPPDate]=$C$6,TRUE))/(IF($C$7<>\"\",Table2[ProposalCode]=$C$7,TRUE)),ROW(A196))),\"\")","v":""},{"$f":"IFERROR(VLOOKUP($B204,SIP!$D$3:$Q$12237,14,0),0)","v":0},{"$f":"IFERROR(INDEX(Table2[Activity],_xlfn.AGGREGATE(15,6,(ROW(Table2[FPPGroupCode])-2)/(Table2[DepoName]=$C$2)/(IF($C$3<>\"\",Table2[BULAN]=$C$3,TRUE))/(IF($C$4<>\"\",Table2[OFF/ON]=$C$4,TRUE))/(IF($C$5<>\"\",Table2[Status]=$C$5,TRUE))/(IF($C$6<>\"\",Table2[]=$C$6,TRUE))/(IF($C$7<>\"\",Table2[ProposalCode]=$C$7,TRUE)),ROW(B196))),\"\")","v":""},{"$f":"IFERROR(INDEX(Table2[Location],_xlfn.AGGREGATE(15,6,(ROW(Table2[FPPGroupCode])-2)/(Table2[DepoName]=$C$2)/(IF($C$3<>\"\",Table2[BULAN]=$C$3,TRUE))/(IF($C$4<>\"\",Table2[OFF/ON]=$C$4,TRUE))/(IF($C$5<>\"\",Table2[Status]=$C$5,TRUE))/(IF($C$6<>\"\",Table2[FPPDate]=$C$6,TRUE))/(IF($C$7<>\"\",Table2[ProposalCode]=$C$7,TRUE)),ROW(D196))),\"\")","v":""},{"$f":"IFERROR(INDEX(Table2[PeriodeStart],_xlfn.AGGREGATE(15,6,(ROW(Table2[FPPGroupCode])-2)/(Table2[DepoName]=$C$2)/(IF($C$3<>\"\",Table2[BULAN]=$C$3,TRUE))/(IF($C$4<>\"\",Table2[OFF/ON]=$C$4,TRUE))/(IF($C$5<>\"\",Table2[Status]=$C$5,TRUE))/(IF($C$6<>\"\",Table2[FPPDate]=$C$6,TRUE))/(IF($C$7<>\"\",Table2[ProposalCode]=$C$7,TRUE)),ROW(E196))),\"\")","v":""},{"$f":"IFERROR(INDEX(Table2[PeriodeEnd],_xlfn.AGGREGATE(15,6,(ROW(Table2[FPPGroupCode])-2)/(Table2[DepoName]=$C$2)/(IF($C$3<>\"\",Table2[BULAN]=$C$3,TRUE))/(IF($C$4<>\"\",Table2[OFF/ON]=$C$4,TRUE))/(IF($C$5<>\"\",Table2[Status]=$C$5,TRUE))/(IF($C$6<>\"\",Table2[FPPDate]=$C$6,TRUE))/(IF($C$7<>\"\",Table2[ProposalCode]=$C$7,TRUE)),ROW(F196))),\"\")","v":""},{"$f":"IFERROR(INDEX(Table2[Amount_FPPDepo],_xlfn.AGGREGATE(15,6,(ROW(Table2[FPPGroupCode])-2)/(Table2[DepoName]=$C$2)/(IF($C$3<>\"\",Table2[BULAN]=$C$3,TRUE))/(IF($C$4<>\"\",Table2[OFF/ON]=$C$4,TRUE))/(IF($C$5<>\"\",Table2[Status]=$C$5,TRUE))/(IF($C$6<>\"\",Table2[FPPDate]=$C$6,TRUE))/(IF($C$7<>\"\",Table2[ProposalCode]=$C$7,TRUE)),ROW(G196))),\"\")","v":""},{"$f":"IFERROR(VLOOKUP($B204,SIP!$D$5776:$P$6032,12,0),0)","v":0},{"$f":"IFERROR(H204-I204,0)","v":0},{"$f":"IFERROR(VLOOKUP($B204,SIP!$D$5776:$P$6032,8,0),0)","v":0},{"$f":"IFERROR(INDEX(Table2[OFF/ON],_xlfn.AGGREGATE(15,6,(ROW(Table2[FPPGroupCode])-2)/(Table2[DepoName]=$C$2)/(IF($C$3<>\"\",Table2[BULAN]=$C$3,TRUE))/(IF($C$4<>\"\",Table2[OFF/ON]=$C$4,TRUE))/(IF($C$5<>\"\",Table2[Status]=$C$5,TRUE))/(IF($C$6<>\"\",Table2[FPPDate]=$C$6,TRUE))/(IF($C$7<>\"\",Table2[ProposalCode]=$C$7,TRUE)),ROW(K196))),\"\")","v":""}]
[{"$f":"IF(LEN($B205),ROW(A197),\"\")","v":""},{"$f":"IFERROR(INDEX(Table2[FPPGroupCode],_xlfn.AGGREGATE(15,6,(ROW(Table2[FPPGroupCode])-2)/(Table2[DepoName]=$C$2)/(IF($C$3<>\"\",Table2[BULAN]=$C$3,TRUE))/(IF($C$4<>\"\",Table2[OFF/ON]=$C$4,TRUE))/(IF($C$5<>\"\",Table2[Status]=$C$5,TRUE))/(IF($C$6<>\"\",Table2[FPPDate]=$C$6,TRUE))/(IF($C$7<>\"\",Table2[ProposalCode]=$C$7,TRUE)),ROW(A197))),\"\")","v":""},{"$f":"IFERROR(VLOOKUP($B205,SIP!$D$3:$Q$12237,14,0),0)","v":0},{"$f":"IFERROR(INDEX(Table2[Activity],_xlfn.AGGREGATE(15,6,(ROW(Table2[FPPGroupCode])-2)/(Table2[DepoName]=$C$2)/(IF($C$3<>\"\",Table2[BULAN]=$C$3,TRUE))/(IF($C$4<>\"\",Table2[OFF/ON]=$C$4,TRUE))/(IF($C$5<>\"\",Table2[Status]=$C$5,TRUE))/(IF($C$6<>\"\",Table2[]=$C$6,TRUE))/(IF($C$7<>\"\",Table2[ProposalCode]=$C$7,TRUE)),ROW(B197))),\"\")","v":""},{"$f":"IFERROR(INDEX(Table2[Location],_xlfn.AGGREGATE(15,6,(ROW(Table2[FPPGroupCode])-2)/(Table2[DepoName]=$C$2)/(IF($C$3<>\"\",Table2[BULAN]=$C$3,TRUE))/(IF($C$4<>\"\",Table2[OFF/ON]=$C$4,TRUE))/(IF($C$5<>\"\",Table2[Status]=$C$5,TRUE))/(IF($C$6<>\"\",Table2[FPPDate]=$C$6,TRUE))/(IF($C$7<>\"\",Table2[ProposalCode]=$C$7,TRUE)),ROW(D197))),\"\")","v":""},{"$f":"IFERROR(INDEX(Table2[PeriodeStart],_xlfn.AGGREGATE(15,6,(ROW(Table2[FPPGroupCode])-2)/(Table2[DepoName]=$C$2)/(IF($C$3<>\"\",Table2[BULAN]=$C$3,TRUE))/(IF($C$4<>\"\",Table2[OFF/ON]=$C$4,TRUE))/(IF($C$5<>\"\",Table2[Status]=$C$5,TRUE))/(IF($C$6<>\"\",Table2[FPPDate]=$C$6,TRUE))/(IF($C$7<>\"\",Table2[ProposalCode]=$C$7,TRUE)),ROW(E197))),\"\")","v":""},{"$f":"IFERROR(INDEX(Table2[PeriodeEnd],_xlfn.AGGREGATE(15,6,(ROW(Table2[FPPGroupCode])-2)/(Table2[DepoName]=$C$2)/(IF($C$3<>\"\",Table2[BULAN]=$C$3,TRUE))/(IF($C$4<>\"\",Table2[OFF/ON]=$C$4,TRUE))/(IF($C$5<>\"\",Table2[Status]=$C$5,TRUE))/(IF($C$6<>\"\",Table2[FPPDate]=$C$6,TRUE))/(IF($C$7<>\"\",Table2[ProposalCode]=$C$7,TRUE)),ROW(F197))),\"\")","v":""},{"$f":"IFERROR(INDEX(Table2[Amount_FPPDepo],_xlfn.AGGREGATE(15,6,(ROW(Table2[FPPGroupCode])-2)/(Table2[DepoName]=$C$2)/(IF($C$3<>\"\",Table2[BULAN]=$C$3,TRUE))/(IF($C$4<>\"\",Table2[OFF/ON]=$C$4,TRUE))/(IF($C$5<>\"\",Table2[Status]=$C$5,TRUE))/(IF($C$6<>\"\",Table2[FPPDate]=$C$6,TRUE))/(IF($C$7<>\"\",Table2[ProposalCode]=$C$7,TRUE)),ROW(G197))),\"\")","v":""},{"$f":"IFERROR(VLOOKUP($B205,SIP!$D$5776:$P$6032,12,0),0)","v":0},{"$f":"IFERROR(H205-I205,0)","v":0},{"$f":"IFERROR(VLOOKUP($B205,SIP!$D$5776:$P$6032,8,0),0)","v":0},{"$f":"IFERROR(INDEX(Table2[OFF/ON],_xlfn.AGGREGATE(15,6,(ROW(Table2[FPPGroupCode])-2)/(Table2[DepoName]=$C$2)/(IF($C$3<>\"\",Table2[BULAN]=$C$3,TRUE))/(IF($C$4<>\"\",Table2[OFF/ON]=$C$4,TRUE))/(IF($C$5<>\"\",Table2[Status]=$C$5,TRUE))/(IF($C$6<>\"\",Table2[FPPDate]=$C$6,TRUE))/(IF($C$7<>\"\",Table2[ProposalCode]=$C$7,TRUE)),ROW(K197))),\"\")","v":""}]
[{"$f":"IF(LEN($B206),ROW(A198),\"\")","v":""},{"$f":"IFERROR(INDEX(Table2[FPPGroupCode],_xlfn.AGGREGATE(15,6,(ROW(Table2[FPPGroupCode])-2)/(Table2[DepoName]=$C$2)/(IF($C$3<>\"\",Table2[BULAN]=$C$3,TRUE))/(IF($C$4<>\"\",Table2[OFF/ON]=$C$4,TRUE))/(IF($C$5<>\"\",Table2[Status]=$C$5,TRUE))/(IF($C$6<>\"\",Table2[FPPDate]=$C$6,TRUE))/(IF($C$7<>\"\",Table2[ProposalCode]=$C$7,TRUE)),ROW(A198))),\"\")","v":""},{"$f":"IFERROR(VLOOKUP($B206,SIP!$D$3:$Q$12237,14,0),0)","v":0},{"$f":"IFERROR(INDEX(Table2[Activity],_xlfn.AGGREGATE(15,6,(ROW(Table2[FPPGroupCode])-2)/(Table2[DepoName]=$C$2)/(IF($C$3<>\"\",Table2[BULAN]=$C$3,TRUE))/(IF($C$4<>\"\",Table2[OFF/ON]=$C$4,TRUE))/(IF($C$5<>\"\",Table2[Status]=$C$5,TRUE))/(IF($C$6<>\"\",Table2[]=$C$6,TRUE))/(IF($C$7<>\"\",Table2[ProposalCode]=$C$7,TRUE)),ROW(B198))),\"\")","v":""},{"$f":"IFERROR(INDEX(Table2[Location],_xlfn.AGGREGATE(15,6,(ROW(Table2[FPPGroupCode])-2)/(Table2[DepoName]=$C$2)/(IF($C$3<>\"\",Table2[BULAN]=$C$3,TRUE))/(IF($C$4<>\"\",Table2[OFF/ON]=$C$4,TRUE))/(IF($C$5<>\"\",Table2[Status]=$C$5,TRUE))/(IF($C$6<>\"\",Table2[FPPDate]=$C$6,TRUE))/(IF($C$7<>\"\",Table2[ProposalCode]=$C$7,TRUE)),ROW(D198))),\"\")","v":""},{"$f":"IFERROR(INDEX(Table2[PeriodeStart],_xlfn.AGGREGATE(15,6,(ROW(Table2[FPPGroupCode])-2)/(Table2[DepoName]=$C$2)/(IF($C$3<>\"\",Table2[BULAN]=$C$3,TRUE))/(IF($C$4<>\"\",Table2[OFF/ON]=$C$4,TRUE))/(IF($C$5<>\"\",Table2[Status]=$C$5,TRUE))/(IF($C$6<>\"\",Table2[FPPDate]=$C$6,TRUE))/(IF($C$7<>\"\",Table2[ProposalCode]=$C$7,TRUE)),ROW(E198))),\"\")","v":""},{"$f":"IFERROR(INDEX(Table2[PeriodeEnd],_xlfn.AGGREGATE(15,6,(ROW(Table2[FPPGroupCode])-2)/(Table2[DepoName]=$C$2)/(IF($C$3<>\"\",Table2[BULAN]=$C$3,TRUE))/(IF($C$4<>\"\",Table2[OFF/ON]=$C$4,TRUE))/(IF($C$5<>\"\",Table2[Status]=$C$5,TRUE))/(IF($C$6<>\"\",Table2[FPPDate]=$C$6,TRUE))/(IF($C$7<>\"\",Table2[ProposalCode]=$C$7,TRUE)),ROW(F198))),\"\")","v":""},{"$f":"IFERROR(INDEX(Table2[Amount_FPPDepo],_xlfn.AGGREGATE(15,6,(ROW(Table2[FPPGroupCode])-2)/(Table2[DepoName]=$C$2)/(IF($C$3<>\"\",Table2[BULAN]=$C$3,TRUE))/(IF($C$4<>\"\",Table2[OFF/ON]=$C$4,TRUE))/(IF($C$5<>\"\",Table2[Status]=$C$5,TRUE))/(IF($C$6<>\"\",Table2[FPPDate]=$C$6,TRUE))/(IF($C$7<>\"\",Table2[ProposalCode]=$C$7,TRUE)),ROW(G198))),\"\")","v":""},{"$f":"IFERROR(VLOOKUP($B206,SIP!$D$5776:$P$6032,12,0),0)","v":0},{"$f":"IFERROR(H206-I206,0)","v":0},{"$f":"IFERROR(VLOOKUP($B206,SIP!$D$5776:$P$6032,8,0),0)","v":0},{"$f":"IFERROR(INDEX(Table2[OFF/ON],_xlfn.AGGREGATE(15,6,(ROW(Table2[FPPGroupCode])-2)/(Table2[DepoName]=$C$2)/(IF($C$3<>\"\",Table2[BULAN]=$C$3,TRUE))/(IF($C$4<>\"\",Table2[OFF/ON]=$C$4,TRUE))/(IF($C$5<>\"\",Table2[Status]=$C$5,TRUE))/(IF($C$6<>\"\",Table2[FPPDate]=$C$6,TRUE))/(IF($C$7<>\"\",Table2[ProposalCode]=$C$7,TRUE)),ROW(K198))),\"\")","v":""}]
[{"$f":"IF(LEN($B207),ROW(A199),\"\")","v":""},{"$f":"IFERROR(INDEX(Table2[FPPGroupCode],_xlfn.AGGREGATE(15,6,(ROW(Table2[FPPGroupCode])-2)/(Table2[DepoName]=$C$2)/(IF($C$3<>\"\",Table2[BULAN]=$C$3,TRUE))/(IF($C$4<>\"\",Table2[OFF/ON]=$C$4,TRUE))/(IF($C$5<>\"\",Table2[Status]=$C$5,TRUE))/(IF($C$6<>\"\",Table2[FPPDate]=$C$6,TRUE))/(IF($C$7<>\"\",Table2[ProposalCode]=$C$7,TRUE)),ROW(A199))),\"\")","v":""},{"$f":"IFERROR(VLOOKUP($B207,SIP!$D$3:$Q$12237,14,0),0)","v":0},{"$f":"IFERROR(INDEX(Table2[Activity],_xlfn.AGGREGATE(15,6,(ROW(Table2[FPPGroupCode])-2)/(Table2[DepoName]=$C$2)/(IF($C$3<>\"\",Table2[BULAN]=$C$3,TRUE))/(IF($C$4<>\"\",Table2[OFF/ON]=$C$4,TRUE))/(IF($C$5<>\"\",Table2[Status]=$C$5,TRUE))/(IF($C$6<>\"\",Table2[]=$C$6,TRUE))/(IF($C$7<>\"\",Table2[ProposalCode]=$C$7,TRUE)),ROW(B199))),\"\")","v":""},{"$f":"IFERROR(INDEX(Table2[Location],_xlfn.AGGREGATE(15,6,(ROW(Table2[FPPGroupCode])-2)/(Table2[DepoName]=$C$2)/(IF($C$3<>\"\",Table2[BULAN]=$C$3,TRUE))/(IF($C$4<>\"\",Table2[OFF/ON]=$C$4,TRUE))/(IF($C$5<>\"\",Table2[Status]=$C$5,TRUE))/(IF($C$6<>\"\",Table2[FPPDate]=$C$6,TRUE))/(IF($C$7<>\"\",Table2[ProposalCode]=$C$7,TRUE)),ROW(D199))),\"\")","v":""},{"$f":"IFERROR(INDEX(Table2[PeriodeStart],_xlfn.AGGREGATE(15,6,(ROW(Table2[FPPGroupCode])-2)/(Table2[DepoName]=$C$2)/(IF($C$3<>\"\",Table2[BULAN]=$C$3,TRUE))/(IF($C$4<>\"\",Table2[OFF/ON]=$C$4,TRUE))/(IF($C$5<>\"\",Table2[Status]=$C$5,TRUE))/(IF($C$6<>\"\",Table2[FPPDate]=$C$6,TRUE))/(IF($C$7<>\"\",Table2[ProposalCode]=$C$7,TRUE)),ROW(E199))),\"\")","v":""},{"$f":"IFERROR(INDEX(Table2[PeriodeEnd],_xlfn.AGGREGATE(15,6,(ROW(Table2[FPPGroupCode])-2)/(Table2[DepoName]=$C$2)/(IF($C$3<>\"\",Table2[BULAN]=$C$3,TRUE))/(IF($C$4<>\"\",Table2[OFF/ON]=$C$4,TRUE))/(IF($C$5<>\"\",Table2[Status]=$C$5,TRUE))/(IF($C$6<>\"\",Table2[FPPDate]=$C$6,TRUE))/(IF($C$7<>\"\",Table2[ProposalCode]=$C$7,TRUE)),ROW(F199))),\"\")","v":""},{"$f":"IFERROR(INDEX(Table2[Amount_FPPDepo],_xlfn.AGGREGATE(15,6,(ROW(Table2[FPPGroupCode])-2)/(Table2[DepoName]=$C$2)/(IF($C$3<>\"\",Table2[BULAN]=$C$3,TRUE))/(IF($C$4<>\"\",Table2[OFF/ON]=$C$4,TRUE))/(IF($C$5<>\"\",Table2[Status]=$C$5,TRUE))/(IF($C$6<>\"\",Table2[FPPDate]=$C$6,TRUE))/(IF($C$7<>\"\",Table2[ProposalCode]=$C$7,TRUE)),ROW(G199))),\"\")","v":""},{"$f":"IFERROR(VLOOKUP($B207,SIP!$D$5776:$P$6032,12,0),0)","v":0},{"$f":"IFERROR(H207-I207,0)","v":0},{"$f":"IFERROR(VLOOKUP($B207,SIP!$D$5776:$P$6032,8,0),0)","v":0},{"$f":"IFERROR(INDEX(Table2[OFF/ON],_xlfn.AGGREGATE(15,6,(ROW(Table2[FPPGroupCode])-2)/(Table2[DepoName]=$C$2)/(IF($C$3<>\"\",Table2[BULAN]=$C$3,TRUE))/(IF($C$4<>\"\",Table2[OFF/ON]=$C$4,TRUE))/(IF($C$5<>\"\",Table2[Status]=$C$5,TRUE))/(IF($C$6<>\"\",Table2[FPPDate]=$C$6,TRUE))/(IF($C$7<>\"\",Table2[ProposalCode]=$C$7,TRUE)),ROW(K199))),\"\")","v":""}]
[{"$f":"IF(LEN($B208),ROW(A200),\"\")","v":""},{"$f":"IFERROR(INDEX(Table2[FPPGroupCode],_xlfn.AGGREGATE(15,6,(ROW(Table2[FPPGroupCode])-2)/(Table2[DepoName]=$C$2)/(IF($C$3<>\"\",Table2[BULAN]=$C$3,TRUE))/(IF($C$4<>\"\",Table2[OFF/ON]=$C$4,TRUE))/(IF($C$5<>\"\",Table2[Status]=$C$5,TRUE))/(IF($C$6<>\"\",Table2[FPPDate]=$C$6,TRUE))/(IF($C$7<>\"\",Table2[ProposalCode]=$C$7,TRUE)),ROW(A200))),\"\")","v":""},{"$f":"IFERROR(VLOOKUP($B208,SIP!$D$3:$Q$12237,14,0),0)","v":0},{"$f":"IFERROR(INDEX(Table2[Activity],_xlfn.AGGREGATE(15,6,(ROW(Table2[FPPGroupCode])-2)/(Table2[DepoName]=$C$2)/(IF($C$3<>\"\",Table2[BULAN]=$C$3,TRUE))/(IF($C$4<>\"\",Table2[OFF/ON]=$C$4,TRUE))/(IF($C$5<>\"\",Table2[Status]=$C$5,TRUE))/(IF($C$6<>\"\",Table2[]=$C$6,TRUE))/(IF($C$7<>\"\",Table2[ProposalCode]=$C$7,TRUE)),ROW(B200))),\"\")","v":""},{"$f":"IFERROR(INDEX(Table2[Location],_xlfn.AGGREGATE(15,6,(ROW(Table2[FPPGroupCode])-2)/(Table2[DepoName]=$C$2)/(IF($C$3<>\"\",Table2[BULAN]=$C$3,TRUE))/(IF($C$4<>\"\",Table2[OFF/ON]=$C$4,TRUE))/(IF($C$5<>\"\",Table2[Status]=$C$5,TRUE))/(IF($C$6<>\"\",Table2[FPPDate]=$C$6,TRUE))/(IF($C$7<>\"\",Table2[ProposalCode]=$C$7,TRUE)),ROW(D200))),\"\")","v":""},{"$f":"IFERROR(INDEX(Table2[PeriodeStart],_xlfn.AGGREGATE(15,6,(ROW(Table2[FPPGroupCode])-2)/(Table2[DepoName]=$C$2)/(IF($C$3<>\"\",Table2[BULAN]=$C$3,TRUE))/(IF($C$4<>\"\",Table2[OFF/ON]=$C$4,TRUE))/(IF($C$5<>\"\",Table2[Status]=$C$5,TRUE))/(IF($C$6<>\"\",Table2[FPPDate]=$C$6,TRUE))/(IF($C$7<>\"\",Table2[ProposalCode]=$C$7,TRUE)),ROW(E200))),\"\")","v":""},{"$f":"IFERROR(INDEX(Table2[PeriodeEnd],_xlfn.AGGREGATE(15,6,(ROW(Table2[FPPGroupCode])-2)/(Table2[DepoName]=$C$2)/(IF($C$3<>\"\",Table2[BULAN]=$C$3,TRUE))/(IF($C$4<>\"\",Table2[OFF/ON]=$C$4,TRUE))/(IF($C$5<>\"\",Table2[Status]=$C$5,TRUE))/(IF($C$6<>\"\",Table2[FPPDate]=$C$6,TRUE))/(IF($C$7<>\"\",Table2[ProposalCode]=$C$7,TRUE)),ROW(F200))),\"\")","v":""},{"$f":"IFERROR(INDEX(Table2[Amount_FPPDepo],_xlfn.AGGREGATE(15,6,(ROW(Table2[FPPGroupCode])-2)/(Table2[DepoName]=$C$2)/(IF($C$3<>\"\",Table2[BULAN]=$C$3,TRUE))/(IF($C$4<>\"\",Table2[OFF/ON]=$C$4,TRUE))/(IF($C$5<>\"\",Table2[Status]=$C$5,TRUE))/(IF($C$6<>\"\",Table2[FPPDate]=$C$6,TRUE))/(IF($C$7<>\"\",Table2[ProposalCode]=$C$7,TRUE)),ROW(G200))),\"\")","v":""},{"$f":"IFERROR(VLOOKUP($B208,SIP!$D$5776:$P$6032,12,0),0)","v":0},{"$f":"IFERROR(H208-I208,0)","v":0},{"$f":"IFERROR(VLOOKUP($B208,SIP!$D$5776:$P$6032,8,0),0)","v":0},{"$f":"IFERROR(INDEX(Table2[OFF/ON],_xlfn.AGGREGATE(15,6,(ROW(Table2[FPPGroupCode])-2)/(Table2[DepoName]=$C$2)/(IF($C$3<>\"\",Table2[BULAN]=$C$3,TRUE))/(IF($C$4<>\"\",Table2[OFF/ON]=$C$4,TRUE))/(IF($C$5<>\"\",Table2[Status]=$C$5,TRUE))/(IF($C$6<>\"\",Table2[FPPDate]=$C$6,TRUE))/(IF($C$7<>\"\",Table2[ProposalCode]=$C$7,TRUE)),ROW(K200))),\"\")","v":""}]
[{"$f":"IF(LEN($B209),ROW(A201),\"\")","v":""},{"$f":"IFERROR(INDEX(Table2[FPPGroupCode],_xlfn.AGGREGATE(15,6,(ROW(Table2[FPPGroupCode])-2)/(Table2[DepoName]=$C$2)/(IF($C$3<>\"\",Table2[BULAN]=$C$3,TRUE))/(IF($C$4<>\"\",Table2[OFF/ON]=$C$4,TRUE))/(IF($C$5<>\"\",Table2[Status]=$C$5,TRUE))/(IF($C$6<>\"\",Table2[FPPDate]=$C$6,TRUE))/(IF($C$7<>\"\",Table2[ProposalCode]=$C$7,TRUE)),ROW(A201))),\"\")","v":""},{"$f":"IFERROR(VLOOKUP($B209,SIP!$D$3:$Q$12237,14,0),0)","v":0},{"$f":"IFERROR(INDEX(Table2[Activity],_xlfn.AGGREGATE(15,6,(ROW(Table2[FPPGroupCode])-2)/(Table2[DepoName]=$C$2)/(IF($C$3<>\"\",Table2[BULAN]=$C$3,TRUE))/(IF($C$4<>\"\",Table2[OFF/ON]=$C$4,TRUE))/(IF($C$5<>\"\",Table2[Status]=$C$5,TRUE))/(IF($C$6<>\"\",Table2[]=$C$6,TRUE))/(IF($C$7<>\"\",Table2[ProposalCode]=$C$7,TRUE)),ROW(B201))),\"\")","v":""},{"$f":"IFERROR(INDEX(Table2[Location],_xlfn.AGGREGATE(15,6,(ROW(Table2[FPPGroupCode])-2)/(Table2[DepoName]=$C$2)/(IF($C$3<>\"\",Table2[BULAN]=$C$3,TRUE))/(IF($C$4<>\"\",Table2[OFF/ON]=$C$4,TRUE))/(IF($C$5<>\"\",Table2[Status]=$C$5,TRUE))/(IF($C$6<>\"\",Table2[FPPDate]=$C$6,TRUE))/(IF($C$7<>\"\",Table2[ProposalCode]=$C$7,TRUE)),ROW(D201))),\"\")","v":""},{"$f":"IFERROR(INDEX(Table2[PeriodeStart],_xlfn.AGGREGATE(15,6,(ROW(Table2[FPPGroupCode])-2)/(Table2[DepoName]=$C$2)/(IF($C$3<>\"\",Table2[BULAN]=$C$3,TRUE))/(IF($C$4<>\"\",Table2[OFF/ON]=$C$4,TRUE))/(IF($C$5<>\"\",Table2[Status]=$C$5,TRUE))/(IF($C$6<>\"\",Table2[FPPDate]=$C$6,TRUE))/(IF($C$7<>\"\",Table2[ProposalCode]=$C$7,TRUE)),ROW(E201))),\"\")","v":""},{"$f":"IFERROR(INDEX(Table2[PeriodeEnd],_xlfn.AGGREGATE(15,6,(ROW(Table2[FPPGroupCode])-2)/(Table2[DepoName]=$C$2)/(IF($C$3<>\"\",Table2[BULAN]=$C$3,TRUE))/(IF($C$4<>\"\",Table2[OFF/ON]=$C$4,TRUE))/(IF($C$5<>\"\",Table2[Status]=$C$5,TRUE))/(IF($C$6<>\"\",Table2[FPPDate]=$C$6,TRUE))/(IF($C$7<>\"\",Table2[ProposalCode]=$C$7,TRUE)),ROW(F201))),\"\")","v":""},{"$f":"IFERROR(INDEX(Table2[Amount_FPPDepo],_xlfn.AGGREGATE(15,6,(ROW(Table2[FPPGroupCode])-2)/(Table2[DepoName]=$C$2)/(IF($C$3<>\"\",Table2[BULAN]=$C$3,TRUE))/(IF($C$4<>\"\",Table2[OFF/ON]=$C$4,TRUE))/(IF($C$5<>\"\",Table2[Status]=$C$5,TRUE))/(IF($C$6<>\"\",Table2[FPPDate]=$C$6,TRUE))/(IF($C$7<>\"\",Table2[ProposalCode]=$C$7,TRUE)),ROW(G201))),\"\")","v":""},{"$f":"IFERROR(VLOOKUP($B209,SIP!$D$5776:$P$6032,12,0),0)","v":0},{"$f":"IFERROR(H209-I209,0)","v":0},{"$f":"IFERROR(VLOOKUP($B209,SIP!$D$5776:$P$6032,8,0),0)","v":0},{"$f":"IFERROR(INDEX(Table2[OFF/ON],_xlfn.AGGREGATE(15,6,(ROW(Table2[FPPGroupCode])-2)/(Table2[DepoName]=$C$2)/(IF($C$3<>\"\",Table2[BULAN]=$C$3,TRUE))/(IF($C$4<>\"\",Table2[OFF/ON]=$C$4,TRUE))/(IF($C$5<>\"\",Table2[Status]=$C$5,TRUE))/(IF($C$6<>\"\",Table2[FPPDate]=$C$6,TRUE))/(IF($C$7<>\"\",Table2[ProposalCode]=$C$7,TRUE)),ROW(K201))),\"\")","v":""}]
[{"$f":"IF(LEN($B210),ROW(A202),\"\")","v":""},{"$f":"IFERROR(INDEX(Table2[FPPGroupCode],_xlfn.AGGREGATE(15,6,(ROW(Table2[FPPGroupCode])-2)/(Table2[DepoName]=$C$2)/(IF($C$3<>\"\",Table2[BULAN]=$C$3,TRUE))/(IF($C$4<>\"\",Table2[OFF/ON]=$C$4,TRUE))/(IF($C$5<>\"\",Table2[Status]=$C$5,TRUE))/(IF($C$6<>\"\",Table2[FPPDate]=$C$6,TRUE))/(IF($C$7<>\"\",Table2[ProposalCode]=$C$7,TRUE)),ROW(A202))),\"\")","v":""},{"$f":"IFERROR(VLOOKUP($B210,SIP!$D$3:$Q$12237,14,0),0)","v":0},{"$f":"IFERROR(INDEX(Table2[Activity],_xlfn.AGGREGATE(15,6,(ROW(Table2[FPPGroupCode])-2)/(Table2[DepoName]=$C$2)/(IF($C$3<>\"\",Table2[BULAN]=$C$3,TRUE))/(IF($C$4<>\"\",Table2[OFF/ON]=$C$4,TRUE))/(IF($C$5<>\"\",Table2[Status]=$C$5,TRUE))/(IF($C$6<>\"\",Table2[]=$C$6,TRUE))/(IF($C$7<>\"\",Table2[ProposalCode]=$C$7,TRUE)),ROW(B202))),\"\")","v":""},{"$f":"IFERROR(INDEX(Table2[Location],_xlfn.AGGREGATE(15,6,(ROW(Table2[FPPGroupCode])-2)/(Table2[DepoName]=$C$2)/(IF($C$3<>\"\",Table2[BULAN]=$C$3,TRUE))/(IF($C$4<>\"\",Table2[OFF/ON]=$C$4,TRUE))/(IF($C$5<>\"\",Table2[Status]=$C$5,TRUE))/(IF($C$6<>\"\",Table2[FPPDate]=$C$6,TRUE))/(IF($C$7<>\"\",Table2[ProposalCode]=$C$7,TRUE)),ROW(D202))),\"\")","v":""},{"$f":"IFERROR(INDEX(Table2[PeriodeStart],_xlfn.AGGREGATE(15,6,(ROW(Table2[FPPGroupCode])-2)/(Table2[DepoName]=$C$2)/(IF($C$3<>\"\",Table2[BULAN]=$C$3,TRUE))/(IF($C$4<>\"\",Table2[OFF/ON]=$C$4,TRUE))/(IF($C$5<>\"\",Table2[Status]=$C$5,TRUE))/(IF($C$6<>\"\",Table2[FPPDate]=$C$6,TRUE))/(IF($C$7<>\"\",Table2[ProposalCode]=$C$7,TRUE)),ROW(E202))),\"\")","v":""},{"$f":"IFERROR(INDEX(Table2[PeriodeEnd],_xlfn.AGGREGATE(15,6,(ROW(Table2[FPPGroupCode])-2)/(Table2[DepoName]=$C$2)/(IF($C$3<>\"\",Table2[BULAN]=$C$3,TRUE))/(IF($C$4<>\"\",Table2[OFF/ON]=$C$4,TRUE))/(IF($C$5<>\"\",Table2[Status]=$C$5,TRUE))/(IF($C$6<>\"\",Table2[FPPDate]=$C$6,TRUE))/(IF($C$7<>\"\",Table2[ProposalCode]=$C$7,TRUE)),ROW(F202))),\"\")","v":""},{"$f":"IFERROR(INDEX(Table2[Amount_FPPDepo],_xlfn.AGGREGATE(15,6,(ROW(Table2[FPPGroupCode])-2)/(Table2[DepoName]=$C$2)/(IF($C$3<>\"\",Table2[BULAN]=$C$3,TRUE))/(IF($C$4<>\"\",Table2[OFF/ON]=$C$4,TRUE))/(IF($C$5<>\"\",Table2[Status]=$C$5,TRUE))/(IF($C$6<>\"\",Table2[FPPDate]=$C$6,TRUE))/(IF($C$7<>\"\",Table2[ProposalCode]=$C$7,TRUE)),ROW(G202))),\"\")","v":""},{"$f":"IFERROR(VLOOKUP($B210,SIP!$D$5776:$P$6032,12,0),0)","v":0},{"$f":"IFERROR(H210-I210,0)","v":0},{"$f":"IFERROR(VLOOKUP($B210,SIP!$D$5776:$P$6032,8,0),0)","v":0},{"$f":"IFERROR(INDEX(Table2[OFF/ON],_xlfn.AGGREGATE(15,6,(ROW(Table2[FPPGroupCode])-2)/(Table2[DepoName]=$C$2)/(IF($C$3<>\"\",Table2[BULAN]=$C$3,TRUE))/(IF($C$4<>\"\",Table2[OFF/ON]=$C$4,TRUE))/(IF($C$5<>\"\",Table2[Status]=$C$5,TRUE))/(IF($C$6<>\"\",Table2[FPPDate]=$C$6,TRUE))/(IF($C$7<>\"\",Table2[ProposalCode]=$C$7,TRUE)),ROW(K202))),\"\")","v":""}]
[{"$f":"IF(LEN($B211),ROW(A203),\"\")","v":""},{"$f":"IFERROR(INDEX(Table2[FPPGroupCode],_xlfn.AGGREGATE(15,6,(ROW(Table2[FPPGroupCode])-2)/(Table2[DepoName]=$C$2)/(IF($C$3<>\"\",Table2[BULAN]=$C$3,TRUE))/(IF($C$4<>\"\",Table2[OFF/ON]=$C$4,TRUE))/(IF($C$5<>\"\",Table2[Status]=$C$5,TRUE))/(IF($C$6<>\"\",Table2[FPPDate]=$C$6,TRUE))/(IF($C$7<>\"\",Table2[ProposalCode]=$C$7,TRUE)),ROW(A203))),\"\")","v":""},{"$f":"IFERROR(VLOOKUP($B211,SIP!$D$3:$Q$12237,14,0),0)","v":0},{"$f":"IFERROR(INDEX(Table2[Activity],_xlfn.AGGREGATE(15,6,(ROW(Table2[FPPGroupCode])-2)/(Table2[DepoName]=$C$2)/(IF($C$3<>\"\",Table2[BULAN]=$C$3,TRUE))/(IF($C$4<>\"\",Table2[OFF/ON]=$C$4,TRUE))/(IF($C$5<>\"\",Table2[Status]=$C$5,TRUE))/(IF($C$6<>\"\",Table2[]=$C$6,TRUE))/(IF($C$7<>\"\",Table2[ProposalCode]=$C$7,TRUE)),ROW(B203))),\"\")","v":""},{"$f":"IFERROR(INDEX(Table2[Location],_xlfn.AGGREGATE(15,6,(ROW(Table2[FPPGroupCode])-2)/(Table2[DepoName]=$C$2)/(IF($C$3<>\"\",Table2[BULAN]=$C$3,TRUE))/(IF($C$4<>\"\",Table2[OFF/ON]=$C$4,TRUE))/(IF($C$5<>\"\",Table2[Status]=$C$5,TRUE))/(IF($C$6<>\"\",Table2[FPPDate]=$C$6,TRUE))/(IF($C$7<>\"\",Table2[ProposalCode]=$C$7,TRUE)),ROW(D203))),\"\")","v":""},{"$f":"IFERROR(INDEX(Table2[PeriodeStart],_xlfn.AGGREGATE(15,6,(ROW(Table2[FPPGroupCode])-2)/(Table2[DepoName]=$C$2)/(IF($C$3<>\"\",Table2[BULAN]=$C$3,TRUE))/(IF($C$4<>\"\",Table2[OFF/ON]=$C$4,TRUE))/(IF($C$5<>\"\",Table2[Status]=$C$5,TRUE))/(IF($C$6<>\"\",Table2[FPPDate]=$C$6,TRUE))/(IF($C$7<>\"\",Table2[ProposalCode]=$C$7,TRUE)),ROW(E203))),\"\")","v":""},{"$f":"IFERROR(INDEX(Table2[PeriodeEnd],_xlfn.AGGREGATE(15,6,(ROW(Table2[FPPGroupCode])-2)/(Table2[DepoName]=$C$2)/(IF($C$3<>\"\",Table2[BULAN]=$C$3,TRUE))/(IF($C$4<>\"\",Table2[OFF/ON]=$C$4,TRUE))/(IF($C$5<>\"\",Table2[Status]=$C$5,TRUE))/(IF($C$6<>\"\",Table2[FPPDate]=$C$6,TRUE))/(IF($C$7<>\"\",Table2[ProposalCode]=$C$7,TRUE)),ROW(F203))),\"\")","v":""},{"$f":"IFERROR(INDEX(Table2[Amount_FPPDepo],_xlfn.AGGREGATE(15,6,(ROW(Table2[FPPGroupCode])-2)/(Table2[DepoName]=$C$2)/(IF($C$3<>\"\",Table2[BULAN]=$C$3,TRUE))/(IF($C$4<>\"\",Table2[OFF/ON]=$C$4,TRUE))/(IF($C$5<>\"\",Table2[Status]=$C$5,TRUE))/(IF($C$6<>\"\",Table2[FPPDate]=$C$6,TRUE))/(IF($C$7<>\"\",Table2[ProposalCode]=$C$7,TRUE)),ROW(G203))),\"\")","v":""},{"$f":"IFERROR(VLOOKUP($B211,SIP!$D$5776:$P$6032,12,0),0)","v":0},{"$f":"IFERROR(H211-I211,0)","v":0},{"$f":"IFERROR(VLOOKUP($B211,SIP!$D$5776:$P$6032,8,0),0)","v":0},{"$f":"IFERROR(INDEX(Table2[OFF/ON],_xlfn.AGGREGATE(15,6,(ROW(Table2[FPPGroupCode])-2)/(Table2[DepoName]=$C$2)/(IF($C$3<>\"\",Table2[BULAN]=$C$3,TRUE))/(IF($C$4<>\"\",Table2[OFF/ON]=$C$4,TRUE))/(IF($C$5<>\"\",Table2[Status]=$C$5,TRUE))/(IF($C$6<>\"\",Table2[FPPDate]=$C$6,TRUE))/(IF($C$7<>\"\",Table2[ProposalCode]=$C$7,TRUE)),ROW(K203))),\"\")","v":""}]
[{"$f":"IF(LEN($B212),ROW(A204),\"\")","v":""},{"$f":"IFERROR(INDEX(Table2[FPPGroupCode],_xlfn.AGGREGATE(15,6,(ROW(Table2[FPPGroupCode])-2)/(Table2[DepoName]=$C$2)/(IF($C$3<>\"\",Table2[BULAN]=$C$3,TRUE))/(IF($C$4<>\"\",Table2[OFF/ON]=$C$4,TRUE))/(IF($C$5<>\"\",Table2[Status]=$C$5,TRUE))/(IF($C$6<>\"\",Table2[FPPDate]=$C$6,TRUE))/(IF($C$7<>\"\",Table2[ProposalCode]=$C$7,TRUE)),ROW(A204))),\"\")","v":""},{"$f":"IFERROR(VLOOKUP($B212,SIP!$D$3:$Q$12237,14,0),0)","v":0},{"$f":"IFERROR(INDEX(Table2[Activity],_xlfn.AGGREGATE(15,6,(ROW(Table2[FPPGroupCode])-2)/(Table2[DepoName]=$C$2)/(IF($C$3<>\"\",Table2[BULAN]=$C$3,TRUE))/(IF($C$4<>\"\",Table2[OFF/ON]=$C$4,TRUE))/(IF($C$5<>\"\",Table2[Status]=$C$5,TRUE))/(IF($C$6<>\"\",Table2[]=$C$6,TRUE))/(IF($C$7<>\"\",Table2[ProposalCode]=$C$7,TRUE)),ROW(B204))),\"\")","v":""},{"$f":"IFERROR(INDEX(Table2[Location],_xlfn.AGGREGATE(15,6,(ROW(Table2[FPPGroupCode])-2)/(Table2[DepoName]=$C$2)/(IF($C$3<>\"\",Table2[BULAN]=$C$3,TRUE))/(IF($C$4<>\"\",Table2[OFF/ON]=$C$4,TRUE))/(IF($C$5<>\"\",Table2[Status]=$C$5,TRUE))/(IF($C$6<>\"\",Table2[FPPDate]=$C$6,TRUE))/(IF($C$7<>\"\",Table2[ProposalCode]=$C$7,TRUE)),ROW(D204))),\"\")","v":""},{"$f":"IFERROR(INDEX(Table2[PeriodeStart],_xlfn.AGGREGATE(15,6,(ROW(Table2[FPPGroupCode])-2)/(Table2[DepoName]=$C$2)/(IF($C$3<>\"\",Table2[BULAN]=$C$3,TRUE))/(IF($C$4<>\"\",Table2[OFF/ON]=$C$4,TRUE))/(IF($C$5<>\"\",Table2[Status]=$C$5,TRUE))/(IF($C$6<>\"\",Table2[FPPDate]=$C$6,TRUE))/(IF($C$7<>\"\",Table2[ProposalCode]=$C$7,TRUE)),ROW(E204))),\"\")","v":""},{"$f":"IFERROR(INDEX(Table2[PeriodeEnd],_xlfn.AGGREGATE(15,6,(ROW(Table2[FPPGroupCode])-2)/(Table2[DepoName]=$C$2)/(IF($C$3<>\"\",Table2[BULAN]=$C$3,TRUE))/(IF($C$4<>\"\",Table2[OFF/ON]=$C$4,TRUE))/(IF($C$5<>\"\",Table2[Status]=$C$5,TRUE))/(IF($C$6<>\"\",Table2[FPPDate]=$C$6,TRUE))/(IF($C$7<>\"\",Table2[ProposalCode]=$C$7,TRUE)),ROW(F204))),\"\")","v":""},{"$f":"IFERROR(INDEX(Table2[Amount_FPPDepo],_xlfn.AGGREGATE(15,6,(ROW(Table2[FPPGroupCode])-2)/(Table2[DepoName]=$C$2)/(IF($C$3<>\"\",Table2[BULAN]=$C$3,TRUE))/(IF($C$4<>\"\",Table2[OFF/ON]=$C$4,TRUE))/(IF($C$5<>\"\",Table2[Status]=$C$5,TRUE))/(IF($C$6<>\"\",Table2[FPPDate]=$C$6,TRUE))/(IF($C$7<>\"\",Table2[ProposalCode]=$C$7,TRUE)),ROW(G204))),\"\")","v":""},{"$f":"IFERROR(VLOOKUP($B212,SIP!$D$5776:$P$6032,12,0),0)","v":0},{"$f":"IFERROR(H212-I212,0)","v":0},{"$f":"IFERROR(VLOOKUP($B212,SIP!$D$5776:$P$6032,8,0),0)","v":0},{"$f":"IFERROR(INDEX(Table2[OFF/ON],_xlfn.AGGREGATE(15,6,(ROW(Table2[FPPGroupCode])-2)/(Table2[DepoName]=$C$2)/(IF($C$3<>\"\",Table2[BULAN]=$C$3,TRUE))/(IF($C$4<>\"\",Table2[OFF/ON]=$C$4,TRUE))/(IF($C$5<>\"\",Table2[Status]=$C$5,TRUE))/(IF($C$6<>\"\",Table2[FPPDate]=$C$6,TRUE))/(IF($C$7<>\"\",Table2[ProposalCode]=$C$7,TRUE)),ROW(K204))),\"\")","v":""}]
[{"$f":"IF(LEN($B213),ROW(A205),\"\")","v":""},{"$f":"IFERROR(INDEX(Table2[FPPGroupCode],_xlfn.AGGREGATE(15,6,(ROW(Table2[FPPGroupCode])-2)/(Table2[DepoName]=$C$2)/(IF($C$3<>\"\",Table2[BULAN]=$C$3,TRUE))/(IF($C$4<>\"\",Table2[OFF/ON]=$C$4,TRUE))/(IF($C$5<>\"\",Table2[Status]=$C$5,TRUE))/(IF($C$6<>\"\",Table2[FPPDate]=$C$6,TRUE))/(IF($C$7<>\"\",Table2[ProposalCode]=$C$7,TRUE)),ROW(A205))),\"\")","v":""},{"$f":"IFERROR(VLOOKUP($B213,SIP!$D$3:$Q$12237,14,0),0)","v":0},{"$f":"IFERROR(INDEX(Table2[Activity],_xlfn.AGGREGATE(15,6,(ROW(Table2[FPPGroupCode])-2)/(Table2[DepoName]=$C$2)/(IF($C$3<>\"\",Table2[BULAN]=$C$3,TRUE))/(IF($C$4<>\"\",Table2[OFF/ON]=$C$4,TRUE))/(IF($C$5<>\"\",Table2[Status]=$C$5,TRUE))/(IF($C$6<>\"\",Table2[]=$C$6,TRUE))/(IF($C$7<>\"\",Table2[ProposalCode]=$C$7,TRUE)),ROW(B205))),\"\")","v":""},{"$f":"IFERROR(INDEX(Table2[Location],_xlfn.AGGREGATE(15,6,(ROW(Table2[FPPGroupCode])-2)/(Table2[DepoName]=$C$2)/(IF($C$3<>\"\",Table2[BULAN]=$C$3,TRUE))/(IF($C$4<>\"\",Table2[OFF/ON]=$C$4,TRUE))/(IF($C$5<>\"\",Table2[Status]=$C$5,TRUE))/(IF($C$6<>\"\",Table2[FPPDate]=$C$6,TRUE))/(IF($C$7<>\"\",Table2[ProposalCode]=$C$7,TRUE)),ROW(D205))),\"\")","v":""},{"$f":"IFERROR(INDEX(Table2[PeriodeStart],_xlfn.AGGREGATE(15,6,(ROW(Table2[FPPGroupCode])-2)/(Table2[DepoName]=$C$2)/(IF($C$3<>\"\",Table2[BULAN]=$C$3,TRUE))/(IF($C$4<>\"\",Table2[OFF/ON]=$C$4,TRUE))/(IF($C$5<>\"\",Table2[Status]=$C$5,TRUE))/(IF($C$6<>\"\",Table2[FPPDate]=$C$6,TRUE))/(IF($C$7<>\"\",Table2[ProposalCode]=$C$7,TRUE)),ROW(E205))),\"\")","v":""},{"$f":"IFERROR(INDEX(Table2[PeriodeEnd],_xlfn.AGGREGATE(15,6,(ROW(Table2[FPPGroupCode])-2)/(Table2[DepoName]=$C$2)/(IF($C$3<>\"\",Table2[BULAN]=$C$3,TRUE))/(IF($C$4<>\"\",Table2[OFF/ON]=$C$4,TRUE))/(IF($C$5<>\"\",Table2[Status]=$C$5,TRUE))/(IF($C$6<>\"\",Table2[FPPDate]=$C$6,TRUE))/(IF($C$7<>\"\",Table2[ProposalCode]=$C$7,TRUE)),ROW(F205))),\"\")","v":""},{"$f":"IFERROR(INDEX(Table2[Amount_FPPDepo],_xlfn.AGGREGATE(15,6,(ROW(Table2[FPPGroupCode])-2)/(Table2[DepoName]=$C$2)/(IF($C$3<>\"\",Table2[BULAN]=$C$3,TRUE))/(IF($C$4<>\"\",Table2[OFF/ON]=$C$4,TRUE))/(IF($C$5<>\"\",Table2[Status]=$C$5,TRUE))/(IF($C$6<>\"\",Table2[FPPDate]=$C$6,TRUE))/(IF($C$7<>\"\",Table2[ProposalCode]=$C$7,TRUE)),ROW(G205))),\"\")","v":""},{"$f":"IFERROR(VLOOKUP($B213,SIP!$D$5776:$P$6032,12,0),0)","v":0},{"$f":"IFERROR(H213-I213,0)","v":0},{"$f":"IFERROR(VLOOKUP($B213,SIP!$D$5776:$P$6032,8,0),0)","v":0},{"$f":"IFERROR(INDEX(Table2[OFF/ON],_xlfn.AGGREGATE(15,6,(ROW(Table2[FPPGroupCode])-2)/(Table2[DepoName]=$C$2)/(IF($C$3<>\"\",Table2[BULAN]=$C$3,TRUE))/(IF($C$4<>\"\",Table2[OFF/ON]=$C$4,TRUE))/(IF($C$5<>\"\",Table2[Status]=$C$5,TRUE))/(IF($C$6<>\"\",Table2[FPPDate]=$C$6,TRUE))/(IF($C$7<>\"\",Table2[ProposalCode]=$C$7,TRUE)),ROW(K205))),\"\")","v":""}]
[{"$f":"IF(LEN($B214),ROW(A206),\"\")","v":""},{"$f":"IFERROR(INDEX(Table2[FPPGroupCode],_xlfn.AGGREGATE(15,6,(ROW(Table2[FPPGroupCode])-2)/(Table2[DepoName]=$C$2)/(IF($C$3<>\"\",Table2[BULAN]=$C$3,TRUE))/(IF($C$4<>\"\",Table2[OFF/ON]=$C$4,TRUE))/(IF($C$5<>\"\",Table2[Status]=$C$5,TRUE))/(IF($C$6<>\"\",Table2[FPPDate]=$C$6,TRUE))/(IF($C$7<>\"\",Table2[ProposalCode]=$C$7,TRUE)),ROW(A206))),\"\")","v":""},{"$f":"IFERROR(VLOOKUP($B214,SIP!$D$3:$Q$12237,14,0),0)","v":0},{"$f":"IFERROR(INDEX(Table2[Activity],_xlfn.AGGREGATE(15,6,(ROW(Table2[FPPGroupCode])-2)/(Table2[DepoName]=$C$2)/(IF($C$3<>\"\",Table2[BULAN]=$C$3,TRUE))/(IF($C$4<>\"\",Table2[OFF/ON]=$C$4,TRUE))/(IF($C$5<>\"\",Table2[Status]=$C$5,TRUE))/(IF($C$6<>\"\",Table2[]=$C$6,TRUE))/(IF($C$7<>\"\",Table2[ProposalCode]=$C$7,TRUE)),ROW(B206))),\"\")","v":""},{"$f":"IFERROR(INDEX(Table2[Location],_xlfn.AGGREGATE(15,6,(ROW(Table2[FPPGroupCode])-2)/(Table2[DepoName]=$C$2)/(IF($C$3<>\"\",Table2[BULAN]=$C$3,TRUE))/(IF($C$4<>\"\",Table2[OFF/ON]=$C$4,TRUE))/(IF($C$5<>\"\",Table2[Status]=$C$5,TRUE))/(IF($C$6<>\"\",Table2[FPPDate]=$C$6,TRUE))/(IF($C$7<>\"\",Table2[ProposalCode]=$C$7,TRUE)),ROW(D206))),\"\")","v":""},{"$f":"IFERROR(INDEX(Table2[PeriodeStart],_xlfn.AGGREGATE(15,6,(ROW(Table2[FPPGroupCode])-2)/(Table2[DepoName]=$C$2)/(IF($C$3<>\"\",Table2[BULAN]=$C$3,TRUE))/(IF($C$4<>\"\",Table2[OFF/ON]=$C$4,TRUE))/(IF($C$5<>\"\",Table2[Status]=$C$5,TRUE))/(IF($C$6<>\"\",Table2[FPPDate]=$C$6,TRUE))/(IF($C$7<>\"\",Table2[ProposalCode]=$C$7,TRUE)),ROW(E206))),\"\")","v":""},{"$f":"IFERROR(INDEX(Table2[PeriodeEnd],_xlfn.AGGREGATE(15,6,(ROW(Table2[FPPGroupCode])-2)/(Table2[DepoName]=$C$2)/(IF($C$3<>\"\",Table2[BULAN]=$C$3,TRUE))/(IF($C$4<>\"\",Table2[OFF/ON]=$C$4,TRUE))/(IF($C$5<>\"\",Table2[Status]=$C$5,TRUE))/(IF($C$6<>\"\",Table2[FPPDate]=$C$6,TRUE))/(IF($C$7<>\"\",Table2[ProposalCode]=$C$7,TRUE)),ROW(F206))),\"\")","v":""},{"$f":"IFERROR(INDEX(Table2[Amount_FPPDepo],_xlfn.AGGREGATE(15,6,(ROW(Table2[FPPGroupCode])-2)/(Table2[DepoName]=$C$2)/(IF($C$3<>\"\",Table2[BULAN]=$C$3,TRUE))/(IF($C$4<>\"\",Table2[OFF/ON]=$C$4,TRUE))/(IF($C$5<>\"\",Table2[Status]=$C$5,TRUE))/(IF($C$6<>\"\",Table2[FPPDate]=$C$6,TRUE))/(IF($C$7<>\"\",Table2[ProposalCode]=$C$7,TRUE)),ROW(G206))),\"\")","v":""},{"$f":"IFERROR(VLOOKUP($B214,SIP!$D$5776:$P$6032,12,0),0)","v":0},{"$f":"IFERROR(H214-I214,0)","v":0},{"$f":"IFERROR(VLOOKUP($B214,SIP!$D$5776:$P$6032,8,0),0)","v":0},{"$f":"IFERROR(INDEX(Table2[OFF/ON],_xlfn.AGGREGATE(15,6,(ROW(Table2[FPPGroupCode])-2)/(Table2[DepoName]=$C$2)/(IF($C$3<>\"\",Table2[BULAN]=$C$3,TRUE))/(IF($C$4<>\"\",Table2[OFF/ON]=$C$4,TRUE))/(IF($C$5<>\"\",Table2[Status]=$C$5,TRUE))/(IF($C$6<>\"\",Table2[FPPDate]=$C$6,TRUE))/(IF($C$7<>\"\",Table2[ProposalCode]=$C$7,TRUE)),ROW(K206))),\"\")","v":""}]
[{"$f":"IF(LEN($B215),ROW(A207),\"\")","v":""},{"$f":"IFERROR(INDEX(Table2[FPPGroupCode],_xlfn.AGGREGATE(15,6,(ROW(Table2[FPPGroupCode])-2)/(Table2[DepoName]=$C$2)/(IF($C$3<>\"\",Table2[BULAN]=$C$3,TRUE))/(IF($C$4<>\"\",Table2[OFF/ON]=$C$4,TRUE))/(IF($C$5<>\"\",Table2[Status]=$C$5,TRUE))/(IF($C$6<>\"\",Table2[FPPDate]=$C$6,TRUE))/(IF($C$7<>\"\",Table2[ProposalCode]=$C$7,TRUE)),ROW(A207))),\"\")","v":""},{"$f":"IFERROR(VLOOKUP($B215,SIP!$D$3:$Q$12237,14,0),0)","v":0},{"$f":"IFERROR(INDEX(Table2[Activity],_xlfn.AGGREGATE(15,6,(ROW(Table2[FPPGroupCode])-2)/(Table2[DepoName]=$C$2)/(IF($C$3<>\"\",Table2[BULAN]=$C$3,TRUE))/(IF($C$4<>\"\",Table2[OFF/ON]=$C$4,TRUE))/(IF($C$5<>\"\",Table2[Status]=$C$5,TRUE))/(IF($C$6<>\"\",Table2[]=$C$6,TRUE))/(IF($C$7<>\"\",Table2[ProposalCode]=$C$7,TRUE)),ROW(B207))),\"\")","v":""},{"$f":"IFERROR(INDEX(Table2[Location],_xlfn.AGGREGATE(15,6,(ROW(Table2[FPPGroupCode])-2)/(Table2[DepoName]=$C$2)/(IF($C$3<>\"\",Table2[BULAN]=$C$3,TRUE))/(IF($C$4<>\"\",Table2[OFF/ON]=$C$4,TRUE))/(IF($C$5<>\"\",Table2[Status]=$C$5,TRUE))/(IF($C$6<>\"\",Table2[FPPDate]=$C$6,TRUE))/(IF($C$7<>\"\",Table2[ProposalCode]=$C$7,TRUE)),ROW(D207))),\"\")","v":""},{"$f":"IFERROR(INDEX(Table2[PeriodeStart],_xlfn.AGGREGATE(15,6,(ROW(Table2[FPPGroupCode])-2)/(Table2[DepoName]=$C$2)/(IF($C$3<>\"\",Table2[BULAN]=$C$3,TRUE))/(IF($C$4<>\"\",Table2[OFF/ON]=$C$4,TRUE))/(IF($C$5<>\"\",Table2[Status]=$C$5,TRUE))/(IF($C$6<>\"\",Table2[FPPDate]=$C$6,TRUE))/(IF($C$7<>\"\",Table2[ProposalCode]=$C$7,TRUE)),ROW(E207))),\"\")","v":""},{"$f":"IFERROR(INDEX(Table2[PeriodeEnd],_xlfn.AGGREGATE(15,6,(ROW(Table2[FPPGroupCode])-2)/(Table2[DepoName]=$C$2)/(IF($C$3<>\"\",Table2[BULAN]=$C$3,TRUE))/(IF($C$4<>\"\",Table2[OFF/ON]=$C$4,TRUE))/(IF($C$5<>\"\",Table2[Status]=$C$5,TRUE))/(IF($C$6<>\"\",Table2[FPPDate]=$C$6,TRUE))/(IF($C$7<>\"\",Table2[ProposalCode]=$C$7,TRUE)),ROW(F207))),\"\")","v":""},{"$f":"IFERROR(INDEX(Table2[Amount_FPPDepo],_xlfn.AGGREGATE(15,6,(ROW(Table2[FPPGroupCode])-2)/(Table2[DepoName]=$C$2)/(IF($C$3<>\"\",Table2[BULAN]=$C$3,TRUE))/(IF($C$4<>\"\",Table2[OFF/ON]=$C$4,TRUE))/(IF($C$5<>\"\",Table2[Status]=$C$5,TRUE))/(IF($C$6<>\"\",Table2[FPPDate]=$C$6,TRUE))/(IF($C$7<>\"\",Table2[ProposalCode]=$C$7,TRUE)),ROW(G207))),\"\")","v":""},{"$f":"IFERROR(VLOOKUP($B215,SIP!$D$5776:$P$6032,12,0),0)","v":0},{"$f":"IFERROR(H215-I215,0)","v":0},{"$f":"IFERROR(VLOOKUP($B215,SIP!$D$5776:$P$6032,8,0),0)","v":0},{"$f":"IFERROR(INDEX(Table2[OFF/ON],_xlfn.AGGREGATE(15,6,(ROW(Table2[FPPGroupCode])-2)/(Table2[DepoName]=$C$2)/(IF($C$3<>\"\",Table2[BULAN]=$C$3,TRUE))/(IF($C$4<>\"\",Table2[OFF/ON]=$C$4,TRUE))/(IF($C$5<>\"\",Table2[Status]=$C$5,TRUE))/(IF($C$6<>\"\",Table2[FPPDate]=$C$6,TRUE))/(IF($C$7<>\"\",Table2[ProposalCode]=$C$7,TRUE)),ROW(K207))),\"\")","v":""}]
[{"$f":"IF(LEN($B216),ROW(A208),\"\")","v":""},{"$f":"IFERROR(INDEX(Table2[FPPGroupCode],_xlfn.AGGREGATE(15,6,(ROW(Table2[FPPGroupCode])-2)/(Table2[DepoName]=$C$2)/(IF($C$3<>\"\",Table2[BULAN]=$C$3,TRUE))/(IF($C$4<>\"\",Table2[OFF/ON]=$C$4,TRUE))/(IF($C$5<>\"\",Table2[Status]=$C$5,TRUE))/(IF($C$6<>\"\",Table2[FPPDate]=$C$6,TRUE))/(IF($C$7<>\"\",Table2[ProposalCode]=$C$7,TRUE)),ROW(A208))),\"\")","v":""},{"$f":"IFERROR(VLOOKUP($B216,SIP!$D$3:$Q$12237,14,0),0)","v":0},{"$f":"IFERROR(INDEX(Table2[Activity],_xlfn.AGGREGATE(15,6,(ROW(Table2[FPPGroupCode])-2)/(Table2[DepoName]=$C$2)/(IF($C$3<>\"\",Table2[BULAN]=$C$3,TRUE))/(IF($C$4<>\"\",Table2[OFF/ON]=$C$4,TRUE))/(IF($C$5<>\"\",Table2[Status]=$C$5,TRUE))/(IF($C$6<>\"\",Table2[]=$C$6,TRUE))/(IF($C$7<>\"\",Table2[ProposalCode]=$C$7,TRUE)),ROW(B208))),\"\")","v":""},{"$f":"IFERROR(INDEX(Table2[Location],_xlfn.AGGREGATE(15,6,(ROW(Table2[FPPGroupCode])-2)/(Table2[DepoName]=$C$2)/(IF($C$3<>\"\",Table2[BULAN]=$C$3,TRUE))/(IF($C$4<>\"\",Table2[OFF/ON]=$C$4,TRUE))/(IF($C$5<>\"\",Table2[Status]=$C$5,TRUE))/(IF($C$6<>\"\",Table2[FPPDate]=$C$6,TRUE))/(IF($C$7<>\"\",Table2[ProposalCode]=$C$7,TRUE)),ROW(D208))),\"\")","v":""},{"$f":"IFERROR(INDEX(Table2[PeriodeStart],_xlfn.AGGREGATE(15,6,(ROW(Table2[FPPGroupCode])-2)/(Table2[DepoName]=$C$2)/(IF($C$3<>\"\",Table2[BULAN]=$C$3,TRUE))/(IF($C$4<>\"\",Table2[OFF/ON]=$C$4,TRUE))/(IF($C$5<>\"\",Table2[Status]=$C$5,TRUE))/(IF($C$6<>\"\",Table2[FPPDate]=$C$6,TRUE))/(IF($C$7<>\"\",Table2[ProposalCode]=$C$7,TRUE)),ROW(E208))),\"\")","v":""},{"$f":"IFERROR(INDEX(Table2[PeriodeEnd],_xlfn.AGGREGATE(15,6,(ROW(Table2[FPPGroupCode])-2)/(Table2[DepoName]=$C$2)/(IF($C$3<>\"\",Table2[BULAN]=$C$3,TRUE))/(IF($C$4<>\"\",Table2[OFF/ON]=$C$4,TRUE))/(IF($C$5<>\"\",Table2[Status]=$C$5,TRUE))/(IF($C$6<>\"\",Table2[FPPDate]=$C$6,TRUE))/(IF($C$7<>\"\",Table2[ProposalCode]=$C$7,TRUE)),ROW(F208))),\"\")","v":""},{"$f":"IFERROR(INDEX(Table2[Amount_FPPDepo],_xlfn.AGGREGATE(15,6,(ROW(Table2[FPPGroupCode])-2)/(Table2[DepoName]=$C$2)/(IF($C$3<>\"\",Table2[BULAN]=$C$3,TRUE))/(IF($C$4<>\"\",Table2[OFF/ON]=$C$4,TRUE))/(IF($C$5<>\"\",Table2[Status]=$C$5,TRUE))/(IF($C$6<>\"\",Table2[FPPDate]=$C$6,TRUE))/(IF($C$7<>\"\",Table2[ProposalCode]=$C$7,TRUE)),ROW(G208))),\"\")","v":""},{"$f":"IFERROR(VLOOKUP($B216,SIP!$D$5776:$P$6032,12,0),0)","v":0},{"$f":"IFERROR(H216-I216,0)","v":0},{"$f":"IFERROR(VLOOKUP($B216,SIP!$D$5776:$P$6032,8,0),0)","v":0},{"$f":"IFERROR(INDEX(Table2[OFF/ON],_xlfn.AGGREGATE(15,6,(ROW(Table2[FPPGroupCode])-2)/(Table2[DepoName]=$C$2)/(IF($C$3<>\"\",Table2[BULAN]=$C$3,TRUE))/(IF($C$4<>\"\",Table2[OFF/ON]=$C$4,TRUE))/(IF($C$5<>\"\",Table2[Status]=$C$5,TRUE))/(IF($C$6<>\"\",Table2[FPPDate]=$C$6,TRUE))/(IF($C$7<>\"\",Table2[ProposalCode]=$C$7,TRUE)),ROW(K208))),\"\")","v":""}]
[{"$f":"IF(LEN($B217),ROW(A209),\"\")","v":""},{"$f":"IFERROR(INDEX(Table2[FPPGroupCode],_xlfn.AGGREGATE(15,6,(ROW(Table2[FPPGroupCode])-2)/(Table2[DepoName]=$C$2)/(IF($C$3<>\"\",Table2[BULAN]=$C$3,TRUE))/(IF($C$4<>\"\",Table2[OFF/ON]=$C$4,TRUE))/(IF($C$5<>\"\",Table2[Status]=$C$5,TRUE))/(IF($C$6<>\"\",Table2[FPPDate]=$C$6,TRUE))/(IF($C$7<>\"\",Table2[ProposalCode]=$C$7,TRUE)),ROW(A209))),\"\")","v":""},{"$f":"IFERROR(VLOOKUP($B217,SIP!$D$3:$Q$12237,14,0),0)","v":0},{"$f":"IFERROR(INDEX(Table2[Activity],_xlfn.AGGREGATE(15,6,(ROW(Table2[FPPGroupCode])-2)/(Table2[DepoName]=$C$2)/(IF($C$3<>\"\",Table2[BULAN]=$C$3,TRUE))/(IF($C$4<>\"\",Table2[OFF/ON]=$C$4,TRUE))/(IF($C$5<>\"\",Table2[Status]=$C$5,TRUE))/(IF($C$6<>\"\",Table2[]=$C$6,TRUE))/(IF($C$7<>\"\",Table2[ProposalCode]=$C$7,TRUE)),ROW(B209))),\"\")","v":""},{"$f":"IFERROR(INDEX(Table2[Location],_xlfn.AGGREGATE(15,6,(ROW(Table2[FPPGroupCode])-2)/(Table2[DepoName]=$C$2)/(IF($C$3<>\"\",Table2[BULAN]=$C$3,TRUE))/(IF($C$4<>\"\",Table2[OFF/ON]=$C$4,TRUE))/(IF($C$5<>\"\",Table2[Status]=$C$5,TRUE))/(IF($C$6<>\"\",Table2[FPPDate]=$C$6,TRUE))/(IF($C$7<>\"\",Table2[ProposalCode]=$C$7,TRUE)),ROW(D209))),\"\")","v":""},{"$f":"IFERROR(INDEX(Table2[PeriodeStart],_xlfn.AGGREGATE(15,6,(ROW(Table2[FPPGroupCode])-2)/(Table2[DepoName]=$C$2)/(IF($C$3<>\"\",Table2[BULAN]=$C$3,TRUE))/(IF($C$4<>\"\",Table2[OFF/ON]=$C$4,TRUE))/(IF($C$5<>\"\",Table2[Status]=$C$5,TRUE))/(IF($C$6<>\"\",Table2[FPPDate]=$C$6,TRUE))/(IF($C$7<>\"\",Table2[ProposalCode]=$C$7,TRUE)),ROW(E209))),\"\")","v":""},{"$f":"IFERROR(INDEX(Table2[PeriodeEnd],_xlfn.AGGREGATE(15,6,(ROW(Table2[FPPGroupCode])-2)/(Table2[DepoName]=$C$2)/(IF($C$3<>\"\",Table2[BULAN]=$C$3,TRUE))/(IF($C$4<>\"\",Table2[OFF/ON]=$C$4,TRUE))/(IF($C$5<>\"\",Table2[Status]=$C$5,TRUE))/(IF($C$6<>\"\",Table2[FPPDate]=$C$6,TRUE))/(IF($C$7<>\"\",Table2[ProposalCode]=$C$7,TRUE)),ROW(F209))),\"\")","v":""},{"$f":"IFERROR(INDEX(Table2[Amount_FPPDepo],_xlfn.AGGREGATE(15,6,(ROW(Table2[FPPGroupCode])-2)/(Table2[DepoName]=$C$2)/(IF($C$3<>\"\",Table2[BULAN]=$C$3,TRUE))/(IF($C$4<>\"\",Table2[OFF/ON]=$C$4,TRUE))/(IF($C$5<>\"\",Table2[Status]=$C$5,TRUE))/(IF($C$6<>\"\",Table2[FPPDate]=$C$6,TRUE))/(IF($C$7<>\"\",Table2[ProposalCode]=$C$7,TRUE)),ROW(G209))),\"\")","v":""},{"$f":"IFERROR(VLOOKUP($B217,SIP!$D$5776:$P$6032,12,0),0)","v":0},{"$f":"IFERROR(H217-I217,0)","v":0},{"$f":"IFERROR(VLOOKUP($B217,SIP!$D$5776:$P$6032,8,0),0)","v":0},{"$f":"IFERROR(INDEX(Table2[OFF/ON],_xlfn.AGGREGATE(15,6,(ROW(Table2[FPPGroupCode])-2)/(Table2[DepoName]=$C$2)/(IF($C$3<>\"\",Table2[BULAN]=$C$3,TRUE))/(IF($C$4<>\"\",Table2[OFF/ON]=$C$4,TRUE))/(IF($C$5<>\"\",Table2[Status]=$C$5,TRUE))/(IF($C$6<>\"\",Table2[FPPDate]=$C$6,TRUE))/(IF($C$7<>\"\",Table2[ProposalCode]=$C$7,TRUE)),ROW(K209))),\"\")","v":""}]
[{"$f":"IF(LEN($B218),ROW(A210),\"\")","v":""},{"$f":"IFERROR(INDEX(Table2[FPPGroupCode],_xlfn.AGGREGATE(15,6,(ROW(Table2[FPPGroupCode])-2)/(Table2[DepoName]=$C$2)/(IF($C$3<>\"\",Table2[BULAN]=$C$3,TRUE))/(IF($C$4<>\"\",Table2[OFF/ON]=$C$4,TRUE))/(IF($C$5<>\"\",Table2[Status]=$C$5,TRUE))/(IF($C$6<>\"\",Table2[FPPDate]=$C$6,TRUE))/(IF($C$7<>\"\",Table2[ProposalCode]=$C$7,TRUE)),ROW(A210))),\"\")","v":""},{"$f":"IFERROR(VLOOKUP($B218,SIP!$D$3:$Q$12237,14,0),0)","v":0},{"$f":"IFERROR(INDEX(Table2[Activity],_xlfn.AGGREGATE(15,6,(ROW(Table2[FPPGroupCode])-2)/(Table2[DepoName]=$C$2)/(IF($C$3<>\"\",Table2[BULAN]=$C$3,TRUE))/(IF($C$4<>\"\",Table2[OFF/ON]=$C$4,TRUE))/(IF($C$5<>\"\",Table2[Status]=$C$5,TRUE))/(IF($C$6<>\"\",Table2[]=$C$6,TRUE))/(IF($C$7<>\"\",Table2[ProposalCode]=$C$7,TRUE)),ROW(B210))),\"\")","v":""},{"$f":"IFERROR(INDEX(Table2[Location],_xlfn.AGGREGATE(15,6,(ROW(Table2[FPPGroupCode])-2)/(Table2[DepoName]=$C$2)/(IF($C$3<>\"\",Table2[BULAN]=$C$3,TRUE))/(IF($C$4<>\"\",Table2[OFF/ON]=$C$4,TRUE))/(IF($C$5<>\"\",Table2[Status]=$C$5,TRUE))/(IF($C$6<>\"\",Table2[FPPDate]=$C$6,TRUE))/(IF($C$7<>\"\",Table2[ProposalCode]=$C$7,TRUE)),ROW(D210))),\"\")","v":""},{"$f":"IFERROR(INDEX(Table2[PeriodeStart],_xlfn.AGGREGATE(15,6,(ROW(Table2[FPPGroupCode])-2)/(Table2[DepoName]=$C$2)/(IF($C$3<>\"\",Table2[BULAN]=$C$3,TRUE))/(IF($C$4<>\"\",Table2[OFF/ON]=$C$4,TRUE))/(IF($C$5<>\"\",Table2[Status]=$C$5,TRUE))/(IF($C$6<>\"\",Table2[FPPDate]=$C$6,TRUE))/(IF($C$7<>\"\",Table2[ProposalCode]=$C$7,TRUE)),ROW(E210))),\"\")","v":""},{"$f":"IFERROR(INDEX(Table2[PeriodeEnd],_xlfn.AGGREGATE(15,6,(ROW(Table2[FPPGroupCode])-2)/(Table2[DepoName]=$C$2)/(IF($C$3<>\"\",Table2[BULAN]=$C$3,TRUE))/(IF($C$4<>\"\",Table2[OFF/ON]=$C$4,TRUE))/(IF($C$5<>\"\",Table2[Status]=$C$5,TRUE))/(IF($C$6<>\"\",Table2[FPPDate]=$C$6,TRUE))/(IF($C$7<>\"\",Table2[ProposalCode]=$C$7,TRUE)),ROW(F210))),\"\")","v":""},{"$f":"IFERROR(INDEX(Table2[Amount_FPPDepo],_xlfn.AGGREGATE(15,6,(ROW(Table2[FPPGroupCode])-2)/(Table2[DepoName]=$C$2)/(IF($C$3<>\"\",Table2[BULAN]=$C$3,TRUE))/(IF($C$4<>\"\",Table2[OFF/ON]=$C$4,TRUE))/(IF($C$5<>\"\",Table2[Status]=$C$5,TRUE))/(IF($C$6<>\"\",Table2[FPPDate]=$C$6,TRUE))/(IF($C$7<>\"\",Table2[ProposalCode]=$C$7,TRUE)),ROW(G210))),\"\")","v":""},{"$f":"IFERROR(VLOOKUP($B218,SIP!$D$5776:$P$6032,12,0),0)","v":0},{"$f":"IFERROR(H218-I218,0)","v":0},{"$f":"IFERROR(VLOOKUP($B218,SIP!$D$5776:$P$6032,8,0),0)","v":0},{"$f":"IFERROR(INDEX(Table2[OFF/ON],_xlfn.AGGREGATE(15,6,(ROW(Table2[FPPGroupCode])-2)/(Table2[DepoName]=$C$2)/(IF($C$3<>\"\",Table2[BULAN]=$C$3,TRUE))/(IF($C$4<>\"\",Table2[OFF/ON]=$C$4,TRUE))/(IF($C$5<>\"\",Table2[Status]=$C$5,TRUE))/(IF($C$6<>\"\",Table2[FPPDate]=$C$6,TRUE))/(IF($C$7<>\"\",Table2[ProposalCode]=$C$7,TRUE)),ROW(K210))),\"\")","v":""}]
[{"$f":"IF(LEN($B219),ROW(A211),\"\")","v":""},{"$f":"IFERROR(INDEX(Table2[FPPGroupCode],_xlfn.AGGREGATE(15,6,(ROW(Table2[FPPGroupCode])-2)/(Table2[DepoName]=$C$2)/(IF($C$3<>\"\",Table2[BULAN]=$C$3,TRUE))/(IF($C$4<>\"\",Table2[OFF/ON]=$C$4,TRUE))/(IF($C$5<>\"\",Table2[Status]=$C$5,TRUE))/(IF($C$6<>\"\",Table2[FPPDate]=$C$6,TRUE))/(IF($C$7<>\"\",Table2[ProposalCode]=$C$7,TRUE)),ROW(A211))),\"\")","v":""},{"$f":"IFERROR(VLOOKUP($B219,SIP!$D$3:$Q$12237,14,0),0)","v":0},{"$f":"IFERROR(INDEX(Table2[Activity],_xlfn.AGGREGATE(15,6,(ROW(Table2[FPPGroupCode])-2)/(Table2[DepoName]=$C$2)/(IF($C$3<>\"\",Table2[BULAN]=$C$3,TRUE))/(IF($C$4<>\"\",Table2[OFF/ON]=$C$4,TRUE))/(IF($C$5<>\"\",Table2[Status]=$C$5,TRUE))/(IF($C$6<>\"\",Table2[]=$C$6,TRUE))/(IF($C$7<>\"\",Table2[ProposalCode]=$C$7,TRUE)),ROW(B211))),\"\")","v":""},{"$f":"IFERROR(INDEX(Table2[Location],_xlfn.AGGREGATE(15,6,(ROW(Table2[FPPGroupCode])-2)/(Table2[DepoName]=$C$2)/(IF($C$3<>\"\",Table2[BULAN]=$C$3,TRUE))/(IF($C$4<>\"\",Table2[OFF/ON]=$C$4,TRUE))/(IF($C$5<>\"\",Table2[Status]=$C$5,TRUE))/(IF($C$6<>\"\",Table2[FPPDate]=$C$6,TRUE))/(IF($C$7<>\"\",Table2[ProposalCode]=$C$7,TRUE)),ROW(D211))),\"\")","v":""},{"$f":"IFERROR(INDEX(Table2[PeriodeStart],_xlfn.AGGREGATE(15,6,(ROW(Table2[FPPGroupCode])-2)/(Table2[DepoName]=$C$2)/(IF($C$3<>\"\",Table2[BULAN]=$C$3,TRUE))/(IF($C$4<>\"\",Table2[OFF/ON]=$C$4,TRUE))/(IF($C$5<>\"\",Table2[Status]=$C$5,TRUE))/(IF($C$6<>\"\",Table2[FPPDate]=$C$6,TRUE))/(IF($C$7<>\"\",Table2[ProposalCode]=$C$7,TRUE)),ROW(E211))),\"\")","v":""},{"$f":"IFERROR(INDEX(Table2[PeriodeEnd],_xlfn.AGGREGATE(15,6,(ROW(Table2[FPPGroupCode])-2)/(Table2[DepoName]=$C$2)/(IF($C$3<>\"\",Table2[BULAN]=$C$3,TRUE))/(IF($C$4<>\"\",Table2[OFF/ON]=$C$4,TRUE))/(IF($C$5<>\"\",Table2[Status]=$C$5,TRUE))/(IF($C$6<>\"\",Table2[FPPDate]=$C$6,TRUE))/(IF($C$7<>\"\",Table2[ProposalCode]=$C$7,TRUE)),ROW(F211))),\"\")","v":""},{"$f":"IFERROR(INDEX(Table2[Amount_FPPDepo],_xlfn.AGGREGATE(15,6,(ROW(Table2[FPPGroupCode])-2)/(Table2[DepoName]=$C$2)/(IF($C$3<>\"\",Table2[BULAN]=$C$3,TRUE))/(IF($C$4<>\"\",Table2[OFF/ON]=$C$4,TRUE))/(IF($C$5<>\"\",Table2[Status]=$C$5,TRUE))/(IF($C$6<>\"\",Table2[FPPDate]=$C$6,TRUE))/(IF($C$7<>\"\",Table2[ProposalCode]=$C$7,TRUE)),ROW(G211))),\"\")","v":""},{"$f":"IFERROR(VLOOKUP($B219,SIP!$D$5776:$P$6032,12,0),0)","v":0},{"$f":"IFERROR(H219-I219,0)","v":0},{"$f":"IFERROR(VLOOKUP($B219,SIP!$D$5776:$P$6032,8,0),0)","v":0},{"$f":"IFERROR(INDEX(Table2[OFF/ON],_xlfn.AGGREGATE(15,6,(ROW(Table2[FPPGroupCode])-2)/(Table2[DepoName]=$C$2)/(IF($C$3<>\"\",Table2[BULAN]=$C$3,TRUE))/(IF($C$4<>\"\",Table2[OFF/ON]=$C$4,TRUE))/(IF($C$5<>\"\",Table2[Status]=$C$5,TRUE))/(IF($C$6<>\"\",Table2[FPPDate]=$C$6,TRUE))/(IF($C$7<>\"\",Table2[ProposalCode]=$C$7,TRUE)),ROW(K211))),\"\")","v":""}]
[{"$f":"IF(LEN($B220),ROW(A212),\"\")","v":""},{"$f":"IFERROR(INDEX(Table2[FPPGroupCode],_xlfn.AGGREGATE(15,6,(ROW(Table2[FPPGroupCode])-2)/(Table2[DepoName]=$C$2)/(IF($C$3<>\"\",Table2[BULAN]=$C$3,TRUE))/(IF($C$4<>\"\",Table2[OFF/ON]=$C$4,TRUE))/(IF($C$5<>\"\",Table2[Status]=$C$5,TRUE))/(IF($C$6<>\"\",Table2[FPPDate]=$C$6,TRUE))/(IF($C$7<>\"\",Table2[ProposalCode]=$C$7,TRUE)),ROW(A212))),\"\")","v":""},{"$f":"IFERROR(VLOOKUP($B220,SIP!$D$3:$Q$12237,14,0),0)","v":0},{"$f":"IFERROR(INDEX(Table2[Activity],_xlfn.AGGREGATE(15,6,(ROW(Table2[FPPGroupCode])-2)/(Table2[DepoName]=$C$2)/(IF($C$3<>\"\",Table2[BULAN]=$C$3,TRUE))/(IF($C$4<>\"\",Table2[OFF/ON]=$C$4,TRUE))/(IF($C$5<>\"\",Table2[Status]=$C$5,TRUE))/(IF($C$6<>\"\",Table2[]=$C$6,TRUE))/(IF($C$7<>\"\",Table2[ProposalCode]=$C$7,TRUE)),ROW(B212))),\"\")","v":""},{"$f":"IFERROR(INDEX(Table2[Location],_xlfn.AGGREGATE(15,6,(ROW(Table2[FPPGroupCode])-2)/(Table2[DepoName]=$C$2)/(IF($C$3<>\"\",Table2[BULAN]=$C$3,TRUE))/(IF($C$4<>\"\",Table2[OFF/ON]=$C$4,TRUE))/(IF($C$5<>\"\",Table2[Status]=$C$5,TRUE))/(IF($C$6<>\"\",Table2[FPPDate]=$C$6,TRUE))/(IF($C$7<>\"\",Table2[ProposalCode]=$C$7,TRUE)),ROW(D212))),\"\")","v":""},{"$f":"IFERROR(INDEX(Table2[PeriodeStart],_xlfn.AGGREGATE(15,6,(ROW(Table2[FPPGroupCode])-2)/(Table2[DepoName]=$C$2)/(IF($C$3<>\"\",Table2[BULAN]=$C$3,TRUE))/(IF($C$4<>\"\",Table2[OFF/ON]=$C$4,TRUE))/(IF($C$5<>\"\",Table2[Status]=$C$5,TRUE))/(IF($C$6<>\"\",Table2[FPPDate]=$C$6,TRUE))/(IF($C$7<>\"\",Table2[ProposalCode]=$C$7,TRUE)),ROW(E212))),\"\")","v":""},{"$f":"IFERROR(INDEX(Table2[PeriodeEnd],_xlfn.AGGREGATE(15,6,(ROW(Table2[FPPGroupCode])-2)/(Table2[DepoName]=$C$2)/(IF($C$3<>\"\",Table2[BULAN]=$C$3,TRUE))/(IF($C$4<>\"\",Table2[OFF/ON]=$C$4,TRUE))/(IF($C$5<>\"\",Table2[Status]=$C$5,TRUE))/(IF($C$6<>\"\",Table2[FPPDate]=$C$6,TRUE))/(IF($C$7<>\"\",Table2[ProposalCode]=$C$7,TRUE)),ROW(F212))),\"\")","v":""},{"$f":"IFERROR(INDEX(Table2[Amount_FPPDepo],_xlfn.AGGREGATE(15,6,(ROW(Table2[FPPGroupCode])-2)/(Table2[DepoName]=$C$2)/(IF($C$3<>\"\",Table2[BULAN]=$C$3,TRUE))/(IF($C$4<>\"\",Table2[OFF/ON]=$C$4,TRUE))/(IF($C$5<>\"\",Table2[Status]=$C$5,TRUE))/(IF($C$6<>\"\",Table2[FPPDate]=$C$6,TRUE))/(IF($C$7<>\"\",Table2[ProposalCode]=$C$7,TRUE)),ROW(G212))),\"\")","v":""},{"$f":"IFERROR(VLOOKUP($B220,SIP!$D$5776:$P$6032,12,0),0)","v":0},{"$f":"IFERROR(H220-I220,0)","v":0},{"$f":"IFERROR(VLOOKUP($B220,SIP!$D$5776:$P$6032,8,0),0)","v":0},{"$f":"IFERROR(INDEX(Table2[OFF/ON],_xlfn.AGGREGATE(15,6,(ROW(Table2[FPPGroupCode])-2)/(Table2[DepoName]=$C$2)/(IF($C$3<>\"\",Table2[BULAN]=$C$3,TRUE))/(IF($C$4<>\"\",Table2[OFF/ON]=$C$4,TRUE))/(IF($C$5<>\"\",Table2[Status]=$C$5,TRUE))/(IF($C$6<>\"\",Table2[FPPDate]=$C$6,TRUE))/(IF($C$7<>\"\",Table2[ProposalCode]=$C$7,TRUE)),ROW(K212))),\"\")","v":""}]
[{"$f":"IF(LEN($B221),ROW(A213),\"\")","v":""},{"$f":"IFERROR(INDEX(Table2[FPPGroupCode],_xlfn.AGGREGATE(15,6,(ROW(Table2[FPPGroupCode])-2)/(Table2[DepoName]=$C$2)/(IF($C$3<>\"\",Table2[BULAN]=$C$3,TRUE))/(IF($C$4<>\"\",Table2[OFF/ON]=$C$4,TRUE))/(IF($C$5<>\"\",Table2[Status]=$C$5,TRUE))/(IF($C$6<>\"\",Table2[FPPDate]=$C$6,TRUE))/(IF($C$7<>\"\",Table2[ProposalCode]=$C$7,TRUE)),ROW(A213))),\"\")","v":""},{"$f":"IFERROR(VLOOKUP($B221,SIP!$D$3:$Q$12237,14,0),0)","v":0},{"$f":"IFERROR(INDEX(Table2[Activity],_xlfn.AGGREGATE(15,6,(ROW(Table2[FPPGroupCode])-2)/(Table2[DepoName]=$C$2)/(IF($C$3<>\"\",Table2[BULAN]=$C$3,TRUE))/(IF($C$4<>\"\",Table2[OFF/ON]=$C$4,TRUE))/(IF($C$5<>\"\",Table2[Status]=$C$5,TRUE))/(IF($C$6<>\"\",Table2[]=$C$6,TRUE))/(IF($C$7<>\"\",Table2[ProposalCode]=$C$7,TRUE)),ROW(B213))),\"\")","v":""},{"$f":"IFERROR(INDEX(Table2[Location],_xlfn.AGGREGATE(15,6,(ROW(Table2[FPPGroupCode])-2)/(Table2[DepoName]=$C$2)/(IF($C$3<>\"\",Table2[BULAN]=$C$3,TRUE))/(IF($C$4<>\"\",Table2[OFF/ON]=$C$4,TRUE))/(IF($C$5<>\"\",Table2[Status]=$C$5,TRUE))/(IF($C$6<>\"\",Table2[FPPDate]=$C$6,TRUE))/(IF($C$7<>\"\",Table2[ProposalCode]=$C$7,TRUE)),ROW(D213))),\"\")","v":""},{"$f":"IFERROR(INDEX(Table2[PeriodeStart],_xlfn.AGGREGATE(15,6,(ROW(Table2[FPPGroupCode])-2)/(Table2[DepoName]=$C$2)/(IF($C$3<>\"\",Table2[BULAN]=$C$3,TRUE))/(IF($C$4<>\"\",Table2[OFF/ON]=$C$4,TRUE))/(IF($C$5<>\"\",Table2[Status]=$C$5,TRUE))/(IF($C$6<>\"\",Table2[FPPDate]=$C$6,TRUE))/(IF($C$7<>\"\",Table2[ProposalCode]=$C$7,TRUE)),ROW(E213))),\"\")","v":""},{"$f":"IFERROR(INDEX(Table2[PeriodeEnd],_xlfn.AGGREGATE(15,6,(ROW(Table2[FPPGroupCode])-2)/(Table2[DepoName]=$C$2)/(IF($C$3<>\"\",Table2[BULAN]=$C$3,TRUE))/(IF($C$4<>\"\",Table2[OFF/ON]=$C$4,TRUE))/(IF($C$5<>\"\",Table2[Status]=$C$5,TRUE))/(IF($C$6<>\"\",Table2[FPPDate]=$C$6,TRUE))/(IF($C$7<>\"\",Table2[ProposalCode]=$C$7,TRUE)),ROW(F213))),\"\")","v":""},{"$f":"IFERROR(INDEX(Table2[Amount_FPPDepo],_xlfn.AGGREGATE(15,6,(ROW(Table2[FPPGroupCode])-2)/(Table2[DepoName]=$C$2)/(IF($C$3<>\"\",Table2[BULAN]=$C$3,TRUE))/(IF($C$4<>\"\",Table2[OFF/ON]=$C$4,TRUE))/(IF($C$5<>\"\",Table2[Status]=$C$5,TRUE))/(IF($C$6<>\"\",Table2[FPPDate]=$C$6,TRUE))/(IF($C$7<>\"\",Table2[ProposalCode]=$C$7,TRUE)),ROW(G213))),\"\")","v":""},{"$f":"IFERROR(VLOOKUP($B221,SIP!$D$5776:$P$6032,12,0),0)","v":0},{"$f":"IFERROR(H221-I221,0)","v":0},{"$f":"IFERROR(VLOOKUP($B221,SIP!$D$5776:$P$6032,8,0),0)","v":0},{"$f":"IFERROR(INDEX(Table2[OFF/ON],_xlfn.AGGREGATE(15,6,(ROW(Table2[FPPGroupCode])-2)/(Table2[DepoName]=$C$2)/(IF($C$3<>\"\",Table2[BULAN]=$C$3,TRUE))/(IF($C$4<>\"\",Table2[OFF/ON]=$C$4,TRUE))/(IF($C$5<>\"\",Table2[Status]=$C$5,TRUE))/(IF($C$6<>\"\",Table2[FPPDate]=$C$6,TRUE))/(IF($C$7<>\"\",Table2[ProposalCode]=$C$7,TRUE)),ROW(K213))),\"\")","v":""}]
[{"$f":"IF(LEN($B222),ROW(A214),\"\")","v":""},{"$f":"IFERROR(INDEX(Table2[FPPGroupCode],_xlfn.AGGREGATE(15,6,(ROW(Table2[FPPGroupCode])-2)/(Table2[DepoName]=$C$2)/(IF($C$3<>\"\",Table2[BULAN]=$C$3,TRUE))/(IF($C$4<>\"\",Table2[OFF/ON]=$C$4,TRUE))/(IF($C$5<>\"\",Table2[Status]=$C$5,TRUE))/(IF($C$6<>\"\",Table2[FPPDate]=$C$6,TRUE))/(IF($C$7<>\"\",Table2[ProposalCode]=$C$7,TRUE)),ROW(A214))),\"\")","v":""},{"$f":"IFERROR(VLOOKUP($B222,SIP!$D$3:$Q$12237,14,0),0)","v":0},{"$f":"IFERROR(INDEX(Table2[Activity],_xlfn.AGGREGATE(15,6,(ROW(Table2[FPPGroupCode])-2)/(Table2[DepoName]=$C$2)/(IF($C$3<>\"\",Table2[BULAN]=$C$3,TRUE))/(IF($C$4<>\"\",Table2[OFF/ON]=$C$4,TRUE))/(IF($C$5<>\"\",Table2[Status]=$C$5,TRUE))/(IF($C$6<>\"\",Table2[]=$C$6,TRUE))/(IF($C$7<>\"\",Table2[ProposalCode]=$C$7,TRUE)),ROW(B214))),\"\")","v":""},{"$f":"IFERROR(INDEX(Table2[Location],_xlfn.AGGREGATE(15,6,(ROW(Table2[FPPGroupCode])-2)/(Table2[DepoName]=$C$2)/(IF($C$3<>\"\",Table2[BULAN]=$C$3,TRUE))/(IF($C$4<>\"\",Table2[OFF/ON]=$C$4,TRUE))/(IF($C$5<>\"\",Table2[Status]=$C$5,TRUE))/(IF($C$6<>\"\",Table2[FPPDate]=$C$6,TRUE))/(IF($C$7<>\"\",Table2[ProposalCode]=$C$7,TRUE)),ROW(D214))),\"\")","v":""},{"$f":"IFERROR(INDEX(Table2[PeriodeStart],_xlfn.AGGREGATE(15,6,(ROW(Table2[FPPGroupCode])-2)/(Table2[DepoName]=$C$2)/(IF($C$3<>\"\",Table2[BULAN]=$C$3,TRUE))/(IF($C$4<>\"\",Table2[OFF/ON]=$C$4,TRUE))/(IF($C$5<>\"\",Table2[Status]=$C$5,TRUE))/(IF($C$6<>\"\",Table2[FPPDate]=$C$6,TRUE))/(IF($C$7<>\"\",Table2[ProposalCode]=$C$7,TRUE)),ROW(E214))),\"\")","v":""},{"$f":"IFERROR(INDEX(Table2[PeriodeEnd],_xlfn.AGGREGATE(15,6,(ROW(Table2[FPPGroupCode])-2)/(Table2[DepoName]=$C$2)/(IF($C$3<>\"\",Table2[BULAN]=$C$3,TRUE))/(IF($C$4<>\"\",Table2[OFF/ON]=$C$4,TRUE))/(IF($C$5<>\"\",Table2[Status]=$C$5,TRUE))/(IF($C$6<>\"\",Table2[FPPDate]=$C$6,TRUE))/(IF($C$7<>\"\",Table2[ProposalCode]=$C$7,TRUE)),ROW(F214))),\"\")","v":""},{"$f":"IFERROR(INDEX(Table2[Amount_FPPDepo],_xlfn.AGGREGATE(15,6,(ROW(Table2[FPPGroupCode])-2)/(Table2[DepoName]=$C$2)/(IF($C$3<>\"\",Table2[BULAN]=$C$3,TRUE))/(IF($C$4<>\"\",Table2[OFF/ON]=$C$4,TRUE))/(IF($C$5<>\"\",Table2[Status]=$C$5,TRUE))/(IF($C$6<>\"\",Table2[FPPDate]=$C$6,TRUE))/(IF($C$7<>\"\",Table2[ProposalCode]=$C$7,TRUE)),ROW(G214))),\"\")","v":""},{"$f":"IFERROR(VLOOKUP($B222,SIP!$D$5776:$P$6032,12,0),0)","v":0},{"$f":"IFERROR(H222-I222,0)","v":0},{"$f":"IFERROR(VLOOKUP($B222,SIP!$D$5776:$P$6032,8,0),0)","v":0},{"$f":"IFERROR(INDEX(Table2[OFF/ON],_xlfn.AGGREGATE(15,6,(ROW(Table2[FPPGroupCode])-2)/(Table2[DepoName]=$C$2)/(IF($C$3<>\"\",Table2[BULAN]=$C$3,TRUE))/(IF($C$4<>\"\",Table2[OFF/ON]=$C$4,TRUE))/(IF($C$5<>\"\",Table2[Status]=$C$5,TRUE))/(IF($C$6<>\"\",Table2[FPPDate]=$C$6,TRUE))/(IF($C$7<>\"\",Table2[ProposalCode]=$C$7,TRUE)),ROW(K214))),\"\")","v":""}]
[{"$f":"IF(LEN($B223),ROW(A215),\"\")","v":""},{"$f":"IFERROR(INDEX(Table2[FPPGroupCode],_xlfn.AGGREGATE(15,6,(ROW(Table2[FPPGroupCode])-2)/(Table2[DepoName]=$C$2)/(IF($C$3<>\"\",Table2[BULAN]=$C$3,TRUE))/(IF($C$4<>\"\",Table2[OFF/ON]=$C$4,TRUE))/(IF($C$5<>\"\",Table2[Status]=$C$5,TRUE))/(IF($C$6<>\"\",Table2[FPPDate]=$C$6,TRUE))/(IF($C$7<>\"\",Table2[ProposalCode]=$C$7,TRUE)),ROW(A215))),\"\")","v":""},{"$f":"IFERROR(VLOOKUP($B223,SIP!$D$3:$Q$12237,14,0),0)","v":0},{"$f":"IFERROR(INDEX(Table2[Activity],_xlfn.AGGREGATE(15,6,(ROW(Table2[FPPGroupCode])-2)/(Table2[DepoName]=$C$2)/(IF($C$3<>\"\",Table2[BULAN]=$C$3,TRUE))/(IF($C$4<>\"\",Table2[OFF/ON]=$C$4,TRUE))/(IF($C$5<>\"\",Table2[Status]=$C$5,TRUE))/(IF($C$6<>\"\",Table2[]=$C$6,TRUE))/(IF($C$7<>\"\",Table2[ProposalCode]=$C$7,TRUE)),ROW(B215))),\"\")","v":""},{"$f":"IFERROR(INDEX(Table2[Location],_xlfn.AGGREGATE(15,6,(ROW(Table2[FPPGroupCode])-2)/(Table2[DepoName]=$C$2)/(IF($C$3<>\"\",Table2[BULAN]=$C$3,TRUE))/(IF($C$4<>\"\",Table2[OFF/ON]=$C$4,TRUE))/(IF($C$5<>\"\",Table2[Status]=$C$5,TRUE))/(IF($C$6<>\"\",Table2[FPPDate]=$C$6,TRUE))/(IF($C$7<>\"\",Table2[ProposalCode]=$C$7,TRUE)),ROW(D215))),\"\")","v":""},{"$f":"IFERROR(INDEX(Table2[PeriodeStart],_xlfn.AGGREGATE(15,6,(ROW(Table2[FPPGroupCode])-2)/(Table2[DepoName]=$C$2)/(IF($C$3<>\"\",Table2[BULAN]=$C$3,TRUE))/(IF($C$4<>\"\",Table2[OFF/ON]=$C$4,TRUE))/(IF($C$5<>\"\",Table2[Status]=$C$5,TRUE))/(IF($C$6<>\"\",Table2[FPPDate]=$C$6,TRUE))/(IF($C$7<>\"\",Table2[ProposalCode]=$C$7,TRUE)),ROW(E215))),\"\")","v":""},{"$f":"IFERROR(INDEX(Table2[PeriodeEnd],_xlfn.AGGREGATE(15,6,(ROW(Table2[FPPGroupCode])-2)/(Table2[DepoName]=$C$2)/(IF($C$3<>\"\",Table2[BULAN]=$C$3,TRUE))/(IF($C$4<>\"\",Table2[OFF/ON]=$C$4,TRUE))/(IF($C$5<>\"\",Table2[Status]=$C$5,TRUE))/(IF($C$6<>\"\",Table2[FPPDate]=$C$6,TRUE))/(IF($C$7<>\"\",Table2[ProposalCode]=$C$7,TRUE)),ROW(F215))),\"\")","v":""},{"$f":"IFERROR(INDEX(Table2[Amount_FPPDepo],_xlfn.AGGREGATE(15,6,(ROW(Table2[FPPGroupCode])-2)/(Table2[DepoName]=$C$2)/(IF($C$3<>\"\",Table2[BULAN]=$C$3,TRUE))/(IF($C$4<>\"\",Table2[OFF/ON]=$C$4,TRUE))/(IF($C$5<>\"\",Table2[Status]=$C$5,TRUE))/(IF($C$6<>\"\",Table2[FPPDate]=$C$6,TRUE))/(IF($C$7<>\"\",Table2[ProposalCode]=$C$7,TRUE)),ROW(G215))),\"\")","v":""},{"$f":"IFERROR(VLOOKUP($B223,SIP!$D$5776:$P$6032,12,0),0)","v":0},{"$f":"IFERROR(H223-I223,0)","v":0},{"$f":"IFERROR(VLOOKUP($B223,SIP!$D$5776:$P$6032,8,0),0)","v":0},{"$f":"IFERROR(INDEX(Table2[OFF/ON],_xlfn.AGGREGATE(15,6,(ROW(Table2[FPPGroupCode])-2)/(Table2[DepoName]=$C$2)/(IF($C$3<>\"\",Table2[BULAN]=$C$3,TRUE))/(IF($C$4<>\"\",Table2[OFF/ON]=$C$4,TRUE))/(IF($C$5<>\"\",Table2[Status]=$C$5,TRUE))/(IF($C$6<>\"\",Table2[FPPDate]=$C$6,TRUE))/(IF($C$7<>\"\",Table2[ProposalCode]=$C$7,TRUE)),ROW(K215))),\"\")","v":""}]
[{"$f":"IF(LEN($B224),ROW(A216),\"\")","v":""},{"$f":"IFERROR(INDEX(Table2[FPPGroupCode],_xlfn.AGGREGATE(15,6,(ROW(Table2[FPPGroupCode])-2)/(Table2[DepoName]=$C$2)/(IF($C$3<>\"\",Table2[BULAN]=$C$3,TRUE))/(IF($C$4<>\"\",Table2[OFF/ON]=$C$4,TRUE))/(IF($C$5<>\"\",Table2[Status]=$C$5,TRUE))/(IF($C$6<>\"\",Table2[FPPDate]=$C$6,TRUE))/(IF($C$7<>\"\",Table2[ProposalCode]=$C$7,TRUE)),ROW(A216))),\"\")","v":""},{"$f":"IFERROR(VLOOKUP($B224,SIP!$D$3:$Q$12237,14,0),0)","v":0},{"$f":"IFERROR(INDEX(Table2[Activity],_xlfn.AGGREGATE(15,6,(ROW(Table2[FPPGroupCode])-2)/(Table2[DepoName]=$C$2)/(IF($C$3<>\"\",Table2[BULAN]=$C$3,TRUE))/(IF($C$4<>\"\",Table2[OFF/ON]=$C$4,TRUE))/(IF($C$5<>\"\",Table2[Status]=$C$5,TRUE))/(IF($C$6<>\"\",Table2[]=$C$6,TRUE))/(IF($C$7<>\"\",Table2[ProposalCode]=$C$7,TRUE)),ROW(B216))),\"\")","v":""},{"$f":"IFERROR(INDEX(Table2[Location],_xlfn.AGGREGATE(15,6,(ROW(Table2[FPPGroupCode])-2)/(Table2[DepoName]=$C$2)/(IF($C$3<>\"\",Table2[BULAN]=$C$3,TRUE))/(IF($C$4<>\"\",Table2[OFF/ON]=$C$4,TRUE))/(IF($C$5<>\"\",Table2[Status]=$C$5,TRUE))/(IF($C$6<>\"\",Table2[FPPDate]=$C$6,TRUE))/(IF($C$7<>\"\",Table2[ProposalCode]=$C$7,TRUE)),ROW(D216))),\"\")","v":""},{"$f":"IFERROR(INDEX(Table2[PeriodeStart],_xlfn.AGGREGATE(15,6,(ROW(Table2[FPPGroupCode])-2)/(Table2[DepoName]=$C$2)/(IF($C$3<>\"\",Table2[BULAN]=$C$3,TRUE))/(IF($C$4<>\"\",Table2[OFF/ON]=$C$4,TRUE))/(IF($C$5<>\"\",Table2[Status]=$C$5,TRUE))/(IF($C$6<>\"\",Table2[FPPDate]=$C$6,TRUE))/(IF($C$7<>\"\",Table2[ProposalCode]=$C$7,TRUE)),ROW(E216))),\"\")","v":""},{"$f":"IFERROR(INDEX(Table2[PeriodeEnd],_xlfn.AGGREGATE(15,6,(ROW(Table2[FPPGroupCode])-2)/(Table2[DepoName]=$C$2)/(IF($C$3<>\"\",Table2[BULAN]=$C$3,TRUE))/(IF($C$4<>\"\",Table2[OFF/ON]=$C$4,TRUE))/(IF($C$5<>\"\",Table2[Status]=$C$5,TRUE))/(IF($C$6<>\"\",Table2[FPPDate]=$C$6,TRUE))/(IF($C$7<>\"\",Table2[ProposalCode]=$C$7,TRUE)),ROW(F216))),\"\")","v":""},{"$f":"IFERROR(INDEX(Table2[Amount_FPPDepo],_xlfn.AGGREGATE(15,6,(ROW(Table2[FPPGroupCode])-2)/(Table2[DepoName]=$C$2)/(IF($C$3<>\"\",Table2[BULAN]=$C$3,TRUE))/(IF($C$4<>\"\",Table2[OFF/ON]=$C$4,TRUE))/(IF($C$5<>\"\",Table2[Status]=$C$5,TRUE))/(IF($C$6<>\"\",Table2[FPPDate]=$C$6,TRUE))/(IF($C$7<>\"\",Table2[ProposalCode]=$C$7,TRUE)),ROW(G216))),\"\")","v":""},{"$f":"IFERROR(VLOOKUP($B224,SIP!$D$5776:$P$6032,12,0),0)","v":0},{"$f":"IFERROR(H224-I224,0)","v":0},{"$f":"IFERROR(VLOOKUP($B224,SIP!$D$5776:$P$6032,8,0),0)","v":0},{"$f":"IFERROR(INDEX(Table2[OFF/ON],_xlfn.AGGREGATE(15,6,(ROW(Table2[FPPGroupCode])-2)/(Table2[DepoName]=$C$2)/(IF($C$3<>\"\",Table2[BULAN]=$C$3,TRUE))/(IF($C$4<>\"\",Table2[OFF/ON]=$C$4,TRUE))/(IF($C$5<>\"\",Table2[Status]=$C$5,TRUE))/(IF($C$6<>\"\",Table2[FPPDate]=$C$6,TRUE))/(IF($C$7<>\"\",Table2[ProposalCode]=$C$7,TRUE)),ROW(K216))),\"\")","v":""}]
[{"$f":"IF(LEN($B225),ROW(A217),\"\")","v":""},{"$f":"IFERROR(INDEX(Table2[FPPGroupCode],_xlfn.AGGREGATE(15,6,(ROW(Table2[FPPGroupCode])-2)/(Table2[DepoName]=$C$2)/(IF($C$3<>\"\",Table2[BULAN]=$C$3,TRUE))/(IF($C$4<>\"\",Table2[OFF/ON]=$C$4,TRUE))/(IF($C$5<>\"\",Table2[Status]=$C$5,TRUE))/(IF($C$6<>\"\",Table2[FPPDate]=$C$6,TRUE))/(IF($C$7<>\"\",Table2[ProposalCode]=$C$7,TRUE)),ROW(A217))),\"\")","v":""},{"$f":"IFERROR(VLOOKUP($B225,SIP!$D$3:$Q$12237,14,0),0)","v":0},{"$f":"IFERROR(INDEX(Table2[Activity],_xlfn.AGGREGATE(15,6,(ROW(Table2[FPPGroupCode])-2)/(Table2[DepoName]=$C$2)/(IF($C$3<>\"\",Table2[BULAN]=$C$3,TRUE))/(IF($C$4<>\"\",Table2[OFF/ON]=$C$4,TRUE))/(IF($C$5<>\"\",Table2[Status]=$C$5,TRUE))/(IF($C$6<>\"\",Table2[]=$C$6,TRUE))/(IF($C$7<>\"\",Table2[ProposalCode]=$C$7,TRUE)),ROW(B217))),\"\")","v":""},{"$f":"IFERROR(INDEX(Table2[Location],_xlfn.AGGREGATE(15,6,(ROW(Table2[FPPGroupCode])-2)/(Table2[DepoName]=$C$2)/(IF($C$3<>\"\",Table2[BULAN]=$C$3,TRUE))/(IF($C$4<>\"\",Table2[OFF/ON]=$C$4,TRUE))/(IF($C$5<>\"\",Table2[Status]=$C$5,TRUE))/(IF($C$6<>\"\",Table2[FPPDate]=$C$6,TRUE))/(IF($C$7<>\"\",Table2[ProposalCode]=$C$7,TRUE)),ROW(D217))),\"\")","v":""},{"$f":"IFERROR(INDEX(Table2[PeriodeStart],_xlfn.AGGREGATE(15,6,(ROW(Table2[FPPGroupCode])-2)/(Table2[DepoName]=$C$2)/(IF($C$3<>\"\",Table2[BULAN]=$C$3,TRUE))/(IF($C$4<>\"\",Table2[OFF/ON]=$C$4,TRUE))/(IF($C$5<>\"\",Table2[Status]=$C$5,TRUE))/(IF($C$6<>\"\",Table2[FPPDate]=$C$6,TRUE))/(IF($C$7<>\"\",Table2[ProposalCode]=$C$7,TRUE)),ROW(E217))),\"\")","v":""},{"$f":"IFERROR(INDEX(Table2[PeriodeEnd],_xlfn.AGGREGATE(15,6,(ROW(Table2[FPPGroupCode])-2)/(Table2[DepoName]=$C$2)/(IF($C$3<>\"\",Table2[BULAN]=$C$3,TRUE))/(IF($C$4<>\"\",Table2[OFF/ON]=$C$4,TRUE))/(IF($C$5<>\"\",Table2[Status]=$C$5,TRUE))/(IF($C$6<>\"\",Table2[FPPDate]=$C$6,TRUE))/(IF($C$7<>\"\",Table2[ProposalCode]=$C$7,TRUE)),ROW(F217))),\"\")","v":""},{"$f":"IFERROR(INDEX(Table2[Amount_FPPDepo],_xlfn.AGGREGATE(15,6,(ROW(Table2[FPPGroupCode])-2)/(Table2[DepoName]=$C$2)/(IF($C$3<>\"\",Table2[BULAN]=$C$3,TRUE))/(IF($C$4<>\"\",Table2[OFF/ON]=$C$4,TRUE))/(IF($C$5<>\"\",Table2[Status]=$C$5,TRUE))/(IF($C$6<>\"\",Table2[FPPDate]=$C$6,TRUE))/(IF($C$7<>\"\",Table2[ProposalCode]=$C$7,TRUE)),ROW(G217))),\"\")","v":""},{"$f":"IFERROR(VLOOKUP($B225,SIP!$D$5776:$P$6032,12,0),0)","v":0},{"$f":"IFERROR(H225-I225,0)","v":0},{"$f":"IFERROR(VLOOKUP($B225,SIP!$D$5776:$P$6032,8,0),0)","v":0},{"$f":"IFERROR(INDEX(Table2[OFF/ON],_xlfn.AGGREGATE(15,6,(ROW(Table2[FPPGroupCode])-2)/(Table2[DepoName]=$C$2)/(IF($C$3<>\"\",Table2[BULAN]=$C$3,TRUE))/(IF($C$4<>\"\",Table2[OFF/ON]=$C$4,TRUE))/(IF($C$5<>\"\",Table2[Status]=$C$5,TRUE))/(IF($C$6<>\"\",Table2[FPPDate]=$C$6,TRUE))/(IF($C$7<>\"\",Table2[ProposalCode]=$C$7,TRUE)),ROW(K217))),\"\")","v":""}]
[{"$f":"IF(LEN($B226),ROW(A218),\"\")","v":""},{"$f":"IFERROR(INDEX(Table2[FPPGroupCode],_xlfn.AGGREGATE(15,6,(ROW(Table2[FPPGroupCode])-2)/(Table2[DepoName]=$C$2)/(IF($C$3<>\"\",Table2[BULAN]=$C$3,TRUE))/(IF($C$4<>\"\",Table2[OFF/ON]=$C$4,TRUE))/(IF($C$5<>\"\",Table2[Status]=$C$5,TRUE))/(IF($C$6<>\"\",Table2[FPPDate]=$C$6,TRUE))/(IF($C$7<>\"\",Table2[ProposalCode]=$C$7,TRUE)),ROW(A218))),\"\")","v":""},{"$f":"IFERROR(VLOOKUP($B226,SIP!$D$3:$Q$12237,14,0),0)","v":0},{"$f":"IFERROR(INDEX(Table2[Activity],_xlfn.AGGREGATE(15,6,(ROW(Table2[FPPGroupCode])-2)/(Table2[DepoName]=$C$2)/(IF($C$3<>\"\",Table2[BULAN]=$C$3,TRUE))/(IF($C$4<>\"\",Table2[OFF/ON]=$C$4,TRUE))/(IF($C$5<>\"\",Table2[Status]=$C$5,TRUE))/(IF($C$6<>\"\",Table2[]=$C$6,TRUE))/(IF($C$7<>\"\",Table2[ProposalCode]=$C$7,TRUE)),ROW(B218))),\"\")","v":""},{"$f":"IFERROR(INDEX(Table2[Location],_xlfn.AGGREGATE(15,6,(ROW(Table2[FPPGroupCode])-2)/(Table2[DepoName]=$C$2)/(IF($C$3<>\"\",Table2[BULAN]=$C$3,TRUE))/(IF($C$4<>\"\",Table2[OFF/ON]=$C$4,TRUE))/(IF($C$5<>\"\",Table2[Status]=$C$5,TRUE))/(IF($C$6<>\"\",Table2[FPPDate]=$C$6,TRUE))/(IF($C$7<>\"\",Table2[ProposalCode]=$C$7,TRUE)),ROW(D218))),\"\")","v":""},{"$f":"IFERROR(INDEX(Table2[PeriodeStart],_xlfn.AGGREGATE(15,6,(ROW(Table2[FPPGroupCode])-2)/(Table2[DepoName]=$C$2)/(IF($C$3<>\"\",Table2[BULAN]=$C$3,TRUE))/(IF($C$4<>\"\",Table2[OFF/ON]=$C$4,TRUE))/(IF($C$5<>\"\",Table2[Status]=$C$5,TRUE))/(IF($C$6<>\"\",Table2[FPPDate]=$C$6,TRUE))/(IF($C$7<>\"\",Table2[ProposalCode]=$C$7,TRUE)),ROW(E218))),\"\")","v":""},{"$f":"IFERROR(INDEX(Table2[PeriodeEnd],_xlfn.AGGREGATE(15,6,(ROW(Table2[FPPGroupCode])-2)/(Table2[DepoName]=$C$2)/(IF($C$3<>\"\",Table2[BULAN]=$C$3,TRUE))/(IF($C$4<>\"\",Table2[OFF/ON]=$C$4,TRUE))/(IF($C$5<>\"\",Table2[Status]=$C$5,TRUE))/(IF($C$6<>\"\",Table2[FPPDate]=$C$6,TRUE))/(IF($C$7<>\"\",Table2[ProposalCode]=$C$7,TRUE)),ROW(F218))),\"\")","v":""},{"$f":"IFERROR(INDEX(Table2[Amount_FPPDepo],_xlfn.AGGREGATE(15,6,(ROW(Table2[FPPGroupCode])-2)/(Table2[DepoName]=$C$2)/(IF($C$3<>\"\",Table2[BULAN]=$C$3,TRUE))/(IF($C$4<>\"\",Table2[OFF/ON]=$C$4,TRUE))/(IF($C$5<>\"\",Table2[Status]=$C$5,TRUE))/(IF($C$6<>\"\",Table2[FPPDate]=$C$6,TRUE))/(IF($C$7<>\"\",Table2[ProposalCode]=$C$7,TRUE)),ROW(G218))),\"\")","v":""},{"$f":"IFERROR(VLOOKUP($B226,SIP!$D$5776:$P$6032,12,0),0)","v":0},{"$f":"IFERROR(H226-I226,0)","v":0},{"$f":"IFERROR(VLOOKUP($B226,SIP!$D$5776:$P$6032,8,0),0)","v":0},{"$f":"IFERROR(INDEX(Table2[OFF/ON],_xlfn.AGGREGATE(15,6,(ROW(Table2[FPPGroupCode])-2)/(Table2[DepoName]=$C$2)/(IF($C$3<>\"\",Table2[BULAN]=$C$3,TRUE))/(IF($C$4<>\"\",Table2[OFF/ON]=$C$4,TRUE))/(IF($C$5<>\"\",Table2[Status]=$C$5,TRUE))/(IF($C$6<>\"\",Table2[FPPDate]=$C$6,TRUE))/(IF($C$7<>\"\",Table2[ProposalCode]=$C$7,TRUE)),ROW(K218))),\"\")","v":""}]
[{"$f":"IF(LEN($B227),ROW(A219),\"\")","v":""},{"$f":"IFERROR(INDEX(Table2[FPPGroupCode],_xlfn.AGGREGATE(15,6,(ROW(Table2[FPPGroupCode])-2)/(Table2[DepoName]=$C$2)/(IF($C$3<>\"\",Table2[BULAN]=$C$3,TRUE))/(IF($C$4<>\"\",Table2[OFF/ON]=$C$4,TRUE))/(IF($C$5<>\"\",Table2[Status]=$C$5,TRUE))/(IF($C$6<>\"\",Table2[FPPDate]=$C$6,TRUE))/(IF($C$7<>\"\",Table2[ProposalCode]=$C$7,TRUE)),ROW(A219))),\"\")","v":""},{"$f":"IFERROR(VLOOKUP($B227,SIP!$D$3:$Q$12237,14,0),0)","v":0},{"$f":"IFERROR(INDEX(Table2[Activity],_xlfn.AGGREGATE(15,6,(ROW(Table2[FPPGroupCode])-2)/(Table2[DepoName]=$C$2)/(IF($C$3<>\"\",Table2[BULAN]=$C$3,TRUE))/(IF($C$4<>\"\",Table2[OFF/ON]=$C$4,TRUE))/(IF($C$5<>\"\",Table2[Status]=$C$5,TRUE))/(IF($C$6<>\"\",Table2[]=$C$6,TRUE))/(IF($C$7<>\"\",Table2[ProposalCode]=$C$7,TRUE)),ROW(B219))),\"\")","v":""},{"$f":"IFERROR(INDEX(Table2[Location],_xlfn.AGGREGATE(15,6,(ROW(Table2[FPPGroupCode])-2)/(Table2[DepoName]=$C$2)/(IF($C$3<>\"\",Table2[BULAN]=$C$3,TRUE))/(IF($C$4<>\"\",Table2[OFF/ON]=$C$4,TRUE))/(IF($C$5<>\"\",Table2[Status]=$C$5,TRUE))/(IF($C$6<>\"\",Table2[FPPDate]=$C$6,TRUE))/(IF($C$7<>\"\",Table2[ProposalCode]=$C$7,TRUE)),ROW(D219))),\"\")","v":""},{"$f":"IFERROR(INDEX(Table2[PeriodeStart],_xlfn.AGGREGATE(15,6,(ROW(Table2[FPPGroupCode])-2)/(Table2[DepoName]=$C$2)/(IF($C$3<>\"\",Table2[BULAN]=$C$3,TRUE))/(IF($C$4<>\"\",Table2[OFF/ON]=$C$4,TRUE))/(IF($C$5<>\"\",Table2[Status]=$C$5,TRUE))/(IF($C$6<>\"\",Table2[FPPDate]=$C$6,TRUE))/(IF($C$7<>\"\",Table2[ProposalCode]=$C$7,TRUE)),ROW(E219))),\"\")","v":""},{"$f":"IFERROR(INDEX(Table2[PeriodeEnd],_xlfn.AGGREGATE(15,6,(ROW(Table2[FPPGroupCode])-2)/(Table2[DepoName]=$C$2)/(IF($C$3<>\"\",Table2[BULAN]=$C$3,TRUE))/(IF($C$4<>\"\",Table2[OFF/ON]=$C$4,TRUE))/(IF($C$5<>\"\",Table2[Status]=$C$5,TRUE))/(IF($C$6<>\"\",Table2[FPPDate]=$C$6,TRUE))/(IF($C$7<>\"\",Table2[ProposalCode]=$C$7,TRUE)),ROW(F219))),\"\")","v":""},{"$f":"IFERROR(INDEX(Table2[Amount_FPPDepo],_xlfn.AGGREGATE(15,6,(ROW(Table2[FPPGroupCode])-2)/(Table2[DepoName]=$C$2)/(IF($C$3<>\"\",Table2[BULAN]=$C$3,TRUE))/(IF($C$4<>\"\",Table2[OFF/ON]=$C$4,TRUE))/(IF($C$5<>\"\",Table2[Status]=$C$5,TRUE))/(IF($C$6<>\"\",Table2[FPPDate]=$C$6,TRUE))/(IF($C$7<>\"\",Table2[ProposalCode]=$C$7,TRUE)),ROW(G219))),\"\")","v":""},{"$f":"IFERROR(VLOOKUP($B227,SIP!$D$5776:$P$6032,12,0),0)","v":0},{"$f":"IFERROR(H227-I227,0)","v":0},{"$f":"IFERROR(VLOOKUP($B227,SIP!$D$5776:$P$6032,8,0),0)","v":0},{"$f":"IFERROR(INDEX(Table2[OFF/ON],_xlfn.AGGREGATE(15,6,(ROW(Table2[FPPGroupCode])-2)/(Table2[DepoName]=$C$2)/(IF($C$3<>\"\",Table2[BULAN]=$C$3,TRUE))/(IF($C$4<>\"\",Table2[OFF/ON]=$C$4,TRUE))/(IF($C$5<>\"\",Table2[Status]=$C$5,TRUE))/(IF($C$6<>\"\",Table2[FPPDate]=$C$6,TRUE))/(IF($C$7<>\"\",Table2[ProposalCode]=$C$7,TRUE)),ROW(K219))),\"\")","v":""}]
[{"$f":"IF(LEN($B228),ROW(A220),\"\")","v":""},{"$f":"IFERROR(INDEX(Table2[FPPGroupCode],_xlfn.AGGREGATE(15,6,(ROW(Table2[FPPGroupCode])-2)/(Table2[DepoName]=$C$2)/(IF($C$3<>\"\",Table2[BULAN]=$C$3,TRUE))/(IF($C$4<>\"\",Table2[OFF/ON]=$C$4,TRUE))/(IF($C$5<>\"\",Table2[Status]=$C$5,TRUE))/(IF($C$6<>\"\",Table2[FPPDate]=$C$6,TRUE))/(IF($C$7<>\"\",Table2[ProposalCode]=$C$7,TRUE)),ROW(A220))),\"\")","v":""},{"$f":"IFERROR(VLOOKUP($B228,SIP!$D$3:$Q$12237,14,0),0)","v":0},{"$f":"IFERROR(INDEX(Table2[Activity],_xlfn.AGGREGATE(15,6,(ROW(Table2[FPPGroupCode])-2)/(Table2[DepoName]=$C$2)/(IF($C$3<>\"\",Table2[BULAN]=$C$3,TRUE))/(IF($C$4<>\"\",Table2[OFF/ON]=$C$4,TRUE))/(IF($C$5<>\"\",Table2[Status]=$C$5,TRUE))/(IF($C$6<>\"\",Table2[]=$C$6,TRUE))/(IF($C$7<>\"\",Table2[ProposalCode]=$C$7,TRUE)),ROW(B220))),\"\")","v":""},{"$f":"IFERROR(INDEX(Table2[Location],_xlfn.AGGREGATE(15,6,(ROW(Table2[FPPGroupCode])-2)/(Table2[DepoName]=$C$2)/(IF($C$3<>\"\",Table2[BULAN]=$C$3,TRUE))/(IF($C$4<>\"\",Table2[OFF/ON]=$C$4,TRUE))/(IF($C$5<>\"\",Table2[Status]=$C$5,TRUE))/(IF($C$6<>\"\",Table2[FPPDate]=$C$6,TRUE))/(IF($C$7<>\"\",Table2[ProposalCode]=$C$7,TRUE)),ROW(D220))),\"\")","v":""},{"$f":"IFERROR(INDEX(Table2[PeriodeStart],_xlfn.AGGREGATE(15,6,(ROW(Table2[FPPGroupCode])-2)/(Table2[DepoName]=$C$2)/(IF($C$3<>\"\",Table2[BULAN]=$C$3,TRUE))/(IF($C$4<>\"\",Table2[OFF/ON]=$C$4,TRUE))/(IF($C$5<>\"\",Table2[Status]=$C$5,TRUE))/(IF($C$6<>\"\",Table2[FPPDate]=$C$6,TRUE))/(IF($C$7<>\"\",Table2[ProposalCode]=$C$7,TRUE)),ROW(E220))),\"\")","v":""},{"$f":"IFERROR(INDEX(Table2[PeriodeEnd],_xlfn.AGGREGATE(15,6,(ROW(Table2[FPPGroupCode])-2)/(Table2[DepoName]=$C$2)/(IF($C$3<>\"\",Table2[BULAN]=$C$3,TRUE))/(IF($C$4<>\"\",Table2[OFF/ON]=$C$4,TRUE))/(IF($C$5<>\"\",Table2[Status]=$C$5,TRUE))/(IF($C$6<>\"\",Table2[FPPDate]=$C$6,TRUE))/(IF($C$7<>\"\",Table2[ProposalCode]=$C$7,TRUE)),ROW(F220))),\"\")","v":""},{"$f":"IFERROR(INDEX(Table2[Amount_FPPDepo],_xlfn.AGGREGATE(15,6,(ROW(Table2[FPPGroupCode])-2)/(Table2[DepoName]=$C$2)/(IF($C$3<>\"\",Table2[BULAN]=$C$3,TRUE))/(IF($C$4<>\"\",Table2[OFF/ON]=$C$4,TRUE))/(IF($C$5<>\"\",Table2[Status]=$C$5,TRUE))/(IF($C$6<>\"\",Table2[FPPDate]=$C$6,TRUE))/(IF($C$7<>\"\",Table2[ProposalCode]=$C$7,TRUE)),ROW(G220))),\"\")","v":""},{"$f":"IFERROR(VLOOKUP($B228,SIP!$D$5776:$P$6032,12,0),0)","v":0},{"$f":"IFERROR(H228-I228,0)","v":0},{"$f":"IFERROR(VLOOKUP($B228,SIP!$D$5776:$P$6032,8,0),0)","v":0},{"$f":"IFERROR(INDEX(Table2[OFF/ON],_xlfn.AGGREGATE(15,6,(ROW(Table2[FPPGroupCode])-2)/(Table2[DepoName]=$C$2)/(IF($C$3<>\"\",Table2[BULAN]=$C$3,TRUE))/(IF($C$4<>\"\",Table2[OFF/ON]=$C$4,TRUE))/(IF($C$5<>\"\",Table2[Status]=$C$5,TRUE))/(IF($C$6<>\"\",Table2[FPPDate]=$C$6,TRUE))/(IF($C$7<>\"\",Table2[ProposalCode]=$C$7,TRUE)),ROW(K220))),\"\")","v":""}]
[{"$f":"IF(LEN($B229),ROW(A221),\"\")","v":""},{"$f":"IFERROR(INDEX(Table2[FPPGroupCode],_xlfn.AGGREGATE(15,6,(ROW(Table2[FPPGroupCode])-2)/(Table2[DepoName]=$C$2)/(IF($C$3<>\"\",Table2[BULAN]=$C$3,TRUE))/(IF($C$4<>\"\",Table2[OFF/ON]=$C$4,TRUE))/(IF($C$5<>\"\",Table2[Status]=$C$5,TRUE))/(IF($C$6<>\"\",Table2[FPPDate]=$C$6,TRUE))/(IF($C$7<>\"\",Table2[ProposalCode]=$C$7,TRUE)),ROW(A221))),\"\")","v":""},{"$f":"IFERROR(VLOOKUP($B229,SIP!$D$3:$Q$12237,14,0),0)","v":0},{"$f":"IFERROR(INDEX(Table2[Activity],_xlfn.AGGREGATE(15,6,(ROW(Table2[FPPGroupCode])-2)/(Table2[DepoName]=$C$2)/(IF($C$3<>\"\",Table2[BULAN]=$C$3,TRUE))/(IF($C$4<>\"\",Table2[OFF/ON]=$C$4,TRUE))/(IF($C$5<>\"\",Table2[Status]=$C$5,TRUE))/(IF($C$6<>\"\",Table2[]=$C$6,TRUE))/(IF($C$7<>\"\",Table2[ProposalCode]=$C$7,TRUE)),ROW(B221))),\"\")","v":""},{"$f":"IFERROR(INDEX(Table2[Location],_xlfn.AGGREGATE(15,6,(ROW(Table2[FPPGroupCode])-2)/(Table2[DepoName]=$C$2)/(IF($C$3<>\"\",Table2[BULAN]=$C$3,TRUE))/(IF($C$4<>\"\",Table2[OFF/ON]=$C$4,TRUE))/(IF($C$5<>\"\",Table2[Status]=$C$5,TRUE))/(IF($C$6<>\"\",Table2[FPPDate]=$C$6,TRUE))/(IF($C$7<>\"\",Table2[ProposalCode]=$C$7,TRUE)),ROW(D221))),\"\")","v":""},{"$f":"IFERROR(INDEX(Table2[PeriodeStart],_xlfn.AGGREGATE(15,6,(ROW(Table2[FPPGroupCode])-2)/(Table2[DepoName]=$C$2)/(IF($C$3<>\"\",Table2[BULAN]=$C$3,TRUE))/(IF($C$4<>\"\",Table2[OFF/ON]=$C$4,TRUE))/(IF($C$5<>\"\",Table2[Status]=$C$5,TRUE))/(IF($C$6<>\"\",Table2[FPPDate]=$C$6,TRUE))/(IF($C$7<>\"\",Table2[ProposalCode]=$C$7,TRUE)),ROW(E221))),\"\")","v":""},{"$f":"IFERROR(INDEX(Table2[PeriodeEnd],_xlfn.AGGREGATE(15,6,(ROW(Table2[FPPGroupCode])-2)/(Table2[DepoName]=$C$2)/(IF($C$3<>\"\",Table2[BULAN]=$C$3,TRUE))/(IF($C$4<>\"\",Table2[OFF/ON]=$C$4,TRUE))/(IF($C$5<>\"\",Table2[Status]=$C$5,TRUE))/(IF($C$6<>\"\",Table2[FPPDate]=$C$6,TRUE))/(IF($C$7<>\"\",Table2[ProposalCode]=$C$7,TRUE)),ROW(F221))),\"\")","v":""},{"$f":"IFERROR(INDEX(Table2[Amount_FPPDepo],_xlfn.AGGREGATE(15,6,(ROW(Table2[FPPGroupCode])-2)/(Table2[DepoName]=$C$2)/(IF($C$3<>\"\",Table2[BULAN]=$C$3,TRUE))/(IF($C$4<>\"\",Table2[OFF/ON]=$C$4,TRUE))/(IF($C$5<>\"\",Table2[Status]=$C$5,TRUE))/(IF($C$6<>\"\",Table2[FPPDate]=$C$6,TRUE))/(IF($C$7<>\"\",Table2[ProposalCode]=$C$7,TRUE)),ROW(G221))),\"\")","v":""},{"$f":"IFERROR(VLOOKUP($B229,SIP!$D$5776:$P$6032,12,0),0)","v":0},{"$f":"IFERROR(H229-I229,0)","v":0},{"$f":"IFERROR(VLOOKUP($B229,SIP!$D$5776:$P$6032,8,0),0)","v":0},{"$f":"IFERROR(INDEX(Table2[OFF/ON],_xlfn.AGGREGATE(15,6,(ROW(Table2[FPPGroupCode])-2)/(Table2[DepoName]=$C$2)/(IF($C$3<>\"\",Table2[BULAN]=$C$3,TRUE))/(IF($C$4<>\"\",Table2[OFF/ON]=$C$4,TRUE))/(IF($C$5<>\"\",Table2[Status]=$C$5,TRUE))/(IF($C$6<>\"\",Table2[FPPDate]=$C$6,TRUE))/(IF($C$7<>\"\",Table2[ProposalCode]=$C$7,TRUE)),ROW(K221))),\"\")","v":""}]
[{"$f":"IF(LEN($B230),ROW(A222),\"\")","v":""},{"$f":"IFERROR(INDEX(Table2[FPPGroupCode],_xlfn.AGGREGATE(15,6,(ROW(Table2[FPPGroupCode])-2)/(Table2[DepoName]=$C$2)/(IF($C$3<>\"\",Table2[BULAN]=$C$3,TRUE))/(IF($C$4<>\"\",Table2[OFF/ON]=$C$4,TRUE))/(IF($C$5<>\"\",Table2[Status]=$C$5,TRUE))/(IF($C$6<>\"\",Table2[FPPDate]=$C$6,TRUE))/(IF($C$7<>\"\",Table2[ProposalCode]=$C$7,TRUE)),ROW(A222))),\"\")","v":""},{"$f":"IFERROR(VLOOKUP($B230,SIP!$D$3:$Q$12237,14,0),0)","v":0},{"$f":"IFERROR(INDEX(Table2[Activity],_xlfn.AGGREGATE(15,6,(ROW(Table2[FPPGroupCode])-2)/(Table2[DepoName]=$C$2)/(IF($C$3<>\"\",Table2[BULAN]=$C$3,TRUE))/(IF($C$4<>\"\",Table2[OFF/ON]=$C$4,TRUE))/(IF($C$5<>\"\",Table2[Status]=$C$5,TRUE))/(IF($C$6<>\"\",Table2[]=$C$6,TRUE))/(IF($C$7<>\"\",Table2[ProposalCode]=$C$7,TRUE)),ROW(B222))),\"\")","v":""},{"$f":"IFERROR(INDEX(Table2[Location],_xlfn.AGGREGATE(15,6,(ROW(Table2[FPPGroupCode])-2)/(Table2[DepoName]=$C$2)/(IF($C$3<>\"\",Table2[BULAN]=$C$3,TRUE))/(IF($C$4<>\"\",Table2[OFF/ON]=$C$4,TRUE))/(IF($C$5<>\"\",Table2[Status]=$C$5,TRUE))/(IF($C$6<>\"\",Table2[FPPDate]=$C$6,TRUE))/(IF($C$7<>\"\",Table2[ProposalCode]=$C$7,TRUE)),ROW(D222))),\"\")","v":""},{"$f":"IFERROR(INDEX(Table2[PeriodeStart],_xlfn.AGGREGATE(15,6,(ROW(Table2[FPPGroupCode])-2)/(Table2[DepoName]=$C$2)/(IF($C$3<>\"\",Table2[BULAN]=$C$3,TRUE))/(IF($C$4<>\"\",Table2[OFF/ON]=$C$4,TRUE))/(IF($C$5<>\"\",Table2[Status]=$C$5,TRUE))/(IF($C$6<>\"\",Table2[FPPDate]=$C$6,TRUE))/(IF($C$7<>\"\",Table2[ProposalCode]=$C$7,TRUE)),ROW(E222))),\"\")","v":""},{"$f":"IFERROR(INDEX(Table2[PeriodeEnd],_xlfn.AGGREGATE(15,6,(ROW(Table2[FPPGroupCode])-2)/(Table2[DepoName]=$C$2)/(IF($C$3<>\"\",Table2[BULAN]=$C$3,TRUE))/(IF($C$4<>\"\",Table2[OFF/ON]=$C$4,TRUE))/(IF($C$5<>\"\",Table2[Status]=$C$5,TRUE))/(IF($C$6<>\"\",Table2[FPPDate]=$C$6,TRUE))/(IF($C$7<>\"\",Table2[ProposalCode]=$C$7,TRUE)),ROW(F222))),\"\")","v":""},{"$f":"IFERROR(INDEX(Table2[Amount_FPPDepo],_xlfn.AGGREGATE(15,6,(ROW(Table2[FPPGroupCode])-2)/(Table2[DepoName]=$C$2)/(IF($C$3<>\"\",Table2[BULAN]=$C$3,TRUE))/(IF($C$4<>\"\",Table2[OFF/ON]=$C$4,TRUE))/(IF($C$5<>\"\",Table2[Status]=$C$5,TRUE))/(IF($C$6<>\"\",Table2[FPPDate]=$C$6,TRUE))/(IF($C$7<>\"\",Table2[ProposalCode]=$C$7,TRUE)),ROW(G222))),\"\")","v":""},{"$f":"IFERROR(VLOOKUP($B230,SIP!$D$5776:$P$6032,12,0),0)","v":0},{"$f":"IFERROR(H230-I230,0)","v":0},{"$f":"IFERROR(VLOOKUP($B230,SIP!$D$5776:$P$6032,8,0),0)","v":0},{"$f":"IFERROR(INDEX(Table2[OFF/ON],_xlfn.AGGREGATE(15,6,(ROW(Table2[FPPGroupCode])-2)/(Table2[DepoName]=$C$2)/(IF($C$3<>\"\",Table2[BULAN]=$C$3,TRUE))/(IF($C$4<>\"\",Table2[OFF/ON]=$C$4,TRUE))/(IF($C$5<>\"\",Table2[Status]=$C$5,TRUE))/(IF($C$6<>\"\",Table2[FPPDate]=$C$6,TRUE))/(IF($C$7<>\"\",Table2[ProposalCode]=$C$7,TRUE)),ROW(K222))),\"\")","v":""}]
[{"$f":"IF(LEN($B231),ROW(A223),\"\")","v":""},{"$f":"IFERROR(INDEX(Table2[FPPGroupCode],_xlfn.AGGREGATE(15,6,(ROW(Table2[FPPGroupCode])-2)/(Table2[DepoName]=$C$2)/(IF($C$3<>\"\",Table2[BULAN]=$C$3,TRUE))/(IF($C$4<>\"\",Table2[OFF/ON]=$C$4,TRUE))/(IF($C$5<>\"\",Table2[Status]=$C$5,TRUE))/(IF($C$6<>\"\",Table2[FPPDate]=$C$6,TRUE))/(IF($C$7<>\"\",Table2[ProposalCode]=$C$7,TRUE)),ROW(A223))),\"\")","v":""},{"$f":"IFERROR(VLOOKUP($B231,SIP!$D$3:$Q$12237,14,0),0)","v":0},{"$f":"IFERROR(INDEX(Table2[Activity],_xlfn.AGGREGATE(15,6,(ROW(Table2[FPPGroupCode])-2)/(Table2[DepoName]=$C$2)/(IF($C$3<>\"\",Table2[BULAN]=$C$3,TRUE))/(IF($C$4<>\"\",Table2[OFF/ON]=$C$4,TRUE))/(IF($C$5<>\"\",Table2[Status]=$C$5,TRUE))/(IF($C$6<>\"\",Table2[]=$C$6,TRUE))/(IF($C$7<>\"\",Table2[ProposalCode]=$C$7,TRUE)),ROW(B223))),\"\")","v":""},{"$f":"IFERROR(INDEX(Table2[Location],_xlfn.AGGREGATE(15,6,(ROW(Table2[FPPGroupCode])-2)/(Table2[DepoName]=$C$2)/(IF($C$3<>\"\",Table2[BULAN]=$C$3,TRUE))/(IF($C$4<>\"\",Table2[OFF/ON]=$C$4,TRUE))/(IF($C$5<>\"\",Table2[Status]=$C$5,TRUE))/(IF($C$6<>\"\",Table2[FPPDate]=$C$6,TRUE))/(IF($C$7<>\"\",Table2[ProposalCode]=$C$7,TRUE)),ROW(D223))),\"\")","v":""},{"$f":"IFERROR(INDEX(Table2[PeriodeStart],_xlfn.AGGREGATE(15,6,(ROW(Table2[FPPGroupCode])-2)/(Table2[DepoName]=$C$2)/(IF($C$3<>\"\",Table2[BULAN]=$C$3,TRUE))/(IF($C$4<>\"\",Table2[OFF/ON]=$C$4,TRUE))/(IF($C$5<>\"\",Table2[Status]=$C$5,TRUE))/(IF($C$6<>\"\",Table2[FPPDate]=$C$6,TRUE))/(IF($C$7<>\"\",Table2[ProposalCode]=$C$7,TRUE)),ROW(E223))),\"\")","v":""},{"$f":"IFERROR(INDEX(Table2[PeriodeEnd],_xlfn.AGGREGATE(15,6,(ROW(Table2[FPPGroupCode])-2)/(Table2[DepoName]=$C$2)/(IF($C$3<>\"\",Table2[BULAN]=$C$3,TRUE))/(IF($C$4<>\"\",Table2[OFF/ON]=$C$4,TRUE))/(IF($C$5<>\"\",Table2[Status]=$C$5,TRUE))/(IF($C$6<>\"\",Table2[FPPDate]=$C$6,TRUE))/(IF($C$7<>\"\",Table2[ProposalCode]=$C$7,TRUE)),ROW(F223))),\"\")","v":""},{"$f":"IFERROR(INDEX(Table2[Amount_FPPDepo],_xlfn.AGGREGATE(15,6,(ROW(Table2[FPPGroupCode])-2)/(Table2[DepoName]=$C$2)/(IF($C$3<>\"\",Table2[BULAN]=$C$3,TRUE))/(IF($C$4<>\"\",Table2[OFF/ON]=$C$4,TRUE))/(IF($C$5<>\"\",Table2[Status]=$C$5,TRUE))/(IF($C$6<>\"\",Table2[FPPDate]=$C$6,TRUE))/(IF($C$7<>\"\",Table2[ProposalCode]=$C$7,TRUE)),ROW(G223))),\"\")","v":""},{"$f":"IFERROR(VLOOKUP($B231,SIP!$D$5776:$P$6032,12,0),0)","v":0},{"$f":"IFERROR(H231-I231,0)","v":0},{"$f":"IFERROR(VLOOKUP($B231,SIP!$D$5776:$P$6032,8,0),0)","v":0},{"$f":"IFERROR(INDEX(Table2[OFF/ON],_xlfn.AGGREGATE(15,6,(ROW(Table2[FPPGroupCode])-2)/(Table2[DepoName]=$C$2)/(IF($C$3<>\"\",Table2[BULAN]=$C$3,TRUE))/(IF($C$4<>\"\",Table2[OFF/ON]=$C$4,TRUE))/(IF($C$5<>\"\",Table2[Status]=$C$5,TRUE))/(IF($C$6<>\"\",Table2[FPPDate]=$C$6,TRUE))/(IF($C$7<>\"\",Table2[ProposalCode]=$C$7,TRUE)),ROW(K223))),\"\")","v":""}]
[{"$f":"IF(LEN($B232),ROW(A224),\"\")","v":""},{"$f":"IFERROR(INDEX(Table2[FPPGroupCode],_xlfn.AGGREGATE(15,6,(ROW(Table2[FPPGroupCode])-2)/(Table2[DepoName]=$C$2)/(IF($C$3<>\"\",Table2[BULAN]=$C$3,TRUE))/(IF($C$4<>\"\",Table2[OFF/ON]=$C$4,TRUE))/(IF($C$5<>\"\",Table2[Status]=$C$5,TRUE))/(IF($C$6<>\"\",Table2[FPPDate]=$C$6,TRUE))/(IF($C$7<>\"\",Table2[ProposalCode]=$C$7,TRUE)),ROW(A224))),\"\")","v":""},{"$f":"IFERROR(VLOOKUP($B232,SIP!$D$3:$Q$12237,14,0),0)","v":0},{"$f":"IFERROR(INDEX(Table2[Activity],_xlfn.AGGREGATE(15,6,(ROW(Table2[FPPGroupCode])-2)/(Table2[DepoName]=$C$2)/(IF($C$3<>\"\",Table2[BULAN]=$C$3,TRUE))/(IF($C$4<>\"\",Table2[OFF/ON]=$C$4,TRUE))/(IF($C$5<>\"\",Table2[Status]=$C$5,TRUE))/(IF($C$6<>\"\",Table2[]=$C$6,TRUE))/(IF($C$7<>\"\",Table2[ProposalCode]=$C$7,TRUE)),ROW(B224))),\"\")","v":""},{"$f":"IFERROR(INDEX(Table2[Location],_xlfn.AGGREGATE(15,6,(ROW(Table2[FPPGroupCode])-2)/(Table2[DepoName]=$C$2)/(IF($C$3<>\"\",Table2[BULAN]=$C$3,TRUE))/(IF($C$4<>\"\",Table2[OFF/ON]=$C$4,TRUE))/(IF($C$5<>\"\",Table2[Status]=$C$5,TRUE))/(IF($C$6<>\"\",Table2[FPPDate]=$C$6,TRUE))/(IF($C$7<>\"\",Table2[ProposalCode]=$C$7,TRUE)),ROW(D224))),\"\")","v":""},{"$f":"IFERROR(INDEX(Table2[PeriodeStart],_xlfn.AGGREGATE(15,6,(ROW(Table2[FPPGroupCode])-2)/(Table2[DepoName]=$C$2)/(IF($C$3<>\"\",Table2[BULAN]=$C$3,TRUE))/(IF($C$4<>\"\",Table2[OFF/ON]=$C$4,TRUE))/(IF($C$5<>\"\",Table2[Status]=$C$5,TRUE))/(IF($C$6<>\"\",Table2[FPPDate]=$C$6,TRUE))/(IF($C$7<>\"\",Table2[ProposalCode]=$C$7,TRUE)),ROW(E224))),\"\")","v":""},{"$f":"IFERROR(INDEX(Table2[PeriodeEnd],_xlfn.AGGREGATE(15,6,(ROW(Table2[FPPGroupCode])-2)/(Table2[DepoName]=$C$2)/(IF($C$3<>\"\",Table2[BULAN]=$C$3,TRUE))/(IF($C$4<>\"\",Table2[OFF/ON]=$C$4,TRUE))/(IF($C$5<>\"\",Table2[Status]=$C$5,TRUE))/(IF($C$6<>\"\",Table2[FPPDate]=$C$6,TRUE))/(IF($C$7<>\"\",Table2[ProposalCode]=$C$7,TRUE)),ROW(F224))),\"\")","v":""},{"$f":"IFERROR(INDEX(Table2[Amount_FPPDepo],_xlfn.AGGREGATE(15,6,(ROW(Table2[FPPGroupCode])-2)/(Table2[DepoName]=$C$2)/(IF($C$3<>\"\",Table2[BULAN]=$C$3,TRUE))/(IF($C$4<>\"\",Table2[OFF/ON]=$C$4,TRUE))/(IF($C$5<>\"\",Table2[Status]=$C$5,TRUE))/(IF($C$6<>\"\",Table2[FPPDate]=$C$6,TRUE))/(IF($C$7<>\"\",Table2[ProposalCode]=$C$7,TRUE)),ROW(G224))),\"\")","v":""},{"$f":"IFERROR(VLOOKUP($B232,SIP!$D$5776:$P$6032,12,0),0)","v":0},{"$f":"IFERROR(H232-I232,0)","v":0},{"$f":"IFERROR(VLOOKUP($B232,SIP!$D$5776:$P$6032,8,0),0)","v":0},{"$f":"IFERROR(INDEX(Table2[OFF/ON],_xlfn.AGGREGATE(15,6,(ROW(Table2[FPPGroupCode])-2)/(Table2[DepoName]=$C$2)/(IF($C$3<>\"\",Table2[BULAN]=$C$3,TRUE))/(IF($C$4<>\"\",Table2[OFF/ON]=$C$4,TRUE))/(IF($C$5<>\"\",Table2[Status]=$C$5,TRUE))/(IF($C$6<>\"\",Table2[FPPDate]=$C$6,TRUE))/(IF($C$7<>\"\",Table2[ProposalCode]=$C$7,TRUE)),ROW(K224))),\"\")","v":""}]
[{"$f":"IF(LEN($B233),ROW(A225),\"\")","v":""},{"$f":"IFERROR(INDEX(Table2[FPPGroupCode],_xlfn.AGGREGATE(15,6,(ROW(Table2[FPPGroupCode])-2)/(Table2[DepoName]=$C$2)/(IF($C$3<>\"\",Table2[BULAN]=$C$3,TRUE))/(IF($C$4<>\"\",Table2[OFF/ON]=$C$4,TRUE))/(IF($C$5<>\"\",Table2[Status]=$C$5,TRUE))/(IF($C$6<>\"\",Table2[FPPDate]=$C$6,TRUE))/(IF($C$7<>\"\",Table2[ProposalCode]=$C$7,TRUE)),ROW(A225))),\"\")","v":""},{"$f":"IFERROR(VLOOKUP($B233,SIP!$D$3:$Q$12237,14,0),0)","v":0},{"$f":"IFERROR(INDEX(Table2[Activity],_xlfn.AGGREGATE(15,6,(ROW(Table2[FPPGroupCode])-2)/(Table2[DepoName]=$C$2)/(IF($C$3<>\"\",Table2[BULAN]=$C$3,TRUE))/(IF($C$4<>\"\",Table2[OFF/ON]=$C$4,TRUE))/(IF($C$5<>\"\",Table2[Status]=$C$5,TRUE))/(IF($C$6<>\"\",Table2[]=$C$6,TRUE))/(IF($C$7<>\"\",Table2[ProposalCode]=$C$7,TRUE)),ROW(B225))),\"\")","v":""},{"$f":"IFERROR(INDEX(Table2[Location],_xlfn.AGGREGATE(15,6,(ROW(Table2[FPPGroupCode])-2)/(Table2[DepoName]=$C$2)/(IF($C$3<>\"\",Table2[BULAN]=$C$3,TRUE))/(IF($C$4<>\"\",Table2[OFF/ON]=$C$4,TRUE))/(IF($C$5<>\"\",Table2[Status]=$C$5,TRUE))/(IF($C$6<>\"\",Table2[FPPDate]=$C$6,TRUE))/(IF($C$7<>\"\",Table2[ProposalCode]=$C$7,TRUE)),ROW(D225))),\"\")","v":""},{"$f":"IFERROR(INDEX(Table2[PeriodeStart],_xlfn.AGGREGATE(15,6,(ROW(Table2[FPPGroupCode])-2)/(Table2[DepoName]=$C$2)/(IF($C$3<>\"\",Table2[BULAN]=$C$3,TRUE))/(IF($C$4<>\"\",Table2[OFF/ON]=$C$4,TRUE))/(IF($C$5<>\"\",Table2[Status]=$C$5,TRUE))/(IF($C$6<>\"\",Table2[FPPDate]=$C$6,TRUE))/(IF($C$7<>\"\",Table2[ProposalCode]=$C$7,TRUE)),ROW(E225))),\"\")","v":""},{"$f":"IFERROR(INDEX(Table2[PeriodeEnd],_xlfn.AGGREGATE(15,6,(ROW(Table2[FPPGroupCode])-2)/(Table2[DepoName]=$C$2)/(IF($C$3<>\"\",Table2[BULAN]=$C$3,TRUE))/(IF($C$4<>\"\",Table2[OFF/ON]=$C$4,TRUE))/(IF($C$5<>\"\",Table2[Status]=$C$5,TRUE))/(IF($C$6<>\"\",Table2[FPPDate]=$C$6,TRUE))/(IF($C$7<>\"\",Table2[ProposalCode]=$C$7,TRUE)),ROW(F225))),\"\")","v":""},{"$f":"IFERROR(INDEX(Table2[Amount_FPPDepo],_xlfn.AGGREGATE(15,6,(ROW(Table2[FPPGroupCode])-2)/(Table2[DepoName]=$C$2)/(IF($C$3<>\"\",Table2[BULAN]=$C$3,TRUE))/(IF($C$4<>\"\",Table2[OFF/ON]=$C$4,TRUE))/(IF($C$5<>\"\",Table2[Status]=$C$5,TRUE))/(IF($C$6<>\"\",Table2[FPPDate]=$C$6,TRUE))/(IF($C$7<>\"\",Table2[ProposalCode]=$C$7,TRUE)),ROW(G225))),\"\")","v":""},{"$f":"IFERROR(VLOOKUP($B233,SIP!$D$5776:$P$6032,12,0),0)","v":0},{"$f":"IFERROR(H233-I233,0)","v":0},{"$f":"IFERROR(VLOOKUP($B233,SIP!$D$5776:$P$6032,8,0),0)","v":0},{"$f":"IFERROR(INDEX(Table2[OFF/ON],_xlfn.AGGREGATE(15,6,(ROW(Table2[FPPGroupCode])-2)/(Table2[DepoName]=$C$2)/(IF($C$3<>\"\",Table2[BULAN]=$C$3,TRUE))/(IF($C$4<>\"\",Table2[OFF/ON]=$C$4,TRUE))/(IF($C$5<>\"\",Table2[Status]=$C$5,TRUE))/(IF($C$6<>\"\",Table2[FPPDate]=$C$6,TRUE))/(IF($C$7<>\"\",Table2[ProposalCode]=$C$7,TRUE)),ROW(K225))),\"\")","v":""}]
[{"$f":"IF(LEN($B234),ROW(A226),\"\")","v":""},{"$f":"IFERROR(INDEX(Table2[FPPGroupCode],_xlfn.AGGREGATE(15,6,(ROW(Table2[FPPGroupCode])-2)/(Table2[DepoName]=$C$2)/(IF($C$3<>\"\",Table2[BULAN]=$C$3,TRUE))/(IF($C$4<>\"\",Table2[OFF/ON]=$C$4,TRUE))/(IF($C$5<>\"\",Table2[Status]=$C$5,TRUE))/(IF($C$6<>\"\",Table2[FPPDate]=$C$6,TRUE))/(IF($C$7<>\"\",Table2[ProposalCode]=$C$7,TRUE)),ROW(A226))),\"\")","v":""},{"$f":"IFERROR(VLOOKUP($B234,SIP!$D$3:$Q$12237,14,0),0)","v":0},{"$f":"IFERROR(INDEX(Table2[Activity],_xlfn.AGGREGATE(15,6,(ROW(Table2[FPPGroupCode])-2)/(Table2[DepoName]=$C$2)/(IF($C$3<>\"\",Table2[BULAN]=$C$3,TRUE))/(IF($C$4<>\"\",Table2[OFF/ON]=$C$4,TRUE))/(IF($C$5<>\"\",Table2[Status]=$C$5,TRUE))/(IF($C$6<>\"\",Table2[]=$C$6,TRUE))/(IF($C$7<>\"\",Table2[ProposalCode]=$C$7,TRUE)),ROW(B226))),\"\")","v":""},{"$f":"IFERROR(INDEX(Table2[Location],_xlfn.AGGREGATE(15,6,(ROW(Table2[FPPGroupCode])-2)/(Table2[DepoName]=$C$2)/(IF($C$3<>\"\",Table2[BULAN]=$C$3,TRUE))/(IF($C$4<>\"\",Table2[OFF/ON]=$C$4,TRUE))/(IF($C$5<>\"\",Table2[Status]=$C$5,TRUE))/(IF($C$6<>\"\",Table2[FPPDate]=$C$6,TRUE))/(IF($C$7<>\"\",Table2[ProposalCode]=$C$7,TRUE)),ROW(D226))),\"\")","v":""},{"$f":"IFERROR(INDEX(Table2[PeriodeStart],_xlfn.AGGREGATE(15,6,(ROW(Table2[FPPGroupCode])-2)/(Table2[DepoName]=$C$2)/(IF($C$3<>\"\",Table2[BULAN]=$C$3,TRUE))/(IF($C$4<>\"\",Table2[OFF/ON]=$C$4,TRUE))/(IF($C$5<>\"\",Table2[Status]=$C$5,TRUE))/(IF($C$6<>\"\",Table2[FPPDate]=$C$6,TRUE))/(IF($C$7<>\"\",Table2[ProposalCode]=$C$7,TRUE)),ROW(E226))),\"\")","v":""},{"$f":"IFERROR(INDEX(Table2[PeriodeEnd],_xlfn.AGGREGATE(15,6,(ROW(Table2[FPPGroupCode])-2)/(Table2[DepoName]=$C$2)/(IF($C$3<>\"\",Table2[BULAN]=$C$3,TRUE))/(IF($C$4<>\"\",Table2[OFF/ON]=$C$4,TRUE))/(IF($C$5<>\"\",Table2[Status]=$C$5,TRUE))/(IF($C$6<>\"\",Table2[FPPDate]=$C$6,TRUE))/(IF($C$7<>\"\",Table2[ProposalCode]=$C$7,TRUE)),ROW(F226))),\"\")","v":""},{"$f":"IFERROR(INDEX(Table2[Amount_FPPDepo],_xlfn.AGGREGATE(15,6,(ROW(Table2[FPPGroupCode])-2)/(Table2[DepoName]=$C$2)/(IF($C$3<>\"\",Table2[BULAN]=$C$3,TRUE))/(IF($C$4<>\"\",Table2[OFF/ON]=$C$4,TRUE))/(IF($C$5<>\"\",Table2[Status]=$C$5,TRUE))/(IF($C$6<>\"\",Table2[FPPDate]=$C$6,TRUE))/(IF($C$7<>\"\",Table2[ProposalCode]=$C$7,TRUE)),ROW(G226))),\"\")","v":""},{"$f":"IFERROR(VLOOKUP($B234,SIP!$D$5776:$P$6032,12,0),0)","v":0},{"$f":"IFERROR(H234-I234,0)","v":0},{"$f":"IFERROR(VLOOKUP($B234,SIP!$D$5776:$P$6032,8,0),0)","v":0},{"$f":"IFERROR(INDEX(Table2[OFF/ON],_xlfn.AGGREGATE(15,6,(ROW(Table2[FPPGroupCode])-2)/(Table2[DepoName]=$C$2)/(IF($C$3<>\"\",Table2[BULAN]=$C$3,TRUE))/(IF($C$4<>\"\",Table2[OFF/ON]=$C$4,TRUE))/(IF($C$5<>\"\",Table2[Status]=$C$5,TRUE))/(IF($C$6<>\"\",Table2[FPPDate]=$C$6,TRUE))/(IF($C$7<>\"\",Table2[ProposalCode]=$C$7,TRUE)),ROW(K226))),\"\")","v":""}]
[{"$f":"IF(LEN($B235),ROW(A227),\"\")","v":""},{"$f":"IFERROR(INDEX(Table2[FPPGroupCode],_xlfn.AGGREGATE(15,6,(ROW(Table2[FPPGroupCode])-2)/(Table2[DepoName]=$C$2)/(IF($C$3<>\"\",Table2[BULAN]=$C$3,TRUE))/(IF($C$4<>\"\",Table2[OFF/ON]=$C$4,TRUE))/(IF($C$5<>\"\",Table2[Status]=$C$5,TRUE))/(IF($C$6<>\"\",Table2[FPPDate]=$C$6,TRUE))/(IF($C$7<>\"\",Table2[ProposalCode]=$C$7,TRUE)),ROW(A227))),\"\")","v":""},{"$f":"IFERROR(VLOOKUP($B235,SIP!$D$3:$Q$12237,14,0),0)","v":0},{"$f":"IFERROR(INDEX(Table2[Activity],_xlfn.AGGREGATE(15,6,(ROW(Table2[FPPGroupCode])-2)/(Table2[DepoName]=$C$2)/(IF($C$3<>\"\",Table2[BULAN]=$C$3,TRUE))/(IF($C$4<>\"\",Table2[OFF/ON]=$C$4,TRUE))/(IF($C$5<>\"\",Table2[Status]=$C$5,TRUE))/(IF($C$6<>\"\",Table2[]=$C$6,TRUE))/(IF($C$7<>\"\",Table2[ProposalCode]=$C$7,TRUE)),ROW(B227))),\"\")","v":""},{"$f":"IFERROR(INDEX(Table2[Location],_xlfn.AGGREGATE(15,6,(ROW(Table2[FPPGroupCode])-2)/(Table2[DepoName]=$C$2)/(IF($C$3<>\"\",Table2[BULAN]=$C$3,TRUE))/(IF($C$4<>\"\",Table2[OFF/ON]=$C$4,TRUE))/(IF($C$5<>\"\",Table2[Status]=$C$5,TRUE))/(IF($C$6<>\"\",Table2[FPPDate]=$C$6,TRUE))/(IF($C$7<>\"\",Table2[ProposalCode]=$C$7,TRUE)),ROW(D227))),\"\")","v":""},{"$f":"IFERROR(INDEX(Table2[PeriodeStart],_xlfn.AGGREGATE(15,6,(ROW(Table2[FPPGroupCode])-2)/(Table2[DepoName]=$C$2)/(IF($C$3<>\"\",Table2[BULAN]=$C$3,TRUE))/(IF($C$4<>\"\",Table2[OFF/ON]=$C$4,TRUE))/(IF($C$5<>\"\",Table2[Status]=$C$5,TRUE))/(IF($C$6<>\"\",Table2[FPPDate]=$C$6,TRUE))/(IF($C$7<>\"\",Table2[ProposalCode]=$C$7,TRUE)),ROW(E227))),\"\")","v":""},{"$f":"IFERROR(INDEX(Table2[PeriodeEnd],_xlfn.AGGREGATE(15,6,(ROW(Table2[FPPGroupCode])-2)/(Table2[DepoName]=$C$2)/(IF($C$3<>\"\",Table2[BULAN]=$C$3,TRUE))/(IF($C$4<>\"\",Table2[OFF/ON]=$C$4,TRUE))/(IF($C$5<>\"\",Table2[Status]=$C$5,TRUE))/(IF($C$6<>\"\",Table2[FPPDate]=$C$6,TRUE))/(IF($C$7<>\"\",Table2[ProposalCode]=$C$7,TRUE)),ROW(F227))),\"\")","v":""},{"$f":"IFERROR(INDEX(Table2[Amount_FPPDepo],_xlfn.AGGREGATE(15,6,(ROW(Table2[FPPGroupCode])-2)/(Table2[DepoName]=$C$2)/(IF($C$3<>\"\",Table2[BULAN]=$C$3,TRUE))/(IF($C$4<>\"\",Table2[OFF/ON]=$C$4,TRUE))/(IF($C$5<>\"\",Table2[Status]=$C$5,TRUE))/(IF($C$6<>\"\",Table2[FPPDate]=$C$6,TRUE))/(IF($C$7<>\"\",Table2[ProposalCode]=$C$7,TRUE)),ROW(G227))),\"\")","v":""},{"$f":"IFERROR(VLOOKUP($B235,SIP!$D$5776:$P$6032,12,0),0)","v":0},{"$f":"IFERROR(H235-I235,0)","v":0},{"$f":"IFERROR(VLOOKUP($B235,SIP!$D$5776:$P$6032,8,0),0)","v":0},{"$f":"IFERROR(INDEX(Table2[OFF/ON],_xlfn.AGGREGATE(15,6,(ROW(Table2[FPPGroupCode])-2)/(Table2[DepoName]=$C$2)/(IF($C$3<>\"\",Table2[BULAN]=$C$3,TRUE))/(IF($C$4<>\"\",Table2[OFF/ON]=$C$4,TRUE))/(IF($C$5<>\"\",Table2[Status]=$C$5,TRUE))/(IF($C$6<>\"\",Table2[FPPDate]=$C$6,TRUE))/(IF($C$7<>\"\",Table2[ProposalCode]=$C$7,TRUE)),ROW(K227))),\"\")","v":""}]
[{"$f":"IF(LEN($B236),ROW(A228),\"\")","v":""},{"$f":"IFERROR(INDEX(Table2[FPPGroupCode],_xlfn.AGGREGATE(15,6,(ROW(Table2[FPPGroupCode])-2)/(Table2[DepoName]=$C$2)/(IF($C$3<>\"\",Table2[BULAN]=$C$3,TRUE))/(IF($C$4<>\"\",Table2[OFF/ON]=$C$4,TRUE))/(IF($C$5<>\"\",Table2[Status]=$C$5,TRUE))/(IF($C$6<>\"\",Table2[FPPDate]=$C$6,TRUE))/(IF($C$7<>\"\",Table2[ProposalCode]=$C$7,TRUE)),ROW(A228))),\"\")","v":""},{"$f":"IFERROR(VLOOKUP($B236,SIP!$D$3:$Q$12237,14,0),0)","v":0},{"$f":"IFERROR(INDEX(Table2[Activity],_xlfn.AGGREGATE(15,6,(ROW(Table2[FPPGroupCode])-2)/(Table2[DepoName]=$C$2)/(IF($C$3<>\"\",Table2[BULAN]=$C$3,TRUE))/(IF($C$4<>\"\",Table2[OFF/ON]=$C$4,TRUE))/(IF($C$5<>\"\",Table2[Status]=$C$5,TRUE))/(IF($C$6<>\"\",Table2[]=$C$6,TRUE))/(IF($C$7<>\"\",Table2[ProposalCode]=$C$7,TRUE)),ROW(B228))),\"\")","v":""},{"$f":"IFERROR(INDEX(Table2[Location],_xlfn.AGGREGATE(15,6,(ROW(Table2[FPPGroupCode])-2)/(Table2[DepoName]=$C$2)/(IF($C$3<>\"\",Table2[BULAN]=$C$3,TRUE))/(IF($C$4<>\"\",Table2[OFF/ON]=$C$4,TRUE))/(IF($C$5<>\"\",Table2[Status]=$C$5,TRUE))/(IF($C$6<>\"\",Table2[FPPDate]=$C$6,TRUE))/(IF($C$7<>\"\",Table2[ProposalCode]=$C$7,TRUE)),ROW(D228))),\"\")","v":""},{"$f":"IFERROR(INDEX(Table2[PeriodeStart],_xlfn.AGGREGATE(15,6,(ROW(Table2[FPPGroupCode])-2)/(Table2[DepoName]=$C$2)/(IF($C$3<>\"\",Table2[BULAN]=$C$3,TRUE))/(IF($C$4<>\"\",Table2[OFF/ON]=$C$4,TRUE))/(IF($C$5<>\"\",Table2[Status]=$C$5,TRUE))/(IF($C$6<>\"\",Table2[FPPDate]=$C$6,TRUE))/(IF($C$7<>\"\",Table2[ProposalCode]=$C$7,TRUE)),ROW(E228))),\"\")","v":""},{"$f":"IFERROR(INDEX(Table2[PeriodeEnd],_xlfn.AGGREGATE(15,6,(ROW(Table2[FPPGroupCode])-2)/(Table2[DepoName]=$C$2)/(IF($C$3<>\"\",Table2[BULAN]=$C$3,TRUE))/(IF($C$4<>\"\",Table2[OFF/ON]=$C$4,TRUE))/(IF($C$5<>\"\",Table2[Status]=$C$5,TRUE))/(IF($C$6<>\"\",Table2[FPPDate]=$C$6,TRUE))/(IF($C$7<>\"\",Table2[ProposalCode]=$C$7,TRUE)),ROW(F228))),\"\")","v":""},{"$f":"IFERROR(INDEX(Table2[Amount_FPPDepo],_xlfn.AGGREGATE(15,6,(ROW(Table2[FPPGroupCode])-2)/(Table2[DepoName]=$C$2)/(IF($C$3<>\"\",Table2[BULAN]=$C$3,TRUE))/(IF($C$4<>\"\",Table2[OFF/ON]=$C$4,TRUE))/(IF($C$5<>\"\",Table2[Status]=$C$5,TRUE))/(IF($C$6<>\"\",Table2[FPPDate]=$C$6,TRUE))/(IF($C$7<>\"\",Table2[ProposalCode]=$C$7,TRUE)),ROW(G228))),\"\")","v":""},{"$f":"IFERROR(VLOOKUP($B236,SIP!$D$5776:$P$6032,12,0),0)","v":0},{"$f":"IFERROR(H236-I236,0)","v":0},{"$f":"IFERROR(VLOOKUP($B236,SIP!$D$5776:$P$6032,8,0),0)","v":0},{"$f":"IFERROR(INDEX(Table2[OFF/ON],_xlfn.AGGREGATE(15,6,(ROW(Table2[FPPGroupCode])-2)/(Table2[DepoName]=$C$2)/(IF($C$3<>\"\",Table2[BULAN]=$C$3,TRUE))/(IF($C$4<>\"\",Table2[OFF/ON]=$C$4,TRUE))/(IF($C$5<>\"\",Table2[Status]=$C$5,TRUE))/(IF($C$6<>\"\",Table2[FPPDate]=$C$6,TRUE))/(IF($C$7<>\"\",Table2[ProposalCode]=$C$7,TRUE)),ROW(K228))),\"\")","v":""}]
[{"$f":"IF(LEN($B237),ROW(A229),\"\")","v":""},{"$f":"IFERROR(INDEX(Table2[FPPGroupCode],_xlfn.AGGREGATE(15,6,(ROW(Table2[FPPGroupCode])-2)/(Table2[DepoName]=$C$2)/(IF($C$3<>\"\",Table2[BULAN]=$C$3,TRUE))/(IF($C$4<>\"\",Table2[OFF/ON]=$C$4,TRUE))/(IF($C$5<>\"\",Table2[Status]=$C$5,TRUE))/(IF($C$6<>\"\",Table2[FPPDate]=$C$6,TRUE))/(IF($C$7<>\"\",Table2[ProposalCode]=$C$7,TRUE)),ROW(A229))),\"\")","v":""},{"$f":"IFERROR(VLOOKUP($B237,SIP!$D$3:$Q$12237,14,0),0)","v":0},{"$f":"IFERROR(INDEX(Table2[Activity],_xlfn.AGGREGATE(15,6,(ROW(Table2[FPPGroupCode])-2)/(Table2[DepoName]=$C$2)/(IF($C$3<>\"\",Table2[BULAN]=$C$3,TRUE))/(IF($C$4<>\"\",Table2[OFF/ON]=$C$4,TRUE))/(IF($C$5<>\"\",Table2[Status]=$C$5,TRUE))/(IF($C$6<>\"\",Table2[]=$C$6,TRUE))/(IF($C$7<>\"\",Table2[ProposalCode]=$C$7,TRUE)),ROW(B229))),\"\")","v":""},{"$f":"IFERROR(INDEX(Table2[Location],_xlfn.AGGREGATE(15,6,(ROW(Table2[FPPGroupCode])-2)/(Table2[DepoName]=$C$2)/(IF($C$3<>\"\",Table2[BULAN]=$C$3,TRUE))/(IF($C$4<>\"\",Table2[OFF/ON]=$C$4,TRUE))/(IF($C$5<>\"\",Table2[Status]=$C$5,TRUE))/(IF($C$6<>\"\",Table2[FPPDate]=$C$6,TRUE))/(IF($C$7<>\"\",Table2[ProposalCode]=$C$7,TRUE)),ROW(D229))),\"\")","v":""},{"$f":"IFERROR(INDEX(Table2[PeriodeStart],_xlfn.AGGREGATE(15,6,(ROW(Table2[FPPGroupCode])-2)/(Table2[DepoName]=$C$2)/(IF($C$3<>\"\",Table2[BULAN]=$C$3,TRUE))/(IF($C$4<>\"\",Table2[OFF/ON]=$C$4,TRUE))/(IF($C$5<>\"\",Table2[Status]=$C$5,TRUE))/(IF($C$6<>\"\",Table2[FPPDate]=$C$6,TRUE))/(IF($C$7<>\"\",Table2[ProposalCode]=$C$7,TRUE)),ROW(E229))),\"\")","v":""},{"$f":"IFERROR(INDEX(Table2[PeriodeEnd],_xlfn.AGGREGATE(15,6,(ROW(Table2[FPPGroupCode])-2)/(Table2[DepoName]=$C$2)/(IF($C$3<>\"\",Table2[BULAN]=$C$3,TRUE))/(IF($C$4<>\"\",Table2[OFF/ON]=$C$4,TRUE))/(IF($C$5<>\"\",Table2[Status]=$C$5,TRUE))/(IF($C$6<>\"\",Table2[FPPDate]=$C$6,TRUE))/(IF($C$7<>\"\",Table2[ProposalCode]=$C$7,TRUE)),ROW(F229))),\"\")","v":""},{"$f":"IFERROR(INDEX(Table2[Amount_FPPDepo],_xlfn.AGGREGATE(15,6,(ROW(Table2[FPPGroupCode])-2)/(Table2[DepoName]=$C$2)/(IF($C$3<>\"\",Table2[BULAN]=$C$3,TRUE))/(IF($C$4<>\"\",Table2[OFF/ON]=$C$4,TRUE))/(IF($C$5<>\"\",Table2[Status]=$C$5,TRUE))/(IF($C$6<>\"\",Table2[FPPDate]=$C$6,TRUE))/(IF($C$7<>\"\",Table2[ProposalCode]=$C$7,TRUE)),ROW(G229))),\"\")","v":""},{"$f":"IFERROR(VLOOKUP($B237,SIP!$D$5776:$P$6032,12,0),0)","v":0},{"$f":"IFERROR(H237-I237,0)","v":0},{"$f":"IFERROR(VLOOKUP($B237,SIP!$D$5776:$P$6032,8,0),0)","v":0},{"$f":"IFERROR(INDEX(Table2[OFF/ON],_xlfn.AGGREGATE(15,6,(ROW(Table2[FPPGroupCode])-2)/(Table2[DepoName]=$C$2)/(IF($C$3<>\"\",Table2[BULAN]=$C$3,TRUE))/(IF($C$4<>\"\",Table2[OFF/ON]=$C$4,TRUE))/(IF($C$5<>\"\",Table2[Status]=$C$5,TRUE))/(IF($C$6<>\"\",Table2[FPPDate]=$C$6,TRUE))/(IF($C$7<>\"\",Table2[ProposalCode]=$C$7,TRUE)),ROW(K229))),\"\")","v":""}]
[{"$f":"IF(LEN($B238),ROW(A230),\"\")","v":""},{"$f":"IFERROR(INDEX(Table2[FPPGroupCode],_xlfn.AGGREGATE(15,6,(ROW(Table2[FPPGroupCode])-2)/(Table2[DepoName]=$C$2)/(IF($C$3<>\"\",Table2[BULAN]=$C$3,TRUE))/(IF($C$4<>\"\",Table2[OFF/ON]=$C$4,TRUE))/(IF($C$5<>\"\",Table2[Status]=$C$5,TRUE))/(IF($C$6<>\"\",Table2[FPPDate]=$C$6,TRUE))/(IF($C$7<>\"\",Table2[ProposalCode]=$C$7,TRUE)),ROW(A230))),\"\")","v":""},{"$f":"IFERROR(VLOOKUP($B238,SIP!$D$3:$Q$12237,14,0),0)","v":0},{"$f":"IFERROR(INDEX(Table2[Activity],_xlfn.AGGREGATE(15,6,(ROW(Table2[FPPGroupCode])-2)/(Table2[DepoName]=$C$2)/(IF($C$3<>\"\",Table2[BULAN]=$C$3,TRUE))/(IF($C$4<>\"\",Table2[OFF/ON]=$C$4,TRUE))/(IF($C$5<>\"\",Table2[Status]=$C$5,TRUE))/(IF($C$6<>\"\",Table2[]=$C$6,TRUE))/(IF($C$7<>\"\",Table2[ProposalCode]=$C$7,TRUE)),ROW(B230))),\"\")","v":""},{"$f":"IFERROR(INDEX(Table2[Location],_xlfn.AGGREGATE(15,6,(ROW(Table2[FPPGroupCode])-2)/(Table2[DepoName]=$C$2)/(IF($C$3<>\"\",Table2[BULAN]=$C$3,TRUE))/(IF($C$4<>\"\",Table2[OFF/ON]=$C$4,TRUE))/(IF($C$5<>\"\",Table2[Status]=$C$5,TRUE))/(IF($C$6<>\"\",Table2[FPPDate]=$C$6,TRUE))/(IF($C$7<>\"\",Table2[ProposalCode]=$C$7,TRUE)),ROW(D230))),\"\")","v":""},{"$f":"IFERROR(INDEX(Table2[PeriodeStart],_xlfn.AGGREGATE(15,6,(ROW(Table2[FPPGroupCode])-2)/(Table2[DepoName]=$C$2)/(IF($C$3<>\"\",Table2[BULAN]=$C$3,TRUE))/(IF($C$4<>\"\",Table2[OFF/ON]=$C$4,TRUE))/(IF($C$5<>\"\",Table2[Status]=$C$5,TRUE))/(IF($C$6<>\"\",Table2[FPPDate]=$C$6,TRUE))/(IF($C$7<>\"\",Table2[ProposalCode]=$C$7,TRUE)),ROW(E230))),\"\")","v":""},{"$f":"IFERROR(INDEX(Table2[PeriodeEnd],_xlfn.AGGREGATE(15,6,(ROW(Table2[FPPGroupCode])-2)/(Table2[DepoName]=$C$2)/(IF($C$3<>\"\",Table2[BULAN]=$C$3,TRUE))/(IF($C$4<>\"\",Table2[OFF/ON]=$C$4,TRUE))/(IF($C$5<>\"\",Table2[Status]=$C$5,TRUE))/(IF($C$6<>\"\",Table2[FPPDate]=$C$6,TRUE))/(IF($C$7<>\"\",Table2[ProposalCode]=$C$7,TRUE)),ROW(F230))),\"\")","v":""},{"$f":"IFERROR(INDEX(Table2[Amount_FPPDepo],_xlfn.AGGREGATE(15,6,(ROW(Table2[FPPGroupCode])-2)/(Table2[DepoName]=$C$2)/(IF($C$3<>\"\",Table2[BULAN]=$C$3,TRUE))/(IF($C$4<>\"\",Table2[OFF/ON]=$C$4,TRUE))/(IF($C$5<>\"\",Table2[Status]=$C$5,TRUE))/(IF($C$6<>\"\",Table2[FPPDate]=$C$6,TRUE))/(IF($C$7<>\"\",Table2[ProposalCode]=$C$7,TRUE)),ROW(G230))),\"\")","v":""},{"$f":"IFERROR(VLOOKUP($B238,SIP!$D$5776:$P$6032,12,0),0)","v":0},{"$f":"IFERROR(H238-I238,0)","v":0},{"$f":"IFERROR(VLOOKUP($B238,SIP!$D$5776:$P$6032,8,0),0)","v":0},{"$f":"IFERROR(INDEX(Table2[OFF/ON],_xlfn.AGGREGATE(15,6,(ROW(Table2[FPPGroupCode])-2)/(Table2[DepoName]=$C$2)/(IF($C$3<>\"\",Table2[BULAN]=$C$3,TRUE))/(IF($C$4<>\"\",Table2[OFF/ON]=$C$4,TRUE))/(IF($C$5<>\"\",Table2[Status]=$C$5,TRUE))/(IF($C$6<>\"\",Table2[FPPDate]=$C$6,TRUE))/(IF($C$7<>\"\",Table2[ProposalCode]=$C$7,TRUE)),ROW(K230))),\"\")","v":""}]
[{"$f":"IF(LEN($B239),ROW(A231),\"\")","v":""},{"$f":"IFERROR(INDEX(Table2[FPPGroupCode],_xlfn.AGGREGATE(15,6,(ROW(Table2[FPPGroupCode])-2)/(Table2[DepoName]=$C$2)/(IF($C$3<>\"\",Table2[BULAN]=$C$3,TRUE))/(IF($C$4<>\"\",Table2[OFF/ON]=$C$4,TRUE))/(IF($C$5<>\"\",Table2[Status]=$C$5,TRUE))/(IF($C$6<>\"\",Table2[FPPDate]=$C$6,TRUE))/(IF($C$7<>\"\",Table2[ProposalCode]=$C$7,TRUE)),ROW(A231))),\"\")","v":""},{"$f":"IFERROR(VLOOKUP($B239,SIP!$D$3:$Q$12237,14,0),0)","v":0},{"$f":"IFERROR(INDEX(Table2[Activity],_xlfn.AGGREGATE(15,6,(ROW(Table2[FPPGroupCode])-2)/(Table2[DepoName]=$C$2)/(IF($C$3<>\"\",Table2[BULAN]=$C$3,TRUE))/(IF($C$4<>\"\",Table2[OFF/ON]=$C$4,TRUE))/(IF($C$5<>\"\",Table2[Status]=$C$5,TRUE))/(IF($C$6<>\"\",Table2[]=$C$6,TRUE))/(IF($C$7<>\"\",Table2[ProposalCode]=$C$7,TRUE)),ROW(B231))),\"\")","v":""},{"$f":"IFERROR(INDEX(Table2[Location],_xlfn.AGGREGATE(15,6,(ROW(Table2[FPPGroupCode])-2)/(Table2[DepoName]=$C$2)/(IF($C$3<>\"\",Table2[BULAN]=$C$3,TRUE))/(IF($C$4<>\"\",Table2[OFF/ON]=$C$4,TRUE))/(IF($C$5<>\"\",Table2[Status]=$C$5,TRUE))/(IF($C$6<>\"\",Table2[FPPDate]=$C$6,TRUE))/(IF($C$7<>\"\",Table2[ProposalCode]=$C$7,TRUE)),ROW(D231))),\"\")","v":""},{"$f":"IFERROR(INDEX(Table2[PeriodeStart],_xlfn.AGGREGATE(15,6,(ROW(Table2[FPPGroupCode])-2)/(Table2[DepoName]=$C$2)/(IF($C$3<>\"\",Table2[BULAN]=$C$3,TRUE))/(IF($C$4<>\"\",Table2[OFF/ON]=$C$4,TRUE))/(IF($C$5<>\"\",Table2[Status]=$C$5,TRUE))/(IF($C$6<>\"\",Table2[FPPDate]=$C$6,TRUE))/(IF($C$7<>\"\",Table2[ProposalCode]=$C$7,TRUE)),ROW(E231))),\"\")","v":""},{"$f":"IFERROR(INDEX(Table2[PeriodeEnd],_xlfn.AGGREGATE(15,6,(ROW(Table2[FPPGroupCode])-2)/(Table2[DepoName]=$C$2)/(IF($C$3<>\"\",Table2[BULAN]=$C$3,TRUE))/(IF($C$4<>\"\",Table2[OFF/ON]=$C$4,TRUE))/(IF($C$5<>\"\",Table2[Status]=$C$5,TRUE))/(IF($C$6<>\"\",Table2[FPPDate]=$C$6,TRUE))/(IF($C$7<>\"\",Table2[ProposalCode]=$C$7,TRUE)),ROW(F231))),\"\")","v":""},{"$f":"IFERROR(INDEX(Table2[Amount_FPPDepo],_xlfn.AGGREGATE(15,6,(ROW(Table2[FPPGroupCode])-2)/(Table2[DepoName]=$C$2)/(IF($C$3<>\"\",Table2[BULAN]=$C$3,TRUE))/(IF($C$4<>\"\",Table2[OFF/ON]=$C$4,TRUE))/(IF($C$5<>\"\",Table2[Status]=$C$5,TRUE))/(IF($C$6<>\"\",Table2[FPPDate]=$C$6,TRUE))/(IF($C$7<>\"\",Table2[ProposalCode]=$C$7,TRUE)),ROW(G231))),\"\")","v":""},{"$f":"IFERROR(VLOOKUP($B239,SIP!$D$5776:$P$6032,12,0),0)","v":0},{"$f":"IFERROR(H239-I239,0)","v":0},{"$f":"IFERROR(VLOOKUP($B239,SIP!$D$5776:$P$6032,8,0),0)","v":0},{"$f":"IFERROR(INDEX(Table2[OFF/ON],_xlfn.AGGREGATE(15,6,(ROW(Table2[FPPGroupCode])-2)/(Table2[DepoName]=$C$2)/(IF($C$3<>\"\",Table2[BULAN]=$C$3,TRUE))/(IF($C$4<>\"\",Table2[OFF/ON]=$C$4,TRUE))/(IF($C$5<>\"\",Table2[Status]=$C$5,TRUE))/(IF($C$6<>\"\",Table2[FPPDate]=$C$6,TRUE))/(IF($C$7<>\"\",Table2[ProposalCode]=$C$7,TRUE)),ROW(K231))),\"\")","v":""}]
[{"$f":"IF(LEN($B240),ROW(A232),\"\")","v":""},{"$f":"IFERROR(INDEX(Table2[FPPGroupCode],_xlfn.AGGREGATE(15,6,(ROW(Table2[FPPGroupCode])-2)/(Table2[DepoName]=$C$2)/(IF($C$3<>\"\",Table2[BULAN]=$C$3,TRUE))/(IF($C$4<>\"\",Table2[OFF/ON]=$C$4,TRUE))/(IF($C$5<>\"\",Table2[Status]=$C$5,TRUE))/(IF($C$6<>\"\",Table2[FPPDate]=$C$6,TRUE))/(IF($C$7<>\"\",Table2[ProposalCode]=$C$7,TRUE)),ROW(A232))),\"\")","v":""},{"$f":"IFERROR(VLOOKUP($B240,SIP!$D$3:$Q$12237,14,0),0)","v":0},{"$f":"IFERROR(INDEX(Table2[Activity],_xlfn.AGGREGATE(15,6,(ROW(Table2[FPPGroupCode])-2)/(Table2[DepoName]=$C$2)/(IF($C$3<>\"\",Table2[BULAN]=$C$3,TRUE))/(IF($C$4<>\"\",Table2[OFF/ON]=$C$4,TRUE))/(IF($C$5<>\"\",Table2[Status]=$C$5,TRUE))/(IF($C$6<>\"\",Table2[]=$C$6,TRUE))/(IF($C$7<>\"\",Table2[ProposalCode]=$C$7,TRUE)),ROW(B232))),\"\")","v":""},{"$f":"IFERROR(INDEX(Table2[Location],_xlfn.AGGREGATE(15,6,(ROW(Table2[FPPGroupCode])-2)/(Table2[DepoName]=$C$2)/(IF($C$3<>\"\",Table2[BULAN]=$C$3,TRUE))/(IF($C$4<>\"\",Table2[OFF/ON]=$C$4,TRUE))/(IF($C$5<>\"\",Table2[Status]=$C$5,TRUE))/(IF($C$6<>\"\",Table2[FPPDate]=$C$6,TRUE))/(IF($C$7<>\"\",Table2[ProposalCode]=$C$7,TRUE)),ROW(D232))),\"\")","v":""},{"$f":"IFERROR(INDEX(Table2[PeriodeStart],_xlfn.AGGREGATE(15,6,(ROW(Table2[FPPGroupCode])-2)/(Table2[DepoName]=$C$2)/(IF($C$3<>\"\",Table2[BULAN]=$C$3,TRUE))/(IF($C$4<>\"\",Table2[OFF/ON]=$C$4,TRUE))/(IF($C$5<>\"\",Table2[Status]=$C$5,TRUE))/(IF($C$6<>\"\",Table2[FPPDate]=$C$6,TRUE))/(IF($C$7<>\"\",Table2[ProposalCode]=$C$7,TRUE)),ROW(E232))),\"\")","v":""},{"$f":"IFERROR(INDEX(Table2[PeriodeEnd],_xlfn.AGGREGATE(15,6,(ROW(Table2[FPPGroupCode])-2)/(Table2[DepoName]=$C$2)/(IF($C$3<>\"\",Table2[BULAN]=$C$3,TRUE))/(IF($C$4<>\"\",Table2[OFF/ON]=$C$4,TRUE))/(IF($C$5<>\"\",Table2[Status]=$C$5,TRUE))/(IF($C$6<>\"\",Table2[FPPDate]=$C$6,TRUE))/(IF($C$7<>\"\",Table2[ProposalCode]=$C$7,TRUE)),ROW(F232))),\"\")","v":""},{"$f":"IFERROR(INDEX(Table2[Amount_FPPDepo],_xlfn.AGGREGATE(15,6,(ROW(Table2[FPPGroupCode])-2)/(Table2[DepoName]=$C$2)/(IF($C$3<>\"\",Table2[BULAN]=$C$3,TRUE))/(IF($C$4<>\"\",Table2[OFF/ON]=$C$4,TRUE))/(IF($C$5<>\"\",Table2[Status]=$C$5,TRUE))/(IF($C$6<>\"\",Table2[FPPDate]=$C$6,TRUE))/(IF($C$7<>\"\",Table2[ProposalCode]=$C$7,TRUE)),ROW(G232))),\"\")","v":""},{"$f":"IFERROR(VLOOKUP($B240,SIP!$D$5776:$P$6032,12,0),0)","v":0},{"$f":"IFERROR(H240-I240,0)","v":0},{"$f":"IFERROR(VLOOKUP($B240,SIP!$D$5776:$P$6032,8,0),0)","v":0},{"$f":"IFERROR(INDEX(Table2[OFF/ON],_xlfn.AGGREGATE(15,6,(ROW(Table2[FPPGroupCode])-2)/(Table2[DepoName]=$C$2)/(IF($C$3<>\"\",Table2[BULAN]=$C$3,TRUE))/(IF($C$4<>\"\",Table2[OFF/ON]=$C$4,TRUE))/(IF($C$5<>\"\",Table2[Status]=$C$5,TRUE))/(IF($C$6<>\"\",Table2[FPPDate]=$C$6,TRUE))/(IF($C$7<>\"\",Table2[ProposalCode]=$C$7,TRUE)),ROW(K232))),\"\")","v":""}]
[{"$f":"IF(LEN($B241),ROW(A233),\"\")","v":""},{"$f":"IFERROR(INDEX(Table2[FPPGroupCode],_xlfn.AGGREGATE(15,6,(ROW(Table2[FPPGroupCode])-2)/(Table2[DepoName]=$C$2)/(IF($C$3<>\"\",Table2[BULAN]=$C$3,TRUE))/(IF($C$4<>\"\",Table2[OFF/ON]=$C$4,TRUE))/(IF($C$5<>\"\",Table2[Status]=$C$5,TRUE))/(IF($C$6<>\"\",Table2[FPPDate]=$C$6,TRUE))/(IF($C$7<>\"\",Table2[ProposalCode]=$C$7,TRUE)),ROW(A233))),\"\")","v":""},{"$f":"IFERROR(VLOOKUP($B241,SIP!$D$3:$Q$12237,14,0),0)","v":0},{"$f":"IFERROR(INDEX(Table2[Activity],_xlfn.AGGREGATE(15,6,(ROW(Table2[FPPGroupCode])-2)/(Table2[DepoName]=$C$2)/(IF($C$3<>\"\",Table2[BULAN]=$C$3,TRUE))/(IF($C$4<>\"\",Table2[OFF/ON]=$C$4,TRUE))/(IF($C$5<>\"\",Table2[Status]=$C$5,TRUE))/(IF($C$6<>\"\",Table2[]=$C$6,TRUE))/(IF($C$7<>\"\",Table2[ProposalCode]=$C$7,TRUE)),ROW(B233))),\"\")","v":""},{"$f":"IFERROR(INDEX(Table2[Location],_xlfn.AGGREGATE(15,6,(ROW(Table2[FPPGroupCode])-2)/(Table2[DepoName]=$C$2)/(IF($C$3<>\"\",Table2[BULAN]=$C$3,TRUE))/(IF($C$4<>\"\",Table2[OFF/ON]=$C$4,TRUE))/(IF($C$5<>\"\",Table2[Status]=$C$5,TRUE))/(IF($C$6<>\"\",Table2[FPPDate]=$C$6,TRUE))/(IF($C$7<>\"\",Table2[ProposalCode]=$C$7,TRUE)),ROW(D233))),\"\")","v":""},{"$f":"IFERROR(INDEX(Table2[PeriodeStart],_xlfn.AGGREGATE(15,6,(ROW(Table2[FPPGroupCode])-2)/(Table2[DepoName]=$C$2)/(IF($C$3<>\"\",Table2[BULAN]=$C$3,TRUE))/(IF($C$4<>\"\",Table2[OFF/ON]=$C$4,TRUE))/(IF($C$5<>\"\",Table2[Status]=$C$5,TRUE))/(IF($C$6<>\"\",Table2[FPPDate]=$C$6,TRUE))/(IF($C$7<>\"\",Table2[ProposalCode]=$C$7,TRUE)),ROW(E233))),\"\")","v":""},{"$f":"IFERROR(INDEX(Table2[PeriodeEnd],_xlfn.AGGREGATE(15,6,(ROW(Table2[FPPGroupCode])-2)/(Table2[DepoName]=$C$2)/(IF($C$3<>\"\",Table2[BULAN]=$C$3,TRUE))/(IF($C$4<>\"\",Table2[OFF/ON]=$C$4,TRUE))/(IF($C$5<>\"\",Table2[Status]=$C$5,TRUE))/(IF($C$6<>\"\",Table2[FPPDate]=$C$6,TRUE))/(IF($C$7<>\"\",Table2[ProposalCode]=$C$7,TRUE)),ROW(F233))),\"\")","v":""},{"$f":"IFERROR(INDEX(Table2[Amount_FPPDepo],_xlfn.AGGREGATE(15,6,(ROW(Table2[FPPGroupCode])-2)/(Table2[DepoName]=$C$2)/(IF($C$3<>\"\",Table2[BULAN]=$C$3,TRUE))/(IF($C$4<>\"\",Table2[OFF/ON]=$C$4,TRUE))/(IF($C$5<>\"\",Table2[Status]=$C$5,TRUE))/(IF($C$6<>\"\",Table2[FPPDate]=$C$6,TRUE))/(IF($C$7<>\"\",Table2[ProposalCode]=$C$7,TRUE)),ROW(G233))),\"\")","v":""},{"$f":"IFERROR(VLOOKUP($B241,SIP!$D$5776:$P$6032,12,0),0)","v":0},{"$f":"IFERROR(H241-I241,0)","v":0},{"$f":"IFERROR(VLOOKUP($B241,SIP!$D$5776:$P$6032,8,0),0)","v":0},{"$f":"IFERROR(INDEX(Table2[OFF/ON],_xlfn.AGGREGATE(15,6,(ROW(Table2[FPPGroupCode])-2)/(Table2[DepoName]=$C$2)/(IF($C$3<>\"\",Table2[BULAN]=$C$3,TRUE))/(IF($C$4<>\"\",Table2[OFF/ON]=$C$4,TRUE))/(IF($C$5<>\"\",Table2[Status]=$C$5,TRUE))/(IF($C$6<>\"\",Table2[FPPDate]=$C$6,TRUE))/(IF($C$7<>\"\",Table2[ProposalCode]=$C$7,TRUE)),ROW(K233))),\"\")","v":""}]
[{"$f":"IF(LEN($B242),ROW(A234),\"\")","v":""},{"$f":"IFERROR(INDEX(Table2[FPPGroupCode],_xlfn.AGGREGATE(15,6,(ROW(Table2[FPPGroupCode])-2)/(Table2[DepoName]=$C$2)/(IF($C$3<>\"\",Table2[BULAN]=$C$3,TRUE))/(IF($C$4<>\"\",Table2[OFF/ON]=$C$4,TRUE))/(IF($C$5<>\"\",Table2[Status]=$C$5,TRUE))/(IF($C$6<>\"\",Table2[FPPDate]=$C$6,TRUE))/(IF($C$7<>\"\",Table2[ProposalCode]=$C$7,TRUE)),ROW(A234))),\"\")","v":""},{"$f":"IFERROR(VLOOKUP($B242,SIP!$D$3:$Q$12237,14,0),0)","v":0},{"$f":"IFERROR(INDEX(Table2[Activity],_xlfn.AGGREGATE(15,6,(ROW(Table2[FPPGroupCode])-2)/(Table2[DepoName]=$C$2)/(IF($C$3<>\"\",Table2[BULAN]=$C$3,TRUE))/(IF($C$4<>\"\",Table2[OFF/ON]=$C$4,TRUE))/(IF($C$5<>\"\",Table2[Status]=$C$5,TRUE))/(IF($C$6<>\"\",Table2[]=$C$6,TRUE))/(IF($C$7<>\"\",Table2[ProposalCode]=$C$7,TRUE)),ROW(B234))),\"\")","v":""},{"$f":"IFERROR(INDEX(Table2[Location],_xlfn.AGGREGATE(15,6,(ROW(Table2[FPPGroupCode])-2)/(Table2[DepoName]=$C$2)/(IF($C$3<>\"\",Table2[BULAN]=$C$3,TRUE))/(IF($C$4<>\"\",Table2[OFF/ON]=$C$4,TRUE))/(IF($C$5<>\"\",Table2[Status]=$C$5,TRUE))/(IF($C$6<>\"\",Table2[FPPDate]=$C$6,TRUE))/(IF($C$7<>\"\",Table2[ProposalCode]=$C$7,TRUE)),ROW(D234))),\"\")","v":""},{"$f":"IFERROR(INDEX(Table2[PeriodeStart],_xlfn.AGGREGATE(15,6,(ROW(Table2[FPPGroupCode])-2)/(Table2[DepoName]=$C$2)/(IF($C$3<>\"\",Table2[BULAN]=$C$3,TRUE))/(IF($C$4<>\"\",Table2[OFF/ON]=$C$4,TRUE))/(IF($C$5<>\"\",Table2[Status]=$C$5,TRUE))/(IF($C$6<>\"\",Table2[FPPDate]=$C$6,TRUE))/(IF($C$7<>\"\",Table2[ProposalCode]=$C$7,TRUE)),ROW(E234))),\"\")","v":""},{"$f":"IFERROR(INDEX(Table2[PeriodeEnd],_xlfn.AGGREGATE(15,6,(ROW(Table2[FPPGroupCode])-2)/(Table2[DepoName]=$C$2)/(IF($C$3<>\"\",Table2[BULAN]=$C$3,TRUE))/(IF($C$4<>\"\",Table2[OFF/ON]=$C$4,TRUE))/(IF($C$5<>\"\",Table2[Status]=$C$5,TRUE))/(IF($C$6<>\"\",Table2[FPPDate]=$C$6,TRUE))/(IF($C$7<>\"\",Table2[ProposalCode]=$C$7,TRUE)),ROW(F234))),\"\")","v":""},{"$f":"IFERROR(INDEX(Table2[Amount_FPPDepo],_xlfn.AGGREGATE(15,6,(ROW(Table2[FPPGroupCode])-2)/(Table2[DepoName]=$C$2)/(IF($C$3<>\"\",Table2[BULAN]=$C$3,TRUE))/(IF($C$4<>\"\",Table2[OFF/ON]=$C$4,TRUE))/(IF($C$5<>\"\",Table2[Status]=$C$5,TRUE))/(IF($C$6<>\"\",Table2[FPPDate]=$C$6,TRUE))/(IF($C$7<>\"\",Table2[ProposalCode]=$C$7,TRUE)),ROW(G234))),\"\")","v":""},{"$f":"IFERROR(VLOOKUP($B242,SIP!$D$5776:$P$6032,12,0),0)","v":0},{"$f":"IFERROR(H242-I242,0)","v":0},{"$f":"IFERROR(VLOOKUP($B242,SIP!$D$5776:$P$6032,8,0),0)","v":0},{"$f":"IFERROR(INDEX(Table2[OFF/ON],_xlfn.AGGREGATE(15,6,(ROW(Table2[FPPGroupCode])-2)/(Table2[DepoName]=$C$2)/(IF($C$3<>\"\",Table2[BULAN]=$C$3,TRUE))/(IF($C$4<>\"\",Table2[OFF/ON]=$C$4,TRUE))/(IF($C$5<>\"\",Table2[Status]=$C$5,TRUE))/(IF($C$6<>\"\",Table2[FPPDate]=$C$6,TRUE))/(IF($C$7<>\"\",Table2[ProposalCode]=$C$7,TRUE)),ROW(K234))),\"\")","v":""}]
[{"$f":"IF(LEN($B243),ROW(A235),\"\")","v":""},{"$f":"IFERROR(INDEX(Table2[FPPGroupCode],_xlfn.AGGREGATE(15,6,(ROW(Table2[FPPGroupCode])-2)/(Table2[DepoName]=$C$2)/(IF($C$3<>\"\",Table2[BULAN]=$C$3,TRUE))/(IF($C$4<>\"\",Table2[OFF/ON]=$C$4,TRUE))/(IF($C$5<>\"\",Table2[Status]=$C$5,TRUE))/(IF($C$6<>\"\",Table2[FPPDate]=$C$6,TRUE))/(IF($C$7<>\"\",Table2[ProposalCode]=$C$7,TRUE)),ROW(A235))),\"\")","v":""},{"$f":"IFERROR(VLOOKUP($B243,SIP!$D$3:$Q$12237,14,0),0)","v":0},{"$f":"IFERROR(INDEX(Table2[Activity],_xlfn.AGGREGATE(15,6,(ROW(Table2[FPPGroupCode])-2)/(Table2[DepoName]=$C$2)/(IF($C$3<>\"\",Table2[BULAN]=$C$3,TRUE))/(IF($C$4<>\"\",Table2[OFF/ON]=$C$4,TRUE))/(IF($C$5<>\"\",Table2[Status]=$C$5,TRUE))/(IF($C$6<>\"\",Table2[]=$C$6,TRUE))/(IF($C$7<>\"\",Table2[ProposalCode]=$C$7,TRUE)),ROW(B235))),\"\")","v":""},{"$f":"IFERROR(INDEX(Table2[Location],_xlfn.AGGREGATE(15,6,(ROW(Table2[FPPGroupCode])-2)/(Table2[DepoName]=$C$2)/(IF($C$3<>\"\",Table2[BULAN]=$C$3,TRUE))/(IF($C$4<>\"\",Table2[OFF/ON]=$C$4,TRUE))/(IF($C$5<>\"\",Table2[Status]=$C$5,TRUE))/(IF($C$6<>\"\",Table2[FPPDate]=$C$6,TRUE))/(IF($C$7<>\"\",Table2[ProposalCode]=$C$7,TRUE)),ROW(D235))),\"\")","v":""},{"$f":"IFERROR(INDEX(Table2[PeriodeStart],_xlfn.AGGREGATE(15,6,(ROW(Table2[FPPGroupCode])-2)/(Table2[DepoName]=$C$2)/(IF($C$3<>\"\",Table2[BULAN]=$C$3,TRUE))/(IF($C$4<>\"\",Table2[OFF/ON]=$C$4,TRUE))/(IF($C$5<>\"\",Table2[Status]=$C$5,TRUE))/(IF($C$6<>\"\",Table2[FPPDate]=$C$6,TRUE))/(IF($C$7<>\"\",Table2[ProposalCode]=$C$7,TRUE)),ROW(E235))),\"\")","v":""},{"$f":"IFERROR(INDEX(Table2[PeriodeEnd],_xlfn.AGGREGATE(15,6,(ROW(Table2[FPPGroupCode])-2)/(Table2[DepoName]=$C$2)/(IF($C$3<>\"\",Table2[BULAN]=$C$3,TRUE))/(IF($C$4<>\"\",Table2[OFF/ON]=$C$4,TRUE))/(IF($C$5<>\"\",Table2[Status]=$C$5,TRUE))/(IF($C$6<>\"\",Table2[FPPDate]=$C$6,TRUE))/(IF($C$7<>\"\",Table2[ProposalCode]=$C$7,TRUE)),ROW(F235))),\"\")","v":""},{"$f":"IFERROR(INDEX(Table2[Amount_FPPDepo],_xlfn.AGGREGATE(15,6,(ROW(Table2[FPPGroupCode])-2)/(Table2[DepoName]=$C$2)/(IF($C$3<>\"\",Table2[BULAN]=$C$3,TRUE))/(IF($C$4<>\"\",Table2[OFF/ON]=$C$4,TRUE))/(IF($C$5<>\"\",Table2[Status]=$C$5,TRUE))/(IF($C$6<>\"\",Table2[FPPDate]=$C$6,TRUE))/(IF($C$7<>\"\",Table2[ProposalCode]=$C$7,TRUE)),ROW(G235))),\"\")","v":""},{"$f":"IFERROR(VLOOKUP($B243,SIP!$D$5776:$P$6032,12,0),0)","v":0},{"$f":"IFERROR(H243-I243,0)","v":0},{"$f":"IFERROR(VLOOKUP($B243,SIP!$D$5776:$P$6032,8,0),0)","v":0},{"$f":"IFERROR(INDEX(Table2[OFF/ON],_xlfn.AGGREGATE(15,6,(ROW(Table2[FPPGroupCode])-2)/(Table2[DepoName]=$C$2)/(IF($C$3<>\"\",Table2[BULAN]=$C$3,TRUE))/(IF($C$4<>\"\",Table2[OFF/ON]=$C$4,TRUE))/(IF($C$5<>\"\",Table2[Status]=$C$5,TRUE))/(IF($C$6<>\"\",Table2[FPPDate]=$C$6,TRUE))/(IF($C$7<>\"\",Table2[ProposalCode]=$C$7,TRUE)),ROW(K235))),\"\")","v":""}]
[{"$f":"IF(LEN($B244),ROW(A236),\"\")","v":""},{"$f":"IFERROR(INDEX(Table2[FPPGroupCode],_xlfn.AGGREGATE(15,6,(ROW(Table2[FPPGroupCode])-2)/(Table2[DepoName]=$C$2)/(IF($C$3<>\"\",Table2[BULAN]=$C$3,TRUE))/(IF($C$4<>\"\",Table2[OFF/ON]=$C$4,TRUE))/(IF($C$5<>\"\",Table2[Status]=$C$5,TRUE))/(IF($C$6<>\"\",Table2[FPPDate]=$C$6,TRUE))/(IF($C$7<>\"\",Table2[ProposalCode]=$C$7,TRUE)),ROW(A236))),\"\")","v":""},{"$f":"IFERROR(VLOOKUP($B244,SIP!$D$3:$Q$12237,14,0),0)","v":0},{"$f":"IFERROR(INDEX(Table2[Activity],_xlfn.AGGREGATE(15,6,(ROW(Table2[FPPGroupCode])-2)/(Table2[DepoName]=$C$2)/(IF($C$3<>\"\",Table2[BULAN]=$C$3,TRUE))/(IF($C$4<>\"\",Table2[OFF/ON]=$C$4,TRUE))/(IF($C$5<>\"\",Table2[Status]=$C$5,TRUE))/(IF($C$6<>\"\",Table2[]=$C$6,TRUE))/(IF($C$7<>\"\",Table2[ProposalCode]=$C$7,TRUE)),ROW(B236))),\"\")","v":""},{"$f":"IFERROR(INDEX(Table2[Location],_xlfn.AGGREGATE(15,6,(ROW(Table2[FPPGroupCode])-2)/(Table2[DepoName]=$C$2)/(IF($C$3<>\"\",Table2[BULAN]=$C$3,TRUE))/(IF($C$4<>\"\",Table2[OFF/ON]=$C$4,TRUE))/(IF($C$5<>\"\",Table2[Status]=$C$5,TRUE))/(IF($C$6<>\"\",Table2[FPPDate]=$C$6,TRUE))/(IF($C$7<>\"\",Table2[ProposalCode]=$C$7,TRUE)),ROW(D236))),\"\")","v":""},{"$f":"IFERROR(INDEX(Table2[PeriodeStart],_xlfn.AGGREGATE(15,6,(ROW(Table2[FPPGroupCode])-2)/(Table2[DepoName]=$C$2)/(IF($C$3<>\"\",Table2[BULAN]=$C$3,TRUE))/(IF($C$4<>\"\",Table2[OFF/ON]=$C$4,TRUE))/(IF($C$5<>\"\",Table2[Status]=$C$5,TRUE))/(IF($C$6<>\"\",Table2[FPPDate]=$C$6,TRUE))/(IF($C$7<>\"\",Table2[ProposalCode]=$C$7,TRUE)),ROW(E236))),\"\")","v":""},{"$f":"IFERROR(INDEX(Table2[PeriodeEnd],_xlfn.AGGREGATE(15,6,(ROW(Table2[FPPGroupCode])-2)/(Table2[DepoName]=$C$2)/(IF($C$3<>\"\",Table2[BULAN]=$C$3,TRUE))/(IF($C$4<>\"\",Table2[OFF/ON]=$C$4,TRUE))/(IF($C$5<>\"\",Table2[Status]=$C$5,TRUE))/(IF($C$6<>\"\",Table2[FPPDate]=$C$6,TRUE))/(IF($C$7<>\"\",Table2[ProposalCode]=$C$7,TRUE)),ROW(F236))),\"\")","v":""},{"$f":"IFERROR(INDEX(Table2[Amount_FPPDepo],_xlfn.AGGREGATE(15,6,(ROW(Table2[FPPGroupCode])-2)/(Table2[DepoName]=$C$2)/(IF($C$3<>\"\",Table2[BULAN]=$C$3,TRUE))/(IF($C$4<>\"\",Table2[OFF/ON]=$C$4,TRUE))/(IF($C$5<>\"\",Table2[Status]=$C$5,TRUE))/(IF($C$6<>\"\",Table2[FPPDate]=$C$6,TRUE))/(IF($C$7<>\"\",Table2[ProposalCode]=$C$7,TRUE)),ROW(G236))),\"\")","v":""},{"$f":"IFERROR(VLOOKUP($B244,SIP!$D$5776:$P$6032,12,0),0)","v":0},{"$f":"IFERROR(H244-I244,0)","v":0},{"$f":"IFERROR(VLOOKUP($B244,SIP!$D$5776:$P$6032,8,0),0)","v":0},{"$f":"IFERROR(INDEX(Table2[OFF/ON],_xlfn.AGGREGATE(15,6,(ROW(Table2[FPPGroupCode])-2)/(Table2[DepoName]=$C$2)/(IF($C$3<>\"\",Table2[BULAN]=$C$3,TRUE))/(IF($C$4<>\"\",Table2[OFF/ON]=$C$4,TRUE))/(IF($C$5<>\"\",Table2[Status]=$C$5,TRUE))/(IF($C$6<>\"\",Table2[FPPDate]=$C$6,TRUE))/(IF($C$7<>\"\",Table2[ProposalCode]=$C$7,TRUE)),ROW(K236))),\"\")","v":""}]
[{"$f":"IF(LEN($B245),ROW(A237),\"\")","v":""},{"$f":"IFERROR(INDEX(Table2[FPPGroupCode],_xlfn.AGGREGATE(15,6,(ROW(Table2[FPPGroupCode])-2)/(Table2[DepoName]=$C$2)/(IF($C$3<>\"\",Table2[BULAN]=$C$3,TRUE))/(IF($C$4<>\"\",Table2[OFF/ON]=$C$4,TRUE))/(IF($C$5<>\"\",Table2[Status]=$C$5,TRUE))/(IF($C$6<>\"\",Table2[FPPDate]=$C$6,TRUE))/(IF($C$7<>\"\",Table2[ProposalCode]=$C$7,TRUE)),ROW(A237))),\"\")","v":""},{"$f":"IFERROR(VLOOKUP($B245,SIP!$D$3:$Q$12237,14,0),0)","v":0},{"$f":"IFERROR(INDEX(Table2[Activity],_xlfn.AGGREGATE(15,6,(ROW(Table2[FPPGroupCode])-2)/(Table2[DepoName]=$C$2)/(IF($C$3<>\"\",Table2[BULAN]=$C$3,TRUE))/(IF($C$4<>\"\",Table2[OFF/ON]=$C$4,TRUE))/(IF($C$5<>\"\",Table2[Status]=$C$5,TRUE))/(IF($C$6<>\"\",Table2[]=$C$6,TRUE))/(IF($C$7<>\"\",Table2[ProposalCode]=$C$7,TRUE)),ROW(B237))),\"\")","v":""},{"$f":"IFERROR(INDEX(Table2[Location],_xlfn.AGGREGATE(15,6,(ROW(Table2[FPPGroupCode])-2)/(Table2[DepoName]=$C$2)/(IF($C$3<>\"\",Table2[BULAN]=$C$3,TRUE))/(IF($C$4<>\"\",Table2[OFF/ON]=$C$4,TRUE))/(IF($C$5<>\"\",Table2[Status]=$C$5,TRUE))/(IF($C$6<>\"\",Table2[FPPDate]=$C$6,TRUE))/(IF($C$7<>\"\",Table2[ProposalCode]=$C$7,TRUE)),ROW(D237))),\"\")","v":""},{"$f":"IFERROR(INDEX(Table2[PeriodeStart],_xlfn.AGGREGATE(15,6,(ROW(Table2[FPPGroupCode])-2)/(Table2[DepoName]=$C$2)/(IF($C$3<>\"\",Table2[BULAN]=$C$3,TRUE))/(IF($C$4<>\"\",Table2[OFF/ON]=$C$4,TRUE))/(IF($C$5<>\"\",Table2[Status]=$C$5,TRUE))/(IF($C$6<>\"\",Table2[FPPDate]=$C$6,TRUE))/(IF($C$7<>\"\",Table2[ProposalCode]=$C$7,TRUE)),ROW(E237))),\"\")","v":""},{"$f":"IFERROR(INDEX(Table2[PeriodeEnd],_xlfn.AGGREGATE(15,6,(ROW(Table2[FPPGroupCode])-2)/(Table2[DepoName]=$C$2)/(IF($C$3<>\"\",Table2[BULAN]=$C$3,TRUE))/(IF($C$4<>\"\",Table2[OFF/ON]=$C$4,TRUE))/(IF($C$5<>\"\",Table2[Status]=$C$5,TRUE))/(IF($C$6<>\"\",Table2[FPPDate]=$C$6,TRUE))/(IF($C$7<>\"\",Table2[ProposalCode]=$C$7,TRUE)),ROW(F237))),\"\")","v":""},{"$f":"IFERROR(INDEX(Table2[Amount_FPPDepo],_xlfn.AGGREGATE(15,6,(ROW(Table2[FPPGroupCode])-2)/(Table2[DepoName]=$C$2)/(IF($C$3<>\"\",Table2[BULAN]=$C$3,TRUE))/(IF($C$4<>\"\",Table2[OFF/ON]=$C$4,TRUE))/(IF($C$5<>\"\",Table2[Status]=$C$5,TRUE))/(IF($C$6<>\"\",Table2[FPPDate]=$C$6,TRUE))/(IF($C$7<>\"\",Table2[ProposalCode]=$C$7,TRUE)),ROW(G237))),\"\")","v":""},{"$f":"IFERROR(VLOOKUP($B245,SIP!$D$5776:$P$6032,12,0),0)","v":0},{"$f":"IFERROR(H245-I245,0)","v":0},{"$f":"IFERROR(VLOOKUP($B245,SIP!$D$5776:$P$6032,8,0),0)","v":0},{"$f":"IFERROR(INDEX(Table2[OFF/ON],_xlfn.AGGREGATE(15,6,(ROW(Table2[FPPGroupCode])-2)/(Table2[DepoName]=$C$2)/(IF($C$3<>\"\",Table2[BULAN]=$C$3,TRUE))/(IF($C$4<>\"\",Table2[OFF/ON]=$C$4,TRUE))/(IF($C$5<>\"\",Table2[Status]=$C$5,TRUE))/(IF($C$6<>\"\",Table2[FPPDate]=$C$6,TRUE))/(IF($C$7<>\"\",Table2[ProposalCode]=$C$7,TRUE)),ROW(K237))),\"\")","v":""}]
[{"$f":"IF(LEN($B246),ROW(A238),\"\")","v":""},{"$f":"IFERROR(INDEX(Table2[FPPGroupCode],_xlfn.AGGREGATE(15,6,(ROW(Table2[FPPGroupCode])-2)/(Table2[DepoName]=$C$2)/(IF($C$3<>\"\",Table2[BULAN]=$C$3,TRUE))/(IF($C$4<>\"\",Table2[OFF/ON]=$C$4,TRUE))/(IF($C$5<>\"\",Table2[Status]=$C$5,TRUE))/(IF($C$6<>\"\",Table2[FPPDate]=$C$6,TRUE))/(IF($C$7<>\"\",Table2[ProposalCode]=$C$7,TRUE)),ROW(A238))),\"\")","v":""},{"$f":"IFERROR(VLOOKUP($B246,SIP!$D$3:$Q$12237,14,0),0)","v":0},{"$f":"IFERROR(INDEX(Table2[Activity],_xlfn.AGGREGATE(15,6,(ROW(Table2[FPPGroupCode])-2)/(Table2[DepoName]=$C$2)/(IF($C$3<>\"\",Table2[BULAN]=$C$3,TRUE))/(IF($C$4<>\"\",Table2[OFF/ON]=$C$4,TRUE))/(IF($C$5<>\"\",Table2[Status]=$C$5,TRUE))/(IF($C$6<>\"\",Table2[]=$C$6,TRUE))/(IF($C$7<>\"\",Table2[ProposalCode]=$C$7,TRUE)),ROW(B238))),\"\")","v":""},{"$f":"IFERROR(INDEX(Table2[Location],_xlfn.AGGREGATE(15,6,(ROW(Table2[FPPGroupCode])-2)/(Table2[DepoName]=$C$2)/(IF($C$3<>\"\",Table2[BULAN]=$C$3,TRUE))/(IF($C$4<>\"\",Table2[OFF/ON]=$C$4,TRUE))/(IF($C$5<>\"\",Table2[Status]=$C$5,TRUE))/(IF($C$6<>\"\",Table2[FPPDate]=$C$6,TRUE))/(IF($C$7<>\"\",Table2[ProposalCode]=$C$7,TRUE)),ROW(D238))),\"\")","v":""},{"$f":"IFERROR(INDEX(Table2[PeriodeStart],_xlfn.AGGREGATE(15,6,(ROW(Table2[FPPGroupCode])-2)/(Table2[DepoName]=$C$2)/(IF($C$3<>\"\",Table2[BULAN]=$C$3,TRUE))/(IF($C$4<>\"\",Table2[OFF/ON]=$C$4,TRUE))/(IF($C$5<>\"\",Table2[Status]=$C$5,TRUE))/(IF($C$6<>\"\",Table2[FPPDate]=$C$6,TRUE))/(IF($C$7<>\"\",Table2[ProposalCode]=$C$7,TRUE)),ROW(E238))),\"\")","v":""},{"$f":"IFERROR(INDEX(Table2[PeriodeEnd],_xlfn.AGGREGATE(15,6,(ROW(Table2[FPPGroupCode])-2)/(Table2[DepoName]=$C$2)/(IF($C$3<>\"\",Table2[BULAN]=$C$3,TRUE))/(IF($C$4<>\"\",Table2[OFF/ON]=$C$4,TRUE))/(IF($C$5<>\"\",Table2[Status]=$C$5,TRUE))/(IF($C$6<>\"\",Table2[FPPDate]=$C$6,TRUE))/(IF($C$7<>\"\",Table2[ProposalCode]=$C$7,TRUE)),ROW(F238))),\"\")","v":""},{"$f":"IFERROR(INDEX(Table2[Amount_FPPDepo],_xlfn.AGGREGATE(15,6,(ROW(Table2[FPPGroupCode])-2)/(Table2[DepoName]=$C$2)/(IF($C$3<>\"\",Table2[BULAN]=$C$3,TRUE))/(IF($C$4<>\"\",Table2[OFF/ON]=$C$4,TRUE))/(IF($C$5<>\"\",Table2[Status]=$C$5,TRUE))/(IF($C$6<>\"\",Table2[FPPDate]=$C$6,TRUE))/(IF($C$7<>\"\",Table2[ProposalCode]=$C$7,TRUE)),ROW(G238))),\"\")","v":""},{"$f":"IFERROR(VLOOKUP($B246,SIP!$D$5776:$P$6032,12,0),0)","v":0},{"$f":"IFERROR(H246-I246,0)","v":0},{"$f":"IFERROR(VLOOKUP($B246,SIP!$D$5776:$P$6032,8,0),0)","v":0},{"$f":"IFERROR(INDEX(Table2[OFF/ON],_xlfn.AGGREGATE(15,6,(ROW(Table2[FPPGroupCode])-2)/(Table2[DepoName]=$C$2)/(IF($C$3<>\"\",Table2[BULAN]=$C$3,TRUE))/(IF($C$4<>\"\",Table2[OFF/ON]=$C$4,TRUE))/(IF($C$5<>\"\",Table2[Status]=$C$5,TRUE))/(IF($C$6<>\"\",Table2[FPPDate]=$C$6,TRUE))/(IF($C$7<>\"\",Table2[ProposalCode]=$C$7,TRUE)),ROW(K238))),\"\")","v":""}]
[{"$f":"IF(LEN($B247),ROW(A239),\"\")","v":""},{"$f":"IFERROR(INDEX(Table2[FPPGroupCode],_xlfn.AGGREGATE(15,6,(ROW(Table2[FPPGroupCode])-2)/(Table2[DepoName]=$C$2)/(IF($C$3<>\"\",Table2[BULAN]=$C$3,TRUE))/(IF($C$4<>\"\",Table2[OFF/ON]=$C$4,TRUE))/(IF($C$5<>\"\",Table2[Status]=$C$5,TRUE))/(IF($C$6<>\"\",Table2[FPPDate]=$C$6,TRUE))/(IF($C$7<>\"\",Table2[ProposalCode]=$C$7,TRUE)),ROW(A239))),\"\")","v":""},{"$f":"IFERROR(VLOOKUP($B247,SIP!$D$3:$Q$12237,14,0),0)","v":0},{"$f":"IFERROR(INDEX(Table2[Activity],_xlfn.AGGREGATE(15,6,(ROW(Table2[FPPGroupCode])-2)/(Table2[DepoName]=$C$2)/(IF($C$3<>\"\",Table2[BULAN]=$C$3,TRUE))/(IF($C$4<>\"\",Table2[OFF/ON]=$C$4,TRUE))/(IF($C$5<>\"\",Table2[Status]=$C$5,TRUE))/(IF($C$6<>\"\",Table2[]=$C$6,TRUE))/(IF($C$7<>\"\",Table2[ProposalCode]=$C$7,TRUE)),ROW(B239))),\"\")","v":""},{"$f":"IFERROR(INDEX(Table2[Location],_xlfn.AGGREGATE(15,6,(ROW(Table2[FPPGroupCode])-2)/(Table2[DepoName]=$C$2)/(IF($C$3<>\"\",Table2[BULAN]=$C$3,TRUE))/(IF($C$4<>\"\",Table2[OFF/ON]=$C$4,TRUE))/(IF($C$5<>\"\",Table2[Status]=$C$5,TRUE))/(IF($C$6<>\"\",Table2[FPPDate]=$C$6,TRUE))/(IF($C$7<>\"\",Table2[ProposalCode]=$C$7,TRUE)),ROW(D239))),\"\")","v":""},{"$f":"IFERROR(INDEX(Table2[PeriodeStart],_xlfn.AGGREGATE(15,6,(ROW(Table2[FPPGroupCode])-2)/(Table2[DepoName]=$C$2)/(IF($C$3<>\"\",Table2[BULAN]=$C$3,TRUE))/(IF($C$4<>\"\",Table2[OFF/ON]=$C$4,TRUE))/(IF($C$5<>\"\",Table2[Status]=$C$5,TRUE))/(IF($C$6<>\"\",Table2[FPPDate]=$C$6,TRUE))/(IF($C$7<>\"\",Table2[ProposalCode]=$C$7,TRUE)),ROW(E239))),\"\")","v":""},{"$f":"IFERROR(INDEX(Table2[PeriodeEnd],_xlfn.AGGREGATE(15,6,(ROW(Table2[FPPGroupCode])-2)/(Table2[DepoName]=$C$2)/(IF($C$3<>\"\",Table2[BULAN]=$C$3,TRUE))/(IF($C$4<>\"\",Table2[OFF/ON]=$C$4,TRUE))/(IF($C$5<>\"\",Table2[Status]=$C$5,TRUE))/(IF($C$6<>\"\",Table2[FPPDate]=$C$6,TRUE))/(IF($C$7<>\"\",Table2[ProposalCode]=$C$7,TRUE)),ROW(F239))),\"\")","v":""},{"$f":"IFERROR(INDEX(Table2[Amount_FPPDepo],_xlfn.AGGREGATE(15,6,(ROW(Table2[FPPGroupCode])-2)/(Table2[DepoName]=$C$2)/(IF($C$3<>\"\",Table2[BULAN]=$C$3,TRUE))/(IF($C$4<>\"\",Table2[OFF/ON]=$C$4,TRUE))/(IF($C$5<>\"\",Table2[Status]=$C$5,TRUE))/(IF($C$6<>\"\",Table2[FPPDate]=$C$6,TRUE))/(IF($C$7<>\"\",Table2[ProposalCode]=$C$7,TRUE)),ROW(G239))),\"\")","v":""},{"$f":"IFERROR(VLOOKUP($B247,SIP!$D$5776:$P$6032,12,0),0)","v":0},{"$f":"IFERROR(H247-I247,0)","v":0},{"$f":"IFERROR(VLOOKUP($B247,SIP!$D$5776:$P$6032,8,0),0)","v":0},{"$f":"IFERROR(INDEX(Table2[OFF/ON],_xlfn.AGGREGATE(15,6,(ROW(Table2[FPPGroupCode])-2)/(Table2[DepoName]=$C$2)/(IF($C$3<>\"\",Table2[BULAN]=$C$3,TRUE))/(IF($C$4<>\"\",Table2[OFF/ON]=$C$4,TRUE))/(IF($C$5<>\"\",Table2[Status]=$C$5,TRUE))/(IF($C$6<>\"\",Table2[FPPDate]=$C$6,TRUE))/(IF($C$7<>\"\",Table2[ProposalCode]=$C$7,TRUE)),ROW(K239))),\"\")","v":""}]
[{"$f":"IF(LEN($B248),ROW(A240),\"\")","v":""},{"$f":"IFERROR(INDEX(Table2[FPPGroupCode],_xlfn.AGGREGATE(15,6,(ROW(Table2[FPPGroupCode])-2)/(Table2[DepoName]=$C$2)/(IF($C$3<>\"\",Table2[BULAN]=$C$3,TRUE))/(IF($C$4<>\"\",Table2[OFF/ON]=$C$4,TRUE))/(IF($C$5<>\"\",Table2[Status]=$C$5,TRUE))/(IF($C$6<>\"\",Table2[FPPDate]=$C$6,TRUE))/(IF($C$7<>\"\",Table2[ProposalCode]=$C$7,TRUE)),ROW(A240))),\"\")","v":""},{"$f":"IFERROR(VLOOKUP($B248,SIP!$D$3:$Q$12237,14,0),0)","v":0},{"$f":"IFERROR(INDEX(Table2[Activity],_xlfn.AGGREGATE(15,6,(ROW(Table2[FPPGroupCode])-2)/(Table2[DepoName]=$C$2)/(IF($C$3<>\"\",Table2[BULAN]=$C$3,TRUE))/(IF($C$4<>\"\",Table2[OFF/ON]=$C$4,TRUE))/(IF($C$5<>\"\",Table2[Status]=$C$5,TRUE))/(IF($C$6<>\"\",Table2[]=$C$6,TRUE))/(IF($C$7<>\"\",Table2[ProposalCode]=$C$7,TRUE)),ROW(B240))),\"\")","v":""},{"$f":"IFERROR(INDEX(Table2[Location],_xlfn.AGGREGATE(15,6,(ROW(Table2[FPPGroupCode])-2)/(Table2[DepoName]=$C$2)/(IF($C$3<>\"\",Table2[BULAN]=$C$3,TRUE))/(IF($C$4<>\"\",Table2[OFF/ON]=$C$4,TRUE))/(IF($C$5<>\"\",Table2[Status]=$C$5,TRUE))/(IF($C$6<>\"\",Table2[FPPDate]=$C$6,TRUE))/(IF($C$7<>\"\",Table2[ProposalCode]=$C$7,TRUE)),ROW(D240))),\"\")","v":""},{"$f":"IFERROR(INDEX(Table2[PeriodeStart],_xlfn.AGGREGATE(15,6,(ROW(Table2[FPPGroupCode])-2)/(Table2[DepoName]=$C$2)/(IF($C$3<>\"\",Table2[BULAN]=$C$3,TRUE))/(IF($C$4<>\"\",Table2[OFF/ON]=$C$4,TRUE))/(IF($C$5<>\"\",Table2[Status]=$C$5,TRUE))/(IF($C$6<>\"\",Table2[FPPDate]=$C$6,TRUE))/(IF($C$7<>\"\",Table2[ProposalCode]=$C$7,TRUE)),ROW(E240))),\"\")","v":""},{"$f":"IFERROR(INDEX(Table2[PeriodeEnd],_xlfn.AGGREGATE(15,6,(ROW(Table2[FPPGroupCode])-2)/(Table2[DepoName]=$C$2)/(IF($C$3<>\"\",Table2[BULAN]=$C$3,TRUE))/(IF($C$4<>\"\",Table2[OFF/ON]=$C$4,TRUE))/(IF($C$5<>\"\",Table2[Status]=$C$5,TRUE))/(IF($C$6<>\"\",Table2[FPPDate]=$C$6,TRUE))/(IF($C$7<>\"\",Table2[ProposalCode]=$C$7,TRUE)),ROW(F240))),\"\")","v":""},{"$f":"IFERROR(INDEX(Table2[Amount_FPPDepo],_xlfn.AGGREGATE(15,6,(ROW(Table2[FPPGroupCode])-2)/(Table2[DepoName]=$C$2)/(IF($C$3<>\"\",Table2[BULAN]=$C$3,TRUE))/(IF($C$4<>\"\",Table2[OFF/ON]=$C$4,TRUE))/(IF($C$5<>\"\",Table2[Status]=$C$5,TRUE))/(IF($C$6<>\"\",Table2[FPPDate]=$C$6,TRUE))/(IF($C$7<>\"\",Table2[ProposalCode]=$C$7,TRUE)),ROW(G240))),\"\")","v":""},{"$f":"IFERROR(VLOOKUP($B248,SIP!$D$5776:$P$6032,12,0),0)","v":0},{"$f":"IFERROR(H248-I248,0)","v":0},{"$f":"IFERROR(VLOOKUP($B248,SIP!$D$5776:$P$6032,8,0),0)","v":0},{"$f":"IFERROR(INDEX(Table2[OFF/ON],_xlfn.AGGREGATE(15,6,(ROW(Table2[FPPGroupCode])-2)/(Table2[DepoName]=$C$2)/(IF($C$3<>\"\",Table2[BULAN]=$C$3,TRUE))/(IF($C$4<>\"\",Table2[OFF/ON]=$C$4,TRUE))/(IF($C$5<>\"\",Table2[Status]=$C$5,TRUE))/(IF($C$6<>\"\",Table2[FPPDate]=$C$6,TRUE))/(IF($C$7<>\"\",Table2[ProposalCode]=$C$7,TRUE)),ROW(K240))),\"\")","v":""}]
[{"$f":"IF(LEN($B249),ROW(A241),\"\")","v":""},{"$f":"IFERROR(INDEX(Table2[FPPGroupCode],_xlfn.AGGREGATE(15,6,(ROW(Table2[FPPGroupCode])-2)/(Table2[DepoName]=$C$2)/(IF($C$3<>\"\",Table2[BULAN]=$C$3,TRUE))/(IF($C$4<>\"\",Table2[OFF/ON]=$C$4,TRUE))/(IF($C$5<>\"\",Table2[Status]=$C$5,TRUE))/(IF($C$6<>\"\",Table2[FPPDate]=$C$6,TRUE))/(IF($C$7<>\"\",Table2[ProposalCode]=$C$7,TRUE)),ROW(A241))),\"\")","v":""},{"$f":"IFERROR(VLOOKUP($B249,SIP!$D$3:$Q$12237,14,0),0)","v":0},{"$f":"IFERROR(INDEX(Table2[Activity],_xlfn.AGGREGATE(15,6,(ROW(Table2[FPPGroupCode])-2)/(Table2[DepoName]=$C$2)/(IF($C$3<>\"\",Table2[BULAN]=$C$3,TRUE))/(IF($C$4<>\"\",Table2[OFF/ON]=$C$4,TRUE))/(IF($C$5<>\"\",Table2[Status]=$C$5,TRUE))/(IF($C$6<>\"\",Table2[]=$C$6,TRUE))/(IF($C$7<>\"\",Table2[ProposalCode]=$C$7,TRUE)),ROW(B241))),\"\")","v":""},{"$f":"IFERROR(INDEX(Table2[Location],_xlfn.AGGREGATE(15,6,(ROW(Table2[FPPGroupCode])-2)/(Table2[DepoName]=$C$2)/(IF($C$3<>\"\",Table2[BULAN]=$C$3,TRUE))/(IF($C$4<>\"\",Table2[OFF/ON]=$C$4,TRUE))/(IF($C$5<>\"\",Table2[Status]=$C$5,TRUE))/(IF($C$6<>\"\",Table2[FPPDate]=$C$6,TRUE))/(IF($C$7<>\"\",Table2[ProposalCode]=$C$7,TRUE)),ROW(D241))),\"\")","v":""},{"$f":"IFERROR(INDEX(Table2[PeriodeStart],_xlfn.AGGREGATE(15,6,(ROW(Table2[FPPGroupCode])-2)/(Table2[DepoName]=$C$2)/(IF($C$3<>\"\",Table2[BULAN]=$C$3,TRUE))/(IF($C$4<>\"\",Table2[OFF/ON]=$C$4,TRUE))/(IF($C$5<>\"\",Table2[Status]=$C$5,TRUE))/(IF($C$6<>\"\",Table2[FPPDate]=$C$6,TRUE))/(IF($C$7<>\"\",Table2[ProposalCode]=$C$7,TRUE)),ROW(E241))),\"\")","v":""},{"$f":"IFERROR(INDEX(Table2[PeriodeEnd],_xlfn.AGGREGATE(15,6,(ROW(Table2[FPPGroupCode])-2)/(Table2[DepoName]=$C$2)/(IF($C$3<>\"\",Table2[BULAN]=$C$3,TRUE))/(IF($C$4<>\"\",Table2[OFF/ON]=$C$4,TRUE))/(IF($C$5<>\"\",Table2[Status]=$C$5,TRUE))/(IF($C$6<>\"\",Table2[FPPDate]=$C$6,TRUE))/(IF($C$7<>\"\",Table2[ProposalCode]=$C$7,TRUE)),ROW(F241))),\"\")","v":""},{"$f":"IFERROR(INDEX(Table2[Amount_FPPDepo],_xlfn.AGGREGATE(15,6,(ROW(Table2[FPPGroupCode])-2)/(Table2[DepoName]=$C$2)/(IF($C$3<>\"\",Table2[BULAN]=$C$3,TRUE))/(IF($C$4<>\"\",Table2[OFF/ON]=$C$4,TRUE))/(IF($C$5<>\"\",Table2[Status]=$C$5,TRUE))/(IF($C$6<>\"\",Table2[FPPDate]=$C$6,TRUE))/(IF($C$7<>\"\",Table2[ProposalCode]=$C$7,TRUE)),ROW(G241))),\"\")","v":""},{"$f":"IFERROR(VLOOKUP($B249,SIP!$D$5776:$P$6032,12,0),0)","v":0},{"$f":"IFERROR(H249-I249,0)","v":0},{"$f":"IFERROR(VLOOKUP($B249,SIP!$D$5776:$P$6032,8,0),0)","v":0},{"$f":"IFERROR(INDEX(Table2[OFF/ON],_xlfn.AGGREGATE(15,6,(ROW(Table2[FPPGroupCode])-2)/(Table2[DepoName]=$C$2)/(IF($C$3<>\"\",Table2[BULAN]=$C$3,TRUE))/(IF($C$4<>\"\",Table2[OFF/ON]=$C$4,TRUE))/(IF($C$5<>\"\",Table2[Status]=$C$5,TRUE))/(IF($C$6<>\"\",Table2[FPPDate]=$C$6,TRUE))/(IF($C$7<>\"\",Table2[ProposalCode]=$C$7,TRUE)),ROW(K241))),\"\")","v":""}]
[{"$f":"IF(LEN($B250),ROW(A242),\"\")","v":""},{"$f":"IFERROR(INDEX(Table2[FPPGroupCode],_xlfn.AGGREGATE(15,6,(ROW(Table2[FPPGroupCode])-2)/(Table2[DepoName]=$C$2)/(IF($C$3<>\"\",Table2[BULAN]=$C$3,TRUE))/(IF($C$4<>\"\",Table2[OFF/ON]=$C$4,TRUE))/(IF($C$5<>\"\",Table2[Status]=$C$5,TRUE))/(IF($C$6<>\"\",Table2[FPPDate]=$C$6,TRUE))/(IF($C$7<>\"\",Table2[ProposalCode]=$C$7,TRUE)),ROW(A242))),\"\")","v":""},{"$f":"IFERROR(VLOOKUP($B250,SIP!$D$3:$Q$12237,14,0),0)","v":0},{"$f":"IFERROR(INDEX(Table2[Activity],_xlfn.AGGREGATE(15,6,(ROW(Table2[FPPGroupCode])-2)/(Table2[DepoName]=$C$2)/(IF($C$3<>\"\",Table2[BULAN]=$C$3,TRUE))/(IF($C$4<>\"\",Table2[OFF/ON]=$C$4,TRUE))/(IF($C$5<>\"\",Table2[Status]=$C$5,TRUE))/(IF($C$6<>\"\",Table2[]=$C$6,TRUE))/(IF($C$7<>\"\",Table2[ProposalCode]=$C$7,TRUE)),ROW(B242))),\"\")","v":""},{"$f":"IFERROR(INDEX(Table2[Location],_xlfn.AGGREGATE(15,6,(ROW(Table2[FPPGroupCode])-2)/(Table2[DepoName]=$C$2)/(IF($C$3<>\"\",Table2[BULAN]=$C$3,TRUE))/(IF($C$4<>\"\",Table2[OFF/ON]=$C$4,TRUE))/(IF($C$5<>\"\",Table2[Status]=$C$5,TRUE))/(IF($C$6<>\"\",Table2[FPPDate]=$C$6,TRUE))/(IF($C$7<>\"\",Table2[ProposalCode]=$C$7,TRUE)),ROW(D242))),\"\")","v":""},{"$f":"IFERROR(INDEX(Table2[PeriodeStart],_xlfn.AGGREGATE(15,6,(ROW(Table2[FPPGroupCode])-2)/(Table2[DepoName]=$C$2)/(IF($C$3<>\"\",Table2[BULAN]=$C$3,TRUE))/(IF($C$4<>\"\",Table2[OFF/ON]=$C$4,TRUE))/(IF($C$5<>\"\",Table2[Status]=$C$5,TRUE))/(IF($C$6<>\"\",Table2[FPPDate]=$C$6,TRUE))/(IF($C$7<>\"\",Table2[ProposalCode]=$C$7,TRUE)),ROW(E242))),\"\")","v":""},{"$f":"IFERROR(INDEX(Table2[PeriodeEnd],_xlfn.AGGREGATE(15,6,(ROW(Table2[FPPGroupCode])-2)/(Table2[DepoName]=$C$2)/(IF($C$3<>\"\",Table2[BULAN]=$C$3,TRUE))/(IF($C$4<>\"\",Table2[OFF/ON]=$C$4,TRUE))/(IF($C$5<>\"\",Table2[Status]=$C$5,TRUE))/(IF($C$6<>\"\",Table2[FPPDate]=$C$6,TRUE))/(IF($C$7<>\"\",Table2[ProposalCode]=$C$7,TRUE)),ROW(F242))),\"\")","v":""},{"$f":"IFERROR(INDEX(Table2[Amount_FPPDepo],_xlfn.AGGREGATE(15,6,(ROW(Table2[FPPGroupCode])-2)/(Table2[DepoName]=$C$2)/(IF($C$3<>\"\",Table2[BULAN]=$C$3,TRUE))/(IF($C$4<>\"\",Table2[OFF/ON]=$C$4,TRUE))/(IF($C$5<>\"\",Table2[Status]=$C$5,TRUE))/(IF($C$6<>\"\",Table2[FPPDate]=$C$6,TRUE))/(IF($C$7<>\"\",Table2[ProposalCode]=$C$7,TRUE)),ROW(G242))),\"\")","v":""},{"$f":"IFERROR(VLOOKUP($B250,SIP!$D$5776:$P$6032,12,0),0)","v":0},{"$f":"IFERROR(H250-I250,0)","v":0},{"$f":"IFERROR(VLOOKUP($B250,SIP!$D$5776:$P$6032,8,0),0)","v":0},{"$f":"IFERROR(INDEX(Table2[OFF/ON],_xlfn.AGGREGATE(15,6,(ROW(Table2[FPPGroupCode])-2)/(Table2[DepoName]=$C$2)/(IF($C$3<>\"\",Table2[BULAN]=$C$3,TRUE))/(IF($C$4<>\"\",Table2[OFF/ON]=$C$4,TRUE))/(IF($C$5<>\"\",Table2[Status]=$C$5,TRUE))/(IF($C$6<>\"\",Table2[FPPDate]=$C$6,TRUE))/(IF($C$7<>\"\",Table2[ProposalCode]=$C$7,TRUE)),ROW(K242))),\"\")","v":""}]
[{"$f":"IF(LEN($B251),ROW(A243),\"\")","v":""},{"$f":"IFERROR(INDEX(Table2[FPPGroupCode],_xlfn.AGGREGATE(15,6,(ROW(Table2[FPPGroupCode])-2)/(Table2[DepoName]=$C$2)/(IF($C$3<>\"\",Table2[BULAN]=$C$3,TRUE))/(IF($C$4<>\"\",Table2[OFF/ON]=$C$4,TRUE))/(IF($C$5<>\"\",Table2[Status]=$C$5,TRUE))/(IF($C$6<>\"\",Table2[FPPDate]=$C$6,TRUE))/(IF($C$7<>\"\",Table2[ProposalCode]=$C$7,TRUE)),ROW(A243))),\"\")","v":""},{"$f":"IFERROR(VLOOKUP($B251,SIP!$D$3:$Q$12237,14,0),0)","v":0},{"$f":"IFERROR(INDEX(Table2[Activity],_xlfn.AGGREGATE(15,6,(ROW(Table2[FPPGroupCode])-2)/(Table2[DepoName]=$C$2)/(IF($C$3<>\"\",Table2[BULAN]=$C$3,TRUE))/(IF($C$4<>\"\",Table2[OFF/ON]=$C$4,TRUE))/(IF($C$5<>\"\",Table2[Status]=$C$5,TRUE))/(IF($C$6<>\"\",Table2[]=$C$6,TRUE))/(IF($C$7<>\"\",Table2[ProposalCode]=$C$7,TRUE)),ROW(B243))),\"\")","v":""},{"$f":"IFERROR(INDEX(Table2[Location],_xlfn.AGGREGATE(15,6,(ROW(Table2[FPPGroupCode])-2)/(Table2[DepoName]=$C$2)/(IF($C$3<>\"\",Table2[BULAN]=$C$3,TRUE))/(IF($C$4<>\"\",Table2[OFF/ON]=$C$4,TRUE))/(IF($C$5<>\"\",Table2[Status]=$C$5,TRUE))/(IF($C$6<>\"\",Table2[FPPDate]=$C$6,TRUE))/(IF($C$7<>\"\",Table2[ProposalCode]=$C$7,TRUE)),ROW(D243))),\"\")","v":""},{"$f":"IFERROR(INDEX(Table2[PeriodeStart],_xlfn.AGGREGATE(15,6,(ROW(Table2[FPPGroupCode])-2)/(Table2[DepoName]=$C$2)/(IF($C$3<>\"\",Table2[BULAN]=$C$3,TRUE))/(IF($C$4<>\"\",Table2[OFF/ON]=$C$4,TRUE))/(IF($C$5<>\"\",Table2[Status]=$C$5,TRUE))/(IF($C$6<>\"\",Table2[FPPDate]=$C$6,TRUE))/(IF($C$7<>\"\",Table2[ProposalCode]=$C$7,TRUE)),ROW(E243))),\"\")","v":""},{"$f":"IFERROR(INDEX(Table2[PeriodeEnd],_xlfn.AGGREGATE(15,6,(ROW(Table2[FPPGroupCode])-2)/(Table2[DepoName]=$C$2)/(IF($C$3<>\"\",Table2[BULAN]=$C$3,TRUE))/(IF($C$4<>\"\",Table2[OFF/ON]=$C$4,TRUE))/(IF($C$5<>\"\",Table2[Status]=$C$5,TRUE))/(IF($C$6<>\"\",Table2[FPPDate]=$C$6,TRUE))/(IF($C$7<>\"\",Table2[ProposalCode]=$C$7,TRUE)),ROW(F243))),\"\")","v":""},{"$f":"IFERROR(INDEX(Table2[Amount_FPPDepo],_xlfn.AGGREGATE(15,6,(ROW(Table2[FPPGroupCode])-2)/(Table2[DepoName]=$C$2)/(IF($C$3<>\"\",Table2[BULAN]=$C$3,TRUE))/(IF($C$4<>\"\",Table2[OFF/ON]=$C$4,TRUE))/(IF($C$5<>\"\",Table2[Status]=$C$5,TRUE))/(IF($C$6<>\"\",Table2[FPPDate]=$C$6,TRUE))/(IF($C$7<>\"\",Table2[ProposalCode]=$C$7,TRUE)),ROW(G243))),\"\")","v":""},{"$f":"IFERROR(VLOOKUP($B251,SIP!$D$5776:$P$6032,12,0),0)","v":0},{"$f":"IFERROR(H251-I251,0)","v":0},{"$f":"IFERROR(VLOOKUP($B251,SIP!$D$5776:$P$6032,8,0),0)","v":0},{"$f":"IFERROR(INDEX(Table2[OFF/ON],_xlfn.AGGREGATE(15,6,(ROW(Table2[FPPGroupCode])-2)/(Table2[DepoName]=$C$2)/(IF($C$3<>\"\",Table2[BULAN]=$C$3,TRUE))/(IF($C$4<>\"\",Table2[OFF/ON]=$C$4,TRUE))/(IF($C$5<>\"\",Table2[Status]=$C$5,TRUE))/(IF($C$6<>\"\",Table2[FPPDate]=$C$6,TRUE))/(IF($C$7<>\"\",Table2[ProposalCode]=$C$7,TRUE)),ROW(K243))),\"\")","v":""}]
[{"$f":"IF(LEN($B252),ROW(A244),\"\")","v":""},{"$f":"IFERROR(INDEX(Table2[FPPGroupCode],_xlfn.AGGREGATE(15,6,(ROW(Table2[FPPGroupCode])-2)/(Table2[DepoName]=$C$2)/(IF($C$3<>\"\",Table2[BULAN]=$C$3,TRUE))/(IF($C$4<>\"\",Table2[OFF/ON]=$C$4,TRUE))/(IF($C$5<>\"\",Table2[Status]=$C$5,TRUE))/(IF($C$6<>\"\",Table2[FPPDate]=$C$6,TRUE))/(IF($C$7<>\"\",Table2[ProposalCode]=$C$7,TRUE)),ROW(A244))),\"\")","v":""},{"$f":"IFERROR(VLOOKUP($B252,SIP!$D$3:$Q$12237,14,0),0)","v":0},{"$f":"IFERROR(INDEX(Table2[Activity],_xlfn.AGGREGATE(15,6,(ROW(Table2[FPPGroupCode])-2)/(Table2[DepoName]=$C$2)/(IF($C$3<>\"\",Table2[BULAN]=$C$3,TRUE))/(IF($C$4<>\"\",Table2[OFF/ON]=$C$4,TRUE))/(IF($C$5<>\"\",Table2[Status]=$C$5,TRUE))/(IF($C$6<>\"\",Table2[]=$C$6,TRUE))/(IF($C$7<>\"\",Table2[ProposalCode]=$C$7,TRUE)),ROW(B244))),\"\")","v":""},{"$f":"IFERROR(INDEX(Table2[Location],_xlfn.AGGREGATE(15,6,(ROW(Table2[FPPGroupCode])-2)/(Table2[DepoName]=$C$2)/(IF($C$3<>\"\",Table2[BULAN]=$C$3,TRUE))/(IF($C$4<>\"\",Table2[OFF/ON]=$C$4,TRUE))/(IF($C$5<>\"\",Table2[Status]=$C$5,TRUE))/(IF($C$6<>\"\",Table2[FPPDate]=$C$6,TRUE))/(IF($C$7<>\"\",Table2[ProposalCode]=$C$7,TRUE)),ROW(D244))),\"\")","v":""},{"$f":"IFERROR(INDEX(Table2[PeriodeStart],_xlfn.AGGREGATE(15,6,(ROW(Table2[FPPGroupCode])-2)/(Table2[DepoName]=$C$2)/(IF($C$3<>\"\",Table2[BULAN]=$C$3,TRUE))/(IF($C$4<>\"\",Table2[OFF/ON]=$C$4,TRUE))/(IF($C$5<>\"\",Table2[Status]=$C$5,TRUE))/(IF($C$6<>\"\",Table2[FPPDate]=$C$6,TRUE))/(IF($C$7<>\"\",Table2[ProposalCode]=$C$7,TRUE)),ROW(E244))),\"\")","v":""},{"$f":"IFERROR(INDEX(Table2[PeriodeEnd],_xlfn.AGGREGATE(15,6,(ROW(Table2[FPPGroupCode])-2)/(Table2[DepoName]=$C$2)/(IF($C$3<>\"\",Table2[BULAN]=$C$3,TRUE))/(IF($C$4<>\"\",Table2[OFF/ON]=$C$4,TRUE))/(IF($C$5<>\"\",Table2[Status]=$C$5,TRUE))/(IF($C$6<>\"\",Table2[FPPDate]=$C$6,TRUE))/(IF($C$7<>\"\",Table2[ProposalCode]=$C$7,TRUE)),ROW(F244))),\"\")","v":""},{"$f":"IFERROR(INDEX(Table2[Amount_FPPDepo],_xlfn.AGGREGATE(15,6,(ROW(Table2[FPPGroupCode])-2)/(Table2[DepoName]=$C$2)/(IF($C$3<>\"\",Table2[BULAN]=$C$3,TRUE))/(IF($C$4<>\"\",Table2[OFF/ON]=$C$4,TRUE))/(IF($C$5<>\"\",Table2[Status]=$C$5,TRUE))/(IF($C$6<>\"\",Table2[FPPDate]=$C$6,TRUE))/(IF($C$7<>\"\",Table2[ProposalCode]=$C$7,TRUE)),ROW(G244))),\"\")","v":""},{"$f":"IFERROR(VLOOKUP($B252,SIP!$D$5776:$P$6032,12,0),0)","v":0},{"$f":"IFERROR(H252-I252,0)","v":0},{"$f":"IFERROR(VLOOKUP($B252,SIP!$D$5776:$P$6032,8,0),0)","v":0},{"$f":"IFERROR(INDEX(Table2[OFF/ON],_xlfn.AGGREGATE(15,6,(ROW(Table2[FPPGroupCode])-2)/(Table2[DepoName]=$C$2)/(IF($C$3<>\"\",Table2[BULAN]=$C$3,TRUE))/(IF($C$4<>\"\",Table2[OFF/ON]=$C$4,TRUE))/(IF($C$5<>\"\",Table2[Status]=$C$5,TRUE))/(IF($C$6<>\"\",Table2[FPPDate]=$C$6,TRUE))/(IF($C$7<>\"\",Table2[ProposalCode]=$C$7,TRUE)),ROW(K244))),\"\")","v":""}]
[{"$f":"IF(LEN($B253),ROW(A245),\"\")","v":""},{"$f":"IFERROR(INDEX(Table2[FPPGroupCode],_xlfn.AGGREGATE(15,6,(ROW(Table2[FPPGroupCode])-2)/(Table2[DepoName]=$C$2)/(IF($C$3<>\"\",Table2[BULAN]=$C$3,TRUE))/(IF($C$4<>\"\",Table2[OFF/ON]=$C$4,TRUE))/(IF($C$5<>\"\",Table2[Status]=$C$5,TRUE))/(IF($C$6<>\"\",Table2[FPPDate]=$C$6,TRUE))/(IF($C$7<>\"\",Table2[ProposalCode]=$C$7,TRUE)),ROW(A245))),\"\")","v":""},{"$f":"IFERROR(VLOOKUP($B253,SIP!$D$3:$Q$12237,14,0),0)","v":0},{"$f":"IFERROR(INDEX(Table2[Activity],_xlfn.AGGREGATE(15,6,(ROW(Table2[FPPGroupCode])-2)/(Table2[DepoName]=$C$2)/(IF($C$3<>\"\",Table2[BULAN]=$C$3,TRUE))/(IF($C$4<>\"\",Table2[OFF/ON]=$C$4,TRUE))/(IF($C$5<>\"\",Table2[Status]=$C$5,TRUE))/(IF($C$6<>\"\",Table2[]=$C$6,TRUE))/(IF($C$7<>\"\",Table2[ProposalCode]=$C$7,TRUE)),ROW(B245))),\"\")","v":""},{"$f":"IFERROR(INDEX(Table2[Location],_xlfn.AGGREGATE(15,6,(ROW(Table2[FPPGroupCode])-2)/(Table2[DepoName]=$C$2)/(IF($C$3<>\"\",Table2[BULAN]=$C$3,TRUE))/(IF($C$4<>\"\",Table2[OFF/ON]=$C$4,TRUE))/(IF($C$5<>\"\",Table2[Status]=$C$5,TRUE))/(IF($C$6<>\"\",Table2[FPPDate]=$C$6,TRUE))/(IF($C$7<>\"\",Table2[ProposalCode]=$C$7,TRUE)),ROW(D245))),\"\")","v":""},{"$f":"IFERROR(INDEX(Table2[PeriodeStart],_xlfn.AGGREGATE(15,6,(ROW(Table2[FPPGroupCode])-2)/(Table2[DepoName]=$C$2)/(IF($C$3<>\"\",Table2[BULAN]=$C$3,TRUE))/(IF($C$4<>\"\",Table2[OFF/ON]=$C$4,TRUE))/(IF($C$5<>\"\",Table2[Status]=$C$5,TRUE))/(IF($C$6<>\"\",Table2[FPPDate]=$C$6,TRUE))/(IF($C$7<>\"\",Table2[ProposalCode]=$C$7,TRUE)),ROW(E245))),\"\")","v":""},{"$f":"IFERROR(INDEX(Table2[PeriodeEnd],_xlfn.AGGREGATE(15,6,(ROW(Table2[FPPGroupCode])-2)/(Table2[DepoName]=$C$2)/(IF($C$3<>\"\",Table2[BULAN]=$C$3,TRUE))/(IF($C$4<>\"\",Table2[OFF/ON]=$C$4,TRUE))/(IF($C$5<>\"\",Table2[Status]=$C$5,TRUE))/(IF($C$6<>\"\",Table2[FPPDate]=$C$6,TRUE))/(IF($C$7<>\"\",Table2[ProposalCode]=$C$7,TRUE)),ROW(F245))),\"\")","v":""},{"$f":"IFERROR(INDEX(Table2[Amount_FPPDepo],_xlfn.AGGREGATE(15,6,(ROW(Table2[FPPGroupCode])-2)/(Table2[DepoName]=$C$2)/(IF($C$3<>\"\",Table2[BULAN]=$C$3,TRUE))/(IF($C$4<>\"\",Table2[OFF/ON]=$C$4,TRUE))/(IF($C$5<>\"\",Table2[Status]=$C$5,TRUE))/(IF($C$6<>\"\",Table2[FPPDate]=$C$6,TRUE))/(IF($C$7<>\"\",Table2[ProposalCode]=$C$7,TRUE)),ROW(G245))),\"\")","v":""},{"$f":"IFERROR(VLOOKUP($B253,SIP!$D$5776:$P$6032,12,0),0)","v":0},{"$f":"IFERROR(H253-I253,0)","v":0},{"$f":"IFERROR(VLOOKUP($B253,SIP!$D$5776:$P$6032,8,0),0)","v":0},{"$f":"IFERROR(INDEX(Table2[OFF/ON],_xlfn.AGGREGATE(15,6,(ROW(Table2[FPPGroupCode])-2)/(Table2[DepoName]=$C$2)/(IF($C$3<>\"\",Table2[BULAN]=$C$3,TRUE))/(IF($C$4<>\"\",Table2[OFF/ON]=$C$4,TRUE))/(IF($C$5<>\"\",Table2[Status]=$C$5,TRUE))/(IF($C$6<>\"\",Table2[FPPDate]=$C$6,TRUE))/(IF($C$7<>\"\",Table2[ProposalCode]=$C$7,TRUE)),ROW(K245))),\"\")","v":""}]
[{"$f":"IF(LEN($B254),ROW(A246),\"\")","v":""},{"$f":"IFERROR(INDEX(Table2[FPPGroupCode],_xlfn.AGGREGATE(15,6,(ROW(Table2[FPPGroupCode])-2)/(Table2[DepoName]=$C$2)/(IF($C$3<>\"\",Table2[BULAN]=$C$3,TRUE))/(IF($C$4<>\"\",Table2[OFF/ON]=$C$4,TRUE))/(IF($C$5<>\"\",Table2[Status]=$C$5,TRUE))/(IF($C$6<>\"\",Table2[FPPDate]=$C$6,TRUE))/(IF($C$7<>\"\",Table2[ProposalCode]=$C$7,TRUE)),ROW(A246))),\"\")","v":""},{"$f":"IFERROR(VLOOKUP($B254,SIP!$D$3:$Q$12237,14,0),0)","v":0},{"$f":"IFERROR(INDEX(Table2[Activity],_xlfn.AGGREGATE(15,6,(ROW(Table2[FPPGroupCode])-2)/(Table2[DepoName]=$C$2)/(IF($C$3<>\"\",Table2[BULAN]=$C$3,TRUE))/(IF($C$4<>\"\",Table2[OFF/ON]=$C$4,TRUE))/(IF($C$5<>\"\",Table2[Status]=$C$5,TRUE))/(IF($C$6<>\"\",Table2[]=$C$6,TRUE))/(IF($C$7<>\"\",Table2[ProposalCode]=$C$7,TRUE)),ROW(B246))),\"\")","v":""},{"$f":"IFERROR(INDEX(Table2[Location],_xlfn.AGGREGATE(15,6,(ROW(Table2[FPPGroupCode])-2)/(Table2[DepoName]=$C$2)/(IF($C$3<>\"\",Table2[BULAN]=$C$3,TRUE))/(IF($C$4<>\"\",Table2[OFF/ON]=$C$4,TRUE))/(IF($C$5<>\"\",Table2[Status]=$C$5,TRUE))/(IF($C$6<>\"\",Table2[FPPDate]=$C$6,TRUE))/(IF($C$7<>\"\",Table2[ProposalCode]=$C$7,TRUE)),ROW(D246))),\"\")","v":""},{"$f":"IFERROR(INDEX(Table2[PeriodeStart],_xlfn.AGGREGATE(15,6,(ROW(Table2[FPPGroupCode])-2)/(Table2[DepoName]=$C$2)/(IF($C$3<>\"\",Table2[BULAN]=$C$3,TRUE))/(IF($C$4<>\"\",Table2[OFF/ON]=$C$4,TRUE))/(IF($C$5<>\"\",Table2[Status]=$C$5,TRUE))/(IF($C$6<>\"\",Table2[FPPDate]=$C$6,TRUE))/(IF($C$7<>\"\",Table2[ProposalCode]=$C$7,TRUE)),ROW(E246))),\"\")","v":""},{"$f":"IFERROR(INDEX(Table2[PeriodeEnd],_xlfn.AGGREGATE(15,6,(ROW(Table2[FPPGroupCode])-2)/(Table2[DepoName]=$C$2)/(IF($C$3<>\"\",Table2[BULAN]=$C$3,TRUE))/(IF($C$4<>\"\",Table2[OFF/ON]=$C$4,TRUE))/(IF($C$5<>\"\",Table2[Status]=$C$5,TRUE))/(IF($C$6<>\"\",Table2[FPPDate]=$C$6,TRUE))/(IF($C$7<>\"\",Table2[ProposalCode]=$C$7,TRUE)),ROW(F246))),\"\")","v":""},{"$f":"IFERROR(INDEX(Table2[Amount_FPPDepo],_xlfn.AGGREGATE(15,6,(ROW(Table2[FPPGroupCode])-2)/(Table2[DepoName]=$C$2)/(IF($C$3<>\"\",Table2[BULAN]=$C$3,TRUE))/(IF($C$4<>\"\",Table2[OFF/ON]=$C$4,TRUE))/(IF($C$5<>\"\",Table2[Status]=$C$5,TRUE))/(IF($C$6<>\"\",Table2[FPPDate]=$C$6,TRUE))/(IF($C$7<>\"\",Table2[ProposalCode]=$C$7,TRUE)),ROW(G246))),\"\")","v":""},{"$f":"IFERROR(VLOOKUP($B254,SIP!$D$5776:$P$6032,12,0),0)","v":0},{"$f":"IFERROR(H254-I254,0)","v":0},{"$f":"IFERROR(VLOOKUP($B254,SIP!$D$5776:$P$6032,8,0),0)","v":0},{"$f":"IFERROR(INDEX(Table2[OFF/ON],_xlfn.AGGREGATE(15,6,(ROW(Table2[FPPGroupCode])-2)/(Table2[DepoName]=$C$2)/(IF($C$3<>\"\",Table2[BULAN]=$C$3,TRUE))/(IF($C$4<>\"\",Table2[OFF/ON]=$C$4,TRUE))/(IF($C$5<>\"\",Table2[Status]=$C$5,TRUE))/(IF($C$6<>\"\",Table2[FPPDate]=$C$6,TRUE))/(IF($C$7<>\"\",Table2[ProposalCode]=$C$7,TRUE)),ROW(K246))),\"\")","v":""}]
[{"$f":"IF(LEN($B255),ROW(A247),\"\")","v":""},{"$f":"IFERROR(INDEX(Table2[FPPGroupCode],_xlfn.AGGREGATE(15,6,(ROW(Table2[FPPGroupCode])-2)/(Table2[DepoName]=$C$2)/(IF($C$3<>\"\",Table2[BULAN]=$C$3,TRUE))/(IF($C$4<>\"\",Table2[OFF/ON]=$C$4,TRUE))/(IF($C$5<>\"\",Table2[Status]=$C$5,TRUE))/(IF($C$6<>\"\",Table2[FPPDate]=$C$6,TRUE))/(IF($C$7<>\"\",Table2[ProposalCode]=$C$7,TRUE)),ROW(A247))),\"\")","v":""},{"$f":"IFERROR(VLOOKUP($B255,SIP!$D$3:$Q$12237,14,0),0)","v":0},{"$f":"IFERROR(INDEX(Table2[Activity],_xlfn.AGGREGATE(15,6,(ROW(Table2[FPPGroupCode])-2)/(Table2[DepoName]=$C$2)/(IF($C$3<>\"\",Table2[BULAN]=$C$3,TRUE))/(IF($C$4<>\"\",Table2[OFF/ON]=$C$4,TRUE))/(IF($C$5<>\"\",Table2[Status]=$C$5,TRUE))/(IF($C$6<>\"\",Table2[]=$C$6,TRUE))/(IF($C$7<>\"\",Table2[ProposalCode]=$C$7,TRUE)),ROW(B247))),\"\")","v":""},{"$f":"IFERROR(INDEX(Table2[Location],_xlfn.AGGREGATE(15,6,(ROW(Table2[FPPGroupCode])-2)/(Table2[DepoName]=$C$2)/(IF($C$3<>\"\",Table2[BULAN]=$C$3,TRUE))/(IF($C$4<>\"\",Table2[OFF/ON]=$C$4,TRUE))/(IF($C$5<>\"\",Table2[Status]=$C$5,TRUE))/(IF($C$6<>\"\",Table2[FPPDate]=$C$6,TRUE))/(IF($C$7<>\"\",Table2[ProposalCode]=$C$7,TRUE)),ROW(D247))),\"\")","v":""},{"$f":"IFERROR(INDEX(Table2[PeriodeStart],_xlfn.AGGREGATE(15,6,(ROW(Table2[FPPGroupCode])-2)/(Table2[DepoName]=$C$2)/(IF($C$3<>\"\",Table2[BULAN]=$C$3,TRUE))/(IF($C$4<>\"\",Table2[OFF/ON]=$C$4,TRUE))/(IF($C$5<>\"\",Table2[Status]=$C$5,TRUE))/(IF($C$6<>\"\",Table2[FPPDate]=$C$6,TRUE))/(IF($C$7<>\"\",Table2[ProposalCode]=$C$7,TRUE)),ROW(E247))),\"\")","v":""},{"$f":"IFERROR(INDEX(Table2[PeriodeEnd],_xlfn.AGGREGATE(15,6,(ROW(Table2[FPPGroupCode])-2)/(Table2[DepoName]=$C$2)/(IF($C$3<>\"\",Table2[BULAN]=$C$3,TRUE))/(IF($C$4<>\"\",Table2[OFF/ON]=$C$4,TRUE))/(IF($C$5<>\"\",Table2[Status]=$C$5,TRUE))/(IF($C$6<>\"\",Table2[FPPDate]=$C$6,TRUE))/(IF($C$7<>\"\",Table2[ProposalCode]=$C$7,TRUE)),ROW(F247))),\"\")","v":""},{"$f":"IFERROR(INDEX(Table2[Amount_FPPDepo],_xlfn.AGGREGATE(15,6,(ROW(Table2[FPPGroupCode])-2)/(Table2[DepoName]=$C$2)/(IF($C$3<>\"\",Table2[BULAN]=$C$3,TRUE))/(IF($C$4<>\"\",Table2[OFF/ON]=$C$4,TRUE))/(IF($C$5<>\"\",Table2[Status]=$C$5,TRUE))/(IF($C$6<>\"\",Table2[FPPDate]=$C$6,TRUE))/(IF($C$7<>\"\",Table2[ProposalCode]=$C$7,TRUE)),ROW(G247))),\"\")","v":""},{"$f":"IFERROR(VLOOKUP($B255,SIP!$D$5776:$P$6032,12,0),0)","v":0},{"$f":"IFERROR(H255-I255,0)","v":0},{"$f":"IFERROR(VLOOKUP($B255,SIP!$D$5776:$P$6032,8,0),0)","v":0},{"$f":"IFERROR(INDEX(Table2[OFF/ON],_xlfn.AGGREGATE(15,6,(ROW(Table2[FPPGroupCode])-2)/(Table2[DepoName]=$C$2)/(IF($C$3<>\"\",Table2[BULAN]=$C$3,TRUE))/(IF($C$4<>\"\",Table2[OFF/ON]=$C$4,TRUE))/(IF($C$5<>\"\",Table2[Status]=$C$5,TRUE))/(IF($C$6<>\"\",Table2[FPPDate]=$C$6,TRUE))/(IF($C$7<>\"\",Table2[ProposalCode]=$C$7,TRUE)),ROW(K247))),\"\")","v":""}]
[{"$f":"IF(LEN($B256),ROW(A248),\"\")","v":""},{"$f":"IFERROR(INDEX(Table2[FPPGroupCode],_xlfn.AGGREGATE(15,6,(ROW(Table2[FPPGroupCode])-2)/(Table2[DepoName]=$C$2)/(IF($C$3<>\"\",Table2[BULAN]=$C$3,TRUE))/(IF($C$4<>\"\",Table2[OFF/ON]=$C$4,TRUE))/(IF($C$5<>\"\",Table2[Status]=$C$5,TRUE))/(IF($C$6<>\"\",Table2[FPPDate]=$C$6,TRUE))/(IF($C$7<>\"\",Table2[ProposalCode]=$C$7,TRUE)),ROW(A248))),\"\")","v":""},{"$f":"IFERROR(VLOOKUP($B256,SIP!$D$3:$Q$12237,14,0),0)","v":0},{"$f":"IFERROR(INDEX(Table2[Activity],_xlfn.AGGREGATE(15,6,(ROW(Table2[FPPGroupCode])-2)/(Table2[DepoName]=$C$2)/(IF($C$3<>\"\",Table2[BULAN]=$C$3,TRUE))/(IF($C$4<>\"\",Table2[OFF/ON]=$C$4,TRUE))/(IF($C$5<>\"\",Table2[Status]=$C$5,TRUE))/(IF($C$6<>\"\",Table2[]=$C$6,TRUE))/(IF($C$7<>\"\",Table2[ProposalCode]=$C$7,TRUE)),ROW(B248))),\"\")","v":""},{"$f":"IFERROR(INDEX(Table2[Location],_xlfn.AGGREGATE(15,6,(ROW(Table2[FPPGroupCode])-2)/(Table2[DepoName]=$C$2)/(IF($C$3<>\"\",Table2[BULAN]=$C$3,TRUE))/(IF($C$4<>\"\",Table2[OFF/ON]=$C$4,TRUE))/(IF($C$5<>\"\",Table2[Status]=$C$5,TRUE))/(IF($C$6<>\"\",Table2[FPPDate]=$C$6,TRUE))/(IF($C$7<>\"\",Table2[ProposalCode]=$C$7,TRUE)),ROW(D248))),\"\")","v":""},{"$f":"IFERROR(INDEX(Table2[PeriodeStart],_xlfn.AGGREGATE(15,6,(ROW(Table2[FPPGroupCode])-2)/(Table2[DepoName]=$C$2)/(IF($C$3<>\"\",Table2[BULAN]=$C$3,TRUE))/(IF($C$4<>\"\",Table2[OFF/ON]=$C$4,TRUE))/(IF($C$5<>\"\",Table2[Status]=$C$5,TRUE))/(IF($C$6<>\"\",Table2[FPPDate]=$C$6,TRUE))/(IF($C$7<>\"\",Table2[ProposalCode]=$C$7,TRUE)),ROW(E248))),\"\")","v":""},{"$f":"IFERROR(INDEX(Table2[PeriodeEnd],_xlfn.AGGREGATE(15,6,(ROW(Table2[FPPGroupCode])-2)/(Table2[DepoName]=$C$2)/(IF($C$3<>\"\",Table2[BULAN]=$C$3,TRUE))/(IF($C$4<>\"\",Table2[OFF/ON]=$C$4,TRUE))/(IF($C$5<>\"\",Table2[Status]=$C$5,TRUE))/(IF($C$6<>\"\",Table2[FPPDate]=$C$6,TRUE))/(IF($C$7<>\"\",Table2[ProposalCode]=$C$7,TRUE)),ROW(F248))),\"\")","v":""},{"$f":"IFERROR(INDEX(Table2[Amount_FPPDepo],_xlfn.AGGREGATE(15,6,(ROW(Table2[FPPGroupCode])-2)/(Table2[DepoName]=$C$2)/(IF($C$3<>\"\",Table2[BULAN]=$C$3,TRUE))/(IF($C$4<>\"\",Table2[OFF/ON]=$C$4,TRUE))/(IF($C$5<>\"\",Table2[Status]=$C$5,TRUE))/(IF($C$6<>\"\",Table2[FPPDate]=$C$6,TRUE))/(IF($C$7<>\"\",Table2[ProposalCode]=$C$7,TRUE)),ROW(G248))),\"\")","v":""},{"$f":"IFERROR(VLOOKUP($B256,SIP!$D$5776:$P$6032,12,0),0)","v":0},{"$f":"IFERROR(H256-I256,0)","v":0},{"$f":"IFERROR(VLOOKUP($B256,SIP!$D$5776:$P$6032,8,0),0)","v":0},{"$f":"IFERROR(INDEX(Table2[OFF/ON],_xlfn.AGGREGATE(15,6,(ROW(Table2[FPPGroupCode])-2)/(Table2[DepoName]=$C$2)/(IF($C$3<>\"\",Table2[BULAN]=$C$3,TRUE))/(IF($C$4<>\"\",Table2[OFF/ON]=$C$4,TRUE))/(IF($C$5<>\"\",Table2[Status]=$C$5,TRUE))/(IF($C$6<>\"\",Table2[FPPDate]=$C$6,TRUE))/(IF($C$7<>\"\",Table2[ProposalCode]=$C$7,TRUE)),ROW(K248))),\"\")","v":""}]
[{"$f":"IF(LEN($B257),ROW(A249),\"\")","v":""},{"$f":"IFERROR(INDEX(Table2[FPPGroupCode],_xlfn.AGGREGATE(15,6,(ROW(Table2[FPPGroupCode])-2)/(Table2[DepoName]=$C$2)/(IF($C$3<>\"\",Table2[BULAN]=$C$3,TRUE))/(IF($C$4<>\"\",Table2[OFF/ON]=$C$4,TRUE))/(IF($C$5<>\"\",Table2[Status]=$C$5,TRUE))/(IF($C$6<>\"\",Table2[FPPDate]=$C$6,TRUE))/(IF($C$7<>\"\",Table2[ProposalCode]=$C$7,TRUE)),ROW(A249))),\"\")","v":""},{"$f":"IFERROR(VLOOKUP($B257,SIP!$D$3:$Q$12237,14,0),0)","v":0},{"$f":"IFERROR(INDEX(Table2[Activity],_xlfn.AGGREGATE(15,6,(ROW(Table2[FPPGroupCode])-2)/(Table2[DepoName]=$C$2)/(IF($C$3<>\"\",Table2[BULAN]=$C$3,TRUE))/(IF($C$4<>\"\",Table2[OFF/ON]=$C$4,TRUE))/(IF($C$5<>\"\",Table2[Status]=$C$5,TRUE))/(IF($C$6<>\"\",Table2[]=$C$6,TRUE))/(IF($C$7<>\"\",Table2[ProposalCode]=$C$7,TRUE)),ROW(B249))),\"\")","v":""},{"$f":"IFERROR(INDEX(Table2[Location],_xlfn.AGGREGATE(15,6,(ROW(Table2[FPPGroupCode])-2)/(Table2[DepoName]=$C$2)/(IF($C$3<>\"\",Table2[BULAN]=$C$3,TRUE))/(IF($C$4<>\"\",Table2[OFF/ON]=$C$4,TRUE))/(IF($C$5<>\"\",Table2[Status]=$C$5,TRUE))/(IF($C$6<>\"\",Table2[FPPDate]=$C$6,TRUE))/(IF($C$7<>\"\",Table2[ProposalCode]=$C$7,TRUE)),ROW(D249))),\"\")","v":""},{"$f":"IFERROR(INDEX(Table2[PeriodeStart],_xlfn.AGGREGATE(15,6,(ROW(Table2[FPPGroupCode])-2)/(Table2[DepoName]=$C$2)/(IF($C$3<>\"\",Table2[BULAN]=$C$3,TRUE))/(IF($C$4<>\"\",Table2[OFF/ON]=$C$4,TRUE))/(IF($C$5<>\"\",Table2[Status]=$C$5,TRUE))/(IF($C$6<>\"\",Table2[FPPDate]=$C$6,TRUE))/(IF($C$7<>\"\",Table2[ProposalCode]=$C$7,TRUE)),ROW(E249))),\"\")","v":""},{"$f":"IFERROR(INDEX(Table2[PeriodeEnd],_xlfn.AGGREGATE(15,6,(ROW(Table2[FPPGroupCode])-2)/(Table2[DepoName]=$C$2)/(IF($C$3<>\"\",Table2[BULAN]=$C$3,TRUE))/(IF($C$4<>\"\",Table2[OFF/ON]=$C$4,TRUE))/(IF($C$5<>\"\",Table2[Status]=$C$5,TRUE))/(IF($C$6<>\"\",Table2[FPPDate]=$C$6,TRUE))/(IF($C$7<>\"\",Table2[ProposalCode]=$C$7,TRUE)),ROW(F249))),\"\")","v":""},{"$f":"IFERROR(INDEX(Table2[Amount_FPPDepo],_xlfn.AGGREGATE(15,6,(ROW(Table2[FPPGroupCode])-2)/(Table2[DepoName]=$C$2)/(IF($C$3<>\"\",Table2[BULAN]=$C$3,TRUE))/(IF($C$4<>\"\",Table2[OFF/ON]=$C$4,TRUE))/(IF($C$5<>\"\",Table2[Status]=$C$5,TRUE))/(IF($C$6<>\"\",Table2[FPPDate]=$C$6,TRUE))/(IF($C$7<>\"\",Table2[ProposalCode]=$C$7,TRUE)),ROW(G249))),\"\")","v":""},{"$f":"IFERROR(VLOOKUP($B257,SIP!$D$5776:$P$6032,12,0),0)","v":0},{"$f":"IFERROR(H257-I257,0)","v":0},{"$f":"IFERROR(VLOOKUP($B257,SIP!$D$5776:$P$6032,8,0),0)","v":0},{"$f":"IFERROR(INDEX(Table2[OFF/ON],_xlfn.AGGREGATE(15,6,(ROW(Table2[FPPGroupCode])-2)/(Table2[DepoName]=$C$2)/(IF($C$3<>\"\",Table2[BULAN]=$C$3,TRUE))/(IF($C$4<>\"\",Table2[OFF/ON]=$C$4,TRUE))/(IF($C$5<>\"\",Table2[Status]=$C$5,TRUE))/(IF($C$6<>\"\",Table2[FPPDate]=$C$6,TRUE))/(IF($C$7<>\"\",Table2[ProposalCode]=$C$7,TRUE)),ROW(K249))),\"\")","v":""}]
[{"$f":"IF(LEN($B258),ROW(A250),\"\")","v":""},{"$f":"IFERROR(INDEX(Table2[FPPGroupCode],_xlfn.AGGREGATE(15,6,(ROW(Table2[FPPGroupCode])-2)/(Table2[DepoName]=$C$2)/(IF($C$3<>\"\",Table2[BULAN]=$C$3,TRUE))/(IF($C$4<>\"\",Table2[OFF/ON]=$C$4,TRUE))/(IF($C$5<>\"\",Table2[Status]=$C$5,TRUE))/(IF($C$6<>\"\",Table2[FPPDate]=$C$6,TRUE))/(IF($C$7<>\"\",Table2[ProposalCode]=$C$7,TRUE)),ROW(A250))),\"\")","v":""},{"$f":"IFERROR(VLOOKUP($B258,SIP!$D$3:$Q$12237,14,0),0)","v":0},{"$f":"IFERROR(INDEX(Table2[Activity],_xlfn.AGGREGATE(15,6,(ROW(Table2[FPPGroupCode])-2)/(Table2[DepoName]=$C$2)/(IF($C$3<>\"\",Table2[BULAN]=$C$3,TRUE))/(IF($C$4<>\"\",Table2[OFF/ON]=$C$4,TRUE))/(IF($C$5<>\"\",Table2[Status]=$C$5,TRUE))/(IF($C$6<>\"\",Table2[]=$C$6,TRUE))/(IF($C$7<>\"\",Table2[ProposalCode]=$C$7,TRUE)),ROW(B250))),\"\")","v":""},{"$f":"IFERROR(INDEX(Table2[Location],_xlfn.AGGREGATE(15,6,(ROW(Table2[FPPGroupCode])-2)/(Table2[DepoName]=$C$2)/(IF($C$3<>\"\",Table2[BULAN]=$C$3,TRUE))/(IF($C$4<>\"\",Table2[OFF/ON]=$C$4,TRUE))/(IF($C$5<>\"\",Table2[Status]=$C$5,TRUE))/(IF($C$6<>\"\",Table2[FPPDate]=$C$6,TRUE))/(IF($C$7<>\"\",Table2[ProposalCode]=$C$7,TRUE)),ROW(D250))),\"\")","v":""},{"$f":"IFERROR(INDEX(Table2[PeriodeStart],_xlfn.AGGREGATE(15,6,(ROW(Table2[FPPGroupCode])-2)/(Table2[DepoName]=$C$2)/(IF($C$3<>\"\",Table2[BULAN]=$C$3,TRUE))/(IF($C$4<>\"\",Table2[OFF/ON]=$C$4,TRUE))/(IF($C$5<>\"\",Table2[Status]=$C$5,TRUE))/(IF($C$6<>\"\",Table2[FPPDate]=$C$6,TRUE))/(IF($C$7<>\"\",Table2[ProposalCode]=$C$7,TRUE)),ROW(E250))),\"\")","v":""},{"$f":"IFERROR(INDEX(Table2[PeriodeEnd],_xlfn.AGGREGATE(15,6,(ROW(Table2[FPPGroupCode])-2)/(Table2[DepoName]=$C$2)/(IF($C$3<>\"\",Table2[BULAN]=$C$3,TRUE))/(IF($C$4<>\"\",Table2[OFF/ON]=$C$4,TRUE))/(IF($C$5<>\"\",Table2[Status]=$C$5,TRUE))/(IF($C$6<>\"\",Table2[FPPDate]=$C$6,TRUE))/(IF($C$7<>\"\",Table2[ProposalCode]=$C$7,TRUE)),ROW(F250))),\"\")","v":""},{"$f":"IFERROR(INDEX(Table2[Amount_FPPDepo],_xlfn.AGGREGATE(15,6,(ROW(Table2[FPPGroupCode])-2)/(Table2[DepoName]=$C$2)/(IF($C$3<>\"\",Table2[BULAN]=$C$3,TRUE))/(IF($C$4<>\"\",Table2[OFF/ON]=$C$4,TRUE))/(IF($C$5<>\"\",Table2[Status]=$C$5,TRUE))/(IF($C$6<>\"\",Table2[FPPDate]=$C$6,TRUE))/(IF($C$7<>\"\",Table2[ProposalCode]=$C$7,TRUE)),ROW(G250))),\"\")","v":""},{"$f":"IFERROR(VLOOKUP($B258,SIP!$D$5776:$P$6032,12,0),0)","v":0},{"$f":"IFERROR(H258-I258,0)","v":0},{"$f":"IFERROR(VLOOKUP($B258,SIP!$D$5776:$P$6032,8,0),0)","v":0},{"$f":"IFERROR(INDEX(Table2[OFF/ON],_xlfn.AGGREGATE(15,6,(ROW(Table2[FPPGroupCode])-2)/(Table2[DepoName]=$C$2)/(IF($C$3<>\"\",Table2[BULAN]=$C$3,TRUE))/(IF($C$4<>\"\",Table2[OFF/ON]=$C$4,TRUE))/(IF($C$5<>\"\",Table2[Status]=$C$5,TRUE))/(IF($C$6<>\"\",Table2[FPPDate]=$C$6,TRUE))/(IF($C$7<>\"\",Table2[ProposalCode]=$C$7,TRUE)),ROW(K250))),\"\")","v":""}]
[{"$f":"IF(LEN($B259),ROW(A251),\"\")","v":""},{"$f":"IFERROR(INDEX(Table2[FPPGroupCode],_xlfn.AGGREGATE(15,6,(ROW(Table2[FPPGroupCode])-2)/(Table2[DepoName]=$C$2)/(IF($C$3<>\"\",Table2[BULAN]=$C$3,TRUE))/(IF($C$4<>\"\",Table2[OFF/ON]=$C$4,TRUE))/(IF($C$5<>\"\",Table2[Status]=$C$5,TRUE))/(IF($C$6<>\"\",Table2[FPPDate]=$C$6,TRUE))/(IF($C$7<>\"\",Table2[ProposalCode]=$C$7,TRUE)),ROW(A251))),\"\")","v":""},{"$f":"IFERROR(VLOOKUP($B259,SIP!$D$3:$Q$12237,14,0),0)","v":0},{"$f":"IFERROR(INDEX(Table2[Activity],_xlfn.AGGREGATE(15,6,(ROW(Table2[FPPGroupCode])-2)/(Table2[DepoName]=$C$2)/(IF($C$3<>\"\",Table2[BULAN]=$C$3,TRUE))/(IF($C$4<>\"\",Table2[OFF/ON]=$C$4,TRUE))/(IF($C$5<>\"\",Table2[Status]=$C$5,TRUE))/(IF($C$6<>\"\",Table2[]=$C$6,TRUE))/(IF($C$7<>\"\",Table2[ProposalCode]=$C$7,TRUE)),ROW(B251))),\"\")","v":""},{"$f":"IFERROR(INDEX(Table2[Location],_xlfn.AGGREGATE(15,6,(ROW(Table2[FPPGroupCode])-2)/(Table2[DepoName]=$C$2)/(IF($C$3<>\"\",Table2[BULAN]=$C$3,TRUE))/(IF($C$4<>\"\",Table2[OFF/ON]=$C$4,TRUE))/(IF($C$5<>\"\",Table2[Status]=$C$5,TRUE))/(IF($C$6<>\"\",Table2[FPPDate]=$C$6,TRUE))/(IF($C$7<>\"\",Table2[ProposalCode]=$C$7,TRUE)),ROW(D251))),\"\")","v":""},{"$f":"IFERROR(INDEX(Table2[PeriodeStart],_xlfn.AGGREGATE(15,6,(ROW(Table2[FPPGroupCode])-2)/(Table2[DepoName]=$C$2)/(IF($C$3<>\"\",Table2[BULAN]=$C$3,TRUE))/(IF($C$4<>\"\",Table2[OFF/ON]=$C$4,TRUE))/(IF($C$5<>\"\",Table2[Status]=$C$5,TRUE))/(IF($C$6<>\"\",Table2[FPPDate]=$C$6,TRUE))/(IF($C$7<>\"\",Table2[ProposalCode]=$C$7,TRUE)),ROW(E251))),\"\")","v":""},{"$f":"IFERROR(INDEX(Table2[PeriodeEnd],_xlfn.AGGREGATE(15,6,(ROW(Table2[FPPGroupCode])-2)/(Table2[DepoName]=$C$2)/(IF($C$3<>\"\",Table2[BULAN]=$C$3,TRUE))/(IF($C$4<>\"\",Table2[OFF/ON]=$C$4,TRUE))/(IF($C$5<>\"\",Table2[Status]=$C$5,TRUE))/(IF($C$6<>\"\",Table2[FPPDate]=$C$6,TRUE))/(IF($C$7<>\"\",Table2[ProposalCode]=$C$7,TRUE)),ROW(F251))),\"\")","v":""},{"$f":"IFERROR(INDEX(Table2[Amount_FPPDepo],_xlfn.AGGREGATE(15,6,(ROW(Table2[FPPGroupCode])-2)/(Table2[DepoName]=$C$2)/(IF($C$3<>\"\",Table2[BULAN]=$C$3,TRUE))/(IF($C$4<>\"\",Table2[OFF/ON]=$C$4,TRUE))/(IF($C$5<>\"\",Table2[Status]=$C$5,TRUE))/(IF($C$6<>\"\",Table2[FPPDate]=$C$6,TRUE))/(IF($C$7<>\"\",Table2[ProposalCode]=$C$7,TRUE)),ROW(G251))),\"\")","v":""},{"$f":"IFERROR(VLOOKUP($B259,SIP!$D$5776:$P$6032,12,0),0)","v":0},{"$f":"IFERROR(H259-I259,0)","v":0},{"$f":"IFERROR(VLOOKUP($B259,SIP!$D$5776:$P$6032,8,0),0)","v":0},{"$f":"IFERROR(INDEX(Table2[OFF/ON],_xlfn.AGGREGATE(15,6,(ROW(Table2[FPPGroupCode])-2)/(Table2[DepoName]=$C$2)/(IF($C$3<>\"\",Table2[BULAN]=$C$3,TRUE))/(IF($C$4<>\"\",Table2[OFF/ON]=$C$4,TRUE))/(IF($C$5<>\"\",Table2[Status]=$C$5,TRUE))/(IF($C$6<>\"\",Table2[FPPDate]=$C$6,TRUE))/(IF($C$7<>\"\",Table2[ProposalCode]=$C$7,TRUE)),ROW(K251))),\"\")","v":""}]
[{"$f":"IF(LEN($B260),ROW(A252),\"\")","v":""},{"$f":"IFERROR(INDEX(Table2[FPPGroupCode],_xlfn.AGGREGATE(15,6,(ROW(Table2[FPPGroupCode])-2)/(Table2[DepoName]=$C$2)/(IF($C$3<>\"\",Table2[BULAN]=$C$3,TRUE))/(IF($C$4<>\"\",Table2[OFF/ON]=$C$4,TRUE))/(IF($C$5<>\"\",Table2[Status]=$C$5,TRUE))/(IF($C$6<>\"\",Table2[FPPDate]=$C$6,TRUE))/(IF($C$7<>\"\",Table2[ProposalCode]=$C$7,TRUE)),ROW(A252))),\"\")","v":""},{"$f":"IFERROR(VLOOKUP($B260,SIP!$D$3:$Q$12237,14,0),0)","v":0},{"$f":"IFERROR(INDEX(Table2[Activity],_xlfn.AGGREGATE(15,6,(ROW(Table2[FPPGroupCode])-2)/(Table2[DepoName]=$C$2)/(IF($C$3<>\"\",Table2[BULAN]=$C$3,TRUE))/(IF($C$4<>\"\",Table2[OFF/ON]=$C$4,TRUE))/(IF($C$5<>\"\",Table2[Status]=$C$5,TRUE))/(IF($C$6<>\"\",Table2[]=$C$6,TRUE))/(IF($C$7<>\"\",Table2[ProposalCode]=$C$7,TRUE)),ROW(B252))),\"\")","v":""},{"$f":"IFERROR(INDEX(Table2[Location],_xlfn.AGGREGATE(15,6,(ROW(Table2[FPPGroupCode])-2)/(Table2[DepoName]=$C$2)/(IF($C$3<>\"\",Table2[BULAN]=$C$3,TRUE))/(IF($C$4<>\"\",Table2[OFF/ON]=$C$4,TRUE))/(IF($C$5<>\"\",Table2[Status]=$C$5,TRUE))/(IF($C$6<>\"\",Table2[FPPDate]=$C$6,TRUE))/(IF($C$7<>\"\",Table2[ProposalCode]=$C$7,TRUE)),ROW(D252))),\"\")","v":""},{"$f":"IFERROR(INDEX(Table2[PeriodeStart],_xlfn.AGGREGATE(15,6,(ROW(Table2[FPPGroupCode])-2)/(Table2[DepoName]=$C$2)/(IF($C$3<>\"\",Table2[BULAN]=$C$3,TRUE))/(IF($C$4<>\"\",Table2[OFF/ON]=$C$4,TRUE))/(IF($C$5<>\"\",Table2[Status]=$C$5,TRUE))/(IF($C$6<>\"\",Table2[FPPDate]=$C$6,TRUE))/(IF($C$7<>\"\",Table2[ProposalCode]=$C$7,TRUE)),ROW(E252))),\"\")","v":""},{"$f":"IFERROR(INDEX(Table2[PeriodeEnd],_xlfn.AGGREGATE(15,6,(ROW(Table2[FPPGroupCode])-2)/(Table2[DepoName]=$C$2)/(IF($C$3<>\"\",Table2[BULAN]=$C$3,TRUE))/(IF($C$4<>\"\",Table2[OFF/ON]=$C$4,TRUE))/(IF($C$5<>\"\",Table2[Status]=$C$5,TRUE))/(IF($C$6<>\"\",Table2[FPPDate]=$C$6,TRUE))/(IF($C$7<>\"\",Table2[ProposalCode]=$C$7,TRUE)),ROW(F252))),\"\")","v":""},{"$f":"IFERROR(INDEX(Table2[Amount_FPPDepo],_xlfn.AGGREGATE(15,6,(ROW(Table2[FPPGroupCode])-2)/(Table2[DepoName]=$C$2)/(IF($C$3<>\"\",Table2[BULAN]=$C$3,TRUE))/(IF($C$4<>\"\",Table2[OFF/ON]=$C$4,TRUE))/(IF($C$5<>\"\",Table2[Status]=$C$5,TRUE))/(IF($C$6<>\"\",Table2[FPPDate]=$C$6,TRUE))/(IF($C$7<>\"\",Table2[ProposalCode]=$C$7,TRUE)),ROW(G252))),\"\")","v":""},{"$f":"IFERROR(VLOOKUP($B260,SIP!$D$5776:$P$6032,12,0),0)","v":0},{"$f":"IFERROR(H260-I260,0)","v":0},{"$f":"IFERROR(VLOOKUP($B260,SIP!$D$5776:$P$6032,8,0),0)","v":0},{"$f":"IFERROR(INDEX(Table2[OFF/ON],_xlfn.AGGREGATE(15,6,(ROW(Table2[FPPGroupCode])-2)/(Table2[DepoName]=$C$2)/(IF($C$3<>\"\",Table2[BULAN]=$C$3,TRUE))/(IF($C$4<>\"\",Table2[OFF/ON]=$C$4,TRUE))/(IF($C$5<>\"\",Table2[Status]=$C$5,TRUE))/(IF($C$6<>\"\",Table2[FPPDate]=$C$6,TRUE))/(IF($C$7<>\"\",Table2[ProposalCode]=$C$7,TRUE)),ROW(K252))),\"\")","v":""}]
[{"$f":"IF(LEN($B261),ROW(A253),\"\")","v":""},{"$f":"IFERROR(INDEX(Table2[FPPGroupCode],_xlfn.AGGREGATE(15,6,(ROW(Table2[FPPGroupCode])-2)/(Table2[DepoName]=$C$2)/(IF($C$3<>\"\",Table2[BULAN]=$C$3,TRUE))/(IF($C$4<>\"\",Table2[OFF/ON]=$C$4,TRUE))/(IF($C$5<>\"\",Table2[Status]=$C$5,TRUE))/(IF($C$6<>\"\",Table2[FPPDate]=$C$6,TRUE))/(IF($C$7<>\"\",Table2[ProposalCode]=$C$7,TRUE)),ROW(A253))),\"\")","v":""},{"$f":"IFERROR(VLOOKUP($B261,SIP!$D$3:$Q$12237,14,0),0)","v":0},{"$f":"IFERROR(INDEX(Table2[Activity],_xlfn.AGGREGATE(15,6,(ROW(Table2[FPPGroupCode])-2)/(Table2[DepoName]=$C$2)/(IF($C$3<>\"\",Table2[BULAN]=$C$3,TRUE))/(IF($C$4<>\"\",Table2[OFF/ON]=$C$4,TRUE))/(IF($C$5<>\"\",Table2[Status]=$C$5,TRUE))/(IF($C$6<>\"\",Table2[]=$C$6,TRUE))/(IF($C$7<>\"\",Table2[ProposalCode]=$C$7,TRUE)),ROW(B253))),\"\")","v":""},{"$f":"IFERROR(INDEX(Table2[Location],_xlfn.AGGREGATE(15,6,(ROW(Table2[FPPGroupCode])-2)/(Table2[DepoName]=$C$2)/(IF($C$3<>\"\",Table2[BULAN]=$C$3,TRUE))/(IF($C$4<>\"\",Table2[OFF/ON]=$C$4,TRUE))/(IF($C$5<>\"\",Table2[Status]=$C$5,TRUE))/(IF($C$6<>\"\",Table2[FPPDate]=$C$6,TRUE))/(IF($C$7<>\"\",Table2[ProposalCode]=$C$7,TRUE)),ROW(D253))),\"\")","v":""},{"$f":"IFERROR(INDEX(Table2[PeriodeStart],_xlfn.AGGREGATE(15,6,(ROW(Table2[FPPGroupCode])-2)/(Table2[DepoName]=$C$2)/(IF($C$3<>\"\",Table2[BULAN]=$C$3,TRUE))/(IF($C$4<>\"\",Table2[OFF/ON]=$C$4,TRUE))/(IF($C$5<>\"\",Table2[Status]=$C$5,TRUE))/(IF($C$6<>\"\",Table2[FPPDate]=$C$6,TRUE))/(IF($C$7<>\"\",Table2[ProposalCode]=$C$7,TRUE)),ROW(E253))),\"\")","v":""},{"$f":"IFERROR(INDEX(Table2[PeriodeEnd],_xlfn.AGGREGATE(15,6,(ROW(Table2[FPPGroupCode])-2)/(Table2[DepoName]=$C$2)/(IF($C$3<>\"\",Table2[BULAN]=$C$3,TRUE))/(IF($C$4<>\"\",Table2[OFF/ON]=$C$4,TRUE))/(IF($C$5<>\"\",Table2[Status]=$C$5,TRUE))/(IF($C$6<>\"\",Table2[FPPDate]=$C$6,TRUE))/(IF($C$7<>\"\",Table2[ProposalCode]=$C$7,TRUE)),ROW(F253))),\"\")","v":""},{"$f":"IFERROR(INDEX(Table2[Amount_FPPDepo],_xlfn.AGGREGATE(15,6,(ROW(Table2[FPPGroupCode])-2)/(Table2[DepoName]=$C$2)/(IF($C$3<>\"\",Table2[BULAN]=$C$3,TRUE))/(IF($C$4<>\"\",Table2[OFF/ON]=$C$4,TRUE))/(IF($C$5<>\"\",Table2[Status]=$C$5,TRUE))/(IF($C$6<>\"\",Table2[FPPDate]=$C$6,TRUE))/(IF($C$7<>\"\",Table2[ProposalCode]=$C$7,TRUE)),ROW(G253))),\"\")","v":""},{"$f":"IFERROR(VLOOKUP($B261,SIP!$D$5776:$P$6032,12,0),0)","v":0},{"$f":"IFERROR(H261-I261,0)","v":0},{"$f":"IFERROR(VLOOKUP($B261,SIP!$D$5776:$P$6032,8,0),0)","v":0},{"$f":"IFERROR(INDEX(Table2[OFF/ON],_xlfn.AGGREGATE(15,6,(ROW(Table2[FPPGroupCode])-2)/(Table2[DepoName]=$C$2)/(IF($C$3<>\"\",Table2[BULAN]=$C$3,TRUE))/(IF($C$4<>\"\",Table2[OFF/ON]=$C$4,TRUE))/(IF($C$5<>\"\",Table2[Status]=$C$5,TRUE))/(IF($C$6<>\"\",Table2[FPPDate]=$C$6,TRUE))/(IF($C$7<>\"\",Table2[ProposalCode]=$C$7,TRUE)),ROW(K253))),\"\")","v":""}]
[{"$f":"IF(LEN($B262),ROW(A254),\"\")","v":""},{"$f":"IFERROR(INDEX(Table2[FPPGroupCode],_xlfn.AGGREGATE(15,6,(ROW(Table2[FPPGroupCode])-2)/(Table2[DepoName]=$C$2)/(IF($C$3<>\"\",Table2[BULAN]=$C$3,TRUE))/(IF($C$4<>\"\",Table2[OFF/ON]=$C$4,TRUE))/(IF($C$5<>\"\",Table2[Status]=$C$5,TRUE))/(IF($C$6<>\"\",Table2[FPPDate]=$C$6,TRUE))/(IF($C$7<>\"\",Table2[ProposalCode]=$C$7,TRUE)),ROW(A254))),\"\")","v":""},{"$f":"IFERROR(VLOOKUP($B262,SIP!$D$3:$Q$12237,14,0),0)","v":0},{"$f":"IFERROR(INDEX(Table2[Activity],_xlfn.AGGREGATE(15,6,(ROW(Table2[FPPGroupCode])-2)/(Table2[DepoName]=$C$2)/(IF($C$3<>\"\",Table2[BULAN]=$C$3,TRUE))/(IF($C$4<>\"\",Table2[OFF/ON]=$C$4,TRUE))/(IF($C$5<>\"\",Table2[Status]=$C$5,TRUE))/(IF($C$6<>\"\",Table2[]=$C$6,TRUE))/(IF($C$7<>\"\",Table2[ProposalCode]=$C$7,TRUE)),ROW(B254))),\"\")","v":""},{"$f":"IFERROR(INDEX(Table2[Location],_xlfn.AGGREGATE(15,6,(ROW(Table2[FPPGroupCode])-2)/(Table2[DepoName]=$C$2)/(IF($C$3<>\"\",Table2[BULAN]=$C$3,TRUE))/(IF($C$4<>\"\",Table2[OFF/ON]=$C$4,TRUE))/(IF($C$5<>\"\",Table2[Status]=$C$5,TRUE))/(IF($C$6<>\"\",Table2[FPPDate]=$C$6,TRUE))/(IF($C$7<>\"\",Table2[ProposalCode]=$C$7,TRUE)),ROW(D254))),\"\")","v":""},{"$f":"IFERROR(INDEX(Table2[PeriodeStart],_xlfn.AGGREGATE(15,6,(ROW(Table2[FPPGroupCode])-2)/(Table2[DepoName]=$C$2)/(IF($C$3<>\"\",Table2[BULAN]=$C$3,TRUE))/(IF($C$4<>\"\",Table2[OFF/ON]=$C$4,TRUE))/(IF($C$5<>\"\",Table2[Status]=$C$5,TRUE))/(IF($C$6<>\"\",Table2[FPPDate]=$C$6,TRUE))/(IF($C$7<>\"\",Table2[ProposalCode]=$C$7,TRUE)),ROW(E254))),\"\")","v":""},{"$f":"IFERROR(INDEX(Table2[PeriodeEnd],_xlfn.AGGREGATE(15,6,(ROW(Table2[FPPGroupCode])-2)/(Table2[DepoName]=$C$2)/(IF($C$3<>\"\",Table2[BULAN]=$C$3,TRUE))/(IF($C$4<>\"\",Table2[OFF/ON]=$C$4,TRUE))/(IF($C$5<>\"\",Table2[Status]=$C$5,TRUE))/(IF($C$6<>\"\",Table2[FPPDate]=$C$6,TRUE))/(IF($C$7<>\"\",Table2[ProposalCode]=$C$7,TRUE)),ROW(F254))),\"\")","v":""},{"$f":"IFERROR(INDEX(Table2[Amount_FPPDepo],_xlfn.AGGREGATE(15,6,(ROW(Table2[FPPGroupCode])-2)/(Table2[DepoName]=$C$2)/(IF($C$3<>\"\",Table2[BULAN]=$C$3,TRUE))/(IF($C$4<>\"\",Table2[OFF/ON]=$C$4,TRUE))/(IF($C$5<>\"\",Table2[Status]=$C$5,TRUE))/(IF($C$6<>\"\",Table2[FPPDate]=$C$6,TRUE))/(IF($C$7<>\"\",Table2[ProposalCode]=$C$7,TRUE)),ROW(G254))),\"\")","v":""},{"$f":"IFERROR(VLOOKUP($B262,SIP!$D$5776:$P$6032,12,0),0)","v":0},{"$f":"IFERROR(H262-I262,0)","v":0},{"$f":"IFERROR(VLOOKUP($B262,SIP!$D$5776:$P$6032,8,0),0)","v":0},{"$f":"IFERROR(INDEX(Table2[OFF/ON],_xlfn.AGGREGATE(15,6,(ROW(Table2[FPPGroupCode])-2)/(Table2[DepoName]=$C$2)/(IF($C$3<>\"\",Table2[BULAN]=$C$3,TRUE))/(IF($C$4<>\"\",Table2[OFF/ON]=$C$4,TRUE))/(IF($C$5<>\"\",Table2[Status]=$C$5,TRUE))/(IF($C$6<>\"\",Table2[FPPDate]=$C$6,TRUE))/(IF($C$7<>\"\",Table2[ProposalCode]=$C$7,TRUE)),ROW(K254))),\"\")","v":""}]
[{"$f":"IF(LEN($B263),ROW(A255),\"\")","v":""},{"$f":"IFERROR(INDEX(Table2[FPPGroupCode],_xlfn.AGGREGATE(15,6,(ROW(Table2[FPPGroupCode])-2)/(Table2[DepoName]=$C$2)/(IF($C$3<>\"\",Table2[BULAN]=$C$3,TRUE))/(IF($C$4<>\"\",Table2[OFF/ON]=$C$4,TRUE))/(IF($C$5<>\"\",Table2[Status]=$C$5,TRUE))/(IF($C$6<>\"\",Table2[FPPDate]=$C$6,TRUE))/(IF($C$7<>\"\",Table2[ProposalCode]=$C$7,TRUE)),ROW(A255))),\"\")","v":""},{"$f":"IFERROR(VLOOKUP($B263,SIP!$D$3:$Q$12237,14,0),0)","v":0},{"$f":"IFERROR(INDEX(Table2[Activity],_xlfn.AGGREGATE(15,6,(ROW(Table2[FPPGroupCode])-2)/(Table2[DepoName]=$C$2)/(IF($C$3<>\"\",Table2[BULAN]=$C$3,TRUE))/(IF($C$4<>\"\",Table2[OFF/ON]=$C$4,TRUE))/(IF($C$5<>\"\",Table2[Status]=$C$5,TRUE))/(IF($C$6<>\"\",Table2[]=$C$6,TRUE))/(IF($C$7<>\"\",Table2[ProposalCode]=$C$7,TRUE)),ROW(B255))),\"\")","v":""},{"$f":"IFERROR(INDEX(Table2[Location],_xlfn.AGGREGATE(15,6,(ROW(Table2[FPPGroupCode])-2)/(Table2[DepoName]=$C$2)/(IF($C$3<>\"\",Table2[BULAN]=$C$3,TRUE))/(IF($C$4<>\"\",Table2[OFF/ON]=$C$4,TRUE))/(IF($C$5<>\"\",Table2[Status]=$C$5,TRUE))/(IF($C$6<>\"\",Table2[FPPDate]=$C$6,TRUE))/(IF($C$7<>\"\",Table2[ProposalCode]=$C$7,TRUE)),ROW(D255))),\"\")","v":""},{"$f":"IFERROR(INDEX(Table2[PeriodeStart],_xlfn.AGGREGATE(15,6,(ROW(Table2[FPPGroupCode])-2)/(Table2[DepoName]=$C$2)/(IF($C$3<>\"\",Table2[BULAN]=$C$3,TRUE))/(IF($C$4<>\"\",Table2[OFF/ON]=$C$4,TRUE))/(IF($C$5<>\"\",Table2[Status]=$C$5,TRUE))/(IF($C$6<>\"\",Table2[FPPDate]=$C$6,TRUE))/(IF($C$7<>\"\",Table2[ProposalCode]=$C$7,TRUE)),ROW(E255))),\"\")","v":""},{"$f":"IFERROR(INDEX(Table2[PeriodeEnd],_xlfn.AGGREGATE(15,6,(ROW(Table2[FPPGroupCode])-2)/(Table2[DepoName]=$C$2)/(IF($C$3<>\"\",Table2[BULAN]=$C$3,TRUE))/(IF($C$4<>\"\",Table2[OFF/ON]=$C$4,TRUE))/(IF($C$5<>\"\",Table2[Status]=$C$5,TRUE))/(IF($C$6<>\"\",Table2[FPPDate]=$C$6,TRUE))/(IF($C$7<>\"\",Table2[ProposalCode]=$C$7,TRUE)),ROW(F255))),\"\")","v":""},{"$f":"IFERROR(INDEX(Table2[Amount_FPPDepo],_xlfn.AGGREGATE(15,6,(ROW(Table2[FPPGroupCode])-2)/(Table2[DepoName]=$C$2)/(IF($C$3<>\"\",Table2[BULAN]=$C$3,TRUE))/(IF($C$4<>\"\",Table2[OFF/ON]=$C$4,TRUE))/(IF($C$5<>\"\",Table2[Status]=$C$5,TRUE))/(IF($C$6<>\"\",Table2[FPPDate]=$C$6,TRUE))/(IF($C$7<>\"\",Table2[ProposalCode]=$C$7,TRUE)),ROW(G255))),\"\")","v":""},{"$f":"IFERROR(VLOOKUP($B263,SIP!$D$5776:$P$6032,12,0),0)","v":0},{"$f":"IFERROR(H263-I263,0)","v":0},{"$f":"IFERROR(VLOOKUP($B263,SIP!$D$5776:$P$6032,8,0),0)","v":0},{"$f":"IFERROR(INDEX(Table2[OFF/ON],_xlfn.AGGREGATE(15,6,(ROW(Table2[FPPGroupCode])-2)/(Table2[DepoName]=$C$2)/(IF($C$3<>\"\",Table2[BULAN]=$C$3,TRUE))/(IF($C$4<>\"\",Table2[OFF/ON]=$C$4,TRUE))/(IF($C$5<>\"\",Table2[Status]=$C$5,TRUE))/(IF($C$6<>\"\",Table2[FPPDate]=$C$6,TRUE))/(IF($C$7<>\"\",Table2[ProposalCode]=$C$7,TRUE)),ROW(K255))),\"\")","v":""}]
[{"$f":"IF(LEN($B264),ROW(A256),\"\")","v":""},{"$f":"IFERROR(INDEX(Table2[FPPGroupCode],_xlfn.AGGREGATE(15,6,(ROW(Table2[FPPGroupCode])-2)/(Table2[DepoName]=$C$2)/(IF($C$3<>\"\",Table2[BULAN]=$C$3,TRUE))/(IF($C$4<>\"\",Table2[OFF/ON]=$C$4,TRUE))/(IF($C$5<>\"\",Table2[Status]=$C$5,TRUE))/(IF($C$6<>\"\",Table2[FPPDate]=$C$6,TRUE))/(IF($C$7<>\"\",Table2[ProposalCode]=$C$7,TRUE)),ROW(A256))),\"\")","v":""},{"$f":"IFERROR(VLOOKUP($B264,SIP!$D$3:$Q$12237,14,0),0)","v":0},{"$f":"IFERROR(INDEX(Table2[Activity],_xlfn.AGGREGATE(15,6,(ROW(Table2[FPPGroupCode])-2)/(Table2[DepoName]=$C$2)/(IF($C$3<>\"\",Table2[BULAN]=$C$3,TRUE))/(IF($C$4<>\"\",Table2[OFF/ON]=$C$4,TRUE))/(IF($C$5<>\"\",Table2[Status]=$C$5,TRUE))/(IF($C$6<>\"\",Table2[]=$C$6,TRUE))/(IF($C$7<>\"\",Table2[ProposalCode]=$C$7,TRUE)),ROW(B256))),\"\")","v":""},{"$f":"IFERROR(INDEX(Table2[Location],_xlfn.AGGREGATE(15,6,(ROW(Table2[FPPGroupCode])-2)/(Table2[DepoName]=$C$2)/(IF($C$3<>\"\",Table2[BULAN]=$C$3,TRUE))/(IF($C$4<>\"\",Table2[OFF/ON]=$C$4,TRUE))/(IF($C$5<>\"\",Table2[Status]=$C$5,TRUE))/(IF($C$6<>\"\",Table2[FPPDate]=$C$6,TRUE))/(IF($C$7<>\"\",Table2[ProposalCode]=$C$7,TRUE)),ROW(D256))),\"\")","v":""},{"$f":"IFERROR(INDEX(Table2[PeriodeStart],_xlfn.AGGREGATE(15,6,(ROW(Table2[FPPGroupCode])-2)/(Table2[DepoName]=$C$2)/(IF($C$3<>\"\",Table2[BULAN]=$C$3,TRUE))/(IF($C$4<>\"\",Table2[OFF/ON]=$C$4,TRUE))/(IF($C$5<>\"\",Table2[Status]=$C$5,TRUE))/(IF($C$6<>\"\",Table2[FPPDate]=$C$6,TRUE))/(IF($C$7<>\"\",Table2[ProposalCode]=$C$7,TRUE)),ROW(E256))),\"\")","v":""},{"$f":"IFERROR(INDEX(Table2[PeriodeEnd],_xlfn.AGGREGATE(15,6,(ROW(Table2[FPPGroupCode])-2)/(Table2[DepoName]=$C$2)/(IF($C$3<>\"\",Table2[BULAN]=$C$3,TRUE))/(IF($C$4<>\"\",Table2[OFF/ON]=$C$4,TRUE))/(IF($C$5<>\"\",Table2[Status]=$C$5,TRUE))/(IF($C$6<>\"\",Table2[FPPDate]=$C$6,TRUE))/(IF($C$7<>\"\",Table2[ProposalCode]=$C$7,TRUE)),ROW(F256))),\"\")","v":""},{"$f":"IFERROR(INDEX(Table2[Amount_FPPDepo],_xlfn.AGGREGATE(15,6,(ROW(Table2[FPPGroupCode])-2)/(Table2[DepoName]=$C$2)/(IF($C$3<>\"\",Table2[BULAN]=$C$3,TRUE))/(IF($C$4<>\"\",Table2[OFF/ON]=$C$4,TRUE))/(IF($C$5<>\"\",Table2[Status]=$C$5,TRUE))/(IF($C$6<>\"\",Table2[FPPDate]=$C$6,TRUE))/(IF($C$7<>\"\",Table2[ProposalCode]=$C$7,TRUE)),ROW(G256))),\"\")","v":""},{"$f":"IFERROR(VLOOKUP($B264,SIP!$D$5776:$P$6032,12,0),0)","v":0},{"$f":"IFERROR(H264-I264,0)","v":0},{"$f":"IFERROR(VLOOKUP($B264,SIP!$D$5776:$P$6032,8,0),0)","v":0},{"$f":"IFERROR(INDEX(Table2[OFF/ON],_xlfn.AGGREGATE(15,6,(ROW(Table2[FPPGroupCode])-2)/(Table2[DepoName]=$C$2)/(IF($C$3<>\"\",Table2[BULAN]=$C$3,TRUE))/(IF($C$4<>\"\",Table2[OFF/ON]=$C$4,TRUE))/(IF($C$5<>\"\",Table2[Status]=$C$5,TRUE))/(IF($C$6<>\"\",Table2[FPPDate]=$C$6,TRUE))/(IF($C$7<>\"\",Table2[ProposalCode]=$C$7,TRUE)),ROW(K256))),\"\")","v":""}]
[{"$f":"IF(LEN($B265),ROW(A257),\"\")","v":""},{"$f":"IFERROR(INDEX(Table2[FPPGroupCode],_xlfn.AGGREGATE(15,6,(ROW(Table2[FPPGroupCode])-2)/(Table2[DepoName]=$C$2)/(IF($C$3<>\"\",Table2[BULAN]=$C$3,TRUE))/(IF($C$4<>\"\",Table2[OFF/ON]=$C$4,TRUE))/(IF($C$5<>\"\",Table2[Status]=$C$5,TRUE))/(IF($C$6<>\"\",Table2[FPPDate]=$C$6,TRUE))/(IF($C$7<>\"\",Table2[ProposalCode]=$C$7,TRUE)),ROW(A257))),\"\")","v":""},{"$f":"IFERROR(VLOOKUP($B265,SIP!$D$3:$Q$12237,14,0),0)","v":0},{"$f":"IFERROR(INDEX(Table2[Activity],_xlfn.AGGREGATE(15,6,(ROW(Table2[FPPGroupCode])-2)/(Table2[DepoName]=$C$2)/(IF($C$3<>\"\",Table2[BULAN]=$C$3,TRUE))/(IF($C$4<>\"\",Table2[OFF/ON]=$C$4,TRUE))/(IF($C$5<>\"\",Table2[Status]=$C$5,TRUE))/(IF($C$6<>\"\",Table2[]=$C$6,TRUE))/(IF($C$7<>\"\",Table2[ProposalCode]=$C$7,TRUE)),ROW(B257))),\"\")","v":""},{"$f":"IFERROR(INDEX(Table2[Location],_xlfn.AGGREGATE(15,6,(ROW(Table2[FPPGroupCode])-2)/(Table2[DepoName]=$C$2)/(IF($C$3<>\"\",Table2[BULAN]=$C$3,TRUE))/(IF($C$4<>\"\",Table2[OFF/ON]=$C$4,TRUE))/(IF($C$5<>\"\",Table2[Status]=$C$5,TRUE))/(IF($C$6<>\"\",Table2[FPPDate]=$C$6,TRUE))/(IF($C$7<>\"\",Table2[ProposalCode]=$C$7,TRUE)),ROW(D257))),\"\")","v":""},{"$f":"IFERROR(INDEX(Table2[PeriodeStart],_xlfn.AGGREGATE(15,6,(ROW(Table2[FPPGroupCode])-2)/(Table2[DepoName]=$C$2)/(IF($C$3<>\"\",Table2[BULAN]=$C$3,TRUE))/(IF($C$4<>\"\",Table2[OFF/ON]=$C$4,TRUE))/(IF($C$5<>\"\",Table2[Status]=$C$5,TRUE))/(IF($C$6<>\"\",Table2[FPPDate]=$C$6,TRUE))/(IF($C$7<>\"\",Table2[ProposalCode]=$C$7,TRUE)),ROW(E257))),\"\")","v":""},{"$f":"IFERROR(INDEX(Table2[PeriodeEnd],_xlfn.AGGREGATE(15,6,(ROW(Table2[FPPGroupCode])-2)/(Table2[DepoName]=$C$2)/(IF($C$3<>\"\",Table2[BULAN]=$C$3,TRUE))/(IF($C$4<>\"\",Table2[OFF/ON]=$C$4,TRUE))/(IF($C$5<>\"\",Table2[Status]=$C$5,TRUE))/(IF($C$6<>\"\",Table2[FPPDate]=$C$6,TRUE))/(IF($C$7<>\"\",Table2[ProposalCode]=$C$7,TRUE)),ROW(F257))),\"\")","v":""},{"$f":"IFERROR(INDEX(Table2[Amount_FPPDepo],_xlfn.AGGREGATE(15,6,(ROW(Table2[FPPGroupCode])-2)/(Table2[DepoName]=$C$2)/(IF($C$3<>\"\",Table2[BULAN]=$C$3,TRUE))/(IF($C$4<>\"\",Table2[OFF/ON]=$C$4,TRUE))/(IF($C$5<>\"\",Table2[Status]=$C$5,TRUE))/(IF($C$6<>\"\",Table2[FPPDate]=$C$6,TRUE))/(IF($C$7<>\"\",Table2[ProposalCode]=$C$7,TRUE)),ROW(G257))),\"\")","v":""},{"$f":"IFERROR(VLOOKUP($B265,SIP!$D$5776:$P$6032,12,0),0)","v":0},{"$f":"IFERROR(H265-I265,0)","v":0},{"$f":"IFERROR(VLOOKUP($B265,SIP!$D$5776:$P$6032,8,0),0)","v":0},{"$f":"IFERROR(INDEX(Table2[OFF/ON],_xlfn.AGGREGATE(15,6,(ROW(Table2[FPPGroupCode])-2)/(Table2[DepoName]=$C$2)/(IF($C$3<>\"\",Table2[BULAN]=$C$3,TRUE))/(IF($C$4<>\"\",Table2[OFF/ON]=$C$4,TRUE))/(IF($C$5<>\"\",Table2[Status]=$C$5,TRUE))/(IF($C$6<>\"\",Table2[FPPDate]=$C$6,TRUE))/(IF($C$7<>\"\",Table2[ProposalCode]=$C$7,TRUE)),ROW(K257))),\"\")","v":""}]
[{"$f":"IF(LEN($B266),ROW(A258),\"\")","v":""},{"$f":"IFERROR(INDEX(Table2[FPPGroupCode],_xlfn.AGGREGATE(15,6,(ROW(Table2[FPPGroupCode])-2)/(Table2[DepoName]=$C$2)/(IF($C$3<>\"\",Table2[BULAN]=$C$3,TRUE))/(IF($C$4<>\"\",Table2[OFF/ON]=$C$4,TRUE))/(IF($C$5<>\"\",Table2[Status]=$C$5,TRUE))/(IF($C$6<>\"\",Table2[FPPDate]=$C$6,TRUE))/(IF($C$7<>\"\",Table2[ProposalCode]=$C$7,TRUE)),ROW(A258))),\"\")","v":""},{"$f":"IFERROR(VLOOKUP($B266,SIP!$D$3:$Q$12237,14,0),0)","v":0},{"$f":"IFERROR(INDEX(Table2[Activity],_xlfn.AGGREGATE(15,6,(ROW(Table2[FPPGroupCode])-2)/(Table2[DepoName]=$C$2)/(IF($C$3<>\"\",Table2[BULAN]=$C$3,TRUE))/(IF($C$4<>\"\",Table2[OFF/ON]=$C$4,TRUE))/(IF($C$5<>\"\",Table2[Status]=$C$5,TRUE))/(IF($C$6<>\"\",Table2[]=$C$6,TRUE))/(IF($C$7<>\"\",Table2[ProposalCode]=$C$7,TRUE)),ROW(B258))),\"\")","v":""},{"$f":"IFERROR(INDEX(Table2[Location],_xlfn.AGGREGATE(15,6,(ROW(Table2[FPPGroupCode])-2)/(Table2[DepoName]=$C$2)/(IF($C$3<>\"\",Table2[BULAN]=$C$3,TRUE))/(IF($C$4<>\"\",Table2[OFF/ON]=$C$4,TRUE))/(IF($C$5<>\"\",Table2[Status]=$C$5,TRUE))/(IF($C$6<>\"\",Table2[FPPDate]=$C$6,TRUE))/(IF($C$7<>\"\",Table2[ProposalCode]=$C$7,TRUE)),ROW(D258))),\"\")","v":""},{"$f":"IFERROR(INDEX(Table2[PeriodeStart],_xlfn.AGGREGATE(15,6,(ROW(Table2[FPPGroupCode])-2)/(Table2[DepoName]=$C$2)/(IF($C$3<>\"\",Table2[BULAN]=$C$3,TRUE))/(IF($C$4<>\"\",Table2[OFF/ON]=$C$4,TRUE))/(IF($C$5<>\"\",Table2[Status]=$C$5,TRUE))/(IF($C$6<>\"\",Table2[FPPDate]=$C$6,TRUE))/(IF($C$7<>\"\",Table2[ProposalCode]=$C$7,TRUE)),ROW(E258))),\"\")","v":""},{"$f":"IFERROR(INDEX(Table2[PeriodeEnd],_xlfn.AGGREGATE(15,6,(ROW(Table2[FPPGroupCode])-2)/(Table2[DepoName]=$C$2)/(IF($C$3<>\"\",Table2[BULAN]=$C$3,TRUE))/(IF($C$4<>\"\",Table2[OFF/ON]=$C$4,TRUE))/(IF($C$5<>\"\",Table2[Status]=$C$5,TRUE))/(IF($C$6<>\"\",Table2[FPPDate]=$C$6,TRUE))/(IF($C$7<>\"\",Table2[ProposalCode]=$C$7,TRUE)),ROW(F258))),\"\")","v":""},{"$f":"IFERROR(INDEX(Table2[Amount_FPPDepo],_xlfn.AGGREGATE(15,6,(ROW(Table2[FPPGroupCode])-2)/(Table2[DepoName]=$C$2)/(IF($C$3<>\"\",Table2[BULAN]=$C$3,TRUE))/(IF($C$4<>\"\",Table2[OFF/ON]=$C$4,TRUE))/(IF($C$5<>\"\",Table2[Status]=$C$5,TRUE))/(IF($C$6<>\"\",Table2[FPPDate]=$C$6,TRUE))/(IF($C$7<>\"\",Table2[ProposalCode]=$C$7,TRUE)),ROW(G258))),\"\")","v":""},{"$f":"IFERROR(VLOOKUP($B266,SIP!$D$5776:$P$6032,12,0),0)","v":0},{"$f":"IFERROR(H266-I266,0)","v":0},{"$f":"IFERROR(VLOOKUP($B266,SIP!$D$5776:$P$6032,8,0),0)","v":0},{"$f":"IFERROR(INDEX(Table2[OFF/ON],_xlfn.AGGREGATE(15,6,(ROW(Table2[FPPGroupCode])-2)/(Table2[DepoName]=$C$2)/(IF($C$3<>\"\",Table2[BULAN]=$C$3,TRUE))/(IF($C$4<>\"\",Table2[OFF/ON]=$C$4,TRUE))/(IF($C$5<>\"\",Table2[Status]=$C$5,TRUE))/(IF($C$6<>\"\",Table2[FPPDate]=$C$6,TRUE))/(IF($C$7<>\"\",Table2[ProposalCode]=$C$7,TRUE)),ROW(K258))),\"\")","v":""}]
[{"$f":"IF(LEN($B267),ROW(A259),\"\")","v":""},{"$f":"IFERROR(INDEX(Table2[FPPGroupCode],_xlfn.AGGREGATE(15,6,(ROW(Table2[FPPGroupCode])-2)/(Table2[DepoName]=$C$2)/(IF($C$3<>\"\",Table2[BULAN]=$C$3,TRUE))/(IF($C$4<>\"\",Table2[OFF/ON]=$C$4,TRUE))/(IF($C$5<>\"\",Table2[Status]=$C$5,TRUE))/(IF($C$6<>\"\",Table2[FPPDate]=$C$6,TRUE))/(IF($C$7<>\"\",Table2[ProposalCode]=$C$7,TRUE)),ROW(A259))),\"\")","v":""},{"$f":"IFERROR(VLOOKUP($B267,SIP!$D$3:$Q$12237,14,0),0)","v":0},{"$f":"IFERROR(INDEX(Table2[Activity],_xlfn.AGGREGATE(15,6,(ROW(Table2[FPPGroupCode])-2)/(Table2[DepoName]=$C$2)/(IF($C$3<>\"\",Table2[BULAN]=$C$3,TRUE))/(IF($C$4<>\"\",Table2[OFF/ON]=$C$4,TRUE))/(IF($C$5<>\"\",Table2[Status]=$C$5,TRUE))/(IF($C$6<>\"\",Table2[]=$C$6,TRUE))/(IF($C$7<>\"\",Table2[ProposalCode]=$C$7,TRUE)),ROW(B259))),\"\")","v":""},{"$f":"IFERROR(INDEX(Table2[Location],_xlfn.AGGREGATE(15,6,(ROW(Table2[FPPGroupCode])-2)/(Table2[DepoName]=$C$2)/(IF($C$3<>\"\",Table2[BULAN]=$C$3,TRUE))/(IF($C$4<>\"\",Table2[OFF/ON]=$C$4,TRUE))/(IF($C$5<>\"\",Table2[Status]=$C$5,TRUE))/(IF($C$6<>\"\",Table2[FPPDate]=$C$6,TRUE))/(IF($C$7<>\"\",Table2[ProposalCode]=$C$7,TRUE)),ROW(D259))),\"\")","v":""},{"$f":"IFERROR(INDEX(Table2[PeriodeStart],_xlfn.AGGREGATE(15,6,(ROW(Table2[FPPGroupCode])-2)/(Table2[DepoName]=$C$2)/(IF($C$3<>\"\",Table2[BULAN]=$C$3,TRUE))/(IF($C$4<>\"\",Table2[OFF/ON]=$C$4,TRUE))/(IF($C$5<>\"\",Table2[Status]=$C$5,TRUE))/(IF($C$6<>\"\",Table2[FPPDate]=$C$6,TRUE))/(IF($C$7<>\"\",Table2[ProposalCode]=$C$7,TRUE)),ROW(E259))),\"\")","v":""},{"$f":"IFERROR(INDEX(Table2[PeriodeEnd],_xlfn.AGGREGATE(15,6,(ROW(Table2[FPPGroupCode])-2)/(Table2[DepoName]=$C$2)/(IF($C$3<>\"\",Table2[BULAN]=$C$3,TRUE))/(IF($C$4<>\"\",Table2[OFF/ON]=$C$4,TRUE))/(IF($C$5<>\"\",Table2[Status]=$C$5,TRUE))/(IF($C$6<>\"\",Table2[FPPDate]=$C$6,TRUE))/(IF($C$7<>\"\",Table2[ProposalCode]=$C$7,TRUE)),ROW(F259))),\"\")","v":""},{"$f":"IFERROR(INDEX(Table2[Amount_FPPDepo],_xlfn.AGGREGATE(15,6,(ROW(Table2[FPPGroupCode])-2)/(Table2[DepoName]=$C$2)/(IF($C$3<>\"\",Table2[BULAN]=$C$3,TRUE))/(IF($C$4<>\"\",Table2[OFF/ON]=$C$4,TRUE))/(IF($C$5<>\"\",Table2[Status]=$C$5,TRUE))/(IF($C$6<>\"\",Table2[FPPDate]=$C$6,TRUE))/(IF($C$7<>\"\",Table2[ProposalCode]=$C$7,TRUE)),ROW(G259))),\"\")","v":""},{"$f":"IFERROR(VLOOKUP($B267,SIP!$D$5776:$P$6032,12,0),0)","v":0},{"$f":"IFERROR(H267-I267,0)","v":0},{"$f":"IFERROR(VLOOKUP($B267,SIP!$D$5776:$P$6032,8,0),0)","v":0},{"$f":"IFERROR(INDEX(Table2[OFF/ON],_xlfn.AGGREGATE(15,6,(ROW(Table2[FPPGroupCode])-2)/(Table2[DepoName]=$C$2)/(IF($C$3<>\"\",Table2[BULAN]=$C$3,TRUE))/(IF($C$4<>\"\",Table2[OFF/ON]=$C$4,TRUE))/(IF($C$5<>\"\",Table2[Status]=$C$5,TRUE))/(IF($C$6<>\"\",Table2[FPPDate]=$C$6,TRUE))/(IF($C$7<>\"\",Table2[ProposalCode]=$C$7,TRUE)),ROW(K259))),\"\")","v":""}]
[{"$f":"IF(LEN($B268),ROW(A260),\"\")","v":""},{"$f":"IFERROR(INDEX(Table2[FPPGroupCode],_xlfn.AGGREGATE(15,6,(ROW(Table2[FPPGroupCode])-2)/(Table2[DepoName]=$C$2)/(IF($C$3<>\"\",Table2[BULAN]=$C$3,TRUE))/(IF($C$4<>\"\",Table2[OFF/ON]=$C$4,TRUE))/(IF($C$5<>\"\",Table2[Status]=$C$5,TRUE))/(IF($C$6<>\"\",Table2[FPPDate]=$C$6,TRUE))/(IF($C$7<>\"\",Table2[ProposalCode]=$C$7,TRUE)),ROW(A260))),\"\")","v":""},{"$f":"IFERROR(VLOOKUP($B268,SIP!$D$3:$Q$12237,14,0),0)","v":0},{"$f":"IFERROR(INDEX(Table2[Activity],_xlfn.AGGREGATE(15,6,(ROW(Table2[FPPGroupCode])-2)/(Table2[DepoName]=$C$2)/(IF($C$3<>\"\",Table2[BULAN]=$C$3,TRUE))/(IF($C$4<>\"\",Table2[OFF/ON]=$C$4,TRUE))/(IF($C$5<>\"\",Table2[Status]=$C$5,TRUE))/(IF($C$6<>\"\",Table2[]=$C$6,TRUE))/(IF($C$7<>\"\",Table2[ProposalCode]=$C$7,TRUE)),ROW(B260))),\"\")","v":""},{"$f":"IFERROR(INDEX(Table2[Location],_xlfn.AGGREGATE(15,6,(ROW(Table2[FPPGroupCode])-2)/(Table2[DepoName]=$C$2)/(IF($C$3<>\"\",Table2[BULAN]=$C$3,TRUE))/(IF($C$4<>\"\",Table2[OFF/ON]=$C$4,TRUE))/(IF($C$5<>\"\",Table2[Status]=$C$5,TRUE))/(IF($C$6<>\"\",Table2[FPPDate]=$C$6,TRUE))/(IF($C$7<>\"\",Table2[ProposalCode]=$C$7,TRUE)),ROW(D260))),\"\")","v":""},{"$f":"IFERROR(INDEX(Table2[PeriodeStart],_xlfn.AGGREGATE(15,6,(ROW(Table2[FPPGroupCode])-2)/(Table2[DepoName]=$C$2)/(IF($C$3<>\"\",Table2[BULAN]=$C$3,TRUE))/(IF($C$4<>\"\",Table2[OFF/ON]=$C$4,TRUE))/(IF($C$5<>\"\",Table2[Status]=$C$5,TRUE))/(IF($C$6<>\"\",Table2[FPPDate]=$C$6,TRUE))/(IF($C$7<>\"\",Table2[ProposalCode]=$C$7,TRUE)),ROW(E260))),\"\")","v":""},{"$f":"IFERROR(INDEX(Table2[PeriodeEnd],_xlfn.AGGREGATE(15,6,(ROW(Table2[FPPGroupCode])-2)/(Table2[DepoName]=$C$2)/(IF($C$3<>\"\",Table2[BULAN]=$C$3,TRUE))/(IF($C$4<>\"\",Table2[OFF/ON]=$C$4,TRUE))/(IF($C$5<>\"\",Table2[Status]=$C$5,TRUE))/(IF($C$6<>\"\",Table2[FPPDate]=$C$6,TRUE))/(IF($C$7<>\"\",Table2[ProposalCode]=$C$7,TRUE)),ROW(F260))),\"\")","v":""},{"$f":"IFERROR(INDEX(Table2[Amount_FPPDepo],_xlfn.AGGREGATE(15,6,(ROW(Table2[FPPGroupCode])-2)/(Table2[DepoName]=$C$2)/(IF($C$3<>\"\",Table2[BULAN]=$C$3,TRUE))/(IF($C$4<>\"\",Table2[OFF/ON]=$C$4,TRUE))/(IF($C$5<>\"\",Table2[Status]=$C$5,TRUE))/(IF($C$6<>\"\",Table2[FPPDate]=$C$6,TRUE))/(IF($C$7<>\"\",Table2[ProposalCode]=$C$7,TRUE)),ROW(G260))),\"\")","v":""},{"$f":"IFERROR(VLOOKUP($B268,SIP!$D$5776:$P$6032,12,0),0)","v":0},{"$f":"IFERROR(H268-I268,0)","v":0},{"$f":"IFERROR(VLOOKUP($B268,SIP!$D$5776:$P$6032,8,0),0)","v":0},{"$f":"IFERROR(INDEX(Table2[OFF/ON],_xlfn.AGGREGATE(15,6,(ROW(Table2[FPPGroupCode])-2)/(Table2[DepoName]=$C$2)/(IF($C$3<>\"\",Table2[BULAN]=$C$3,TRUE))/(IF($C$4<>\"\",Table2[OFF/ON]=$C$4,TRUE))/(IF($C$5<>\"\",Table2[Status]=$C$5,TRUE))/(IF($C$6<>\"\",Table2[FPPDate]=$C$6,TRUE))/(IF($C$7<>\"\",Table2[ProposalCode]=$C$7,TRUE)),ROW(K260))),\"\")","v":""}]
[{"$f":"IF(LEN($B269),ROW(A261),\"\")","v":""},{"$f":"IFERROR(INDEX(Table2[FPPGroupCode],_xlfn.AGGREGATE(15,6,(ROW(Table2[FPPGroupCode])-2)/(Table2[DepoName]=$C$2)/(IF($C$3<>\"\",Table2[BULAN]=$C$3,TRUE))/(IF($C$4<>\"\",Table2[OFF/ON]=$C$4,TRUE))/(IF($C$5<>\"\",Table2[Status]=$C$5,TRUE))/(IF($C$6<>\"\",Table2[FPPDate]=$C$6,TRUE))/(IF($C$7<>\"\",Table2[ProposalCode]=$C$7,TRUE)),ROW(A261))),\"\")","v":""},{"$f":"IFERROR(VLOOKUP($B269,SIP!$D$3:$Q$12237,14,0),0)","v":0},{"$f":"IFERROR(INDEX(Table2[Activity],_xlfn.AGGREGATE(15,6,(ROW(Table2[FPPGroupCode])-2)/(Table2[DepoName]=$C$2)/(IF($C$3<>\"\",Table2[BULAN]=$C$3,TRUE))/(IF($C$4<>\"\",Table2[OFF/ON]=$C$4,TRUE))/(IF($C$5<>\"\",Table2[Status]=$C$5,TRUE))/(IF($C$6<>\"\",Table2[]=$C$6,TRUE))/(IF($C$7<>\"\",Table2[ProposalCode]=$C$7,TRUE)),ROW(B261))),\"\")","v":""},{"$f":"IFERROR(INDEX(Table2[Location],_xlfn.AGGREGATE(15,6,(ROW(Table2[FPPGroupCode])-2)/(Table2[DepoName]=$C$2)/(IF($C$3<>\"\",Table2[BULAN]=$C$3,TRUE))/(IF($C$4<>\"\",Table2[OFF/ON]=$C$4,TRUE))/(IF($C$5<>\"\",Table2[Status]=$C$5,TRUE))/(IF($C$6<>\"\",Table2[FPPDate]=$C$6,TRUE))/(IF($C$7<>\"\",Table2[ProposalCode]=$C$7,TRUE)),ROW(D261))),\"\")","v":""},{"$f":"IFERROR(INDEX(Table2[PeriodeStart],_xlfn.AGGREGATE(15,6,(ROW(Table2[FPPGroupCode])-2)/(Table2[DepoName]=$C$2)/(IF($C$3<>\"\",Table2[BULAN]=$C$3,TRUE))/(IF($C$4<>\"\",Table2[OFF/ON]=$C$4,TRUE))/(IF($C$5<>\"\",Table2[Status]=$C$5,TRUE))/(IF($C$6<>\"\",Table2[FPPDate]=$C$6,TRUE))/(IF($C$7<>\"\",Table2[ProposalCode]=$C$7,TRUE)),ROW(E261))),\"\")","v":""},{"$f":"IFERROR(INDEX(Table2[PeriodeEnd],_xlfn.AGGREGATE(15,6,(ROW(Table2[FPPGroupCode])-2)/(Table2[DepoName]=$C$2)/(IF($C$3<>\"\",Table2[BULAN]=$C$3,TRUE))/(IF($C$4<>\"\",Table2[OFF/ON]=$C$4,TRUE))/(IF($C$5<>\"\",Table2[Status]=$C$5,TRUE))/(IF($C$6<>\"\",Table2[FPPDate]=$C$6,TRUE))/(IF($C$7<>\"\",Table2[ProposalCode]=$C$7,TRUE)),ROW(F261))),\"\")","v":""},{"$f":"IFERROR(INDEX(Table2[Amount_FPPDepo],_xlfn.AGGREGATE(15,6,(ROW(Table2[FPPGroupCode])-2)/(Table2[DepoName]=$C$2)/(IF($C$3<>\"\",Table2[BULAN]=$C$3,TRUE))/(IF($C$4<>\"\",Table2[OFF/ON]=$C$4,TRUE))/(IF($C$5<>\"\",Table2[Status]=$C$5,TRUE))/(IF($C$6<>\"\",Table2[FPPDate]=$C$6,TRUE))/(IF($C$7<>\"\",Table2[ProposalCode]=$C$7,TRUE)),ROW(G261))),\"\")","v":""},{"$f":"IFERROR(VLOOKUP($B269,SIP!$D$5776:$P$6032,12,0),0)","v":0},{"$f":"IFERROR(H269-I269,0)","v":0},{"$f":"IFERROR(VLOOKUP($B269,SIP!$D$5776:$P$6032,8,0),0)","v":0},{"$f":"IFERROR(INDEX(Table2[OFF/ON],_xlfn.AGGREGATE(15,6,(ROW(Table2[FPPGroupCode])-2)/(Table2[DepoName]=$C$2)/(IF($C$3<>\"\",Table2[BULAN]=$C$3,TRUE))/(IF($C$4<>\"\",Table2[OFF/ON]=$C$4,TRUE))/(IF($C$5<>\"\",Table2[Status]=$C$5,TRUE))/(IF($C$6<>\"\",Table2[FPPDate]=$C$6,TRUE))/(IF($C$7<>\"\",Table2[ProposalCode]=$C$7,TRUE)),ROW(K261))),\"\")","v":""}]
[{"$f":"IF(LEN($B270),ROW(A262),\"\")","v":""},{"$f":"IFERROR(INDEX(Table2[FPPGroupCode],_xlfn.AGGREGATE(15,6,(ROW(Table2[FPPGroupCode])-2)/(Table2[DepoName]=$C$2)/(IF($C$3<>\"\",Table2[BULAN]=$C$3,TRUE))/(IF($C$4<>\"\",Table2[OFF/ON]=$C$4,TRUE))/(IF($C$5<>\"\",Table2[Status]=$C$5,TRUE))/(IF($C$6<>\"\",Table2[FPPDate]=$C$6,TRUE))/(IF($C$7<>\"\",Table2[ProposalCode]=$C$7,TRUE)),ROW(A262))),\"\")","v":""},{"$f":"IFERROR(VLOOKUP($B270,SIP!$D$3:$Q$12237,14,0),0)","v":0},{"$f":"IFERROR(INDEX(Table2[Activity],_xlfn.AGGREGATE(15,6,(ROW(Table2[FPPGroupCode])-2)/(Table2[DepoName]=$C$2)/(IF($C$3<>\"\",Table2[BULAN]=$C$3,TRUE))/(IF($C$4<>\"\",Table2[OFF/ON]=$C$4,TRUE))/(IF($C$5<>\"\",Table2[Status]=$C$5,TRUE))/(IF($C$6<>\"\",Table2[]=$C$6,TRUE))/(IF($C$7<>\"\",Table2[ProposalCode]=$C$7,TRUE)),ROW(B262))),\"\")","v":""},{"$f":"IFERROR(INDEX(Table2[Location],_xlfn.AGGREGATE(15,6,(ROW(Table2[FPPGroupCode])-2)/(Table2[DepoName]=$C$2)/(IF($C$3<>\"\",Table2[BULAN]=$C$3,TRUE))/(IF($C$4<>\"\",Table2[OFF/ON]=$C$4,TRUE))/(IF($C$5<>\"\",Table2[Status]=$C$5,TRUE))/(IF($C$6<>\"\",Table2[FPPDate]=$C$6,TRUE))/(IF($C$7<>\"\",Table2[ProposalCode]=$C$7,TRUE)),ROW(D262))),\"\")","v":""},{"$f":"IFERROR(INDEX(Table2[PeriodeStart],_xlfn.AGGREGATE(15,6,(ROW(Table2[FPPGroupCode])-2)/(Table2[DepoName]=$C$2)/(IF($C$3<>\"\",Table2[BULAN]=$C$3,TRUE))/(IF($C$4<>\"\",Table2[OFF/ON]=$C$4,TRUE))/(IF($C$5<>\"\",Table2[Status]=$C$5,TRUE))/(IF($C$6<>\"\",Table2[FPPDate]=$C$6,TRUE))/(IF($C$7<>\"\",Table2[ProposalCode]=$C$7,TRUE)),ROW(E262))),\"\")","v":""},{"$f":"IFERROR(INDEX(Table2[PeriodeEnd],_xlfn.AGGREGATE(15,6,(ROW(Table2[FPPGroupCode])-2)/(Table2[DepoName]=$C$2)/(IF($C$3<>\"\",Table2[BULAN]=$C$3,TRUE))/(IF($C$4<>\"\",Table2[OFF/ON]=$C$4,TRUE))/(IF($C$5<>\"\",Table2[Status]=$C$5,TRUE))/(IF($C$6<>\"\",Table2[FPPDate]=$C$6,TRUE))/(IF($C$7<>\"\",Table2[ProposalCode]=$C$7,TRUE)),ROW(F262))),\"\")","v":""},{"$f":"IFERROR(INDEX(Table2[Amount_FPPDepo],_xlfn.AGGREGATE(15,6,(ROW(Table2[FPPGroupCode])-2)/(Table2[DepoName]=$C$2)/(IF($C$3<>\"\",Table2[BULAN]=$C$3,TRUE))/(IF($C$4<>\"\",Table2[OFF/ON]=$C$4,TRUE))/(IF($C$5<>\"\",Table2[Status]=$C$5,TRUE))/(IF($C$6<>\"\",Table2[FPPDate]=$C$6,TRUE))/(IF($C$7<>\"\",Table2[ProposalCode]=$C$7,TRUE)),ROW(G262))),\"\")","v":""},{"$f":"IFERROR(VLOOKUP($B270,SIP!$D$5776:$P$6032,12,0),0)","v":0},{"$f":"IFERROR(H270-I270,0)","v":0},{"$f":"IFERROR(VLOOKUP($B270,SIP!$D$5776:$P$6032,8,0),0)","v":0},{"$f":"IFERROR(INDEX(Table2[OFF/ON],_xlfn.AGGREGATE(15,6,(ROW(Table2[FPPGroupCode])-2)/(Table2[DepoName]=$C$2)/(IF($C$3<>\"\",Table2[BULAN]=$C$3,TRUE))/(IF($C$4<>\"\",Table2[OFF/ON]=$C$4,TRUE))/(IF($C$5<>\"\",Table2[Status]=$C$5,TRUE))/(IF($C$6<>\"\",Table2[FPPDate]=$C$6,TRUE))/(IF($C$7<>\"\",Table2[ProposalCode]=$C$7,TRUE)),ROW(K262))),\"\")","v":""}]
[{"$f":"IF(LEN($B271),ROW(A263),\"\")","v":""},{"$f":"IFERROR(INDEX(Table2[FPPGroupCode],_xlfn.AGGREGATE(15,6,(ROW(Table2[FPPGroupCode])-2)/(Table2[DepoName]=$C$2)/(IF($C$3<>\"\",Table2[BULAN]=$C$3,TRUE))/(IF($C$4<>\"\",Table2[OFF/ON]=$C$4,TRUE))/(IF($C$5<>\"\",Table2[Status]=$C$5,TRUE))/(IF($C$6<>\"\",Table2[FPPDate]=$C$6,TRUE))/(IF($C$7<>\"\",Table2[ProposalCode]=$C$7,TRUE)),ROW(A263))),\"\")","v":""},{"$f":"IFERROR(VLOOKUP($B271,SIP!$D$3:$Q$12237,14,0),0)","v":0},{"$f":"IFERROR(INDEX(Table2[Activity],_xlfn.AGGREGATE(15,6,(ROW(Table2[FPPGroupCode])-2)/(Table2[DepoName]=$C$2)/(IF($C$3<>\"\",Table2[BULAN]=$C$3,TRUE))/(IF($C$4<>\"\",Table2[OFF/ON]=$C$4,TRUE))/(IF($C$5<>\"\",Table2[Status]=$C$5,TRUE))/(IF($C$6<>\"\",Table2[]=$C$6,TRUE))/(IF($C$7<>\"\",Table2[ProposalCode]=$C$7,TRUE)),ROW(B263))),\"\")","v":""},{"$f":"IFERROR(INDEX(Table2[Location],_xlfn.AGGREGATE(15,6,(ROW(Table2[FPPGroupCode])-2)/(Table2[DepoName]=$C$2)/(IF($C$3<>\"\",Table2[BULAN]=$C$3,TRUE))/(IF($C$4<>\"\",Table2[OFF/ON]=$C$4,TRUE))/(IF($C$5<>\"\",Table2[Status]=$C$5,TRUE))/(IF($C$6<>\"\",Table2[FPPDate]=$C$6,TRUE))/(IF($C$7<>\"\",Table2[ProposalCode]=$C$7,TRUE)),ROW(D263))),\"\")","v":""},{"$f":"IFERROR(INDEX(Table2[PeriodeStart],_xlfn.AGGREGATE(15,6,(ROW(Table2[FPPGroupCode])-2)/(Table2[DepoName]=$C$2)/(IF($C$3<>\"\",Table2[BULAN]=$C$3,TRUE))/(IF($C$4<>\"\",Table2[OFF/ON]=$C$4,TRUE))/(IF($C$5<>\"\",Table2[Status]=$C$5,TRUE))/(IF($C$6<>\"\",Table2[FPPDate]=$C$6,TRUE))/(IF($C$7<>\"\",Table2[ProposalCode]=$C$7,TRUE)),ROW(E263))),\"\")","v":""},{"$f":"IFERROR(INDEX(Table2[PeriodeEnd],_xlfn.AGGREGATE(15,6,(ROW(Table2[FPPGroupCode])-2)/(Table2[DepoName]=$C$2)/(IF($C$3<>\"\",Table2[BULAN]=$C$3,TRUE))/(IF($C$4<>\"\",Table2[OFF/ON]=$C$4,TRUE))/(IF($C$5<>\"\",Table2[Status]=$C$5,TRUE))/(IF($C$6<>\"\",Table2[FPPDate]=$C$6,TRUE))/(IF($C$7<>\"\",Table2[ProposalCode]=$C$7,TRUE)),ROW(F263))),\"\")","v":""},{"$f":"IFERROR(INDEX(Table2[Amount_FPPDepo],_xlfn.AGGREGATE(15,6,(ROW(Table2[FPPGroupCode])-2)/(Table2[DepoName]=$C$2)/(IF($C$3<>\"\",Table2[BULAN]=$C$3,TRUE))/(IF($C$4<>\"\",Table2[OFF/ON]=$C$4,TRUE))/(IF($C$5<>\"\",Table2[Status]=$C$5,TRUE))/(IF($C$6<>\"\",Table2[FPPDate]=$C$6,TRUE))/(IF($C$7<>\"\",Table2[ProposalCode]=$C$7,TRUE)),ROW(G263))),\"\")","v":""},{"$f":"IFERROR(VLOOKUP($B271,SIP!$D$5776:$P$6032,12,0),0)","v":0},{"$f":"IFERROR(H271-I271,0)","v":0},{"$f":"IFERROR(VLOOKUP($B271,SIP!$D$5776:$P$6032,8,0),0)","v":0},{"$f":"IFERROR(INDEX(Table2[OFF/ON],_xlfn.AGGREGATE(15,6,(ROW(Table2[FPPGroupCode])-2)/(Table2[DepoName]=$C$2)/(IF($C$3<>\"\",Table2[BULAN]=$C$3,TRUE))/(IF($C$4<>\"\",Table2[OFF/ON]=$C$4,TRUE))/(IF($C$5<>\"\",Table2[Status]=$C$5,TRUE))/(IF($C$6<>\"\",Table2[FPPDate]=$C$6,TRUE))/(IF($C$7<>\"\",Table2[ProposalCode]=$C$7,TRUE)),ROW(K263))),\"\")","v":""}]
[{"$f":"IF(LEN($B272),ROW(A264),\"\")","v":""},{"$f":"IFERROR(INDEX(Table2[FPPGroupCode],_xlfn.AGGREGATE(15,6,(ROW(Table2[FPPGroupCode])-2)/(Table2[DepoName]=$C$2)/(IF($C$3<>\"\",Table2[BULAN]=$C$3,TRUE))/(IF($C$4<>\"\",Table2[OFF/ON]=$C$4,TRUE))/(IF($C$5<>\"\",Table2[Status]=$C$5,TRUE))/(IF($C$6<>\"\",Table2[FPPDate]=$C$6,TRUE))/(IF($C$7<>\"\",Table2[ProposalCode]=$C$7,TRUE)),ROW(A264))),\"\")","v":""},{"$f":"IFERROR(VLOOKUP($B272,SIP!$D$3:$Q$12237,14,0),0)","v":0},{"$f":"IFERROR(INDEX(Table2[Activity],_xlfn.AGGREGATE(15,6,(ROW(Table2[FPPGroupCode])-2)/(Table2[DepoName]=$C$2)/(IF($C$3<>\"\",Table2[BULAN]=$C$3,TRUE))/(IF($C$4<>\"\",Table2[OFF/ON]=$C$4,TRUE))/(IF($C$5<>\"\",Table2[Status]=$C$5,TRUE))/(IF($C$6<>\"\",Table2[]=$C$6,TRUE))/(IF($C$7<>\"\",Table2[ProposalCode]=$C$7,TRUE)),ROW(B264))),\"\")","v":""},{"$f":"IFERROR(INDEX(Table2[Location],_xlfn.AGGREGATE(15,6,(ROW(Table2[FPPGroupCode])-2)/(Table2[DepoName]=$C$2)/(IF($C$3<>\"\",Table2[BULAN]=$C$3,TRUE))/(IF($C$4<>\"\",Table2[OFF/ON]=$C$4,TRUE))/(IF($C$5<>\"\",Table2[Status]=$C$5,TRUE))/(IF($C$6<>\"\",Table2[FPPDate]=$C$6,TRUE))/(IF($C$7<>\"\",Table2[ProposalCode]=$C$7,TRUE)),ROW(D264))),\"\")","v":""},{"$f":"IFERROR(INDEX(Table2[PeriodeStart],_xlfn.AGGREGATE(15,6,(ROW(Table2[FPPGroupCode])-2)/(Table2[DepoName]=$C$2)/(IF($C$3<>\"\",Table2[BULAN]=$C$3,TRUE))/(IF($C$4<>\"\",Table2[OFF/ON]=$C$4,TRUE))/(IF($C$5<>\"\",Table2[Status]=$C$5,TRUE))/(IF($C$6<>\"\",Table2[FPPDate]=$C$6,TRUE))/(IF($C$7<>\"\",Table2[ProposalCode]=$C$7,TRUE)),ROW(E264))),\"\")","v":""},{"$f":"IFERROR(INDEX(Table2[PeriodeEnd],_xlfn.AGGREGATE(15,6,(ROW(Table2[FPPGroupCode])-2)/(Table2[DepoName]=$C$2)/(IF($C$3<>\"\",Table2[BULAN]=$C$3,TRUE))/(IF($C$4<>\"\",Table2[OFF/ON]=$C$4,TRUE))/(IF($C$5<>\"\",Table2[Status]=$C$5,TRUE))/(IF($C$6<>\"\",Table2[FPPDate]=$C$6,TRUE))/(IF($C$7<>\"\",Table2[ProposalCode]=$C$7,TRUE)),ROW(F264))),\"\")","v":""},{"$f":"IFERROR(INDEX(Table2[Amount_FPPDepo],_xlfn.AGGREGATE(15,6,(ROW(Table2[FPPGroupCode])-2)/(Table2[DepoName]=$C$2)/(IF($C$3<>\"\",Table2[BULAN]=$C$3,TRUE))/(IF($C$4<>\"\",Table2[OFF/ON]=$C$4,TRUE))/(IF($C$5<>\"\",Table2[Status]=$C$5,TRUE))/(IF($C$6<>\"\",Table2[FPPDate]=$C$6,TRUE))/(IF($C$7<>\"\",Table2[ProposalCode]=$C$7,TRUE)),ROW(G264))),\"\")","v":""},{"$f":"IFERROR(VLOOKUP($B272,SIP!$D$5776:$P$6032,12,0),0)","v":0},{"$f":"IFERROR(H272-I272,0)","v":0},{"$f":"IFERROR(VLOOKUP($B272,SIP!$D$5776:$P$6032,8,0),0)","v":0},{"$f":"IFERROR(INDEX(Table2[OFF/ON],_xlfn.AGGREGATE(15,6,(ROW(Table2[FPPGroupCode])-2)/(Table2[DepoName]=$C$2)/(IF($C$3<>\"\",Table2[BULAN]=$C$3,TRUE))/(IF($C$4<>\"\",Table2[OFF/ON]=$C$4,TRUE))/(IF($C$5<>\"\",Table2[Status]=$C$5,TRUE))/(IF($C$6<>\"\",Table2[FPPDate]=$C$6,TRUE))/(IF($C$7<>\"\",Table2[ProposalCode]=$C$7,TRUE)),ROW(K264))),\"\")","v":""}]
[{"$f":"IF(LEN($B273),ROW(A265),\"\")","v":""},{"$f":"IFERROR(INDEX(Table2[FPPGroupCode],_xlfn.AGGREGATE(15,6,(ROW(Table2[FPPGroupCode])-2)/(Table2[DepoName]=$C$2)/(IF($C$3<>\"\",Table2[BULAN]=$C$3,TRUE))/(IF($C$4<>\"\",Table2[OFF/ON]=$C$4,TRUE))/(IF($C$5<>\"\",Table2[Status]=$C$5,TRUE))/(IF($C$6<>\"\",Table2[FPPDate]=$C$6,TRUE))/(IF($C$7<>\"\",Table2[ProposalCode]=$C$7,TRUE)),ROW(A265))),\"\")","v":""},{"$f":"IFERROR(VLOOKUP($B273,SIP!$D$3:$Q$12237,14,0),0)","v":0},{"$f":"IFERROR(INDEX(Table2[Activity],_xlfn.AGGREGATE(15,6,(ROW(Table2[FPPGroupCode])-2)/(Table2[DepoName]=$C$2)/(IF($C$3<>\"\",Table2[BULAN]=$C$3,TRUE))/(IF($C$4<>\"\",Table2[OFF/ON]=$C$4,TRUE))/(IF($C$5<>\"\",Table2[Status]=$C$5,TRUE))/(IF($C$6<>\"\",Table2[]=$C$6,TRUE))/(IF($C$7<>\"\",Table2[ProposalCode]=$C$7,TRUE)),ROW(B265))),\"\")","v":""},{"$f":"IFERROR(INDEX(Table2[Location],_xlfn.AGGREGATE(15,6,(ROW(Table2[FPPGroupCode])-2)/(Table2[DepoName]=$C$2)/(IF($C$3<>\"\",Table2[BULAN]=$C$3,TRUE))/(IF($C$4<>\"\",Table2[OFF/ON]=$C$4,TRUE))/(IF($C$5<>\"\",Table2[Status]=$C$5,TRUE))/(IF($C$6<>\"\",Table2[FPPDate]=$C$6,TRUE))/(IF($C$7<>\"\",Table2[ProposalCode]=$C$7,TRUE)),ROW(D265))),\"\")","v":""},{"$f":"IFERROR(INDEX(Table2[PeriodeStart],_xlfn.AGGREGATE(15,6,(ROW(Table2[FPPGroupCode])-2)/(Table2[DepoName]=$C$2)/(IF($C$3<>\"\",Table2[BULAN]=$C$3,TRUE))/(IF($C$4<>\"\",Table2[OFF/ON]=$C$4,TRUE))/(IF($C$5<>\"\",Table2[Status]=$C$5,TRUE))/(IF($C$6<>\"\",Table2[FPPDate]=$C$6,TRUE))/(IF($C$7<>\"\",Table2[ProposalCode]=$C$7,TRUE)),ROW(E265))),\"\")","v":""},{"$f":"IFERROR(INDEX(Table2[PeriodeEnd],_xlfn.AGGREGATE(15,6,(ROW(Table2[FPPGroupCode])-2)/(Table2[DepoName]=$C$2)/(IF($C$3<>\"\",Table2[BULAN]=$C$3,TRUE))/(IF($C$4<>\"\",Table2[OFF/ON]=$C$4,TRUE))/(IF($C$5<>\"\",Table2[Status]=$C$5,TRUE))/(IF($C$6<>\"\",Table2[FPPDate]=$C$6,TRUE))/(IF($C$7<>\"\",Table2[ProposalCode]=$C$7,TRUE)),ROW(F265))),\"\")","v":""},{"$f":"IFERROR(INDEX(Table2[Amount_FPPDepo],_xlfn.AGGREGATE(15,6,(ROW(Table2[FPPGroupCode])-2)/(Table2[DepoName]=$C$2)/(IF($C$3<>\"\",Table2[BULAN]=$C$3,TRUE))/(IF($C$4<>\"\",Table2[OFF/ON]=$C$4,TRUE))/(IF($C$5<>\"\",Table2[Status]=$C$5,TRUE))/(IF($C$6<>\"\",Table2[FPPDate]=$C$6,TRUE))/(IF($C$7<>\"\",Table2[ProposalCode]=$C$7,TRUE)),ROW(G265))),\"\")","v":""},{"$f":"IFERROR(VLOOKUP($B273,SIP!$D$5776:$P$6032,12,0),0)","v":0},{"$f":"IFERROR(H273-I273,0)","v":0},{"$f":"IFERROR(VLOOKUP($B273,SIP!$D$5776:$P$6032,8,0),0)","v":0},{"$f":"IFERROR(INDEX(Table2[OFF/ON],_xlfn.AGGREGATE(15,6,(ROW(Table2[FPPGroupCode])-2)/(Table2[DepoName]=$C$2)/(IF($C$3<>\"\",Table2[BULAN]=$C$3,TRUE))/(IF($C$4<>\"\",Table2[OFF/ON]=$C$4,TRUE))/(IF($C$5<>\"\",Table2[Status]=$C$5,TRUE))/(IF($C$6<>\"\",Table2[FPPDate]=$C$6,TRUE))/(IF($C$7<>\"\",Table2[ProposalCode]=$C$7,TRUE)),ROW(K265))),\"\")","v":""}]
[{"$f":"IF(LEN($B274),ROW(A266),\"\")","v":""},{"$f":"IFERROR(INDEX(Table2[FPPGroupCode],_xlfn.AGGREGATE(15,6,(ROW(Table2[FPPGroupCode])-2)/(Table2[DepoName]=$C$2)/(IF($C$3<>\"\",Table2[BULAN]=$C$3,TRUE))/(IF($C$4<>\"\",Table2[OFF/ON]=$C$4,TRUE))/(IF($C$5<>\"\",Table2[Status]=$C$5,TRUE))/(IF($C$6<>\"\",Table2[FPPDate]=$C$6,TRUE))/(IF($C$7<>\"\",Table2[ProposalCode]=$C$7,TRUE)),ROW(A266))),\"\")","v":""},{"$f":"IFERROR(VLOOKUP($B274,SIP!$D$3:$Q$12237,14,0),0)","v":0},{"$f":"IFERROR(INDEX(Table2[Activity],_xlfn.AGGREGATE(15,6,(ROW(Table2[FPPGroupCode])-2)/(Table2[DepoName]=$C$2)/(IF($C$3<>\"\",Table2[BULAN]=$C$3,TRUE))/(IF($C$4<>\"\",Table2[OFF/ON]=$C$4,TRUE))/(IF($C$5<>\"\",Table2[Status]=$C$5,TRUE))/(IF($C$6<>\"\",Table2[]=$C$6,TRUE))/(IF($C$7<>\"\",Table2[ProposalCode]=$C$7,TRUE)),ROW(B266))),\"\")","v":""},{"$f":"IFERROR(INDEX(Table2[Location],_xlfn.AGGREGATE(15,6,(ROW(Table2[FPPGroupCode])-2)/(Table2[DepoName]=$C$2)/(IF($C$3<>\"\",Table2[BULAN]=$C$3,TRUE))/(IF($C$4<>\"\",Table2[OFF/ON]=$C$4,TRUE))/(IF($C$5<>\"\",Table2[Status]=$C$5,TRUE))/(IF($C$6<>\"\",Table2[FPPDate]=$C$6,TRUE))/(IF($C$7<>\"\",Table2[ProposalCode]=$C$7,TRUE)),ROW(D266))),\"\")","v":""},{"$f":"IFERROR(INDEX(Table2[PeriodeStart],_xlfn.AGGREGATE(15,6,(ROW(Table2[FPPGroupCode])-2)/(Table2[DepoName]=$C$2)/(IF($C$3<>\"\",Table2[BULAN]=$C$3,TRUE))/(IF($C$4<>\"\",Table2[OFF/ON]=$C$4,TRUE))/(IF($C$5<>\"\",Table2[Status]=$C$5,TRUE))/(IF($C$6<>\"\",Table2[FPPDate]=$C$6,TRUE))/(IF($C$7<>\"\",Table2[ProposalCode]=$C$7,TRUE)),ROW(E266))),\"\")","v":""},{"$f":"IFERROR(INDEX(Table2[PeriodeEnd],_xlfn.AGGREGATE(15,6,(ROW(Table2[FPPGroupCode])-2)/(Table2[DepoName]=$C$2)/(IF($C$3<>\"\",Table2[BULAN]=$C$3,TRUE))/(IF($C$4<>\"\",Table2[OFF/ON]=$C$4,TRUE))/(IF($C$5<>\"\",Table2[Status]=$C$5,TRUE))/(IF($C$6<>\"\",Table2[FPPDate]=$C$6,TRUE))/(IF($C$7<>\"\",Table2[ProposalCode]=$C$7,TRUE)),ROW(F266))),\"\")","v":""},{"$f":"IFERROR(INDEX(Table2[Amount_FPPDepo],_xlfn.AGGREGATE(15,6,(ROW(Table2[FPPGroupCode])-2)/(Table2[DepoName]=$C$2)/(IF($C$3<>\"\",Table2[BULAN]=$C$3,TRUE))/(IF($C$4<>\"\",Table2[OFF/ON]=$C$4,TRUE))/(IF($C$5<>\"\",Table2[Status]=$C$5,TRUE))/(IF($C$6<>\"\",Table2[FPPDate]=$C$6,TRUE))/(IF($C$7<>\"\",Table2[ProposalCode]=$C$7,TRUE)),ROW(G266))),\"\")","v":""},{"$f":"IFERROR(VLOOKUP($B274,SIP!$D$5776:$P$6032,12,0),0)","v":0},{"$f":"IFERROR(H274-I274,0)","v":0},{"$f":"IFERROR(VLOOKUP($B274,SIP!$D$5776:$P$6032,8,0),0)","v":0},{"$f":"IFERROR(INDEX(Table2[OFF/ON],_xlfn.AGGREGATE(15,6,(ROW(Table2[FPPGroupCode])-2)/(Table2[DepoName]=$C$2)/(IF($C$3<>\"\",Table2[BULAN]=$C$3,TRUE))/(IF($C$4<>\"\",Table2[OFF/ON]=$C$4,TRUE))/(IF($C$5<>\"\",Table2[Status]=$C$5,TRUE))/(IF($C$6<>\"\",Table2[FPPDate]=$C$6,TRUE))/(IF($C$7<>\"\",Table2[ProposalCode]=$C$7,TRUE)),ROW(K266))),\"\")","v":""}]
[{"$f":"IF(LEN($B275),ROW(A267),\"\")","v":""},{"$f":"IFERROR(INDEX(Table2[FPPGroupCode],_xlfn.AGGREGATE(15,6,(ROW(Table2[FPPGroupCode])-2)/(Table2[DepoName]=$C$2)/(IF($C$3<>\"\",Table2[BULAN]=$C$3,TRUE))/(IF($C$4<>\"\",Table2[OFF/ON]=$C$4,TRUE))/(IF($C$5<>\"\",Table2[Status]=$C$5,TRUE))/(IF($C$6<>\"\",Table2[FPPDate]=$C$6,TRUE))/(IF($C$7<>\"\",Table2[ProposalCode]=$C$7,TRUE)),ROW(A267))),\"\")","v":""},{"$f":"IFERROR(VLOOKUP($B275,SIP!$D$3:$Q$12237,14,0),0)","v":0},{"$f":"IFERROR(INDEX(Table2[Activity],_xlfn.AGGREGATE(15,6,(ROW(Table2[FPPGroupCode])-2)/(Table2[DepoName]=$C$2)/(IF($C$3<>\"\",Table2[BULAN]=$C$3,TRUE))/(IF($C$4<>\"\",Table2[OFF/ON]=$C$4,TRUE))/(IF($C$5<>\"\",Table2[Status]=$C$5,TRUE))/(IF($C$6<>\"\",Table2[]=$C$6,TRUE))/(IF($C$7<>\"\",Table2[ProposalCode]=$C$7,TRUE)),ROW(B267))),\"\")","v":""},{"$f":"IFERROR(INDEX(Table2[Location],_xlfn.AGGREGATE(15,6,(ROW(Table2[FPPGroupCode])-2)/(Table2[DepoName]=$C$2)/(IF($C$3<>\"\",Table2[BULAN]=$C$3,TRUE))/(IF($C$4<>\"\",Table2[OFF/ON]=$C$4,TRUE))/(IF($C$5<>\"\",Table2[Status]=$C$5,TRUE))/(IF($C$6<>\"\",Table2[FPPDate]=$C$6,TRUE))/(IF($C$7<>\"\",Table2[ProposalCode]=$C$7,TRUE)),ROW(D267))),\"\")","v":""},{"$f":"IFERROR(INDEX(Table2[PeriodeStart],_xlfn.AGGREGATE(15,6,(ROW(Table2[FPPGroupCode])-2)/(Table2[DepoName]=$C$2)/(IF($C$3<>\"\",Table2[BULAN]=$C$3,TRUE))/(IF($C$4<>\"\",Table2[OFF/ON]=$C$4,TRUE))/(IF($C$5<>\"\",Table2[Status]=$C$5,TRUE))/(IF($C$6<>\"\",Table2[FPPDate]=$C$6,TRUE))/(IF($C$7<>\"\",Table2[ProposalCode]=$C$7,TRUE)),ROW(E267))),\"\")","v":""},{"$f":"IFERROR(INDEX(Table2[PeriodeEnd],_xlfn.AGGREGATE(15,6,(ROW(Table2[FPPGroupCode])-2)/(Table2[DepoName]=$C$2)/(IF($C$3<>\"\",Table2[BULAN]=$C$3,TRUE))/(IF($C$4<>\"\",Table2[OFF/ON]=$C$4,TRUE))/(IF($C$5<>\"\",Table2[Status]=$C$5,TRUE))/(IF($C$6<>\"\",Table2[FPPDate]=$C$6,TRUE))/(IF($C$7<>\"\",Table2[ProposalCode]=$C$7,TRUE)),ROW(F267))),\"\")","v":""},{"$f":"IFERROR(INDEX(Table2[Amount_FPPDepo],_xlfn.AGGREGATE(15,6,(ROW(Table2[FPPGroupCode])-2)/(Table2[DepoName]=$C$2)/(IF($C$3<>\"\",Table2[BULAN]=$C$3,TRUE))/(IF($C$4<>\"\",Table2[OFF/ON]=$C$4,TRUE))/(IF($C$5<>\"\",Table2[Status]=$C$5,TRUE))/(IF($C$6<>\"\",Table2[FPPDate]=$C$6,TRUE))/(IF($C$7<>\"\",Table2[ProposalCode]=$C$7,TRUE)),ROW(G267))),\"\")","v":""},{"$f":"IFERROR(VLOOKUP($B275,SIP!$D$5776:$P$6032,12,0),0)","v":0},{"$f":"IFERROR(H275-I275,0)","v":0},{"$f":"IFERROR(VLOOKUP($B275,SIP!$D$5776:$P$6032,8,0),0)","v":0},{"$f":"IFERROR(INDEX(Table2[OFF/ON],_xlfn.AGGREGATE(15,6,(ROW(Table2[FPPGroupCode])-2)/(Table2[DepoName]=$C$2)/(IF($C$3<>\"\",Table2[BULAN]=$C$3,TRUE))/(IF($C$4<>\"\",Table2[OFF/ON]=$C$4,TRUE))/(IF($C$5<>\"\",Table2[Status]=$C$5,TRUE))/(IF($C$6<>\"\",Table2[FPPDate]=$C$6,TRUE))/(IF($C$7<>\"\",Table2[ProposalCode]=$C$7,TRUE)),ROW(K267))),\"\")","v":""}]
[{"$f":"IF(LEN($B276),ROW(A268),\"\")","v":""},{"$f":"IFERROR(INDEX(Table2[FPPGroupCode],_xlfn.AGGREGATE(15,6,(ROW(Table2[FPPGroupCode])-2)/(Table2[DepoName]=$C$2)/(IF($C$3<>\"\",Table2[BULAN]=$C$3,TRUE))/(IF($C$4<>\"\",Table2[OFF/ON]=$C$4,TRUE))/(IF($C$5<>\"\",Table2[Status]=$C$5,TRUE))/(IF($C$6<>\"\",Table2[FPPDate]=$C$6,TRUE))/(IF($C$7<>\"\",Table2[ProposalCode]=$C$7,TRUE)),ROW(A268))),\"\")","v":""},{"$f":"IFERROR(VLOOKUP($B276,SIP!$D$3:$Q$12237,14,0),0)","v":0},{"$f":"IFERROR(INDEX(Table2[Activity],_xlfn.AGGREGATE(15,6,(ROW(Table2[FPPGroupCode])-2)/(Table2[DepoName]=$C$2)/(IF($C$3<>\"\",Table2[BULAN]=$C$3,TRUE))/(IF($C$4<>\"\",Table2[OFF/ON]=$C$4,TRUE))/(IF($C$5<>\"\",Table2[Status]=$C$5,TRUE))/(IF($C$6<>\"\",Table2[]=$C$6,TRUE))/(IF($C$7<>\"\",Table2[ProposalCode]=$C$7,TRUE)),ROW(B268))),\"\")","v":""},{"$f":"IFERROR(INDEX(Table2[Location],_xlfn.AGGREGATE(15,6,(ROW(Table2[FPPGroupCode])-2)/(Table2[DepoName]=$C$2)/(IF($C$3<>\"\",Table2[BULAN]=$C$3,TRUE))/(IF($C$4<>\"\",Table2[OFF/ON]=$C$4,TRUE))/(IF($C$5<>\"\",Table2[Status]=$C$5,TRUE))/(IF($C$6<>\"\",Table2[FPPDate]=$C$6,TRUE))/(IF($C$7<>\"\",Table2[ProposalCode]=$C$7,TRUE)),ROW(D268))),\"\")","v":""},{"$f":"IFERROR(INDEX(Table2[PeriodeStart],_xlfn.AGGREGATE(15,6,(ROW(Table2[FPPGroupCode])-2)/(Table2[DepoName]=$C$2)/(IF($C$3<>\"\",Table2[BULAN]=$C$3,TRUE))/(IF($C$4<>\"\",Table2[OFF/ON]=$C$4,TRUE))/(IF($C$5<>\"\",Table2[Status]=$C$5,TRUE))/(IF($C$6<>\"\",Table2[FPPDate]=$C$6,TRUE))/(IF($C$7<>\"\",Table2[ProposalCode]=$C$7,TRUE)),ROW(E268))),\"\")","v":""},{"$f":"IFERROR(INDEX(Table2[PeriodeEnd],_xlfn.AGGREGATE(15,6,(ROW(Table2[FPPGroupCode])-2)/(Table2[DepoName]=$C$2)/(IF($C$3<>\"\",Table2[BULAN]=$C$3,TRUE))/(IF($C$4<>\"\",Table2[OFF/ON]=$C$4,TRUE))/(IF($C$5<>\"\",Table2[Status]=$C$5,TRUE))/(IF($C$6<>\"\",Table2[FPPDate]=$C$6,TRUE))/(IF($C$7<>\"\",Table2[ProposalCode]=$C$7,TRUE)),ROW(F268))),\"\")","v":""},{"$f":"IFERROR(INDEX(Table2[Amount_FPPDepo],_xlfn.AGGREGATE(15,6,(ROW(Table2[FPPGroupCode])-2)/(Table2[DepoName]=$C$2)/(IF($C$3<>\"\",Table2[BULAN]=$C$3,TRUE))/(IF($C$4<>\"\",Table2[OFF/ON]=$C$4,TRUE))/(IF($C$5<>\"\",Table2[Status]=$C$5,TRUE))/(IF($C$6<>\"\",Table2[FPPDate]=$C$6,TRUE))/(IF($C$7<>\"\",Table2[ProposalCode]=$C$7,TRUE)),ROW(G268))),\"\")","v":""},{"$f":"IFERROR(VLOOKUP($B276,SIP!$D$5776:$P$6032,12,0),0)","v":0},{"$f":"IFERROR(H276-I276,0)","v":0},{"$f":"IFERROR(VLOOKUP($B276,SIP!$D$5776:$P$6032,8,0),0)","v":0},{"$f":"IFERROR(INDEX(Table2[OFF/ON],_xlfn.AGGREGATE(15,6,(ROW(Table2[FPPGroupCode])-2)/(Table2[DepoName]=$C$2)/(IF($C$3<>\"\",Table2[BULAN]=$C$3,TRUE))/(IF($C$4<>\"\",Table2[OFF/ON]=$C$4,TRUE))/(IF($C$5<>\"\",Table2[Status]=$C$5,TRUE))/(IF($C$6<>\"\",Table2[FPPDate]=$C$6,TRUE))/(IF($C$7<>\"\",Table2[ProposalCode]=$C$7,TRUE)),ROW(K268))),\"\")","v":""}]
[{"$f":"IF(LEN($B277),ROW(A269),\"\")","v":""},{"$f":"IFERROR(INDEX(Table2[FPPGroupCode],_xlfn.AGGREGATE(15,6,(ROW(Table2[FPPGroupCode])-2)/(Table2[DepoName]=$C$2)/(IF($C$3<>\"\",Table2[BULAN]=$C$3,TRUE))/(IF($C$4<>\"\",Table2[OFF/ON]=$C$4,TRUE))/(IF($C$5<>\"\",Table2[Status]=$C$5,TRUE))/(IF($C$6<>\"\",Table2[FPPDate]=$C$6,TRUE))/(IF($C$7<>\"\",Table2[ProposalCode]=$C$7,TRUE)),ROW(A269))),\"\")","v":""},{"$f":"IFERROR(VLOOKUP($B277,SIP!$D$3:$Q$12237,14,0),0)","v":0},{"$f":"IFERROR(INDEX(Table2[Activity],_xlfn.AGGREGATE(15,6,(ROW(Table2[FPPGroupCode])-2)/(Table2[DepoName]=$C$2)/(IF($C$3<>\"\",Table2[BULAN]=$C$3,TRUE))/(IF($C$4<>\"\",Table2[OFF/ON]=$C$4,TRUE))/(IF($C$5<>\"\",Table2[Status]=$C$5,TRUE))/(IF($C$6<>\"\",Table2[]=$C$6,TRUE))/(IF($C$7<>\"\",Table2[ProposalCode]=$C$7,TRUE)),ROW(B269))),\"\")","v":""},{"$f":"IFERROR(INDEX(Table2[Location],_xlfn.AGGREGATE(15,6,(ROW(Table2[FPPGroupCode])-2)/(Table2[DepoName]=$C$2)/(IF($C$3<>\"\",Table2[BULAN]=$C$3,TRUE))/(IF($C$4<>\"\",Table2[OFF/ON]=$C$4,TRUE))/(IF($C$5<>\"\",Table2[Status]=$C$5,TRUE))/(IF($C$6<>\"\",Table2[FPPDate]=$C$6,TRUE))/(IF($C$7<>\"\",Table2[ProposalCode]=$C$7,TRUE)),ROW(D269))),\"\")","v":""},{"$f":"IFERROR(INDEX(Table2[PeriodeStart],_xlfn.AGGREGATE(15,6,(ROW(Table2[FPPGroupCode])-2)/(Table2[DepoName]=$C$2)/(IF($C$3<>\"\",Table2[BULAN]=$C$3,TRUE))/(IF($C$4<>\"\",Table2[OFF/ON]=$C$4,TRUE))/(IF($C$5<>\"\",Table2[Status]=$C$5,TRUE))/(IF($C$6<>\"\",Table2[FPPDate]=$C$6,TRUE))/(IF($C$7<>\"\",Table2[ProposalCode]=$C$7,TRUE)),ROW(E269))),\"\")","v":""},{"$f":"IFERROR(INDEX(Table2[PeriodeEnd],_xlfn.AGGREGATE(15,6,(ROW(Table2[FPPGroupCode])-2)/(Table2[DepoName]=$C$2)/(IF($C$3<>\"\",Table2[BULAN]=$C$3,TRUE))/(IF($C$4<>\"\",Table2[OFF/ON]=$C$4,TRUE))/(IF($C$5<>\"\",Table2[Status]=$C$5,TRUE))/(IF($C$6<>\"\",Table2[FPPDate]=$C$6,TRUE))/(IF($C$7<>\"\",Table2[ProposalCode]=$C$7,TRUE)),ROW(F269))),\"\")","v":""},{"$f":"IFERROR(INDEX(Table2[Amount_FPPDepo],_xlfn.AGGREGATE(15,6,(ROW(Table2[FPPGroupCode])-2)/(Table2[DepoName]=$C$2)/(IF($C$3<>\"\",Table2[BULAN]=$C$3,TRUE))/(IF($C$4<>\"\",Table2[OFF/ON]=$C$4,TRUE))/(IF($C$5<>\"\",Table2[Status]=$C$5,TRUE))/(IF($C$6<>\"\",Table2[FPPDate]=$C$6,TRUE))/(IF($C$7<>\"\",Table2[ProposalCode]=$C$7,TRUE)),ROW(G269))),\"\")","v":""},{"$f":"IFERROR(VLOOKUP($B277,SIP!$D$5776:$P$6032,12,0),0)","v":0},{"$f":"IFERROR(H277-I277,0)","v":0},{"$f":"IFERROR(VLOOKUP($B277,SIP!$D$5776:$P$6032,8,0),0)","v":0},{"$f":"IFERROR(INDEX(Table2[OFF/ON],_xlfn.AGGREGATE(15,6,(ROW(Table2[FPPGroupCode])-2)/(Table2[DepoName]=$C$2)/(IF($C$3<>\"\",Table2[BULAN]=$C$3,TRUE))/(IF($C$4<>\"\",Table2[OFF/ON]=$C$4,TRUE))/(IF($C$5<>\"\",Table2[Status]=$C$5,TRUE))/(IF($C$6<>\"\",Table2[FPPDate]=$C$6,TRUE))/(IF($C$7<>\"\",Table2[ProposalCode]=$C$7,TRUE)),ROW(K269))),\"\")","v":""}]
[{"$f":"IF(LEN($B278),ROW(A270),\"\")","v":""},{"$f":"IFERROR(INDEX(Table2[FPPGroupCode],_xlfn.AGGREGATE(15,6,(ROW(Table2[FPPGroupCode])-2)/(Table2[DepoName]=$C$2)/(IF($C$3<>\"\",Table2[BULAN]=$C$3,TRUE))/(IF($C$4<>\"\",Table2[OFF/ON]=$C$4,TRUE))/(IF($C$5<>\"\",Table2[Status]=$C$5,TRUE))/(IF($C$6<>\"\",Table2[FPPDate]=$C$6,TRUE))/(IF($C$7<>\"\",Table2[ProposalCode]=$C$7,TRUE)),ROW(A270))),\"\")","v":""},{"$f":"IFERROR(VLOOKUP($B278,SIP!$D$3:$Q$12237,14,0),0)","v":0},{"$f":"IFERROR(INDEX(Table2[Activity],_xlfn.AGGREGATE(15,6,(ROW(Table2[FPPGroupCode])-2)/(Table2[DepoName]=$C$2)/(IF($C$3<>\"\",Table2[BULAN]=$C$3,TRUE))/(IF($C$4<>\"\",Table2[OFF/ON]=$C$4,TRUE))/(IF($C$5<>\"\",Table2[Status]=$C$5,TRUE))/(IF($C$6<>\"\",Table2[]=$C$6,TRUE))/(IF($C$7<>\"\",Table2[ProposalCode]=$C$7,TRUE)),ROW(B270))),\"\")","v":""},{"$f":"IFERROR(INDEX(Table2[Location],_xlfn.AGGREGATE(15,6,(ROW(Table2[FPPGroupCode])-2)/(Table2[DepoName]=$C$2)/(IF($C$3<>\"\",Table2[BULAN]=$C$3,TRUE))/(IF($C$4<>\"\",Table2[OFF/ON]=$C$4,TRUE))/(IF($C$5<>\"\",Table2[Status]=$C$5,TRUE))/(IF($C$6<>\"\",Table2[FPPDate]=$C$6,TRUE))/(IF($C$7<>\"\",Table2[ProposalCode]=$C$7,TRUE)),ROW(D270))),\"\")","v":""},{"$f":"IFERROR(INDEX(Table2[PeriodeStart],_xlfn.AGGREGATE(15,6,(ROW(Table2[FPPGroupCode])-2)/(Table2[DepoName]=$C$2)/(IF($C$3<>\"\",Table2[BULAN]=$C$3,TRUE))/(IF($C$4<>\"\",Table2[OFF/ON]=$C$4,TRUE))/(IF($C$5<>\"\",Table2[Status]=$C$5,TRUE))/(IF($C$6<>\"\",Table2[FPPDate]=$C$6,TRUE))/(IF($C$7<>\"\",Table2[ProposalCode]=$C$7,TRUE)),ROW(E270))),\"\")","v":""},{"$f":"IFERROR(INDEX(Table2[PeriodeEnd],_xlfn.AGGREGATE(15,6,(ROW(Table2[FPPGroupCode])-2)/(Table2[DepoName]=$C$2)/(IF($C$3<>\"\",Table2[BULAN]=$C$3,TRUE))/(IF($C$4<>\"\",Table2[OFF/ON]=$C$4,TRUE))/(IF($C$5<>\"\",Table2[Status]=$C$5,TRUE))/(IF($C$6<>\"\",Table2[FPPDate]=$C$6,TRUE))/(IF($C$7<>\"\",Table2[ProposalCode]=$C$7,TRUE)),ROW(F270))),\"\")","v":""},{"$f":"IFERROR(INDEX(Table2[Amount_FPPDepo],_xlfn.AGGREGATE(15,6,(ROW(Table2[FPPGroupCode])-2)/(Table2[DepoName]=$C$2)/(IF($C$3<>\"\",Table2[BULAN]=$C$3,TRUE))/(IF($C$4<>\"\",Table2[OFF/ON]=$C$4,TRUE))/(IF($C$5<>\"\",Table2[Status]=$C$5,TRUE))/(IF($C$6<>\"\",Table2[FPPDate]=$C$6,TRUE))/(IF($C$7<>\"\",Table2[ProposalCode]=$C$7,TRUE)),ROW(G270))),\"\")","v":""},{"$f":"IFERROR(VLOOKUP($B278,SIP!$D$5776:$P$6032,12,0),0)","v":0},{"$f":"IFERROR(H278-I278,0)","v":0},{"$f":"IFERROR(VLOOKUP($B278,SIP!$D$5776:$P$6032,8,0),0)","v":0},{"$f":"IFERROR(INDEX(Table2[OFF/ON],_xlfn.AGGREGATE(15,6,(ROW(Table2[FPPGroupCode])-2)/(Table2[DepoName]=$C$2)/(IF($C$3<>\"\",Table2[BULAN]=$C$3,TRUE))/(IF($C$4<>\"\",Table2[OFF/ON]=$C$4,TRUE))/(IF($C$5<>\"\",Table2[Status]=$C$5,TRUE))/(IF($C$6<>\"\",Table2[FPPDate]=$C$6,TRUE))/(IF($C$7<>\"\",Table2[ProposalCode]=$C$7,TRUE)),ROW(K270))),\"\")","v":""}]
[{"$f":"IF(LEN($B279),ROW(A271),\"\")","v":""},{"$f":"IFERROR(INDEX(Table2[FPPGroupCode],_xlfn.AGGREGATE(15,6,(ROW(Table2[FPPGroupCode])-2)/(Table2[DepoName]=$C$2)/(IF($C$3<>\"\",Table2[BULAN]=$C$3,TRUE))/(IF($C$4<>\"\",Table2[OFF/ON]=$C$4,TRUE))/(IF($C$5<>\"\",Table2[Status]=$C$5,TRUE))/(IF($C$6<>\"\",Table2[FPPDate]=$C$6,TRUE))/(IF($C$7<>\"\",Table2[ProposalCode]=$C$7,TRUE)),ROW(A271))),\"\")","v":""},{"$f":"IFERROR(VLOOKUP($B279,SIP!$D$3:$Q$12237,14,0),0)","v":0},{"$f":"IFERROR(INDEX(Table2[Activity],_xlfn.AGGREGATE(15,6,(ROW(Table2[FPPGroupCode])-2)/(Table2[DepoName]=$C$2)/(IF($C$3<>\"\",Table2[BULAN]=$C$3,TRUE))/(IF($C$4<>\"\",Table2[OFF/ON]=$C$4,TRUE))/(IF($C$5<>\"\",Table2[Status]=$C$5,TRUE))/(IF($C$6<>\"\",Table2[]=$C$6,TRUE))/(IF($C$7<>\"\",Table2[ProposalCode]=$C$7,TRUE)),ROW(B271))),\"\")","v":""},{"$f":"IFERROR(INDEX(Table2[Location],_xlfn.AGGREGATE(15,6,(ROW(Table2[FPPGroupCode])-2)/(Table2[DepoName]=$C$2)/(IF($C$3<>\"\",Table2[BULAN]=$C$3,TRUE))/(IF($C$4<>\"\",Table2[OFF/ON]=$C$4,TRUE))/(IF($C$5<>\"\",Table2[Status]=$C$5,TRUE))/(IF($C$6<>\"\",Table2[FPPDate]=$C$6,TRUE))/(IF($C$7<>\"\",Table2[ProposalCode]=$C$7,TRUE)),ROW(D271))),\"\")","v":""},{"$f":"IFERROR(INDEX(Table2[PeriodeStart],_xlfn.AGGREGATE(15,6,(ROW(Table2[FPPGroupCode])-2)/(Table2[DepoName]=$C$2)/(IF($C$3<>\"\",Table2[BULAN]=$C$3,TRUE))/(IF($C$4<>\"\",Table2[OFF/ON]=$C$4,TRUE))/(IF($C$5<>\"\",Table2[Status]=$C$5,TRUE))/(IF($C$6<>\"\",Table2[FPPDate]=$C$6,TRUE))/(IF($C$7<>\"\",Table2[ProposalCode]=$C$7,TRUE)),ROW(E271))),\"\")","v":""},{"$f":"IFERROR(INDEX(Table2[PeriodeEnd],_xlfn.AGGREGATE(15,6,(ROW(Table2[FPPGroupCode])-2)/(Table2[DepoName]=$C$2)/(IF($C$3<>\"\",Table2[BULAN]=$C$3,TRUE))/(IF($C$4<>\"\",Table2[OFF/ON]=$C$4,TRUE))/(IF($C$5<>\"\",Table2[Status]=$C$5,TRUE))/(IF($C$6<>\"\",Table2[FPPDate]=$C$6,TRUE))/(IF($C$7<>\"\",Table2[ProposalCode]=$C$7,TRUE)),ROW(F271))),\"\")","v":""},{"$f":"IFERROR(INDEX(Table2[Amount_FPPDepo],_xlfn.AGGREGATE(15,6,(ROW(Table2[FPPGroupCode])-2)/(Table2[DepoName]=$C$2)/(IF($C$3<>\"\",Table2[BULAN]=$C$3,TRUE))/(IF($C$4<>\"\",Table2[OFF/ON]=$C$4,TRUE))/(IF($C$5<>\"\",Table2[Status]=$C$5,TRUE))/(IF($C$6<>\"\",Table2[FPPDate]=$C$6,TRUE))/(IF($C$7<>\"\",Table2[ProposalCode]=$C$7,TRUE)),ROW(G271))),\"\")","v":""},{"$f":"IFERROR(VLOOKUP($B279,SIP!$D$5776:$P$6032,12,0),0)","v":0},{"$f":"IFERROR(H279-I279,0)","v":0},{"$f":"IFERROR(VLOOKUP($B279,SIP!$D$5776:$P$6032,8,0),0)","v":0},{"$f":"IFERROR(INDEX(Table2[OFF/ON],_xlfn.AGGREGATE(15,6,(ROW(Table2[FPPGroupCode])-2)/(Table2[DepoName]=$C$2)/(IF($C$3<>\"\",Table2[BULAN]=$C$3,TRUE))/(IF($C$4<>\"\",Table2[OFF/ON]=$C$4,TRUE))/(IF($C$5<>\"\",Table2[Status]=$C$5,TRUE))/(IF($C$6<>\"\",Table2[FPPDate]=$C$6,TRUE))/(IF($C$7<>\"\",Table2[ProposalCode]=$C$7,TRUE)),ROW(K271))),\"\")","v":""}]
[{"$f":"IF(LEN($B280),ROW(A272),\"\")","v":""},{"$f":"IFERROR(INDEX(Table2[FPPGroupCode],_xlfn.AGGREGATE(15,6,(ROW(Table2[FPPGroupCode])-2)/(Table2[DepoName]=$C$2)/(IF($C$3<>\"\",Table2[BULAN]=$C$3,TRUE))/(IF($C$4<>\"\",Table2[OFF/ON]=$C$4,TRUE))/(IF($C$5<>\"\",Table2[Status]=$C$5,TRUE))/(IF($C$6<>\"\",Table2[FPPDate]=$C$6,TRUE))/(IF($C$7<>\"\",Table2[ProposalCode]=$C$7,TRUE)),ROW(A272))),\"\")","v":""},{"$f":"IFERROR(VLOOKUP($B280,SIP!$D$3:$Q$12237,14,0),0)","v":0},{"$f":"IFERROR(INDEX(Table2[Activity],_xlfn.AGGREGATE(15,6,(ROW(Table2[FPPGroupCode])-2)/(Table2[DepoName]=$C$2)/(IF($C$3<>\"\",Table2[BULAN]=$C$3,TRUE))/(IF($C$4<>\"\",Table2[OFF/ON]=$C$4,TRUE))/(IF($C$5<>\"\",Table2[Status]=$C$5,TRUE))/(IF($C$6<>\"\",Table2[]=$C$6,TRUE))/(IF($C$7<>\"\",Table2[ProposalCode]=$C$7,TRUE)),ROW(B272))),\"\")","v":""},{"$f":"IFERROR(INDEX(Table2[Location],_xlfn.AGGREGATE(15,6,(ROW(Table2[FPPGroupCode])-2)/(Table2[DepoName]=$C$2)/(IF($C$3<>\"\",Table2[BULAN]=$C$3,TRUE))/(IF($C$4<>\"\",Table2[OFF/ON]=$C$4,TRUE))/(IF($C$5<>\"\",Table2[Status]=$C$5,TRUE))/(IF($C$6<>\"\",Table2[FPPDate]=$C$6,TRUE))/(IF($C$7<>\"\",Table2[ProposalCode]=$C$7,TRUE)),ROW(D272))),\"\")","v":""},{"$f":"IFERROR(INDEX(Table2[PeriodeStart],_xlfn.AGGREGATE(15,6,(ROW(Table2[FPPGroupCode])-2)/(Table2[DepoName]=$C$2)/(IF($C$3<>\"\",Table2[BULAN]=$C$3,TRUE))/(IF($C$4<>\"\",Table2[OFF/ON]=$C$4,TRUE))/(IF($C$5<>\"\",Table2[Status]=$C$5,TRUE))/(IF($C$6<>\"\",Table2[FPPDate]=$C$6,TRUE))/(IF($C$7<>\"\",Table2[ProposalCode]=$C$7,TRUE)),ROW(E272))),\"\")","v":""},{"$f":"IFERROR(INDEX(Table2[PeriodeEnd],_xlfn.AGGREGATE(15,6,(ROW(Table2[FPPGroupCode])-2)/(Table2[DepoName]=$C$2)/(IF($C$3<>\"\",Table2[BULAN]=$C$3,TRUE))/(IF($C$4<>\"\",Table2[OFF/ON]=$C$4,TRUE))/(IF($C$5<>\"\",Table2[Status]=$C$5,TRUE))/(IF($C$6<>\"\",Table2[FPPDate]=$C$6,TRUE))/(IF($C$7<>\"\",Table2[ProposalCode]=$C$7,TRUE)),ROW(F272))),\"\")","v":""},{"$f":"IFERROR(INDEX(Table2[Amount_FPPDepo],_xlfn.AGGREGATE(15,6,(ROW(Table2[FPPGroupCode])-2)/(Table2[DepoName]=$C$2)/(IF($C$3<>\"\",Table2[BULAN]=$C$3,TRUE))/(IF($C$4<>\"\",Table2[OFF/ON]=$C$4,TRUE))/(IF($C$5<>\"\",Table2[Status]=$C$5,TRUE))/(IF($C$6<>\"\",Table2[FPPDate]=$C$6,TRUE))/(IF($C$7<>\"\",Table2[ProposalCode]=$C$7,TRUE)),ROW(G272))),\"\")","v":""},{"$f":"IFERROR(VLOOKUP($B280,SIP!$D$5776:$P$6032,12,0),0)","v":0},{"$f":"IFERROR(H280-I280,0)","v":0},{"$f":"IFERROR(VLOOKUP($B280,SIP!$D$5776:$P$6032,8,0),0)","v":0},{"$f":"IFERROR(INDEX(Table2[OFF/ON],_xlfn.AGGREGATE(15,6,(ROW(Table2[FPPGroupCode])-2)/(Table2[DepoName]=$C$2)/(IF($C$3<>\"\",Table2[BULAN]=$C$3,TRUE))/(IF($C$4<>\"\",Table2[OFF/ON]=$C$4,TRUE))/(IF($C$5<>\"\",Table2[Status]=$C$5,TRUE))/(IF($C$6<>\"\",Table2[FPPDate]=$C$6,TRUE))/(IF($C$7<>\"\",Table2[ProposalCode]=$C$7,TRUE)),ROW(K272))),\"\")","v":""}]
[{"$f":"IF(LEN($B281),ROW(A273),\"\")","v":""},{"$f":"IFERROR(INDEX(Table2[FPPGroupCode],_xlfn.AGGREGATE(15,6,(ROW(Table2[FPPGroupCode])-2)/(Table2[DepoName]=$C$2)/(IF($C$3<>\"\",Table2[BULAN]=$C$3,TRUE))/(IF($C$4<>\"\",Table2[OFF/ON]=$C$4,TRUE))/(IF($C$5<>\"\",Table2[Status]=$C$5,TRUE))/(IF($C$6<>\"\",Table2[FPPDate]=$C$6,TRUE))/(IF($C$7<>\"\",Table2[ProposalCode]=$C$7,TRUE)),ROW(A273))),\"\")","v":""},{"$f":"IFERROR(VLOOKUP($B281,SIP!$D$3:$Q$12237,14,0),0)","v":0},{"$f":"IFERROR(INDEX(Table2[Activity],_xlfn.AGGREGATE(15,6,(ROW(Table2[FPPGroupCode])-2)/(Table2[DepoName]=$C$2)/(IF($C$3<>\"\",Table2[BULAN]=$C$3,TRUE))/(IF($C$4<>\"\",Table2[OFF/ON]=$C$4,TRUE))/(IF($C$5<>\"\",Table2[Status]=$C$5,TRUE))/(IF($C$6<>\"\",Table2[]=$C$6,TRUE))/(IF($C$7<>\"\",Table2[ProposalCode]=$C$7,TRUE)),ROW(B273))),\"\")","v":""},{"$f":"IFERROR(INDEX(Table2[Location],_xlfn.AGGREGATE(15,6,(ROW(Table2[FPPGroupCode])-2)/(Table2[DepoName]=$C$2)/(IF($C$3<>\"\",Table2[BULAN]=$C$3,TRUE))/(IF($C$4<>\"\",Table2[OFF/ON]=$C$4,TRUE))/(IF($C$5<>\"\",Table2[Status]=$C$5,TRUE))/(IF($C$6<>\"\",Table2[FPPDate]=$C$6,TRUE))/(IF($C$7<>\"\",Table2[ProposalCode]=$C$7,TRUE)),ROW(D273))),\"\")","v":""},{"$f":"IFERROR(INDEX(Table2[PeriodeStart],_xlfn.AGGREGATE(15,6,(ROW(Table2[FPPGroupCode])-2)/(Table2[DepoName]=$C$2)/(IF($C$3<>\"\",Table2[BULAN]=$C$3,TRUE))/(IF($C$4<>\"\",Table2[OFF/ON]=$C$4,TRUE))/(IF($C$5<>\"\",Table2[Status]=$C$5,TRUE))/(IF($C$6<>\"\",Table2[FPPDate]=$C$6,TRUE))/(IF($C$7<>\"\",Table2[ProposalCode]=$C$7,TRUE)),ROW(E273))),\"\")","v":""},{"$f":"IFERROR(INDEX(Table2[PeriodeEnd],_xlfn.AGGREGATE(15,6,(ROW(Table2[FPPGroupCode])-2)/(Table2[DepoName]=$C$2)/(IF($C$3<>\"\",Table2[BULAN]=$C$3,TRUE))/(IF($C$4<>\"\",Table2[OFF/ON]=$C$4,TRUE))/(IF($C$5<>\"\",Table2[Status]=$C$5,TRUE))/(IF($C$6<>\"\",Table2[FPPDate]=$C$6,TRUE))/(IF($C$7<>\"\",Table2[ProposalCode]=$C$7,TRUE)),ROW(F273))),\"\")","v":""},{"$f":"IFERROR(INDEX(Table2[Amount_FPPDepo],_xlfn.AGGREGATE(15,6,(ROW(Table2[FPPGroupCode])-2)/(Table2[DepoName]=$C$2)/(IF($C$3<>\"\",Table2[BULAN]=$C$3,TRUE))/(IF($C$4<>\"\",Table2[OFF/ON]=$C$4,TRUE))/(IF($C$5<>\"\",Table2[Status]=$C$5,TRUE))/(IF($C$6<>\"\",Table2[FPPDate]=$C$6,TRUE))/(IF($C$7<>\"\",Table2[ProposalCode]=$C$7,TRUE)),ROW(G273))),\"\")","v":""},{"$f":"IFERROR(VLOOKUP($B281,SIP!$D$5776:$P$6032,12,0),0)","v":0},{"$f":"IFERROR(H281-I281,0)","v":0},{"$f":"IFERROR(VLOOKUP($B281,SIP!$D$5776:$P$6032,8,0),0)","v":0},{"$f":"IFERROR(INDEX(Table2[OFF/ON],_xlfn.AGGREGATE(15,6,(ROW(Table2[FPPGroupCode])-2)/(Table2[DepoName]=$C$2)/(IF($C$3<>\"\",Table2[BULAN]=$C$3,TRUE))/(IF($C$4<>\"\",Table2[OFF/ON]=$C$4,TRUE))/(IF($C$5<>\"\",Table2[Status]=$C$5,TRUE))/(IF($C$6<>\"\",Table2[FPPDate]=$C$6,TRUE))/(IF($C$7<>\"\",Table2[ProposalCode]=$C$7,TRUE)),ROW(K273))),\"\")","v":""}]
[{"$f":"IF(LEN($B282),ROW(A274),\"\")","v":""},{"$f":"IFERROR(INDEX(Table2[FPPGroupCode],_xlfn.AGGREGATE(15,6,(ROW(Table2[FPPGroupCode])-2)/(Table2[DepoName]=$C$2)/(IF($C$3<>\"\",Table2[BULAN]=$C$3,TRUE))/(IF($C$4<>\"\",Table2[OFF/ON]=$C$4,TRUE))/(IF($C$5<>\"\",Table2[Status]=$C$5,TRUE))/(IF($C$6<>\"\",Table2[FPPDate]=$C$6,TRUE))/(IF($C$7<>\"\",Table2[ProposalCode]=$C$7,TRUE)),ROW(A274))),\"\")","v":""},{"$f":"IFERROR(VLOOKUP($B282,SIP!$D$3:$Q$12237,14,0),0)","v":0},{"$f":"IFERROR(INDEX(Table2[Activity],_xlfn.AGGREGATE(15,6,(ROW(Table2[FPPGroupCode])-2)/(Table2[DepoName]=$C$2)/(IF($C$3<>\"\",Table2[BULAN]=$C$3,TRUE))/(IF($C$4<>\"\",Table2[OFF/ON]=$C$4,TRUE))/(IF($C$5<>\"\",Table2[Status]=$C$5,TRUE))/(IF($C$6<>\"\",Table2[]=$C$6,TRUE))/(IF($C$7<>\"\",Table2[ProposalCode]=$C$7,TRUE)),ROW(B274))),\"\")","v":""},{"$f":"IFERROR(INDEX(Table2[Location],_xlfn.AGGREGATE(15,6,(ROW(Table2[FPPGroupCode])-2)/(Table2[DepoName]=$C$2)/(IF($C$3<>\"\",Table2[BULAN]=$C$3,TRUE))/(IF($C$4<>\"\",Table2[OFF/ON]=$C$4,TRUE))/(IF($C$5<>\"\",Table2[Status]=$C$5,TRUE))/(IF($C$6<>\"\",Table2[FPPDate]=$C$6,TRUE))/(IF($C$7<>\"\",Table2[ProposalCode]=$C$7,TRUE)),ROW(D274))),\"\")","v":""},{"$f":"IFERROR(INDEX(Table2[PeriodeStart],_xlfn.AGGREGATE(15,6,(ROW(Table2[FPPGroupCode])-2)/(Table2[DepoName]=$C$2)/(IF($C$3<>\"\",Table2[BULAN]=$C$3,TRUE))/(IF($C$4<>\"\",Table2[OFF/ON]=$C$4,TRUE))/(IF($C$5<>\"\",Table2[Status]=$C$5,TRUE))/(IF($C$6<>\"\",Table2[FPPDate]=$C$6,TRUE))/(IF($C$7<>\"\",Table2[ProposalCode]=$C$7,TRUE)),ROW(E274))),\"\")","v":""},{"$f":"IFERROR(INDEX(Table2[PeriodeEnd],_xlfn.AGGREGATE(15,6,(ROW(Table2[FPPGroupCode])-2)/(Table2[DepoName]=$C$2)/(IF($C$3<>\"\",Table2[BULAN]=$C$3,TRUE))/(IF($C$4<>\"\",Table2[OFF/ON]=$C$4,TRUE))/(IF($C$5<>\"\",Table2[Status]=$C$5,TRUE))/(IF($C$6<>\"\",Table2[FPPDate]=$C$6,TRUE))/(IF($C$7<>\"\",Table2[ProposalCode]=$C$7,TRUE)),ROW(F274))),\"\")","v":""},{"$f":"IFERROR(INDEX(Table2[Amount_FPPDepo],_xlfn.AGGREGATE(15,6,(ROW(Table2[FPPGroupCode])-2)/(Table2[DepoName]=$C$2)/(IF($C$3<>\"\",Table2[BULAN]=$C$3,TRUE))/(IF($C$4<>\"\",Table2[OFF/ON]=$C$4,TRUE))/(IF($C$5<>\"\",Table2[Status]=$C$5,TRUE))/(IF($C$6<>\"\",Table2[FPPDate]=$C$6,TRUE))/(IF($C$7<>\"\",Table2[ProposalCode]=$C$7,TRUE)),ROW(G274))),\"\")","v":""},{"$f":"IFERROR(VLOOKUP($B282,SIP!$D$5776:$P$6032,12,0),0)","v":0},{"$f":"IFERROR(H282-I282,0)","v":0},{"$f":"IFERROR(VLOOKUP($B282,SIP!$D$5776:$P$6032,8,0),0)","v":0},{"$f":"IFERROR(INDEX(Table2[OFF/ON],_xlfn.AGGREGATE(15,6,(ROW(Table2[FPPGroupCode])-2)/(Table2[DepoName]=$C$2)/(IF($C$3<>\"\",Table2[BULAN]=$C$3,TRUE))/(IF($C$4<>\"\",Table2[OFF/ON]=$C$4,TRUE))/(IF($C$5<>\"\",Table2[Status]=$C$5,TRUE))/(IF($C$6<>\"\",Table2[FPPDate]=$C$6,TRUE))/(IF($C$7<>\"\",Table2[ProposalCode]=$C$7,TRUE)),ROW(K274))),\"\")","v":""}]
[{"$f":"IF(LEN($B283),ROW(A275),\"\")","v":""},{"$f":"IFERROR(INDEX(Table2[FPPGroupCode],_xlfn.AGGREGATE(15,6,(ROW(Table2[FPPGroupCode])-2)/(Table2[DepoName]=$C$2)/(IF($C$3<>\"\",Table2[BULAN]=$C$3,TRUE))/(IF($C$4<>\"\",Table2[OFF/ON]=$C$4,TRUE))/(IF($C$5<>\"\",Table2[Status]=$C$5,TRUE))/(IF($C$6<>\"\",Table2[FPPDate]=$C$6,TRUE))/(IF($C$7<>\"\",Table2[ProposalCode]=$C$7,TRUE)),ROW(A275))),\"\")","v":""},{"$f":"IFERROR(VLOOKUP($B283,SIP!$D$3:$Q$12237,14,0),0)","v":0},{"$f":"IFERROR(INDEX(Table2[Activity],_xlfn.AGGREGATE(15,6,(ROW(Table2[FPPGroupCode])-2)/(Table2[DepoName]=$C$2)/(IF($C$3<>\"\",Table2[BULAN]=$C$3,TRUE))/(IF($C$4<>\"\",Table2[OFF/ON]=$C$4,TRUE))/(IF($C$5<>\"\",Table2[Status]=$C$5,TRUE))/(IF($C$6<>\"\",Table2[]=$C$6,TRUE))/(IF($C$7<>\"\",Table2[ProposalCode]=$C$7,TRUE)),ROW(B275))),\"\")","v":""},{"$f":"IFERROR(INDEX(Table2[Location],_xlfn.AGGREGATE(15,6,(ROW(Table2[FPPGroupCode])-2)/(Table2[DepoName]=$C$2)/(IF($C$3<>\"\",Table2[BULAN]=$C$3,TRUE))/(IF($C$4<>\"\",Table2[OFF/ON]=$C$4,TRUE))/(IF($C$5<>\"\",Table2[Status]=$C$5,TRUE))/(IF($C$6<>\"\",Table2[FPPDate]=$C$6,TRUE))/(IF($C$7<>\"\",Table2[ProposalCode]=$C$7,TRUE)),ROW(D275))),\"\")","v":""},{"$f":"IFERROR(INDEX(Table2[PeriodeStart],_xlfn.AGGREGATE(15,6,(ROW(Table2[FPPGroupCode])-2)/(Table2[DepoName]=$C$2)/(IF($C$3<>\"\",Table2[BULAN]=$C$3,TRUE))/(IF($C$4<>\"\",Table2[OFF/ON]=$C$4,TRUE))/(IF($C$5<>\"\",Table2[Status]=$C$5,TRUE))/(IF($C$6<>\"\",Table2[FPPDate]=$C$6,TRUE))/(IF($C$7<>\"\",Table2[ProposalCode]=$C$7,TRUE)),ROW(E275))),\"\")","v":""},{"$f":"IFERROR(INDEX(Table2[PeriodeEnd],_xlfn.AGGREGATE(15,6,(ROW(Table2[FPPGroupCode])-2)/(Table2[DepoName]=$C$2)/(IF($C$3<>\"\",Table2[BULAN]=$C$3,TRUE))/(IF($C$4<>\"\",Table2[OFF/ON]=$C$4,TRUE))/(IF($C$5<>\"\",Table2[Status]=$C$5,TRUE))/(IF($C$6<>\"\",Table2[FPPDate]=$C$6,TRUE))/(IF($C$7<>\"\",Table2[ProposalCode]=$C$7,TRUE)),ROW(F275))),\"\")","v":""},{"$f":"IFERROR(INDEX(Table2[Amount_FPPDepo],_xlfn.AGGREGATE(15,6,(ROW(Table2[FPPGroupCode])-2)/(Table2[DepoName]=$C$2)/(IF($C$3<>\"\",Table2[BULAN]=$C$3,TRUE))/(IF($C$4<>\"\",Table2[OFF/ON]=$C$4,TRUE))/(IF($C$5<>\"\",Table2[Status]=$C$5,TRUE))/(IF($C$6<>\"\",Table2[FPPDate]=$C$6,TRUE))/(IF($C$7<>\"\",Table2[ProposalCode]=$C$7,TRUE)),ROW(G275))),\"\")","v":""},{"$f":"IFERROR(VLOOKUP($B283,SIP!$D$5776:$P$6032,12,0),0)","v":0},{"$f":"IFERROR(H283-I283,0)","v":0},{"$f":"IFERROR(VLOOKUP($B283,SIP!$D$5776:$P$6032,8,0),0)","v":0},{"$f":"IFERROR(INDEX(Table2[OFF/ON],_xlfn.AGGREGATE(15,6,(ROW(Table2[FPPGroupCode])-2)/(Table2[DepoName]=$C$2)/(IF($C$3<>\"\",Table2[BULAN]=$C$3,TRUE))/(IF($C$4<>\"\",Table2[OFF/ON]=$C$4,TRUE))/(IF($C$5<>\"\",Table2[Status]=$C$5,TRUE))/(IF($C$6<>\"\",Table2[FPPDate]=$C$6,TRUE))/(IF($C$7<>\"\",Table2[ProposalCode]=$C$7,TRUE)),ROW(K275))),\"\")","v":""}]
[{"$f":"IF(LEN($B284),ROW(A276),\"\")","v":""},{"$f":"IFERROR(INDEX(Table2[FPPGroupCode],_xlfn.AGGREGATE(15,6,(ROW(Table2[FPPGroupCode])-2)/(Table2[DepoName]=$C$2)/(IF($C$3<>\"\",Table2[BULAN]=$C$3,TRUE))/(IF($C$4<>\"\",Table2[OFF/ON]=$C$4,TRUE))/(IF($C$5<>\"\",Table2[Status]=$C$5,TRUE))/(IF($C$6<>\"\",Table2[FPPDate]=$C$6,TRUE))/(IF($C$7<>\"\",Table2[ProposalCode]=$C$7,TRUE)),ROW(A276))),\"\")","v":""},{"$f":"IFERROR(VLOOKUP($B284,SIP!$D$3:$Q$12237,14,0),0)","v":0},{"$f":"IFERROR(INDEX(Table2[Activity],_xlfn.AGGREGATE(15,6,(ROW(Table2[FPPGroupCode])-2)/(Table2[DepoName]=$C$2)/(IF($C$3<>\"\",Table2[BULAN]=$C$3,TRUE))/(IF($C$4<>\"\",Table2[OFF/ON]=$C$4,TRUE))/(IF($C$5<>\"\",Table2[Status]=$C$5,TRUE))/(IF($C$6<>\"\",Table2[]=$C$6,TRUE))/(IF($C$7<>\"\",Table2[ProposalCode]=$C$7,TRUE)),ROW(B276))),\"\")","v":""},{"$f":"IFERROR(INDEX(Table2[Location],_xlfn.AGGREGATE(15,6,(ROW(Table2[FPPGroupCode])-2)/(Table2[DepoName]=$C$2)/(IF($C$3<>\"\",Table2[BULAN]=$C$3,TRUE))/(IF($C$4<>\"\",Table2[OFF/ON]=$C$4,TRUE))/(IF($C$5<>\"\",Table2[Status]=$C$5,TRUE))/(IF($C$6<>\"\",Table2[FPPDate]=$C$6,TRUE))/(IF($C$7<>\"\",Table2[ProposalCode]=$C$7,TRUE)),ROW(D276))),\"\")","v":""},{"$f":"IFERROR(INDEX(Table2[PeriodeStart],_xlfn.AGGREGATE(15,6,(ROW(Table2[FPPGroupCode])-2)/(Table2[DepoName]=$C$2)/(IF($C$3<>\"\",Table2[BULAN]=$C$3,TRUE))/(IF($C$4<>\"\",Table2[OFF/ON]=$C$4,TRUE))/(IF($C$5<>\"\",Table2[Status]=$C$5,TRUE))/(IF($C$6<>\"\",Table2[FPPDate]=$C$6,TRUE))/(IF($C$7<>\"\",Table2[ProposalCode]=$C$7,TRUE)),ROW(E276))),\"\")","v":""},{"$f":"IFERROR(INDEX(Table2[PeriodeEnd],_xlfn.AGGREGATE(15,6,(ROW(Table2[FPPGroupCode])-2)/(Table2[DepoName]=$C$2)/(IF($C$3<>\"\",Table2[BULAN]=$C$3,TRUE))/(IF($C$4<>\"\",Table2[OFF/ON]=$C$4,TRUE))/(IF($C$5<>\"\",Table2[Status]=$C$5,TRUE))/(IF($C$6<>\"\",Table2[FPPDate]=$C$6,TRUE))/(IF($C$7<>\"\",Table2[ProposalCode]=$C$7,TRUE)),ROW(F276))),\"\")","v":""},{"$f":"IFERROR(INDEX(Table2[Amount_FPPDepo],_xlfn.AGGREGATE(15,6,(ROW(Table2[FPPGroupCode])-2)/(Table2[DepoName]=$C$2)/(IF($C$3<>\"\",Table2[BULAN]=$C$3,TRUE))/(IF($C$4<>\"\",Table2[OFF/ON]=$C$4,TRUE))/(IF($C$5<>\"\",Table2[Status]=$C$5,TRUE))/(IF($C$6<>\"\",Table2[FPPDate]=$C$6,TRUE))/(IF($C$7<>\"\",Table2[ProposalCode]=$C$7,TRUE)),ROW(G276))),\"\")","v":""},{"$f":"IFERROR(VLOOKUP($B284,SIP!$D$5776:$P$6032,12,0),0)","v":0},{"$f":"IFERROR(H284-I284,0)","v":0},{"$f":"IFERROR(VLOOKUP($B284,SIP!$D$5776:$P$6032,8,0),0)","v":0},{"$f":"IFERROR(INDEX(Table2[OFF/ON],_xlfn.AGGREGATE(15,6,(ROW(Table2[FPPGroupCode])-2)/(Table2[DepoName]=$C$2)/(IF($C$3<>\"\",Table2[BULAN]=$C$3,TRUE))/(IF($C$4<>\"\",Table2[OFF/ON]=$C$4,TRUE))/(IF($C$5<>\"\",Table2[Status]=$C$5,TRUE))/(IF($C$6<>\"\",Table2[FPPDate]=$C$6,TRUE))/(IF($C$7<>\"\",Table2[ProposalCode]=$C$7,TRUE)),ROW(K276))),\"\")","v":""}]
[{"$f":"IF(LEN($B285),ROW(A277),\"\")","v":""},{"$f":"IFERROR(INDEX(Table2[FPPGroupCode],_xlfn.AGGREGATE(15,6,(ROW(Table2[FPPGroupCode])-2)/(Table2[DepoName]=$C$2)/(IF($C$3<>\"\",Table2[BULAN]=$C$3,TRUE))/(IF($C$4<>\"\",Table2[OFF/ON]=$C$4,TRUE))/(IF($C$5<>\"\",Table2[Status]=$C$5,TRUE))/(IF($C$6<>\"\",Table2[FPPDate]=$C$6,TRUE))/(IF($C$7<>\"\",Table2[ProposalCode]=$C$7,TRUE)),ROW(A277))),\"\")","v":""},{"$f":"IFERROR(VLOOKUP($B285,SIP!$D$3:$Q$12237,14,0),0)","v":0},{"$f":"IFERROR(INDEX(Table2[Activity],_xlfn.AGGREGATE(15,6,(ROW(Table2[FPPGroupCode])-2)/(Table2[DepoName]=$C$2)/(IF($C$3<>\"\",Table2[BULAN]=$C$3,TRUE))/(IF($C$4<>\"\",Table2[OFF/ON]=$C$4,TRUE))/(IF($C$5<>\"\",Table2[Status]=$C$5,TRUE))/(IF($C$6<>\"\",Table2[]=$C$6,TRUE))/(IF($C$7<>\"\",Table2[ProposalCode]=$C$7,TRUE)),ROW(B277))),\"\")","v":""},{"$f":"IFERROR(INDEX(Table2[Location],_xlfn.AGGREGATE(15,6,(ROW(Table2[FPPGroupCode])-2)/(Table2[DepoName]=$C$2)/(IF($C$3<>\"\",Table2[BULAN]=$C$3,TRUE))/(IF($C$4<>\"\",Table2[OFF/ON]=$C$4,TRUE))/(IF($C$5<>\"\",Table2[Status]=$C$5,TRUE))/(IF($C$6<>\"\",Table2[FPPDate]=$C$6,TRUE))/(IF($C$7<>\"\",Table2[ProposalCode]=$C$7,TRUE)),ROW(D277))),\"\")","v":""},{"$f":"IFERROR(INDEX(Table2[PeriodeStart],_xlfn.AGGREGATE(15,6,(ROW(Table2[FPPGroupCode])-2)/(Table2[DepoName]=$C$2)/(IF($C$3<>\"\",Table2[BULAN]=$C$3,TRUE))/(IF($C$4<>\"\",Table2[OFF/ON]=$C$4,TRUE))/(IF($C$5<>\"\",Table2[Status]=$C$5,TRUE))/(IF($C$6<>\"\",Table2[FPPDate]=$C$6,TRUE))/(IF($C$7<>\"\",Table2[ProposalCode]=$C$7,TRUE)),ROW(E277))),\"\")","v":""},{"$f":"IFERROR(INDEX(Table2[PeriodeEnd],_xlfn.AGGREGATE(15,6,(ROW(Table2[FPPGroupCode])-2)/(Table2[DepoName]=$C$2)/(IF($C$3<>\"\",Table2[BULAN]=$C$3,TRUE))/(IF($C$4<>\"\",Table2[OFF/ON]=$C$4,TRUE))/(IF($C$5<>\"\",Table2[Status]=$C$5,TRUE))/(IF($C$6<>\"\",Table2[FPPDate]=$C$6,TRUE))/(IF($C$7<>\"\",Table2[ProposalCode]=$C$7,TRUE)),ROW(F277))),\"\")","v":""},{"$f":"IFERROR(INDEX(Table2[Amount_FPPDepo],_xlfn.AGGREGATE(15,6,(ROW(Table2[FPPGroupCode])-2)/(Table2[DepoName]=$C$2)/(IF($C$3<>\"\",Table2[BULAN]=$C$3,TRUE))/(IF($C$4<>\"\",Table2[OFF/ON]=$C$4,TRUE))/(IF($C$5<>\"\",Table2[Status]=$C$5,TRUE))/(IF($C$6<>\"\",Table2[FPPDate]=$C$6,TRUE))/(IF($C$7<>\"\",Table2[ProposalCode]=$C$7,TRUE)),ROW(G277))),\"\")","v":""},{"$f":"IFERROR(VLOOKUP($B285,SIP!$D$5776:$P$6032,12,0),0)","v":0},{"$f":"IFERROR(H285-I285,0)","v":0},{"$f":"IFERROR(VLOOKUP($B285,SIP!$D$5776:$P$6032,8,0),0)","v":0},{"$f":"IFERROR(INDEX(Table2[OFF/ON],_xlfn.AGGREGATE(15,6,(ROW(Table2[FPPGroupCode])-2)/(Table2[DepoName]=$C$2)/(IF($C$3<>\"\",Table2[BULAN]=$C$3,TRUE))/(IF($C$4<>\"\",Table2[OFF/ON]=$C$4,TRUE))/(IF($C$5<>\"\",Table2[Status]=$C$5,TRUE))/(IF($C$6<>\"\",Table2[FPPDate]=$C$6,TRUE))/(IF($C$7<>\"\",Table2[ProposalCode]=$C$7,TRUE)),ROW(K277))),\"\")","v":""}]
[{"$f":"IF(LEN($B286),ROW(A278),\"\")","v":""},{"$f":"IFERROR(INDEX(Table2[FPPGroupCode],_xlfn.AGGREGATE(15,6,(ROW(Table2[FPPGroupCode])-2)/(Table2[DepoName]=$C$2)/(IF($C$3<>\"\",Table2[BULAN]=$C$3,TRUE))/(IF($C$4<>\"\",Table2[OFF/ON]=$C$4,TRUE))/(IF($C$5<>\"\",Table2[Status]=$C$5,TRUE))/(IF($C$6<>\"\",Table2[FPPDate]=$C$6,TRUE))/(IF($C$7<>\"\",Table2[ProposalCode]=$C$7,TRUE)),ROW(A278))),\"\")","v":""},{"$f":"IFERROR(VLOOKUP($B286,SIP!$D$3:$Q$12237,14,0),0)","v":0},{"$f":"IFERROR(INDEX(Table2[Activity],_xlfn.AGGREGATE(15,6,(ROW(Table2[FPPGroupCode])-2)/(Table2[DepoName]=$C$2)/(IF($C$3<>\"\",Table2[BULAN]=$C$3,TRUE))/(IF($C$4<>\"\",Table2[OFF/ON]=$C$4,TRUE))/(IF($C$5<>\"\",Table2[Status]=$C$5,TRUE))/(IF($C$6<>\"\",Table2[]=$C$6,TRUE))/(IF($C$7<>\"\",Table2[ProposalCode]=$C$7,TRUE)),ROW(B278))),\"\")","v":""},{"$f":"IFERROR(INDEX(Table2[Location],_xlfn.AGGREGATE(15,6,(ROW(Table2[FPPGroupCode])-2)/(Table2[DepoName]=$C$2)/(IF($C$3<>\"\",Table2[BULAN]=$C$3,TRUE))/(IF($C$4<>\"\",Table2[OFF/ON]=$C$4,TRUE))/(IF($C$5<>\"\",Table2[Status]=$C$5,TRUE))/(IF($C$6<>\"\",Table2[FPPDate]=$C$6,TRUE))/(IF($C$7<>\"\",Table2[ProposalCode]=$C$7,TRUE)),ROW(D278))),\"\")","v":""},{"$f":"IFERROR(INDEX(Table2[PeriodeStart],_xlfn.AGGREGATE(15,6,(ROW(Table2[FPPGroupCode])-2)/(Table2[DepoName]=$C$2)/(IF($C$3<>\"\",Table2[BULAN]=$C$3,TRUE))/(IF($C$4<>\"\",Table2[OFF/ON]=$C$4,TRUE))/(IF($C$5<>\"\",Table2[Status]=$C$5,TRUE))/(IF($C$6<>\"\",Table2[FPPDate]=$C$6,TRUE))/(IF($C$7<>\"\",Table2[ProposalCode]=$C$7,TRUE)),ROW(E278))),\"\")","v":""},{"$f":"IFERROR(INDEX(Table2[PeriodeEnd],_xlfn.AGGREGATE(15,6,(ROW(Table2[FPPGroupCode])-2)/(Table2[DepoName]=$C$2)/(IF($C$3<>\"\",Table2[BULAN]=$C$3,TRUE))/(IF($C$4<>\"\",Table2[OFF/ON]=$C$4,TRUE))/(IF($C$5<>\"\",Table2[Status]=$C$5,TRUE))/(IF($C$6<>\"\",Table2[FPPDate]=$C$6,TRUE))/(IF($C$7<>\"\",Table2[ProposalCode]=$C$7,TRUE)),ROW(F278))),\"\")","v":""},{"$f":"IFERROR(INDEX(Table2[Amount_FPPDepo],_xlfn.AGGREGATE(15,6,(ROW(Table2[FPPGroupCode])-2)/(Table2[DepoName]=$C$2)/(IF($C$3<>\"\",Table2[BULAN]=$C$3,TRUE))/(IF($C$4<>\"\",Table2[OFF/ON]=$C$4,TRUE))/(IF($C$5<>\"\",Table2[Status]=$C$5,TRUE))/(IF($C$6<>\"\",Table2[FPPDate]=$C$6,TRUE))/(IF($C$7<>\"\",Table2[ProposalCode]=$C$7,TRUE)),ROW(G278))),\"\")","v":""},{"$f":"IFERROR(VLOOKUP($B286,SIP!$D$5776:$P$6032,12,0),0)","v":0},{"$f":"IFERROR(H286-I286,0)","v":0},{"$f":"IFERROR(VLOOKUP($B286,SIP!$D$5776:$P$6032,8,0),0)","v":0},{"$f":"IFERROR(INDEX(Table2[OFF/ON],_xlfn.AGGREGATE(15,6,(ROW(Table2[FPPGroupCode])-2)/(Table2[DepoName]=$C$2)/(IF($C$3<>\"\",Table2[BULAN]=$C$3,TRUE))/(IF($C$4<>\"\",Table2[OFF/ON]=$C$4,TRUE))/(IF($C$5<>\"\",Table2[Status]=$C$5,TRUE))/(IF($C$6<>\"\",Table2[FPPDate]=$C$6,TRUE))/(IF($C$7<>\"\",Table2[ProposalCode]=$C$7,TRUE)),ROW(K278))),\"\")","v":""}]
[{"$f":"IF(LEN($B287),ROW(A279),\"\")","v":""},{"$f":"IFERROR(INDEX(Table2[FPPGroupCode],_xlfn.AGGREGATE(15,6,(ROW(Table2[FPPGroupCode])-2)/(Table2[DepoName]=$C$2)/(IF($C$3<>\"\",Table2[BULAN]=$C$3,TRUE))/(IF($C$4<>\"\",Table2[OFF/ON]=$C$4,TRUE))/(IF($C$5<>\"\",Table2[Status]=$C$5,TRUE))/(IF($C$6<>\"\",Table2[FPPDate]=$C$6,TRUE))/(IF($C$7<>\"\",Table2[ProposalCode]=$C$7,TRUE)),ROW(A279))),\"\")","v":""},{"$f":"IFERROR(VLOOKUP($B287,SIP!$D$3:$Q$12237,14,0),0)","v":0},{"$f":"IFERROR(INDEX(Table2[Activity],_xlfn.AGGREGATE(15,6,(ROW(Table2[FPPGroupCode])-2)/(Table2[DepoName]=$C$2)/(IF($C$3<>\"\",Table2[BULAN]=$C$3,TRUE))/(IF($C$4<>\"\",Table2[OFF/ON]=$C$4,TRUE))/(IF($C$5<>\"\",Table2[Status]=$C$5,TRUE))/(IF($C$6<>\"\",Table2[]=$C$6,TRUE))/(IF($C$7<>\"\",Table2[ProposalCode]=$C$7,TRUE)),ROW(B279))),\"\")","v":""},{"$f":"IFERROR(INDEX(Table2[Location],_xlfn.AGGREGATE(15,6,(ROW(Table2[FPPGroupCode])-2)/(Table2[DepoName]=$C$2)/(IF($C$3<>\"\",Table2[BULAN]=$C$3,TRUE))/(IF($C$4<>\"\",Table2[OFF/ON]=$C$4,TRUE))/(IF($C$5<>\"\",Table2[Status]=$C$5,TRUE))/(IF($C$6<>\"\",Table2[FPPDate]=$C$6,TRUE))/(IF($C$7<>\"\",Table2[ProposalCode]=$C$7,TRUE)),ROW(D279))),\"\")","v":""},{"$f":"IFERROR(INDEX(Table2[PeriodeStart],_xlfn.AGGREGATE(15,6,(ROW(Table2[FPPGroupCode])-2)/(Table2[DepoName]=$C$2)/(IF($C$3<>\"\",Table2[BULAN]=$C$3,TRUE))/(IF($C$4<>\"\",Table2[OFF/ON]=$C$4,TRUE))/(IF($C$5<>\"\",Table2[Status]=$C$5,TRUE))/(IF($C$6<>\"\",Table2[FPPDate]=$C$6,TRUE))/(IF($C$7<>\"\",Table2[ProposalCode]=$C$7,TRUE)),ROW(E279))),\"\")","v":""},{"$f":"IFERROR(INDEX(Table2[PeriodeEnd],_xlfn.AGGREGATE(15,6,(ROW(Table2[FPPGroupCode])-2)/(Table2[DepoName]=$C$2)/(IF($C$3<>\"\",Table2[BULAN]=$C$3,TRUE))/(IF($C$4<>\"\",Table2[OFF/ON]=$C$4,TRUE))/(IF($C$5<>\"\",Table2[Status]=$C$5,TRUE))/(IF($C$6<>\"\",Table2[FPPDate]=$C$6,TRUE))/(IF($C$7<>\"\",Table2[ProposalCode]=$C$7,TRUE)),ROW(F279))),\"\")","v":""},{"$f":"IFERROR(INDEX(Table2[Amount_FPPDepo],_xlfn.AGGREGATE(15,6,(ROW(Table2[FPPGroupCode])-2)/(Table2[DepoName]=$C$2)/(IF($C$3<>\"\",Table2[BULAN]=$C$3,TRUE))/(IF($C$4<>\"\",Table2[OFF/ON]=$C$4,TRUE))/(IF($C$5<>\"\",Table2[Status]=$C$5,TRUE))/(IF($C$6<>\"\",Table2[FPPDate]=$C$6,TRUE))/(IF($C$7<>\"\",Table2[ProposalCode]=$C$7,TRUE)),ROW(G279))),\"\")","v":""},{"$f":"IFERROR(VLOOKUP($B287,SIP!$D$5776:$P$6032,12,0),0)","v":0},{"$f":"IFERROR(H287-I287,0)","v":0},{"$f":"IFERROR(VLOOKUP($B287,SIP!$D$5776:$P$6032,8,0),0)","v":0},{"$f":"IFERROR(INDEX(Table2[OFF/ON],_xlfn.AGGREGATE(15,6,(ROW(Table2[FPPGroupCode])-2)/(Table2[DepoName]=$C$2)/(IF($C$3<>\"\",Table2[BULAN]=$C$3,TRUE))/(IF($C$4<>\"\",Table2[OFF/ON]=$C$4,TRUE))/(IF($C$5<>\"\",Table2[Status]=$C$5,TRUE))/(IF($C$6<>\"\",Table2[FPPDate]=$C$6,TRUE))/(IF($C$7<>\"\",Table2[ProposalCode]=$C$7,TRUE)),ROW(K279))),\"\")","v":""}]
[{"$f":"IF(LEN($B288),ROW(A280),\"\")","v":""},{"$f":"IFERROR(INDEX(Table2[FPPGroupCode],_xlfn.AGGREGATE(15,6,(ROW(Table2[FPPGroupCode])-2)/(Table2[DepoName]=$C$2)/(IF($C$3<>\"\",Table2[BULAN]=$C$3,TRUE))/(IF($C$4<>\"\",Table2[OFF/ON]=$C$4,TRUE))/(IF($C$5<>\"\",Table2[Status]=$C$5,TRUE))/(IF($C$6<>\"\",Table2[FPPDate]=$C$6,TRUE))/(IF($C$7<>\"\",Table2[ProposalCode]=$C$7,TRUE)),ROW(A280))),\"\")","v":""},{"$f":"IFERROR(VLOOKUP($B288,SIP!$D$3:$Q$12237,14,0),0)","v":0},{"$f":"IFERROR(INDEX(Table2[Activity],_xlfn.AGGREGATE(15,6,(ROW(Table2[FPPGroupCode])-2)/(Table2[DepoName]=$C$2)/(IF($C$3<>\"\",Table2[BULAN]=$C$3,TRUE))/(IF($C$4<>\"\",Table2[OFF/ON]=$C$4,TRUE))/(IF($C$5<>\"\",Table2[Status]=$C$5,TRUE))/(IF($C$6<>\"\",Table2[]=$C$6,TRUE))/(IF($C$7<>\"\",Table2[ProposalCode]=$C$7,TRUE)),ROW(B280))),\"\")","v":""},{"$f":"IFERROR(INDEX(Table2[Location],_xlfn.AGGREGATE(15,6,(ROW(Table2[FPPGroupCode])-2)/(Table2[DepoName]=$C$2)/(IF($C$3<>\"\",Table2[BULAN]=$C$3,TRUE))/(IF($C$4<>\"\",Table2[OFF/ON]=$C$4,TRUE))/(IF($C$5<>\"\",Table2[Status]=$C$5,TRUE))/(IF($C$6<>\"\",Table2[FPPDate]=$C$6,TRUE))/(IF($C$7<>\"\",Table2[ProposalCode]=$C$7,TRUE)),ROW(D280))),\"\")","v":""},{"$f":"IFERROR(INDEX(Table2[PeriodeStart],_xlfn.AGGREGATE(15,6,(ROW(Table2[FPPGroupCode])-2)/(Table2[DepoName]=$C$2)/(IF($C$3<>\"\",Table2[BULAN]=$C$3,TRUE))/(IF($C$4<>\"\",Table2[OFF/ON]=$C$4,TRUE))/(IF($C$5<>\"\",Table2[Status]=$C$5,TRUE))/(IF($C$6<>\"\",Table2[FPPDate]=$C$6,TRUE))/(IF($C$7<>\"\",Table2[ProposalCode]=$C$7,TRUE)),ROW(E280))),\"\")","v":""},{"$f":"IFERROR(INDEX(Table2[PeriodeEnd],_xlfn.AGGREGATE(15,6,(ROW(Table2[FPPGroupCode])-2)/(Table2[DepoName]=$C$2)/(IF($C$3<>\"\",Table2[BULAN]=$C$3,TRUE))/(IF($C$4<>\"\",Table2[OFF/ON]=$C$4,TRUE))/(IF($C$5<>\"\",Table2[Status]=$C$5,TRUE))/(IF($C$6<>\"\",Table2[FPPDate]=$C$6,TRUE))/(IF($C$7<>\"\",Table2[ProposalCode]=$C$7,TRUE)),ROW(F280))),\"\")","v":""},{"$f":"IFERROR(INDEX(Table2[Amount_FPPDepo],_xlfn.AGGREGATE(15,6,(ROW(Table2[FPPGroupCode])-2)/(Table2[DepoName]=$C$2)/(IF($C$3<>\"\",Table2[BULAN]=$C$3,TRUE))/(IF($C$4<>\"\",Table2[OFF/ON]=$C$4,TRUE))/(IF($C$5<>\"\",Table2[Status]=$C$5,TRUE))/(IF($C$6<>\"\",Table2[FPPDate]=$C$6,TRUE))/(IF($C$7<>\"\",Table2[ProposalCode]=$C$7,TRUE)),ROW(G280))),\"\")","v":""},{"$f":"IFERROR(VLOOKUP($B288,SIP!$D$5776:$P$6032,12,0),0)","v":0},{"$f":"IFERROR(H288-I288,0)","v":0},{"$f":"IFERROR(VLOOKUP($B288,SIP!$D$5776:$P$6032,8,0),0)","v":0},{"$f":"IFERROR(INDEX(Table2[OFF/ON],_xlfn.AGGREGATE(15,6,(ROW(Table2[FPPGroupCode])-2)/(Table2[DepoName]=$C$2)/(IF($C$3<>\"\",Table2[BULAN]=$C$3,TRUE))/(IF($C$4<>\"\",Table2[OFF/ON]=$C$4,TRUE))/(IF($C$5<>\"\",Table2[Status]=$C$5,TRUE))/(IF($C$6<>\"\",Table2[FPPDate]=$C$6,TRUE))/(IF($C$7<>\"\",Table2[ProposalCode]=$C$7,TRUE)),ROW(K280))),\"\")","v":""}]
[{"$f":"IF(LEN($B289),ROW(A281),\"\")","v":""},{"$f":"IFERROR(INDEX(Table2[FPPGroupCode],_xlfn.AGGREGATE(15,6,(ROW(Table2[FPPGroupCode])-2)/(Table2[DepoName]=$C$2)/(IF($C$3<>\"\",Table2[BULAN]=$C$3,TRUE))/(IF($C$4<>\"\",Table2[OFF/ON]=$C$4,TRUE))/(IF($C$5<>\"\",Table2[Status]=$C$5,TRUE))/(IF($C$6<>\"\",Table2[FPPDate]=$C$6,TRUE))/(IF($C$7<>\"\",Table2[ProposalCode]=$C$7,TRUE)),ROW(A281))),\"\")","v":""},{"$f":"IFERROR(VLOOKUP($B289,SIP!$D$3:$Q$12237,14,0),0)","v":0},{"$f":"IFERROR(INDEX(Table2[Activity],_xlfn.AGGREGATE(15,6,(ROW(Table2[FPPGroupCode])-2)/(Table2[DepoName]=$C$2)/(IF($C$3<>\"\",Table2[BULAN]=$C$3,TRUE))/(IF($C$4<>\"\",Table2[OFF/ON]=$C$4,TRUE))/(IF($C$5<>\"\",Table2[Status]=$C$5,TRUE))/(IF($C$6<>\"\",Table2[]=$C$6,TRUE))/(IF($C$7<>\"\",Table2[ProposalCode]=$C$7,TRUE)),ROW(B281))),\"\")","v":""},{"$f":"IFERROR(INDEX(Table2[Location],_xlfn.AGGREGATE(15,6,(ROW(Table2[FPPGroupCode])-2)/(Table2[DepoName]=$C$2)/(IF($C$3<>\"\",Table2[BULAN]=$C$3,TRUE))/(IF($C$4<>\"\",Table2[OFF/ON]=$C$4,TRUE))/(IF($C$5<>\"\",Table2[Status]=$C$5,TRUE))/(IF($C$6<>\"\",Table2[FPPDate]=$C$6,TRUE))/(IF($C$7<>\"\",Table2[ProposalCode]=$C$7,TRUE)),ROW(D281))),\"\")","v":""},{"$f":"IFERROR(INDEX(Table2[PeriodeStart],_xlfn.AGGREGATE(15,6,(ROW(Table2[FPPGroupCode])-2)/(Table2[DepoName]=$C$2)/(IF($C$3<>\"\",Table2[BULAN]=$C$3,TRUE))/(IF($C$4<>\"\",Table2[OFF/ON]=$C$4,TRUE))/(IF($C$5<>\"\",Table2[Status]=$C$5,TRUE))/(IF($C$6<>\"\",Table2[FPPDate]=$C$6,TRUE))/(IF($C$7<>\"\",Table2[ProposalCode]=$C$7,TRUE)),ROW(E281))),\"\")","v":""},{"$f":"IFERROR(INDEX(Table2[PeriodeEnd],_xlfn.AGGREGATE(15,6,(ROW(Table2[FPPGroupCode])-2)/(Table2[DepoName]=$C$2)/(IF($C$3<>\"\",Table2[BULAN]=$C$3,TRUE))/(IF($C$4<>\"\",Table2[OFF/ON]=$C$4,TRUE))/(IF($C$5<>\"\",Table2[Status]=$C$5,TRUE))/(IF($C$6<>\"\",Table2[FPPDate]=$C$6,TRUE))/(IF($C$7<>\"\",Table2[ProposalCode]=$C$7,TRUE)),ROW(F281))),\"\")","v":""},{"$f":"IFERROR(INDEX(Table2[Amount_FPPDepo],_xlfn.AGGREGATE(15,6,(ROW(Table2[FPPGroupCode])-2)/(Table2[DepoName]=$C$2)/(IF($C$3<>\"\",Table2[BULAN]=$C$3,TRUE))/(IF($C$4<>\"\",Table2[OFF/ON]=$C$4,TRUE))/(IF($C$5<>\"\",Table2[Status]=$C$5,TRUE))/(IF($C$6<>\"\",Table2[FPPDate]=$C$6,TRUE))/(IF($C$7<>\"\",Table2[ProposalCode]=$C$7,TRUE)),ROW(G281))),\"\")","v":""},{"$f":"IFERROR(VLOOKUP($B289,SIP!$D$5776:$P$6032,12,0),0)","v":0},{"$f":"IFERROR(H289-I289,0)","v":0},{"$f":"IFERROR(VLOOKUP($B289,SIP!$D$5776:$P$6032,8,0),0)","v":0},{"$f":"IFERROR(INDEX(Table2[OFF/ON],_xlfn.AGGREGATE(15,6,(ROW(Table2[FPPGroupCode])-2)/(Table2[DepoName]=$C$2)/(IF($C$3<>\"\",Table2[BULAN]=$C$3,TRUE))/(IF($C$4<>\"\",Table2[OFF/ON]=$C$4,TRUE))/(IF($C$5<>\"\",Table2[Status]=$C$5,TRUE))/(IF($C$6<>\"\",Table2[FPPDate]=$C$6,TRUE))/(IF($C$7<>\"\",Table2[ProposalCode]=$C$7,TRUE)),ROW(K281))),\"\")","v":""}]
[{"$f":"IF(LEN($B290),ROW(A282),\"\")","v":""},{"$f":"IFERROR(INDEX(Table2[FPPGroupCode],_xlfn.AGGREGATE(15,6,(ROW(Table2[FPPGroupCode])-2)/(Table2[DepoName]=$C$2)/(IF($C$3<>\"\",Table2[BULAN]=$C$3,TRUE))/(IF($C$4<>\"\",Table2[OFF/ON]=$C$4,TRUE))/(IF($C$5<>\"\",Table2[Status]=$C$5,TRUE))/(IF($C$6<>\"\",Table2[FPPDate]=$C$6,TRUE))/(IF($C$7<>\"\",Table2[ProposalCode]=$C$7,TRUE)),ROW(A282))),\"\")","v":""},{"$f":"IFERROR(VLOOKUP($B290,SIP!$D$3:$Q$12237,14,0),0)","v":0},{"$f":"IFERROR(INDEX(Table2[Activity],_xlfn.AGGREGATE(15,6,(ROW(Table2[FPPGroupCode])-2)/(Table2[DepoName]=$C$2)/(IF($C$3<>\"\",Table2[BULAN]=$C$3,TRUE))/(IF($C$4<>\"\",Table2[OFF/ON]=$C$4,TRUE))/(IF($C$5<>\"\",Table2[Status]=$C$5,TRUE))/(IF($C$6<>\"\",Table2[]=$C$6,TRUE))/(IF($C$7<>\"\",Table2[ProposalCode]=$C$7,TRUE)),ROW(B282))),\"\")","v":""},{"$f":"IFERROR(INDEX(Table2[Location],_xlfn.AGGREGATE(15,6,(ROW(Table2[FPPGroupCode])-2)/(Table2[DepoName]=$C$2)/(IF($C$3<>\"\",Table2[BULAN]=$C$3,TRUE))/(IF($C$4<>\"\",Table2[OFF/ON]=$C$4,TRUE))/(IF($C$5<>\"\",Table2[Status]=$C$5,TRUE))/(IF($C$6<>\"\",Table2[FPPDate]=$C$6,TRUE))/(IF($C$7<>\"\",Table2[ProposalCode]=$C$7,TRUE)),ROW(D282))),\"\")","v":""},{"$f":"IFERROR(INDEX(Table2[PeriodeStart],_xlfn.AGGREGATE(15,6,(ROW(Table2[FPPGroupCode])-2)/(Table2[DepoName]=$C$2)/(IF($C$3<>\"\",Table2[BULAN]=$C$3,TRUE))/(IF($C$4<>\"\",Table2[OFF/ON]=$C$4,TRUE))/(IF($C$5<>\"\",Table2[Status]=$C$5,TRUE))/(IF($C$6<>\"\",Table2[FPPDate]=$C$6,TRUE))/(IF($C$7<>\"\",Table2[ProposalCode]=$C$7,TRUE)),ROW(E282))),\"\")","v":""},{"$f":"IFERROR(INDEX(Table2[PeriodeEnd],_xlfn.AGGREGATE(15,6,(ROW(Table2[FPPGroupCode])-2)/(Table2[DepoName]=$C$2)/(IF($C$3<>\"\",Table2[BULAN]=$C$3,TRUE))/(IF($C$4<>\"\",Table2[OFF/ON]=$C$4,TRUE))/(IF($C$5<>\"\",Table2[Status]=$C$5,TRUE))/(IF($C$6<>\"\",Table2[FPPDate]=$C$6,TRUE))/(IF($C$7<>\"\",Table2[ProposalCode]=$C$7,TRUE)),ROW(F282))),\"\")","v":""},{"$f":"IFERROR(INDEX(Table2[Amount_FPPDepo],_xlfn.AGGREGATE(15,6,(ROW(Table2[FPPGroupCode])-2)/(Table2[DepoName]=$C$2)/(IF($C$3<>\"\",Table2[BULAN]=$C$3,TRUE))/(IF($C$4<>\"\",Table2[OFF/ON]=$C$4,TRUE))/(IF($C$5<>\"\",Table2[Status]=$C$5,TRUE))/(IF($C$6<>\"\",Table2[FPPDate]=$C$6,TRUE))/(IF($C$7<>\"\",Table2[ProposalCode]=$C$7,TRUE)),ROW(G282))),\"\")","v":""},{"$f":"IFERROR(VLOOKUP($B290,SIP!$D$5776:$P$6032,12,0),0)","v":0},{"$f":"IFERROR(H290-I290,0)","v":0},{"$f":"IFERROR(VLOOKUP($B290,SIP!$D$5776:$P$6032,8,0),0)","v":0},{"$f":"IFERROR(INDEX(Table2[OFF/ON],_xlfn.AGGREGATE(15,6,(ROW(Table2[FPPGroupCode])-2)/(Table2[DepoName]=$C$2)/(IF($C$3<>\"\",Table2[BULAN]=$C$3,TRUE))/(IF($C$4<>\"\",Table2[OFF/ON]=$C$4,TRUE))/(IF($C$5<>\"\",Table2[Status]=$C$5,TRUE))/(IF($C$6<>\"\",Table2[FPPDate]=$C$6,TRUE))/(IF($C$7<>\"\",Table2[ProposalCode]=$C$7,TRUE)),ROW(K282))),\"\")","v":""}]
[{"$f":"IF(LEN($B291),ROW(A283),\"\")","v":""},{"$f":"IFERROR(INDEX(Table2[FPPGroupCode],_xlfn.AGGREGATE(15,6,(ROW(Table2[FPPGroupCode])-2)/(Table2[DepoName]=$C$2)/(IF($C$3<>\"\",Table2[BULAN]=$C$3,TRUE))/(IF($C$4<>\"\",Table2[OFF/ON]=$C$4,TRUE))/(IF($C$5<>\"\",Table2[Status]=$C$5,TRUE))/(IF($C$6<>\"\",Table2[FPPDate]=$C$6,TRUE))/(IF($C$7<>\"\",Table2[ProposalCode]=$C$7,TRUE)),ROW(A283))),\"\")","v":""},{"$f":"IFERROR(VLOOKUP($B291,SIP!$D$3:$Q$12237,14,0),0)","v":0},{"$f":"IFERROR(INDEX(Table2[Activity],_xlfn.AGGREGATE(15,6,(ROW(Table2[FPPGroupCode])-2)/(Table2[DepoName]=$C$2)/(IF($C$3<>\"\",Table2[BULAN]=$C$3,TRUE))/(IF($C$4<>\"\",Table2[OFF/ON]=$C$4,TRUE))/(IF($C$5<>\"\",Table2[Status]=$C$5,TRUE))/(IF($C$6<>\"\",Table2[]=$C$6,TRUE))/(IF($C$7<>\"\",Table2[ProposalCode]=$C$7,TRUE)),ROW(B283))),\"\")","v":""},{"$f":"IFERROR(INDEX(Table2[Location],_xlfn.AGGREGATE(15,6,(ROW(Table2[FPPGroupCode])-2)/(Table2[DepoName]=$C$2)/(IF($C$3<>\"\",Table2[BULAN]=$C$3,TRUE))/(IF($C$4<>\"\",Table2[OFF/ON]=$C$4,TRUE))/(IF($C$5<>\"\",Table2[Status]=$C$5,TRUE))/(IF($C$6<>\"\",Table2[FPPDate]=$C$6,TRUE))/(IF($C$7<>\"\",Table2[ProposalCode]=$C$7,TRUE)),ROW(D283))),\"\")","v":""},{"$f":"IFERROR(INDEX(Table2[PeriodeStart],_xlfn.AGGREGATE(15,6,(ROW(Table2[FPPGroupCode])-2)/(Table2[DepoName]=$C$2)/(IF($C$3<>\"\",Table2[BULAN]=$C$3,TRUE))/(IF($C$4<>\"\",Table2[OFF/ON]=$C$4,TRUE))/(IF($C$5<>\"\",Table2[Status]=$C$5,TRUE))/(IF($C$6<>\"\",Table2[FPPDate]=$C$6,TRUE))/(IF($C$7<>\"\",Table2[ProposalCode]=$C$7,TRUE)),ROW(E283))),\"\")","v":""},{"$f":"IFERROR(INDEX(Table2[PeriodeEnd],_xlfn.AGGREGATE(15,6,(ROW(Table2[FPPGroupCode])-2)/(Table2[DepoName]=$C$2)/(IF($C$3<>\"\",Table2[BULAN]=$C$3,TRUE))/(IF($C$4<>\"\",Table2[OFF/ON]=$C$4,TRUE))/(IF($C$5<>\"\",Table2[Status]=$C$5,TRUE))/(IF($C$6<>\"\",Table2[FPPDate]=$C$6,TRUE))/(IF($C$7<>\"\",Table2[ProposalCode]=$C$7,TRUE)),ROW(F283))),\"\")","v":""},{"$f":"IFERROR(INDEX(Table2[Amount_FPPDepo],_xlfn.AGGREGATE(15,6,(ROW(Table2[FPPGroupCode])-2)/(Table2[DepoName]=$C$2)/(IF($C$3<>\"\",Table2[BULAN]=$C$3,TRUE))/(IF($C$4<>\"\",Table2[OFF/ON]=$C$4,TRUE))/(IF($C$5<>\"\",Table2[Status]=$C$5,TRUE))/(IF($C$6<>\"\",Table2[FPPDate]=$C$6,TRUE))/(IF($C$7<>\"\",Table2[ProposalCode]=$C$7,TRUE)),ROW(G283))),\"\")","v":""},{"$f":"IFERROR(VLOOKUP($B291,SIP!$D$5776:$P$6032,12,0),0)","v":0},{"$f":"IFERROR(H291-I291,0)","v":0},{"$f":"IFERROR(VLOOKUP($B291,SIP!$D$5776:$P$6032,8,0),0)","v":0},{"$f":"IFERROR(INDEX(Table2[OFF/ON],_xlfn.AGGREGATE(15,6,(ROW(Table2[FPPGroupCode])-2)/(Table2[DepoName]=$C$2)/(IF($C$3<>\"\",Table2[BULAN]=$C$3,TRUE))/(IF($C$4<>\"\",Table2[OFF/ON]=$C$4,TRUE))/(IF($C$5<>\"\",Table2[Status]=$C$5,TRUE))/(IF($C$6<>\"\",Table2[FPPDate]=$C$6,TRUE))/(IF($C$7<>\"\",Table2[ProposalCode]=$C$7,TRUE)),ROW(K283))),\"\")","v":""}]
[{"$f":"IF(LEN($B292),ROW(A284),\"\")","v":""},{"$f":"IFERROR(INDEX(Table2[FPPGroupCode],_xlfn.AGGREGATE(15,6,(ROW(Table2[FPPGroupCode])-2)/(Table2[DepoName]=$C$2)/(IF($C$3<>\"\",Table2[BULAN]=$C$3,TRUE))/(IF($C$4<>\"\",Table2[OFF/ON]=$C$4,TRUE))/(IF($C$5<>\"\",Table2[Status]=$C$5,TRUE))/(IF($C$6<>\"\",Table2[FPPDate]=$C$6,TRUE))/(IF($C$7<>\"\",Table2[ProposalCode]=$C$7,TRUE)),ROW(A284))),\"\")","v":""},{"$f":"IFERROR(VLOOKUP($B292,SIP!$D$3:$Q$12237,14,0),0)","v":0},{"$f":"IFERROR(INDEX(Table2[Activity],_xlfn.AGGREGATE(15,6,(ROW(Table2[FPPGroupCode])-2)/(Table2[DepoName]=$C$2)/(IF($C$3<>\"\",Table2[BULAN]=$C$3,TRUE))/(IF($C$4<>\"\",Table2[OFF/ON]=$C$4,TRUE))/(IF($C$5<>\"\",Table2[Status]=$C$5,TRUE))/(IF($C$6<>\"\",Table2[]=$C$6,TRUE))/(IF($C$7<>\"\",Table2[ProposalCode]=$C$7,TRUE)),ROW(B284))),\"\")","v":""},{"$f":"IFERROR(INDEX(Table2[Location],_xlfn.AGGREGATE(15,6,(ROW(Table2[FPPGroupCode])-2)/(Table2[DepoName]=$C$2)/(IF($C$3<>\"\",Table2[BULAN]=$C$3,TRUE))/(IF($C$4<>\"\",Table2[OFF/ON]=$C$4,TRUE))/(IF($C$5<>\"\",Table2[Status]=$C$5,TRUE))/(IF($C$6<>\"\",Table2[FPPDate]=$C$6,TRUE))/(IF($C$7<>\"\",Table2[ProposalCode]=$C$7,TRUE)),ROW(D284))),\"\")","v":""},{"$f":"IFERROR(INDEX(Table2[PeriodeStart],_xlfn.AGGREGATE(15,6,(ROW(Table2[FPPGroupCode])-2)/(Table2[DepoName]=$C$2)/(IF($C$3<>\"\",Table2[BULAN]=$C$3,TRUE))/(IF($C$4<>\"\",Table2[OFF/ON]=$C$4,TRUE))/(IF($C$5<>\"\",Table2[Status]=$C$5,TRUE))/(IF($C$6<>\"\",Table2[FPPDate]=$C$6,TRUE))/(IF($C$7<>\"\",Table2[ProposalCode]=$C$7,TRUE)),ROW(E284))),\"\")","v":""},{"$f":"IFERROR(INDEX(Table2[PeriodeEnd],_xlfn.AGGREGATE(15,6,(ROW(Table2[FPPGroupCode])-2)/(Table2[DepoName]=$C$2)/(IF($C$3<>\"\",Table2[BULAN]=$C$3,TRUE))/(IF($C$4<>\"\",Table2[OFF/ON]=$C$4,TRUE))/(IF($C$5<>\"\",Table2[Status]=$C$5,TRUE))/(IF($C$6<>\"\",Table2[FPPDate]=$C$6,TRUE))/(IF($C$7<>\"\",Table2[ProposalCode]=$C$7,TRUE)),ROW(F284))),\"\")","v":""},{"$f":"IFERROR(INDEX(Table2[Amount_FPPDepo],_xlfn.AGGREGATE(15,6,(ROW(Table2[FPPGroupCode])-2)/(Table2[DepoName]=$C$2)/(IF($C$3<>\"\",Table2[BULAN]=$C$3,TRUE))/(IF($C$4<>\"\",Table2[OFF/ON]=$C$4,TRUE))/(IF($C$5<>\"\",Table2[Status]=$C$5,TRUE))/(IF($C$6<>\"\",Table2[FPPDate]=$C$6,TRUE))/(IF($C$7<>\"\",Table2[ProposalCode]=$C$7,TRUE)),ROW(G284))),\"\")","v":""},{"$f":"IFERROR(VLOOKUP($B292,SIP!$D$5776:$P$6032,12,0),0)","v":0},{"$f":"IFERROR(H292-I292,0)","v":0},{"$f":"IFERROR(VLOOKUP($B292,SIP!$D$5776:$P$6032,8,0),0)","v":0},{"$f":"IFERROR(INDEX(Table2[OFF/ON],_xlfn.AGGREGATE(15,6,(ROW(Table2[FPPGroupCode])-2)/(Table2[DepoName]=$C$2)/(IF($C$3<>\"\",Table2[BULAN]=$C$3,TRUE))/(IF($C$4<>\"\",Table2[OFF/ON]=$C$4,TRUE))/(IF($C$5<>\"\",Table2[Status]=$C$5,TRUE))/(IF($C$6<>\"\",Table2[FPPDate]=$C$6,TRUE))/(IF($C$7<>\"\",Table2[ProposalCode]=$C$7,TRUE)),ROW(K284))),\"\")","v":""}]
[{"$f":"IF(LEN($B293),ROW(A285),\"\")","v":""},{"$f":"IFERROR(INDEX(Table2[FPPGroupCode],_xlfn.AGGREGATE(15,6,(ROW(Table2[FPPGroupCode])-2)/(Table2[DepoName]=$C$2)/(IF($C$3<>\"\",Table2[BULAN]=$C$3,TRUE))/(IF($C$4<>\"\",Table2[OFF/ON]=$C$4,TRUE))/(IF($C$5<>\"\",Table2[Status]=$C$5,TRUE))/(IF($C$6<>\"\",Table2[FPPDate]=$C$6,TRUE))/(IF($C$7<>\"\",Table2[ProposalCode]=$C$7,TRUE)),ROW(A285))),\"\")","v":""},{"$f":"IFERROR(VLOOKUP($B293,SIP!$D$3:$Q$12237,14,0),0)","v":0},{"$f":"IFERROR(INDEX(Table2[Activity],_xlfn.AGGREGATE(15,6,(ROW(Table2[FPPGroupCode])-2)/(Table2[DepoName]=$C$2)/(IF($C$3<>\"\",Table2[BULAN]=$C$3,TRUE))/(IF($C$4<>\"\",Table2[OFF/ON]=$C$4,TRUE))/(IF($C$5<>\"\",Table2[Status]=$C$5,TRUE))/(IF($C$6<>\"\",Table2[]=$C$6,TRUE))/(IF($C$7<>\"\",Table2[ProposalCode]=$C$7,TRUE)),ROW(B285))),\"\")","v":""},{"$f":"IFERROR(INDEX(Table2[Location],_xlfn.AGGREGATE(15,6,(ROW(Table2[FPPGroupCode])-2)/(Table2[DepoName]=$C$2)/(IF($C$3<>\"\",Table2[BULAN]=$C$3,TRUE))/(IF($C$4<>\"\",Table2[OFF/ON]=$C$4,TRUE))/(IF($C$5<>\"\",Table2[Status]=$C$5,TRUE))/(IF($C$6<>\"\",Table2[FPPDate]=$C$6,TRUE))/(IF($C$7<>\"\",Table2[ProposalCode]=$C$7,TRUE)),ROW(D285))),\"\")","v":""},{"$f":"IFERROR(INDEX(Table2[PeriodeStart],_xlfn.AGGREGATE(15,6,(ROW(Table2[FPPGroupCode])-2)/(Table2[DepoName]=$C$2)/(IF($C$3<>\"\",Table2[BULAN]=$C$3,TRUE))/(IF($C$4<>\"\",Table2[OFF/ON]=$C$4,TRUE))/(IF($C$5<>\"\",Table2[Status]=$C$5,TRUE))/(IF($C$6<>\"\",Table2[FPPDate]=$C$6,TRUE))/(IF($C$7<>\"\",Table2[ProposalCode]=$C$7,TRUE)),ROW(E285))),\"\")","v":""},{"$f":"IFERROR(INDEX(Table2[PeriodeEnd],_xlfn.AGGREGATE(15,6,(ROW(Table2[FPPGroupCode])-2)/(Table2[DepoName]=$C$2)/(IF($C$3<>\"\",Table2[BULAN]=$C$3,TRUE))/(IF($C$4<>\"\",Table2[OFF/ON]=$C$4,TRUE))/(IF($C$5<>\"\",Table2[Status]=$C$5,TRUE))/(IF($C$6<>\"\",Table2[FPPDate]=$C$6,TRUE))/(IF($C$7<>\"\",Table2[ProposalCode]=$C$7,TRUE)),ROW(F285))),\"\")","v":""},{"$f":"IFERROR(INDEX(Table2[Amount_FPPDepo],_xlfn.AGGREGATE(15,6,(ROW(Table2[FPPGroupCode])-2)/(Table2[DepoName]=$C$2)/(IF($C$3<>\"\",Table2[BULAN]=$C$3,TRUE))/(IF($C$4<>\"\",Table2[OFF/ON]=$C$4,TRUE))/(IF($C$5<>\"\",Table2[Status]=$C$5,TRUE))/(IF($C$6<>\"\",Table2[FPPDate]=$C$6,TRUE))/(IF($C$7<>\"\",Table2[ProposalCode]=$C$7,TRUE)),ROW(G285))),\"\")","v":""},{"$f":"IFERROR(VLOOKUP($B293,SIP!$D$5776:$P$6032,12,0),0)","v":0},{"$f":"IFERROR(H293-I293,0)","v":0},{"$f":"IFERROR(VLOOKUP($B293,SIP!$D$5776:$P$6032,8,0),0)","v":0},{"$f":"IFERROR(INDEX(Table2[OFF/ON],_xlfn.AGGREGATE(15,6,(ROW(Table2[FPPGroupCode])-2)/(Table2[DepoName]=$C$2)/(IF($C$3<>\"\",Table2[BULAN]=$C$3,TRUE))/(IF($C$4<>\"\",Table2[OFF/ON]=$C$4,TRUE))/(IF($C$5<>\"\",Table2[Status]=$C$5,TRUE))/(IF($C$6<>\"\",Table2[FPPDate]=$C$6,TRUE))/(IF($C$7<>\"\",Table2[ProposalCode]=$C$7,TRUE)),ROW(K285))),\"\")","v":""}]
[{"$f":"IF(LEN($B294),ROW(A286),\"\")","v":""},{"$f":"IFERROR(INDEX(Table2[FPPGroupCode],_xlfn.AGGREGATE(15,6,(ROW(Table2[FPPGroupCode])-2)/(Table2[DepoName]=$C$2)/(IF($C$3<>\"\",Table2[BULAN]=$C$3,TRUE))/(IF($C$4<>\"\",Table2[OFF/ON]=$C$4,TRUE))/(IF($C$5<>\"\",Table2[Status]=$C$5,TRUE))/(IF($C$6<>\"\",Table2[FPPDate]=$C$6,TRUE))/(IF($C$7<>\"\",Table2[ProposalCode]=$C$7,TRUE)),ROW(A286))),\"\")","v":""},{"$f":"IFERROR(VLOOKUP($B294,SIP!$D$3:$Q$12237,14,0),0)","v":0},{"$f":"IFERROR(INDEX(Table2[Activity],_xlfn.AGGREGATE(15,6,(ROW(Table2[FPPGroupCode])-2)/(Table2[DepoName]=$C$2)/(IF($C$3<>\"\",Table2[BULAN]=$C$3,TRUE))/(IF($C$4<>\"\",Table2[OFF/ON]=$C$4,TRUE))/(IF($C$5<>\"\",Table2[Status]=$C$5,TRUE))/(IF($C$6<>\"\",Table2[]=$C$6,TRUE))/(IF($C$7<>\"\",Table2[ProposalCode]=$C$7,TRUE)),ROW(B286))),\"\")","v":""},{"$f":"IFERROR(INDEX(Table2[Location],_xlfn.AGGREGATE(15,6,(ROW(Table2[FPPGroupCode])-2)/(Table2[DepoName]=$C$2)/(IF($C$3<>\"\",Table2[BULAN]=$C$3,TRUE))/(IF($C$4<>\"\",Table2[OFF/ON]=$C$4,TRUE))/(IF($C$5<>\"\",Table2[Status]=$C$5,TRUE))/(IF($C$6<>\"\",Table2[FPPDate]=$C$6,TRUE))/(IF($C$7<>\"\",Table2[ProposalCode]=$C$7,TRUE)),ROW(D286))),\"\")","v":""},{"$f":"IFERROR(INDEX(Table2[PeriodeStart],_xlfn.AGGREGATE(15,6,(ROW(Table2[FPPGroupCode])-2)/(Table2[DepoName]=$C$2)/(IF($C$3<>\"\",Table2[BULAN]=$C$3,TRUE))/(IF($C$4<>\"\",Table2[OFF/ON]=$C$4,TRUE))/(IF($C$5<>\"\",Table2[Status]=$C$5,TRUE))/(IF($C$6<>\"\",Table2[FPPDate]=$C$6,TRUE))/(IF($C$7<>\"\",Table2[ProposalCode]=$C$7,TRUE)),ROW(E286))),\"\")","v":""},{"$f":"IFERROR(INDEX(Table2[PeriodeEnd],_xlfn.AGGREGATE(15,6,(ROW(Table2[FPPGroupCode])-2)/(Table2[DepoName]=$C$2)/(IF($C$3<>\"\",Table2[BULAN]=$C$3,TRUE))/(IF($C$4<>\"\",Table2[OFF/ON]=$C$4,TRUE))/(IF($C$5<>\"\",Table2[Status]=$C$5,TRUE))/(IF($C$6<>\"\",Table2[FPPDate]=$C$6,TRUE))/(IF($C$7<>\"\",Table2[ProposalCode]=$C$7,TRUE)),ROW(F286))),\"\")","v":""},{"$f":"IFERROR(INDEX(Table2[Amount_FPPDepo],_xlfn.AGGREGATE(15,6,(ROW(Table2[FPPGroupCode])-2)/(Table2[DepoName]=$C$2)/(IF($C$3<>\"\",Table2[BULAN]=$C$3,TRUE))/(IF($C$4<>\"\",Table2[OFF/ON]=$C$4,TRUE))/(IF($C$5<>\"\",Table2[Status]=$C$5,TRUE))/(IF($C$6<>\"\",Table2[FPPDate]=$C$6,TRUE))/(IF($C$7<>\"\",Table2[ProposalCode]=$C$7,TRUE)),ROW(G286))),\"\")","v":""},{"$f":"IFERROR(VLOOKUP($B294,SIP!$D$5776:$P$6032,12,0),0)","v":0},{"$f":"IFERROR(H294-I294,0)","v":0},{"$f":"IFERROR(VLOOKUP($B294,SIP!$D$5776:$P$6032,8,0),0)","v":0},{"$f":"IFERROR(INDEX(Table2[OFF/ON],_xlfn.AGGREGATE(15,6,(ROW(Table2[FPPGroupCode])-2)/(Table2[DepoName]=$C$2)/(IF($C$3<>\"\",Table2[BULAN]=$C$3,TRUE))/(IF($C$4<>\"\",Table2[OFF/ON]=$C$4,TRUE))/(IF($C$5<>\"\",Table2[Status]=$C$5,TRUE))/(IF($C$6<>\"\",Table2[FPPDate]=$C$6,TRUE))/(IF($C$7<>\"\",Table2[ProposalCode]=$C$7,TRUE)),ROW(K286))),\"\")","v":""}]
[{"$f":"IF(LEN($B295),ROW(A287),\"\")","v":""},{"$f":"IFERROR(INDEX(Table2[FPPGroupCode],_xlfn.AGGREGATE(15,6,(ROW(Table2[FPPGroupCode])-2)/(Table2[DepoName]=$C$2)/(IF($C$3<>\"\",Table2[BULAN]=$C$3,TRUE))/(IF($C$4<>\"\",Table2[OFF/ON]=$C$4,TRUE))/(IF($C$5<>\"\",Table2[Status]=$C$5,TRUE))/(IF($C$6<>\"\",Table2[FPPDate]=$C$6,TRUE))/(IF($C$7<>\"\",Table2[ProposalCode]=$C$7,TRUE)),ROW(A287))),\"\")","v":""},{"$f":"IFERROR(VLOOKUP($B295,SIP!$D$3:$Q$12237,14,0),0)","v":0},{"$f":"IFERROR(INDEX(Table2[Activity],_xlfn.AGGREGATE(15,6,(ROW(Table2[FPPGroupCode])-2)/(Table2[DepoName]=$C$2)/(IF($C$3<>\"\",Table2[BULAN]=$C$3,TRUE))/(IF($C$4<>\"\",Table2[OFF/ON]=$C$4,TRUE))/(IF($C$5<>\"\",Table2[Status]=$C$5,TRUE))/(IF($C$6<>\"\",Table2[]=$C$6,TRUE))/(IF($C$7<>\"\",Table2[ProposalCode]=$C$7,TRUE)),ROW(B287))),\"\")","v":""},{"$f":"IFERROR(INDEX(Table2[Location],_xlfn.AGGREGATE(15,6,(ROW(Table2[FPPGroupCode])-2)/(Table2[DepoName]=$C$2)/(IF($C$3<>\"\",Table2[BULAN]=$C$3,TRUE))/(IF($C$4<>\"\",Table2[OFF/ON]=$C$4,TRUE))/(IF($C$5<>\"\",Table2[Status]=$C$5,TRUE))/(IF($C$6<>\"\",Table2[FPPDate]=$C$6,TRUE))/(IF($C$7<>\"\",Table2[ProposalCode]=$C$7,TRUE)),ROW(D287))),\"\")","v":""},{"$f":"IFERROR(INDEX(Table2[PeriodeStart],_xlfn.AGGREGATE(15,6,(ROW(Table2[FPPGroupCode])-2)/(Table2[DepoName]=$C$2)/(IF($C$3<>\"\",Table2[BULAN]=$C$3,TRUE))/(IF($C$4<>\"\",Table2[OFF/ON]=$C$4,TRUE))/(IF($C$5<>\"\",Table2[Status]=$C$5,TRUE))/(IF($C$6<>\"\",Table2[FPPDate]=$C$6,TRUE))/(IF($C$7<>\"\",Table2[ProposalCode]=$C$7,TRUE)),ROW(E287))),\"\")","v":""},{"$f":"IFERROR(INDEX(Table2[PeriodeEnd],_xlfn.AGGREGATE(15,6,(ROW(Table2[FPPGroupCode])-2)/(Table2[DepoName]=$C$2)/(IF($C$3<>\"\",Table2[BULAN]=$C$3,TRUE))/(IF($C$4<>\"\",Table2[OFF/ON]=$C$4,TRUE))/(IF($C$5<>\"\",Table2[Status]=$C$5,TRUE))/(IF($C$6<>\"\",Table2[FPPDate]=$C$6,TRUE))/(IF($C$7<>\"\",Table2[ProposalCode]=$C$7,TRUE)),ROW(F287))),\"\")","v":""},{"$f":"IFERROR(INDEX(Table2[Amount_FPPDepo],_xlfn.AGGREGATE(15,6,(ROW(Table2[FPPGroupCode])-2)/(Table2[DepoName]=$C$2)/(IF($C$3<>\"\",Table2[BULAN]=$C$3,TRUE))/(IF($C$4<>\"\",Table2[OFF/ON]=$C$4,TRUE))/(IF($C$5<>\"\",Table2[Status]=$C$5,TRUE))/(IF($C$6<>\"\",Table2[FPPDate]=$C$6,TRUE))/(IF($C$7<>\"\",Table2[ProposalCode]=$C$7,TRUE)),ROW(G287))),\"\")","v":""},{"$f":"IFERROR(VLOOKUP($B295,SIP!$D$5776:$P$6032,12,0),0)","v":0},{"$f":"IFERROR(H295-I295,0)","v":0},{"$f":"IFERROR(VLOOKUP($B295,SIP!$D$5776:$P$6032,8,0),0)","v":0},{"$f":"IFERROR(INDEX(Table2[OFF/ON],_xlfn.AGGREGATE(15,6,(ROW(Table2[FPPGroupCode])-2)/(Table2[DepoName]=$C$2)/(IF($C$3<>\"\",Table2[BULAN]=$C$3,TRUE))/(IF($C$4<>\"\",Table2[OFF/ON]=$C$4,TRUE))/(IF($C$5<>\"\",Table2[Status]=$C$5,TRUE))/(IF($C$6<>\"\",Table2[FPPDate]=$C$6,TRUE))/(IF($C$7<>\"\",Table2[ProposalCode]=$C$7,TRUE)),ROW(K287))),\"\")","v":""}]
[{"$f":"IF(LEN($B296),ROW(A288),\"\")","v":""},{"$f":"IFERROR(INDEX(Table2[FPPGroupCode],_xlfn.AGGREGATE(15,6,(ROW(Table2[FPPGroupCode])-2)/(Table2[DepoName]=$C$2)/(IF($C$3<>\"\",Table2[BULAN]=$C$3,TRUE))/(IF($C$4<>\"\",Table2[OFF/ON]=$C$4,TRUE))/(IF($C$5<>\"\",Table2[Status]=$C$5,TRUE))/(IF($C$6<>\"\",Table2[FPPDate]=$C$6,TRUE))/(IF($C$7<>\"\",Table2[ProposalCode]=$C$7,TRUE)),ROW(A288))),\"\")","v":""},{"$f":"IFERROR(VLOOKUP($B296,SIP!$D$3:$Q$12237,14,0),0)","v":0},{"$f":"IFERROR(INDEX(Table2[Activity],_xlfn.AGGREGATE(15,6,(ROW(Table2[FPPGroupCode])-2)/(Table2[DepoName]=$C$2)/(IF($C$3<>\"\",Table2[BULAN]=$C$3,TRUE))/(IF($C$4<>\"\",Table2[OFF/ON]=$C$4,TRUE))/(IF($C$5<>\"\",Table2[Status]=$C$5,TRUE))/(IF($C$6<>\"\",Table2[]=$C$6,TRUE))/(IF($C$7<>\"\",Table2[ProposalCode]=$C$7,TRUE)),ROW(B288))),\"\")","v":""},{"$f":"IFERROR(INDEX(Table2[Location],_xlfn.AGGREGATE(15,6,(ROW(Table2[FPPGroupCode])-2)/(Table2[DepoName]=$C$2)/(IF($C$3<>\"\",Table2[BULAN]=$C$3,TRUE))/(IF($C$4<>\"\",Table2[OFF/ON]=$C$4,TRUE))/(IF($C$5<>\"\",Table2[Status]=$C$5,TRUE))/(IF($C$6<>\"\",Table2[FPPDate]=$C$6,TRUE))/(IF($C$7<>\"\",Table2[ProposalCode]=$C$7,TRUE)),ROW(D288))),\"\")","v":""},{"$f":"IFERROR(INDEX(Table2[PeriodeStart],_xlfn.AGGREGATE(15,6,(ROW(Table2[FPPGroupCode])-2)/(Table2[DepoName]=$C$2)/(IF($C$3<>\"\",Table2[BULAN]=$C$3,TRUE))/(IF($C$4<>\"\",Table2[OFF/ON]=$C$4,TRUE))/(IF($C$5<>\"\",Table2[Status]=$C$5,TRUE))/(IF($C$6<>\"\",Table2[FPPDate]=$C$6,TRUE))/(IF($C$7<>\"\",Table2[ProposalCode]=$C$7,TRUE)),ROW(E288))),\"\")","v":""},{"$f":"IFERROR(INDEX(Table2[PeriodeEnd],_xlfn.AGGREGATE(15,6,(ROW(Table2[FPPGroupCode])-2)/(Table2[DepoName]=$C$2)/(IF($C$3<>\"\",Table2[BULAN]=$C$3,TRUE))/(IF($C$4<>\"\",Table2[OFF/ON]=$C$4,TRUE))/(IF($C$5<>\"\",Table2[Status]=$C$5,TRUE))/(IF($C$6<>\"\",Table2[FPPDate]=$C$6,TRUE))/(IF($C$7<>\"\",Table2[ProposalCode]=$C$7,TRUE)),ROW(F288))),\"\")","v":""},{"$f":"IFERROR(INDEX(Table2[Amount_FPPDepo],_xlfn.AGGREGATE(15,6,(ROW(Table2[FPPGroupCode])-2)/(Table2[DepoName]=$C$2)/(IF($C$3<>\"\",Table2[BULAN]=$C$3,TRUE))/(IF($C$4<>\"\",Table2[OFF/ON]=$C$4,TRUE))/(IF($C$5<>\"\",Table2[Status]=$C$5,TRUE))/(IF($C$6<>\"\",Table2[FPPDate]=$C$6,TRUE))/(IF($C$7<>\"\",Table2[ProposalCode]=$C$7,TRUE)),ROW(G288))),\"\")","v":""},{"$f":"IFERROR(VLOOKUP($B296,SIP!$D$5776:$P$6032,12,0),0)","v":0},{"$f":"IFERROR(H296-I296,0)","v":0},{"$f":"IFERROR(VLOOKUP($B296,SIP!$D$5776:$P$6032,8,0),0)","v":0},{"$f":"IFERROR(INDEX(Table2[OFF/ON],_xlfn.AGGREGATE(15,6,(ROW(Table2[FPPGroupCode])-2)/(Table2[DepoName]=$C$2)/(IF($C$3<>\"\",Table2[BULAN]=$C$3,TRUE))/(IF($C$4<>\"\",Table2[OFF/ON]=$C$4,TRUE))/(IF($C$5<>\"\",Table2[Status]=$C$5,TRUE))/(IF($C$6<>\"\",Table2[FPPDate]=$C$6,TRUE))/(IF($C$7<>\"\",Table2[ProposalCode]=$C$7,TRUE)),ROW(K288))),\"\")","v":""}]
[{"$f":"IF(LEN($B297),ROW(A289),\"\")","v":""},{"$f":"IFERROR(INDEX(Table2[FPPGroupCode],_xlfn.AGGREGATE(15,6,(ROW(Table2[FPPGroupCode])-2)/(Table2[DepoName]=$C$2)/(IF($C$3<>\"\",Table2[BULAN]=$C$3,TRUE))/(IF($C$4<>\"\",Table2[OFF/ON]=$C$4,TRUE))/(IF($C$5<>\"\",Table2[Status]=$C$5,TRUE))/(IF($C$6<>\"\",Table2[FPPDate]=$C$6,TRUE))/(IF($C$7<>\"\",Table2[ProposalCode]=$C$7,TRUE)),ROW(A289))),\"\")","v":""},{"$f":"IFERROR(VLOOKUP($B297,SIP!$D$3:$Q$12237,14,0),0)","v":0},{"$f":"IFERROR(INDEX(Table2[Activity],_xlfn.AGGREGATE(15,6,(ROW(Table2[FPPGroupCode])-2)/(Table2[DepoName]=$C$2)/(IF($C$3<>\"\",Table2[BULAN]=$C$3,TRUE))/(IF($C$4<>\"\",Table2[OFF/ON]=$C$4,TRUE))/(IF($C$5<>\"\",Table2[Status]=$C$5,TRUE))/(IF($C$6<>\"\",Table2[]=$C$6,TRUE))/(IF($C$7<>\"\",Table2[ProposalCode]=$C$7,TRUE)),ROW(B289))),\"\")","v":""},{"$f":"IFERROR(INDEX(Table2[Location],_xlfn.AGGREGATE(15,6,(ROW(Table2[FPPGroupCode])-2)/(Table2[DepoName]=$C$2)/(IF($C$3<>\"\",Table2[BULAN]=$C$3,TRUE))/(IF($C$4<>\"\",Table2[OFF/ON]=$C$4,TRUE))/(IF($C$5<>\"\",Table2[Status]=$C$5,TRUE))/(IF($C$6<>\"\",Table2[FPPDate]=$C$6,TRUE))/(IF($C$7<>\"\",Table2[ProposalCode]=$C$7,TRUE)),ROW(D289))),\"\")","v":""},{"$f":"IFERROR(INDEX(Table2[PeriodeStart],_xlfn.AGGREGATE(15,6,(ROW(Table2[FPPGroupCode])-2)/(Table2[DepoName]=$C$2)/(IF($C$3<>\"\",Table2[BULAN]=$C$3,TRUE))/(IF($C$4<>\"\",Table2[OFF/ON]=$C$4,TRUE))/(IF($C$5<>\"\",Table2[Status]=$C$5,TRUE))/(IF($C$6<>\"\",Table2[FPPDate]=$C$6,TRUE))/(IF($C$7<>\"\",Table2[ProposalCode]=$C$7,TRUE)),ROW(E289))),\"\")","v":""},{"$f":"IFERROR(INDEX(Table2[PeriodeEnd],_xlfn.AGGREGATE(15,6,(ROW(Table2[FPPGroupCode])-2)/(Table2[DepoName]=$C$2)/(IF($C$3<>\"\",Table2[BULAN]=$C$3,TRUE))/(IF($C$4<>\"\",Table2[OFF/ON]=$C$4,TRUE))/(IF($C$5<>\"\",Table2[Status]=$C$5,TRUE))/(IF($C$6<>\"\",Table2[FPPDate]=$C$6,TRUE))/(IF($C$7<>\"\",Table2[ProposalCode]=$C$7,TRUE)),ROW(F289))),\"\")","v":""},{"$f":"IFERROR(INDEX(Table2[Amount_FPPDepo],_xlfn.AGGREGATE(15,6,(ROW(Table2[FPPGroupCode])-2)/(Table2[DepoName]=$C$2)/(IF($C$3<>\"\",Table2[BULAN]=$C$3,TRUE))/(IF($C$4<>\"\",Table2[OFF/ON]=$C$4,TRUE))/(IF($C$5<>\"\",Table2[Status]=$C$5,TRUE))/(IF($C$6<>\"\",Table2[FPPDate]=$C$6,TRUE))/(IF($C$7<>\"\",Table2[ProposalCode]=$C$7,TRUE)),ROW(G289))),\"\")","v":""},{"$f":"IFERROR(VLOOKUP($B297,SIP!$D$5776:$P$6032,12,0),0)","v":0},{"$f":"IFERROR(H297-I297,0)","v":0},{"$f":"IFERROR(VLOOKUP($B297,SIP!$D$5776:$P$6032,8,0),0)","v":0},{"$f":"IFERROR(INDEX(Table2[OFF/ON],_xlfn.AGGREGATE(15,6,(ROW(Table2[FPPGroupCode])-2)/(Table2[DepoName]=$C$2)/(IF($C$3<>\"\",Table2[BULAN]=$C$3,TRUE))/(IF($C$4<>\"\",Table2[OFF/ON]=$C$4,TRUE))/(IF($C$5<>\"\",Table2[Status]=$C$5,TRUE))/(IF($C$6<>\"\",Table2[FPPDate]=$C$6,TRUE))/(IF($C$7<>\"\",Table2[ProposalCode]=$C$7,TRUE)),ROW(K289))),\"\")","v":""}]
[{"$f":"IF(LEN($B298),ROW(A290),\"\")","v":""},{"$f":"IFERROR(INDEX(Table2[FPPGroupCode],_xlfn.AGGREGATE(15,6,(ROW(Table2[FPPGroupCode])-2)/(Table2[DepoName]=$C$2)/(IF($C$3<>\"\",Table2[BULAN]=$C$3,TRUE))/(IF($C$4<>\"\",Table2[OFF/ON]=$C$4,TRUE))/(IF($C$5<>\"\",Table2[Status]=$C$5,TRUE))/(IF($C$6<>\"\",Table2[FPPDate]=$C$6,TRUE))/(IF($C$7<>\"\",Table2[ProposalCode]=$C$7,TRUE)),ROW(A290))),\"\")","v":""},{"$f":"IFERROR(VLOOKUP($B298,SIP!$D$3:$Q$12237,14,0),0)","v":0},{"$f":"IFERROR(INDEX(Table2[Activity],_xlfn.AGGREGATE(15,6,(ROW(Table2[FPPGroupCode])-2)/(Table2[DepoName]=$C$2)/(IF($C$3<>\"\",Table2[BULAN]=$C$3,TRUE))/(IF($C$4<>\"\",Table2[OFF/ON]=$C$4,TRUE))/(IF($C$5<>\"\",Table2[Status]=$C$5,TRUE))/(IF($C$6<>\"\",Table2[]=$C$6,TRUE))/(IF($C$7<>\"\",Table2[ProposalCode]=$C$7,TRUE)),ROW(B290))),\"\")","v":""},{"$f":"IFERROR(INDEX(Table2[Location],_xlfn.AGGREGATE(15,6,(ROW(Table2[FPPGroupCode])-2)/(Table2[DepoName]=$C$2)/(IF($C$3<>\"\",Table2[BULAN]=$C$3,TRUE))/(IF($C$4<>\"\",Table2[OFF/ON]=$C$4,TRUE))/(IF($C$5<>\"\",Table2[Status]=$C$5,TRUE))/(IF($C$6<>\"\",Table2[FPPDate]=$C$6,TRUE))/(IF($C$7<>\"\",Table2[ProposalCode]=$C$7,TRUE)),ROW(D290))),\"\")","v":""},{"$f":"IFERROR(INDEX(Table2[PeriodeStart],_xlfn.AGGREGATE(15,6,(ROW(Table2[FPPGroupCode])-2)/(Table2[DepoName]=$C$2)/(IF($C$3<>\"\",Table2[BULAN]=$C$3,TRUE))/(IF($C$4<>\"\",Table2[OFF/ON]=$C$4,TRUE))/(IF($C$5<>\"\",Table2[Status]=$C$5,TRUE))/(IF($C$6<>\"\",Table2[FPPDate]=$C$6,TRUE))/(IF($C$7<>\"\",Table2[ProposalCode]=$C$7,TRUE)),ROW(E290))),\"\")","v":""},{"$f":"IFERROR(INDEX(Table2[PeriodeEnd],_xlfn.AGGREGATE(15,6,(ROW(Table2[FPPGroupCode])-2)/(Table2[DepoName]=$C$2)/(IF($C$3<>\"\",Table2[BULAN]=$C$3,TRUE))/(IF($C$4<>\"\",Table2[OFF/ON]=$C$4,TRUE))/(IF($C$5<>\"\",Table2[Status]=$C$5,TRUE))/(IF($C$6<>\"\",Table2[FPPDate]=$C$6,TRUE))/(IF($C$7<>\"\",Table2[ProposalCode]=$C$7,TRUE)),ROW(F290))),\"\")","v":""},{"$f":"IFERROR(INDEX(Table2[Amount_FPPDepo],_xlfn.AGGREGATE(15,6,(ROW(Table2[FPPGroupCode])-2)/(Table2[DepoName]=$C$2)/(IF($C$3<>\"\",Table2[BULAN]=$C$3,TRUE))/(IF($C$4<>\"\",Table2[OFF/ON]=$C$4,TRUE))/(IF($C$5<>\"\",Table2[Status]=$C$5,TRUE))/(IF($C$6<>\"\",Table2[FPPDate]=$C$6,TRUE))/(IF($C$7<>\"\",Table2[ProposalCode]=$C$7,TRUE)),ROW(G290))),\"\")","v":""},{"$f":"IFERROR(VLOOKUP($B298,SIP!$D$5776:$P$6032,12,0),0)","v":0},{"$f":"IFERROR(H298-I298,0)","v":0},{"$f":"IFERROR(VLOOKUP($B298,SIP!$D$5776:$P$6032,8,0),0)","v":0},{"$f":"IFERROR(INDEX(Table2[OFF/ON],_xlfn.AGGREGATE(15,6,(ROW(Table2[FPPGroupCode])-2)/(Table2[DepoName]=$C$2)/(IF($C$3<>\"\",Table2[BULAN]=$C$3,TRUE))/(IF($C$4<>\"\",Table2[OFF/ON]=$C$4,TRUE))/(IF($C$5<>\"\",Table2[Status]=$C$5,TRUE))/(IF($C$6<>\"\",Table2[FPPDate]=$C$6,TRUE))/(IF($C$7<>\"\",Table2[ProposalCode]=$C$7,TRUE)),ROW(K290))),\"\")","v":""}]
[{"$f":"IF(LEN($B299),ROW(A291),\"\")","v":""},{"$f":"IFERROR(INDEX(Table2[FPPGroupCode],_xlfn.AGGREGATE(15,6,(ROW(Table2[FPPGroupCode])-2)/(Table2[DepoName]=$C$2)/(IF($C$3<>\"\",Table2[BULAN]=$C$3,TRUE))/(IF($C$4<>\"\",Table2[OFF/ON]=$C$4,TRUE))/(IF($C$5<>\"\",Table2[Status]=$C$5,TRUE))/(IF($C$6<>\"\",Table2[FPPDate]=$C$6,TRUE))/(IF($C$7<>\"\",Table2[ProposalCode]=$C$7,TRUE)),ROW(A291))),\"\")","v":""},{"$f":"IFERROR(VLOOKUP($B299,SIP!$D$3:$Q$12237,14,0),0)","v":0},{"$f":"IFERROR(INDEX(Table2[Activity],_xlfn.AGGREGATE(15,6,(ROW(Table2[FPPGroupCode])-2)/(Table2[DepoName]=$C$2)/(IF($C$3<>\"\",Table2[BULAN]=$C$3,TRUE))/(IF($C$4<>\"\",Table2[OFF/ON]=$C$4,TRUE))/(IF($C$5<>\"\",Table2[Status]=$C$5,TRUE))/(IF($C$6<>\"\",Table2[]=$C$6,TRUE))/(IF($C$7<>\"\",Table2[ProposalCode]=$C$7,TRUE)),ROW(B291))),\"\")","v":""},{"$f":"IFERROR(INDEX(Table2[Location],_xlfn.AGGREGATE(15,6,(ROW(Table2[FPPGroupCode])-2)/(Table2[DepoName]=$C$2)/(IF($C$3<>\"\",Table2[BULAN]=$C$3,TRUE))/(IF($C$4<>\"\",Table2[OFF/ON]=$C$4,TRUE))/(IF($C$5<>\"\",Table2[Status]=$C$5,TRUE))/(IF($C$6<>\"\",Table2[FPPDate]=$C$6,TRUE))/(IF($C$7<>\"\",Table2[ProposalCode]=$C$7,TRUE)),ROW(D291))),\"\")","v":""},{"$f":"IFERROR(INDEX(Table2[PeriodeStart],_xlfn.AGGREGATE(15,6,(ROW(Table2[FPPGroupCode])-2)/(Table2[DepoName]=$C$2)/(IF($C$3<>\"\",Table2[BULAN]=$C$3,TRUE))/(IF($C$4<>\"\",Table2[OFF/ON]=$C$4,TRUE))/(IF($C$5<>\"\",Table2[Status]=$C$5,TRUE))/(IF($C$6<>\"\",Table2[FPPDate]=$C$6,TRUE))/(IF($C$7<>\"\",Table2[ProposalCode]=$C$7,TRUE)),ROW(E291))),\"\")","v":""},{"$f":"IFERROR(INDEX(Table2[PeriodeEnd],_xlfn.AGGREGATE(15,6,(ROW(Table2[FPPGroupCode])-2)/(Table2[DepoName]=$C$2)/(IF($C$3<>\"\",Table2[BULAN]=$C$3,TRUE))/(IF($C$4<>\"\",Table2[OFF/ON]=$C$4,TRUE))/(IF($C$5<>\"\",Table2[Status]=$C$5,TRUE))/(IF($C$6<>\"\",Table2[FPPDate]=$C$6,TRUE))/(IF($C$7<>\"\",Table2[ProposalCode]=$C$7,TRUE)),ROW(F291))),\"\")","v":""},{"$f":"IFERROR(INDEX(Table2[Amount_FPPDepo],_xlfn.AGGREGATE(15,6,(ROW(Table2[FPPGroupCode])-2)/(Table2[DepoName]=$C$2)/(IF($C$3<>\"\",Table2[BULAN]=$C$3,TRUE))/(IF($C$4<>\"\",Table2[OFF/ON]=$C$4,TRUE))/(IF($C$5<>\"\",Table2[Status]=$C$5,TRUE))/(IF($C$6<>\"\",Table2[FPPDate]=$C$6,TRUE))/(IF($C$7<>\"\",Table2[ProposalCode]=$C$7,TRUE)),ROW(G291))),\"\")","v":""},{"$f":"IFERROR(VLOOKUP($B299,SIP!$D$5776:$P$6032,12,0),0)","v":0},{"$f":"IFERROR(H299-I299,0)","v":0},{"$f":"IFERROR(VLOOKUP($B299,SIP!$D$5776:$P$6032,8,0),0)","v":0},{"$f":"IFERROR(INDEX(Table2[OFF/ON],_xlfn.AGGREGATE(15,6,(ROW(Table2[FPPGroupCode])-2)/(Table2[DepoName]=$C$2)/(IF($C$3<>\"\",Table2[BULAN]=$C$3,TRUE))/(IF($C$4<>\"\",Table2[OFF/ON]=$C$4,TRUE))/(IF($C$5<>\"\",Table2[Status]=$C$5,TRUE))/(IF($C$6<>\"\",Table2[FPPDate]=$C$6,TRUE))/(IF($C$7<>\"\",Table2[ProposalCode]=$C$7,TRUE)),ROW(K291))),\"\")","v":""}]
[{"$f":"IF(LEN($B300),ROW(A292),\"\")","v":""},{"$f":"IFERROR(INDEX(Table2[FPPGroupCode],_xlfn.AGGREGATE(15,6,(ROW(Table2[FPPGroupCode])-2)/(Table2[DepoName]=$C$2)/(IF($C$3<>\"\",Table2[BULAN]=$C$3,TRUE))/(IF($C$4<>\"\",Table2[OFF/ON]=$C$4,TRUE))/(IF($C$5<>\"\",Table2[Status]=$C$5,TRUE))/(IF($C$6<>\"\",Table2[FPPDate]=$C$6,TRUE))/(IF($C$7<>\"\",Table2[ProposalCode]=$C$7,TRUE)),ROW(A292))),\"\")","v":""},{"$f":"IFERROR(VLOOKUP($B300,SIP!$D$3:$Q$12237,14,0),0)","v":0},{"$f":"IFERROR(INDEX(Table2[Activity],_xlfn.AGGREGATE(15,6,(ROW(Table2[FPPGroupCode])-2)/(Table2[DepoName]=$C$2)/(IF($C$3<>\"\",Table2[BULAN]=$C$3,TRUE))/(IF($C$4<>\"\",Table2[OFF/ON]=$C$4,TRUE))/(IF($C$5<>\"\",Table2[Status]=$C$5,TRUE))/(IF($C$6<>\"\",Table2[]=$C$6,TRUE))/(IF($C$7<>\"\",Table2[ProposalCode]=$C$7,TRUE)),ROW(B292))),\"\")","v":""},{"$f":"IFERROR(INDEX(Table2[Location],_xlfn.AGGREGATE(15,6,(ROW(Table2[FPPGroupCode])-2)/(Table2[DepoName]=$C$2)/(IF($C$3<>\"\",Table2[BULAN]=$C$3,TRUE))/(IF($C$4<>\"\",Table2[OFF/ON]=$C$4,TRUE))/(IF($C$5<>\"\",Table2[Status]=$C$5,TRUE))/(IF($C$6<>\"\",Table2[FPPDate]=$C$6,TRUE))/(IF($C$7<>\"\",Table2[ProposalCode]=$C$7,TRUE)),ROW(D292))),\"\")","v":""},{"$f":"IFERROR(INDEX(Table2[PeriodeStart],_xlfn.AGGREGATE(15,6,(ROW(Table2[FPPGroupCode])-2)/(Table2[DepoName]=$C$2)/(IF($C$3<>\"\",Table2[BULAN]=$C$3,TRUE))/(IF($C$4<>\"\",Table2[OFF/ON]=$C$4,TRUE))/(IF($C$5<>\"\",Table2[Status]=$C$5,TRUE))/(IF($C$6<>\"\",Table2[FPPDate]=$C$6,TRUE))/(IF($C$7<>\"\",Table2[ProposalCode]=$C$7,TRUE)),ROW(E292))),\"\")","v":""},{"$f":"IFERROR(INDEX(Table2[PeriodeEnd],_xlfn.AGGREGATE(15,6,(ROW(Table2[FPPGroupCode])-2)/(Table2[DepoName]=$C$2)/(IF($C$3<>\"\",Table2[BULAN]=$C$3,TRUE))/(IF($C$4<>\"\",Table2[OFF/ON]=$C$4,TRUE))/(IF($C$5<>\"\",Table2[Status]=$C$5,TRUE))/(IF($C$6<>\"\",Table2[FPPDate]=$C$6,TRUE))/(IF($C$7<>\"\",Table2[ProposalCode]=$C$7,TRUE)),ROW(F292))),\"\")","v":""},{"$f":"IFERROR(INDEX(Table2[Amount_FPPDepo],_xlfn.AGGREGATE(15,6,(ROW(Table2[FPPGroupCode])-2)/(Table2[DepoName]=$C$2)/(IF($C$3<>\"\",Table2[BULAN]=$C$3,TRUE))/(IF($C$4<>\"\",Table2[OFF/ON]=$C$4,TRUE))/(IF($C$5<>\"\",Table2[Status]=$C$5,TRUE))/(IF($C$6<>\"\",Table2[FPPDate]=$C$6,TRUE))/(IF($C$7<>\"\",Table2[ProposalCode]=$C$7,TRUE)),ROW(G292))),\"\")","v":""},{"$f":"IFERROR(VLOOKUP($B300,SIP!$D$5776:$P$6032,12,0),0)","v":0},{"$f":"IFERROR(H300-I300,0)","v":0},{"$f":"IFERROR(VLOOKUP($B300,SIP!$D$5776:$P$6032,8,0),0)","v":0},{"$f":"IFERROR(INDEX(Table2[OFF/ON],_xlfn.AGGREGATE(15,6,(ROW(Table2[FPPGroupCode])-2)/(Table2[DepoName]=$C$2)/(IF($C$3<>\"\",Table2[BULAN]=$C$3,TRUE))/(IF($C$4<>\"\",Table2[OFF/ON]=$C$4,TRUE))/(IF($C$5<>\"\",Table2[Status]=$C$5,TRUE))/(IF($C$6<>\"\",Table2[FPPDate]=$C$6,TRUE))/(IF($C$7<>\"\",Table2[ProposalCode]=$C$7,TRUE)),ROW(K292))),\"\")","v":""}]
[{"$f":"IF(LEN($B301),ROW(A293),\"\")","v":""},{"$f":"IFERROR(INDEX(Table2[FPPGroupCode],_xlfn.AGGREGATE(15,6,(ROW(Table2[FPPGroupCode])-2)/(Table2[DepoName]=$C$2)/(IF($C$3<>\"\",Table2[BULAN]=$C$3,TRUE))/(IF($C$4<>\"\",Table2[OFF/ON]=$C$4,TRUE))/(IF($C$5<>\"\",Table2[Status]=$C$5,TRUE))/(IF($C$6<>\"\",Table2[FPPDate]=$C$6,TRUE))/(IF($C$7<>\"\",Table2[ProposalCode]=$C$7,TRUE)),ROW(A293))),\"\")","v":""},{"$f":"IFERROR(VLOOKUP($B301,SIP!$D$3:$Q$12237,14,0),0)","v":0},{"$f":"IFERROR(INDEX(Table2[Activity],_xlfn.AGGREGATE(15,6,(ROW(Table2[FPPGroupCode])-2)/(Table2[DepoName]=$C$2)/(IF($C$3<>\"\",Table2[BULAN]=$C$3,TRUE))/(IF($C$4<>\"\",Table2[OFF/ON]=$C$4,TRUE))/(IF($C$5<>\"\",Table2[Status]=$C$5,TRUE))/(IF($C$6<>\"\",Table2[]=$C$6,TRUE))/(IF($C$7<>\"\",Table2[ProposalCode]=$C$7,TRUE)),ROW(B293))),\"\")","v":""},{"$f":"IFERROR(INDEX(Table2[Location],_xlfn.AGGREGATE(15,6,(ROW(Table2[FPPGroupCode])-2)/(Table2[DepoName]=$C$2)/(IF($C$3<>\"\",Table2[BULAN]=$C$3,TRUE))/(IF($C$4<>\"\",Table2[OFF/ON]=$C$4,TRUE))/(IF($C$5<>\"\",Table2[Status]=$C$5,TRUE))/(IF($C$6<>\"\",Table2[FPPDate]=$C$6,TRUE))/(IF($C$7<>\"\",Table2[ProposalCode]=$C$7,TRUE)),ROW(D293))),\"\")","v":""},{"$f":"IFERROR(INDEX(Table2[PeriodeStart],_xlfn.AGGREGATE(15,6,(ROW(Table2[FPPGroupCode])-2)/(Table2[DepoName]=$C$2)/(IF($C$3<>\"\",Table2[BULAN]=$C$3,TRUE))/(IF($C$4<>\"\",Table2[OFF/ON]=$C$4,TRUE))/(IF($C$5<>\"\",Table2[Status]=$C$5,TRUE))/(IF($C$6<>\"\",Table2[FPPDate]=$C$6,TRUE))/(IF($C$7<>\"\",Table2[ProposalCode]=$C$7,TRUE)),ROW(E293))),\"\")","v":""},{"$f":"IFERROR(INDEX(Table2[PeriodeEnd],_xlfn.AGGREGATE(15,6,(ROW(Table2[FPPGroupCode])-2)/(Table2[DepoName]=$C$2)/(IF($C$3<>\"\",Table2[BULAN]=$C$3,TRUE))/(IF($C$4<>\"\",Table2[OFF/ON]=$C$4,TRUE))/(IF($C$5<>\"\",Table2[Status]=$C$5,TRUE))/(IF($C$6<>\"\",Table2[FPPDate]=$C$6,TRUE))/(IF($C$7<>\"\",Table2[ProposalCode]=$C$7,TRUE)),ROW(F293))),\"\")","v":""},{"$f":"IFERROR(INDEX(Table2[Amount_FPPDepo],_xlfn.AGGREGATE(15,6,(ROW(Table2[FPPGroupCode])-2)/(Table2[DepoName]=$C$2)/(IF($C$3<>\"\",Table2[BULAN]=$C$3,TRUE))/(IF($C$4<>\"\",Table2[OFF/ON]=$C$4,TRUE))/(IF($C$5<>\"\",Table2[Status]=$C$5,TRUE))/(IF($C$6<>\"\",Table2[FPPDate]=$C$6,TRUE))/(IF($C$7<>\"\",Table2[ProposalCode]=$C$7,TRUE)),ROW(G293))),\"\")","v":""},{"$f":"IFERROR(VLOOKUP($B301,SIP!$D$5776:$P$6032,12,0),0)","v":0},{"$f":"IFERROR(H301-I301,0)","v":0},{"$f":"IFERROR(VLOOKUP($B301,SIP!$D$5776:$P$6032,8,0),0)","v":0},{"$f":"IFERROR(INDEX(Table2[OFF/ON],_xlfn.AGGREGATE(15,6,(ROW(Table2[FPPGroupCode])-2)/(Table2[DepoName]=$C$2)/(IF($C$3<>\"\",Table2[BULAN]=$C$3,TRUE))/(IF($C$4<>\"\",Table2[OFF/ON]=$C$4,TRUE))/(IF($C$5<>\"\",Table2[Status]=$C$5,TRUE))/(IF($C$6<>\"\",Table2[FPPDate]=$C$6,TRUE))/(IF($C$7<>\"\",Table2[ProposalCode]=$C$7,TRUE)),ROW(K293))),\"\")","v":""}]
[{"$f":"IF(LEN($B302),ROW(A294),\"\")","v":""},{"$f":"IFERROR(INDEX(Table2[FPPGroupCode],_xlfn.AGGREGATE(15,6,(ROW(Table2[FPPGroupCode])-2)/(Table2[DepoName]=$C$2)/(IF($C$3<>\"\",Table2[BULAN]=$C$3,TRUE))/(IF($C$4<>\"\",Table2[OFF/ON]=$C$4,TRUE))/(IF($C$5<>\"\",Table2[Status]=$C$5,TRUE))/(IF($C$6<>\"\",Table2[FPPDate]=$C$6,TRUE))/(IF($C$7<>\"\",Table2[ProposalCode]=$C$7,TRUE)),ROW(A294))),\"\")","v":""},{"$f":"IFERROR(VLOOKUP($B302,SIP!$D$3:$Q$12237,14,0),0)","v":0},{"$f":"IFERROR(INDEX(Table2[Activity],_xlfn.AGGREGATE(15,6,(ROW(Table2[FPPGroupCode])-2)/(Table2[DepoName]=$C$2)/(IF($C$3<>\"\",Table2[BULAN]=$C$3,TRUE))/(IF($C$4<>\"\",Table2[OFF/ON]=$C$4,TRUE))/(IF($C$5<>\"\",Table2[Status]=$C$5,TRUE))/(IF($C$6<>\"\",Table2[]=$C$6,TRUE))/(IF($C$7<>\"\",Table2[ProposalCode]=$C$7,TRUE)),ROW(B294))),\"\")","v":""},{"$f":"IFERROR(INDEX(Table2[Location],_xlfn.AGGREGATE(15,6,(ROW(Table2[FPPGroupCode])-2)/(Table2[DepoName]=$C$2)/(IF($C$3<>\"\",Table2[BULAN]=$C$3,TRUE))/(IF($C$4<>\"\",Table2[OFF/ON]=$C$4,TRUE))/(IF($C$5<>\"\",Table2[Status]=$C$5,TRUE))/(IF($C$6<>\"\",Table2[FPPDate]=$C$6,TRUE))/(IF($C$7<>\"\",Table2[ProposalCode]=$C$7,TRUE)),ROW(D294))),\"\")","v":""},{"$f":"IFERROR(INDEX(Table2[PeriodeStart],_xlfn.AGGREGATE(15,6,(ROW(Table2[FPPGroupCode])-2)/(Table2[DepoName]=$C$2)/(IF($C$3<>\"\",Table2[BULAN]=$C$3,TRUE))/(IF($C$4<>\"\",Table2[OFF/ON]=$C$4,TRUE))/(IF($C$5<>\"\",Table2[Status]=$C$5,TRUE))/(IF($C$6<>\"\",Table2[FPPDate]=$C$6,TRUE))/(IF($C$7<>\"\",Table2[ProposalCode]=$C$7,TRUE)),ROW(E294))),\"\")","v":""},{"$f":"IFERROR(INDEX(Table2[PeriodeEnd],_xlfn.AGGREGATE(15,6,(ROW(Table2[FPPGroupCode])-2)/(Table2[DepoName]=$C$2)/(IF($C$3<>\"\",Table2[BULAN]=$C$3,TRUE))/(IF($C$4<>\"\",Table2[OFF/ON]=$C$4,TRUE))/(IF($C$5<>\"\",Table2[Status]=$C$5,TRUE))/(IF($C$6<>\"\",Table2[FPPDate]=$C$6,TRUE))/(IF($C$7<>\"\",Table2[ProposalCode]=$C$7,TRUE)),ROW(F294))),\"\")","v":""},{"$f":"IFERROR(INDEX(Table2[Amount_FPPDepo],_xlfn.AGGREGATE(15,6,(ROW(Table2[FPPGroupCode])-2)/(Table2[DepoName]=$C$2)/(IF($C$3<>\"\",Table2[BULAN]=$C$3,TRUE))/(IF($C$4<>\"\",Table2[OFF/ON]=$C$4,TRUE))/(IF($C$5<>\"\",Table2[Status]=$C$5,TRUE))/(IF($C$6<>\"\",Table2[FPPDate]=$C$6,TRUE))/(IF($C$7<>\"\",Table2[ProposalCode]=$C$7,TRUE)),ROW(G294))),\"\")","v":""},{"$f":"IFERROR(VLOOKUP($B302,SIP!$D$5776:$P$6032,12,0),0)","v":0},{"$f":"IFERROR(H302-I302,0)","v":0},{"$f":"IFERROR(VLOOKUP($B302,SIP!$D$5776:$P$6032,8,0),0)","v":0},{"$f":"IFERROR(INDEX(Table2[OFF/ON],_xlfn.AGGREGATE(15,6,(ROW(Table2[FPPGroupCode])-2)/(Table2[DepoName]=$C$2)/(IF($C$3<>\"\",Table2[BULAN]=$C$3,TRUE))/(IF($C$4<>\"\",Table2[OFF/ON]=$C$4,TRUE))/(IF($C$5<>\"\",Table2[Status]=$C$5,TRUE))/(IF($C$6<>\"\",Table2[FPPDate]=$C$6,TRUE))/(IF($C$7<>\"\",Table2[ProposalCode]=$C$7,TRUE)),ROW(K294))),\"\")","v":""}]
[{"$f":"IF(LEN($B303),ROW(A295),\"\")","v":""},{"$f":"IFERROR(INDEX(Table2[FPPGroupCode],_xlfn.AGGREGATE(15,6,(ROW(Table2[FPPGroupCode])-2)/(Table2[DepoName]=$C$2)/(IF($C$3<>\"\",Table2[BULAN]=$C$3,TRUE))/(IF($C$4<>\"\",Table2[OFF/ON]=$C$4,TRUE))/(IF($C$5<>\"\",Table2[Status]=$C$5,TRUE))/(IF($C$6<>\"\",Table2[FPPDate]=$C$6,TRUE))/(IF($C$7<>\"\",Table2[ProposalCode]=$C$7,TRUE)),ROW(A295))),\"\")","v":""},{"$f":"IFERROR(VLOOKUP($B303,SIP!$D$3:$Q$12237,14,0),0)","v":0},{"$f":"IFERROR(INDEX(Table2[Activity],_xlfn.AGGREGATE(15,6,(ROW(Table2[FPPGroupCode])-2)/(Table2[DepoName]=$C$2)/(IF($C$3<>\"\",Table2[BULAN]=$C$3,TRUE))/(IF($C$4<>\"\",Table2[OFF/ON]=$C$4,TRUE))/(IF($C$5<>\"\",Table2[Status]=$C$5,TRUE))/(IF($C$6<>\"\",Table2[]=$C$6,TRUE))/(IF($C$7<>\"\",Table2[ProposalCode]=$C$7,TRUE)),ROW(B295))),\"\")","v":""},{"$f":"IFERROR(INDEX(Table2[Location],_xlfn.AGGREGATE(15,6,(ROW(Table2[FPPGroupCode])-2)/(Table2[DepoName]=$C$2)/(IF($C$3<>\"\",Table2[BULAN]=$C$3,TRUE))/(IF($C$4<>\"\",Table2[OFF/ON]=$C$4,TRUE))/(IF($C$5<>\"\",Table2[Status]=$C$5,TRUE))/(IF($C$6<>\"\",Table2[FPPDate]=$C$6,TRUE))/(IF($C$7<>\"\",Table2[ProposalCode]=$C$7,TRUE)),ROW(D295))),\"\")","v":""},{"$f":"IFERROR(INDEX(Table2[PeriodeStart],_xlfn.AGGREGATE(15,6,(ROW(Table2[FPPGroupCode])-2)/(Table2[DepoName]=$C$2)/(IF($C$3<>\"\",Table2[BULAN]=$C$3,TRUE))/(IF($C$4<>\"\",Table2[OFF/ON]=$C$4,TRUE))/(IF($C$5<>\"\",Table2[Status]=$C$5,TRUE))/(IF($C$6<>\"\",Table2[FPPDate]=$C$6,TRUE))/(IF($C$7<>\"\",Table2[ProposalCode]=$C$7,TRUE)),ROW(E295))),\"\")","v":""},{"$f":"IFERROR(INDEX(Table2[PeriodeEnd],_xlfn.AGGREGATE(15,6,(ROW(Table2[FPPGroupCode])-2)/(Table2[DepoName]=$C$2)/(IF($C$3<>\"\",Table2[BULAN]=$C$3,TRUE))/(IF($C$4<>\"\",Table2[OFF/ON]=$C$4,TRUE))/(IF($C$5<>\"\",Table2[Status]=$C$5,TRUE))/(IF($C$6<>\"\",Table2[FPPDate]=$C$6,TRUE))/(IF($C$7<>\"\",Table2[ProposalCode]=$C$7,TRUE)),ROW(F295))),\"\")","v":""},{"$f":"IFERROR(INDEX(Table2[Amount_FPPDepo],_xlfn.AGGREGATE(15,6,(ROW(Table2[FPPGroupCode])-2)/(Table2[DepoName]=$C$2)/(IF($C$3<>\"\",Table2[BULAN]=$C$3,TRUE))/(IF($C$4<>\"\",Table2[OFF/ON]=$C$4,TRUE))/(IF($C$5<>\"\",Table2[Status]=$C$5,TRUE))/(IF($C$6<>\"\",Table2[FPPDate]=$C$6,TRUE))/(IF($C$7<>\"\",Table2[ProposalCode]=$C$7,TRUE)),ROW(G295))),\"\")","v":""},{"$f":"IFERROR(VLOOKUP($B303,SIP!$D$5776:$P$6032,12,0),0)","v":0},{"$f":"IFERROR(H303-I303,0)","v":0},{"$f":"IFERROR(VLOOKUP($B303,SIP!$D$5776:$P$6032,8,0),0)","v":0},{"$f":"IFERROR(INDEX(Table2[OFF/ON],_xlfn.AGGREGATE(15,6,(ROW(Table2[FPPGroupCode])-2)/(Table2[DepoName]=$C$2)/(IF($C$3<>\"\",Table2[BULAN]=$C$3,TRUE))/(IF($C$4<>\"\",Table2[OFF/ON]=$C$4,TRUE))/(IF($C$5<>\"\",Table2[Status]=$C$5,TRUE))/(IF($C$6<>\"\",Table2[FPPDate]=$C$6,TRUE))/(IF($C$7<>\"\",Table2[ProposalCode]=$C$7,TRUE)),ROW(K295))),\"\")","v":""}]
[{"$f":"IF(LEN($B304),ROW(A296),\"\")","v":""},{"$f":"IFERROR(INDEX(Table2[FPPGroupCode],_xlfn.AGGREGATE(15,6,(ROW(Table2[FPPGroupCode])-2)/(Table2[DepoName]=$C$2)/(IF($C$3<>\"\",Table2[BULAN]=$C$3,TRUE))/(IF($C$4<>\"\",Table2[OFF/ON]=$C$4,TRUE))/(IF($C$5<>\"\",Table2[Status]=$C$5,TRUE))/(IF($C$6<>\"\",Table2[FPPDate]=$C$6,TRUE))/(IF($C$7<>\"\",Table2[ProposalCode]=$C$7,TRUE)),ROW(A296))),\"\")","v":""},{"$f":"IFERROR(VLOOKUP($B304,SIP!$D$3:$Q$12237,14,0),0)","v":0},{"$f":"IFERROR(INDEX(Table2[Activity],_xlfn.AGGREGATE(15,6,(ROW(Table2[FPPGroupCode])-2)/(Table2[DepoName]=$C$2)/(IF($C$3<>\"\",Table2[BULAN]=$C$3,TRUE))/(IF($C$4<>\"\",Table2[OFF/ON]=$C$4,TRUE))/(IF($C$5<>\"\",Table2[Status]=$C$5,TRUE))/(IF($C$6<>\"\",Table2[]=$C$6,TRUE))/(IF($C$7<>\"\",Table2[ProposalCode]=$C$7,TRUE)),ROW(B296))),\"\")","v":""},{"$f":"IFERROR(INDEX(Table2[Location],_xlfn.AGGREGATE(15,6,(ROW(Table2[FPPGroupCode])-2)/(Table2[DepoName]=$C$2)/(IF($C$3<>\"\",Table2[BULAN]=$C$3,TRUE))/(IF($C$4<>\"\",Table2[OFF/ON]=$C$4,TRUE))/(IF($C$5<>\"\",Table2[Status]=$C$5,TRUE))/(IF($C$6<>\"\",Table2[FPPDate]=$C$6,TRUE))/(IF($C$7<>\"\",Table2[ProposalCode]=$C$7,TRUE)),ROW(D296))),\"\")","v":""},{"$f":"IFERROR(INDEX(Table2[PeriodeStart],_xlfn.AGGREGATE(15,6,(ROW(Table2[FPPGroupCode])-2)/(Table2[DepoName]=$C$2)/(IF($C$3<>\"\",Table2[BULAN]=$C$3,TRUE))/(IF($C$4<>\"\",Table2[OFF/ON]=$C$4,TRUE))/(IF($C$5<>\"\",Table2[Status]=$C$5,TRUE))/(IF($C$6<>\"\",Table2[FPPDate]=$C$6,TRUE))/(IF($C$7<>\"\",Table2[ProposalCode]=$C$7,TRUE)),ROW(E296))),\"\")","v":""},{"$f":"IFERROR(INDEX(Table2[PeriodeEnd],_xlfn.AGGREGATE(15,6,(ROW(Table2[FPPGroupCode])-2)/(Table2[DepoName]=$C$2)/(IF($C$3<>\"\",Table2[BULAN]=$C$3,TRUE))/(IF($C$4<>\"\",Table2[OFF/ON]=$C$4,TRUE))/(IF($C$5<>\"\",Table2[Status]=$C$5,TRUE))/(IF($C$6<>\"\",Table2[FPPDate]=$C$6,TRUE))/(IF($C$7<>\"\",Table2[ProposalCode]=$C$7,TRUE)),ROW(F296))),\"\")","v":""},{"$f":"IFERROR(INDEX(Table2[Amount_FPPDepo],_xlfn.AGGREGATE(15,6,(ROW(Table2[FPPGroupCode])-2)/(Table2[DepoName]=$C$2)/(IF($C$3<>\"\",Table2[BULAN]=$C$3,TRUE))/(IF($C$4<>\"\",Table2[OFF/ON]=$C$4,TRUE))/(IF($C$5<>\"\",Table2[Status]=$C$5,TRUE))/(IF($C$6<>\"\",Table2[FPPDate]=$C$6,TRUE))/(IF($C$7<>\"\",Table2[ProposalCode]=$C$7,TRUE)),ROW(G296))),\"\")","v":""},{"$f":"IFERROR(VLOOKUP($B304,SIP!$D$5776:$P$6032,12,0),0)","v":0},{"$f":"IFERROR(H304-I304,0)","v":0},{"$f":"IFERROR(VLOOKUP($B304,SIP!$D$5776:$P$6032,8,0),0)","v":0},{"$f":"IFERROR(INDEX(Table2[OFF/ON],_xlfn.AGGREGATE(15,6,(ROW(Table2[FPPGroupCode])-2)/(Table2[DepoName]=$C$2)/(IF($C$3<>\"\",Table2[BULAN]=$C$3,TRUE))/(IF($C$4<>\"\",Table2[OFF/ON]=$C$4,TRUE))/(IF($C$5<>\"\",Table2[Status]=$C$5,TRUE))/(IF($C$6<>\"\",Table2[FPPDate]=$C$6,TRUE))/(IF($C$7<>\"\",Table2[ProposalCode]=$C$7,TRUE)),ROW(K296))),\"\")","v":""}]
[{"$f":"IF(LEN($B305),ROW(A297),\"\")","v":""},{"$f":"IFERROR(INDEX(Table2[FPPGroupCode],_xlfn.AGGREGATE(15,6,(ROW(Table2[FPPGroupCode])-2)/(Table2[DepoName]=$C$2)/(IF($C$3<>\"\",Table2[BULAN]=$C$3,TRUE))/(IF($C$4<>\"\",Table2[OFF/ON]=$C$4,TRUE))/(IF($C$5<>\"\",Table2[Status]=$C$5,TRUE))/(IF($C$6<>\"\",Table2[FPPDate]=$C$6,TRUE))/(IF($C$7<>\"\",Table2[ProposalCode]=$C$7,TRUE)),ROW(A297))),\"\")","v":""},{"$f":"IFERROR(VLOOKUP($B305,SIP!$D$3:$Q$12237,14,0),0)","v":0},{"$f":"IFERROR(INDEX(Table2[Activity],_xlfn.AGGREGATE(15,6,(ROW(Table2[FPPGroupCode])-2)/(Table2[DepoName]=$C$2)/(IF($C$3<>\"\",Table2[BULAN]=$C$3,TRUE))/(IF($C$4<>\"\",Table2[OFF/ON]=$C$4,TRUE))/(IF($C$5<>\"\",Table2[Status]=$C$5,TRUE))/(IF($C$6<>\"\",Table2[]=$C$6,TRUE))/(IF($C$7<>\"\",Table2[ProposalCode]=$C$7,TRUE)),ROW(B297))),\"\")","v":""},{"$f":"IFERROR(INDEX(Table2[Location],_xlfn.AGGREGATE(15,6,(ROW(Table2[FPPGroupCode])-2)/(Table2[DepoName]=$C$2)/(IF($C$3<>\"\",Table2[BULAN]=$C$3,TRUE))/(IF($C$4<>\"\",Table2[OFF/ON]=$C$4,TRUE))/(IF($C$5<>\"\",Table2[Status]=$C$5,TRUE))/(IF($C$6<>\"\",Table2[FPPDate]=$C$6,TRUE))/(IF($C$7<>\"\",Table2[ProposalCode]=$C$7,TRUE)),ROW(D297))),\"\")","v":""},{"$f":"IFERROR(INDEX(Table2[PeriodeStart],_xlfn.AGGREGATE(15,6,(ROW(Table2[FPPGroupCode])-2)/(Table2[DepoName]=$C$2)/(IF($C$3<>\"\",Table2[BULAN]=$C$3,TRUE))/(IF($C$4<>\"\",Table2[OFF/ON]=$C$4,TRUE))/(IF($C$5<>\"\",Table2[Status]=$C$5,TRUE))/(IF($C$6<>\"\",Table2[FPPDate]=$C$6,TRUE))/(IF($C$7<>\"\",Table2[ProposalCode]=$C$7,TRUE)),ROW(E297))),\"\")","v":""},{"$f":"IFERROR(INDEX(Table2[PeriodeEnd],_xlfn.AGGREGATE(15,6,(ROW(Table2[FPPGroupCode])-2)/(Table2[DepoName]=$C$2)/(IF($C$3<>\"\",Table2[BULAN]=$C$3,TRUE))/(IF($C$4<>\"\",Table2[OFF/ON]=$C$4,TRUE))/(IF($C$5<>\"\",Table2[Status]=$C$5,TRUE))/(IF($C$6<>\"\",Table2[FPPDate]=$C$6,TRUE))/(IF($C$7<>\"\",Table2[ProposalCode]=$C$7,TRUE)),ROW(F297))),\"\")","v":""},{"$f":"IFERROR(INDEX(Table2[Amount_FPPDepo],_xlfn.AGGREGATE(15,6,(ROW(Table2[FPPGroupCode])-2)/(Table2[DepoName]=$C$2)/(IF($C$3<>\"\",Table2[BULAN]=$C$3,TRUE))/(IF($C$4<>\"\",Table2[OFF/ON]=$C$4,TRUE))/(IF($C$5<>\"\",Table2[Status]=$C$5,TRUE))/(IF($C$6<>\"\",Table2[FPPDate]=$C$6,TRUE))/(IF($C$7<>\"\",Table2[ProposalCode]=$C$7,TRUE)),ROW(G297))),\"\")","v":""},{"$f":"IFERROR(VLOOKUP($B305,SIP!$D$5776:$P$6032,12,0),0)","v":0},{"$f":"IFERROR(H305-I305,0)","v":0},{"$f":"IFERROR(VLOOKUP($B305,SIP!$D$5776:$P$6032,8,0),0)","v":0},{"$f":"IFERROR(INDEX(Table2[OFF/ON],_xlfn.AGGREGATE(15,6,(ROW(Table2[FPPGroupCode])-2)/(Table2[DepoName]=$C$2)/(IF($C$3<>\"\",Table2[BULAN]=$C$3,TRUE))/(IF($C$4<>\"\",Table2[OFF/ON]=$C$4,TRUE))/(IF($C$5<>\"\",Table2[Status]=$C$5,TRUE))/(IF($C$6<>\"\",Table2[FPPDate]=$C$6,TRUE))/(IF($C$7<>\"\",Table2[ProposalCode]=$C$7,TRUE)),ROW(K297))),\"\")","v":""}]
[{"$f":"IF(LEN($B306),ROW(A298),\"\")","v":""},{"$f":"IFERROR(INDEX(Table2[FPPGroupCode],_xlfn.AGGREGATE(15,6,(ROW(Table2[FPPGroupCode])-2)/(Table2[DepoName]=$C$2)/(IF($C$3<>\"\",Table2[BULAN]=$C$3,TRUE))/(IF($C$4<>\"\",Table2[OFF/ON]=$C$4,TRUE))/(IF($C$5<>\"\",Table2[Status]=$C$5,TRUE))/(IF($C$6<>\"\",Table2[FPPDate]=$C$6,TRUE))/(IF($C$7<>\"\",Table2[ProposalCode]=$C$7,TRUE)),ROW(A298))),\"\")","v":""},{"$f":"IFERROR(VLOOKUP($B306,SIP!$D$3:$Q$12237,14,0),0)","v":0},{"$f":"IFERROR(INDEX(Table2[Activity],_xlfn.AGGREGATE(15,6,(ROW(Table2[FPPGroupCode])-2)/(Table2[DepoName]=$C$2)/(IF($C$3<>\"\",Table2[BULAN]=$C$3,TRUE))/(IF($C$4<>\"\",Table2[OFF/ON]=$C$4,TRUE))/(IF($C$5<>\"\",Table2[Status]=$C$5,TRUE))/(IF($C$6<>\"\",Table2[]=$C$6,TRUE))/(IF($C$7<>\"\",Table2[ProposalCode]=$C$7,TRUE)),ROW(B298))),\"\")","v":""},{"$f":"IFERROR(INDEX(Table2[Location],_xlfn.AGGREGATE(15,6,(ROW(Table2[FPPGroupCode])-2)/(Table2[DepoName]=$C$2)/(IF($C$3<>\"\",Table2[BULAN]=$C$3,TRUE))/(IF($C$4<>\"\",Table2[OFF/ON]=$C$4,TRUE))/(IF($C$5<>\"\",Table2[Status]=$C$5,TRUE))/(IF($C$6<>\"\",Table2[FPPDate]=$C$6,TRUE))/(IF($C$7<>\"\",Table2[ProposalCode]=$C$7,TRUE)),ROW(D298))),\"\")","v":""},{"$f":"IFERROR(INDEX(Table2[PeriodeStart],_xlfn.AGGREGATE(15,6,(ROW(Table2[FPPGroupCode])-2)/(Table2[DepoName]=$C$2)/(IF($C$3<>\"\",Table2[BULAN]=$C$3,TRUE))/(IF($C$4<>\"\",Table2[OFF/ON]=$C$4,TRUE))/(IF($C$5<>\"\",Table2[Status]=$C$5,TRUE))/(IF($C$6<>\"\",Table2[FPPDate]=$C$6,TRUE))/(IF($C$7<>\"\",Table2[ProposalCode]=$C$7,TRUE)),ROW(E298))),\"\")","v":""},{"$f":"IFERROR(INDEX(Table2[PeriodeEnd],_xlfn.AGGREGATE(15,6,(ROW(Table2[FPPGroupCode])-2)/(Table2[DepoName]=$C$2)/(IF($C$3<>\"\",Table2[BULAN]=$C$3,TRUE))/(IF($C$4<>\"\",Table2[OFF/ON]=$C$4,TRUE))/(IF($C$5<>\"\",Table2[Status]=$C$5,TRUE))/(IF($C$6<>\"\",Table2[FPPDate]=$C$6,TRUE))/(IF($C$7<>\"\",Table2[ProposalCode]=$C$7,TRUE)),ROW(F298))),\"\")","v":""},{"$f":"IFERROR(INDEX(Table2[Amount_FPPDepo],_xlfn.AGGREGATE(15,6,(ROW(Table2[FPPGroupCode])-2)/(Table2[DepoName]=$C$2)/(IF($C$3<>\"\",Table2[BULAN]=$C$3,TRUE))/(IF($C$4<>\"\",Table2[OFF/ON]=$C$4,TRUE))/(IF($C$5<>\"\",Table2[Status]=$C$5,TRUE))/(IF($C$6<>\"\",Table2[FPPDate]=$C$6,TRUE))/(IF($C$7<>\"\",Table2[ProposalCode]=$C$7,TRUE)),ROW(G298))),\"\")","v":""},{"$f":"IFERROR(VLOOKUP($B306,SIP!$D$5776:$P$6032,12,0),0)","v":0},{"$f":"IFERROR(H306-I306,0)","v":0},{"$f":"IFERROR(VLOOKUP($B306,SIP!$D$5776:$P$6032,8,0),0)","v":0},{"$f":"IFERROR(INDEX(Table2[OFF/ON],_xlfn.AGGREGATE(15,6,(ROW(Table2[FPPGroupCode])-2)/(Table2[DepoName]=$C$2)/(IF($C$3<>\"\",Table2[BULAN]=$C$3,TRUE))/(IF($C$4<>\"\",Table2[OFF/ON]=$C$4,TRUE))/(IF($C$5<>\"\",Table2[Status]=$C$5,TRUE))/(IF($C$6<>\"\",Table2[FPPDate]=$C$6,TRUE))/(IF($C$7<>\"\",Table2[ProposalCode]=$C$7,TRUE)),ROW(K298))),\"\")","v":""}]
[{"$f":"IF(LEN($B307),ROW(A299),\"\")","v":""},{"$f":"IFERROR(INDEX(Table2[FPPGroupCode],_xlfn.AGGREGATE(15,6,(ROW(Table2[FPPGroupCode])-2)/(Table2[DepoName]=$C$2)/(IF($C$3<>\"\",Table2[BULAN]=$C$3,TRUE))/(IF($C$4<>\"\",Table2[OFF/ON]=$C$4,TRUE))/(IF($C$5<>\"\",Table2[Status]=$C$5,TRUE))/(IF($C$6<>\"\",Table2[FPPDate]=$C$6,TRUE))/(IF($C$7<>\"\",Table2[ProposalCode]=$C$7,TRUE)),ROW(A299))),\"\")","v":""},{"$f":"IFERROR(VLOOKUP($B307,SIP!$D$3:$Q$12237,14,0),0)","v":0},{"$f":"IFERROR(INDEX(Table2[Activity],_xlfn.AGGREGATE(15,6,(ROW(Table2[FPPGroupCode])-2)/(Table2[DepoName]=$C$2)/(IF($C$3<>\"\",Table2[BULAN]=$C$3,TRUE))/(IF($C$4<>\"\",Table2[OFF/ON]=$C$4,TRUE))/(IF($C$5<>\"\",Table2[Status]=$C$5,TRUE))/(IF($C$6<>\"\",Table2[]=$C$6,TRUE))/(IF($C$7<>\"\",Table2[ProposalCode]=$C$7,TRUE)),ROW(B299))),\"\")","v":""},{"$f":"IFERROR(INDEX(Table2[Location],_xlfn.AGGREGATE(15,6,(ROW(Table2[FPPGroupCode])-2)/(Table2[DepoName]=$C$2)/(IF($C$3<>\"\",Table2[BULAN]=$C$3,TRUE))/(IF($C$4<>\"\",Table2[OFF/ON]=$C$4,TRUE))/(IF($C$5<>\"\",Table2[Status]=$C$5,TRUE))/(IF($C$6<>\"\",Table2[FPPDate]=$C$6,TRUE))/(IF($C$7<>\"\",Table2[ProposalCode]=$C$7,TRUE)),ROW(D299))),\"\")","v":""},{"$f":"IFERROR(INDEX(Table2[PeriodeStart],_xlfn.AGGREGATE(15,6,(ROW(Table2[FPPGroupCode])-2)/(Table2[DepoName]=$C$2)/(IF($C$3<>\"\",Table2[BULAN]=$C$3,TRUE))/(IF($C$4<>\"\",Table2[OFF/ON]=$C$4,TRUE))/(IF($C$5<>\"\",Table2[Status]=$C$5,TRUE))/(IF($C$6<>\"\",Table2[FPPDate]=$C$6,TRUE))/(IF($C$7<>\"\",Table2[ProposalCode]=$C$7,TRUE)),ROW(E299))),\"\")","v":""},{"$f":"IFERROR(INDEX(Table2[PeriodeEnd],_xlfn.AGGREGATE(15,6,(ROW(Table2[FPPGroupCode])-2)/(Table2[DepoName]=$C$2)/(IF($C$3<>\"\",Table2[BULAN]=$C$3,TRUE))/(IF($C$4<>\"\",Table2[OFF/ON]=$C$4,TRUE))/(IF($C$5<>\"\",Table2[Status]=$C$5,TRUE))/(IF($C$6<>\"\",Table2[FPPDate]=$C$6,TRUE))/(IF($C$7<>\"\",Table2[ProposalCode]=$C$7,TRUE)),ROW(F299))),\"\")","v":""},{"$f":"IFERROR(INDEX(Table2[Amount_FPPDepo],_xlfn.AGGREGATE(15,6,(ROW(Table2[FPPGroupCode])-2)/(Table2[DepoName]=$C$2)/(IF($C$3<>\"\",Table2[BULAN]=$C$3,TRUE))/(IF($C$4<>\"\",Table2[OFF/ON]=$C$4,TRUE))/(IF($C$5<>\"\",Table2[Status]=$C$5,TRUE))/(IF($C$6<>\"\",Table2[FPPDate]=$C$6,TRUE))/(IF($C$7<>\"\",Table2[ProposalCode]=$C$7,TRUE)),ROW(G299))),\"\")","v":""},{"$f":"IFERROR(VLOOKUP($B307,SIP!$D$5776:$P$6032,12,0),0)","v":0},{"$f":"IFERROR(H307-I307,0)","v":0},{"$f":"IFERROR(VLOOKUP($B307,SIP!$D$5776:$P$6032,8,0),0)","v":0},{"$f":"IFERROR(INDEX(Table2[OFF/ON],_xlfn.AGGREGATE(15,6,(ROW(Table2[FPPGroupCode])-2)/(Table2[DepoName]=$C$2)/(IF($C$3<>\"\",Table2[BULAN]=$C$3,TRUE))/(IF($C$4<>\"\",Table2[OFF/ON]=$C$4,TRUE))/(IF($C$5<>\"\",Table2[Status]=$C$5,TRUE))/(IF($C$6<>\"\",Table2[FPPDate]=$C$6,TRUE))/(IF($C$7<>\"\",Table2[ProposalCode]=$C$7,TRUE)),ROW(K299))),\"\")","v":""}]
[{"$f":"IF(LEN($B308),ROW(A300),\"\")","v":""},{"$f":"IFERROR(INDEX(Table2[FPPGroupCode],_xlfn.AGGREGATE(15,6,(ROW(Table2[FPPGroupCode])-2)/(Table2[DepoName]=$C$2)/(IF($C$3<>\"\",Table2[BULAN]=$C$3,TRUE))/(IF($C$4<>\"\",Table2[OFF/ON]=$C$4,TRUE))/(IF($C$5<>\"\",Table2[Status]=$C$5,TRUE))/(IF($C$6<>\"\",Table2[FPPDate]=$C$6,TRUE))/(IF($C$7<>\"\",Table2[ProposalCode]=$C$7,TRUE)),ROW(A300))),\"\")","v":""},{"$f":"IFERROR(VLOOKUP($B308,SIP!$D$3:$Q$12237,14,0),0)","v":0},{"$f":"IFERROR(INDEX(Table2[Activity],_xlfn.AGGREGATE(15,6,(ROW(Table2[FPPGroupCode])-2)/(Table2[DepoName]=$C$2)/(IF($C$3<>\"\",Table2[BULAN]=$C$3,TRUE))/(IF($C$4<>\"\",Table2[OFF/ON]=$C$4,TRUE))/(IF($C$5<>\"\",Table2[Status]=$C$5,TRUE))/(IF($C$6<>\"\",Table2[]=$C$6,TRUE))/(IF($C$7<>\"\",Table2[ProposalCode]=$C$7,TRUE)),ROW(B300))),\"\")","v":""},{"$f":"IFERROR(INDEX(Table2[Location],_xlfn.AGGREGATE(15,6,(ROW(Table2[FPPGroupCode])-2)/(Table2[DepoName]=$C$2)/(IF($C$3<>\"\",Table2[BULAN]=$C$3,TRUE))/(IF($C$4<>\"\",Table2[OFF/ON]=$C$4,TRUE))/(IF($C$5<>\"\",Table2[Status]=$C$5,TRUE))/(IF($C$6<>\"\",Table2[FPPDate]=$C$6,TRUE))/(IF($C$7<>\"\",Table2[ProposalCode]=$C$7,TRUE)),ROW(D300))),\"\")","v":""},{"$f":"IFERROR(INDEX(Table2[PeriodeStart],_xlfn.AGGREGATE(15,6,(ROW(Table2[FPPGroupCode])-2)/(Table2[DepoName]=$C$2)/(IF($C$3<>\"\",Table2[BULAN]=$C$3,TRUE))/(IF($C$4<>\"\",Table2[OFF/ON]=$C$4,TRUE))/(IF($C$5<>\"\",Table2[Status]=$C$5,TRUE))/(IF($C$6<>\"\",Table2[FPPDate]=$C$6,TRUE))/(IF($C$7<>\"\",Table2[ProposalCode]=$C$7,TRUE)),ROW(E300))),\"\")","v":""},{"$f":"IFERROR(INDEX(Table2[PeriodeEnd],_xlfn.AGGREGATE(15,6,(ROW(Table2[FPPGroupCode])-2)/(Table2[DepoName]=$C$2)/(IF($C$3<>\"\",Table2[BULAN]=$C$3,TRUE))/(IF($C$4<>\"\",Table2[OFF/ON]=$C$4,TRUE))/(IF($C$5<>\"\",Table2[Status]=$C$5,TRUE))/(IF($C$6<>\"\",Table2[FPPDate]=$C$6,TRUE))/(IF($C$7<>\"\",Table2[ProposalCode]=$C$7,TRUE)),ROW(F300))),\"\")","v":""},{"$f":"IFERROR(INDEX(Table2[Amount_FPPDepo],_xlfn.AGGREGATE(15,6,(ROW(Table2[FPPGroupCode])-2)/(Table2[DepoName]=$C$2)/(IF($C$3<>\"\",Table2[BULAN]=$C$3,TRUE))/(IF($C$4<>\"\",Table2[OFF/ON]=$C$4,TRUE))/(IF($C$5<>\"\",Table2[Status]=$C$5,TRUE))/(IF($C$6<>\"\",Table2[FPPDate]=$C$6,TRUE))/(IF($C$7<>\"\",Table2[ProposalCode]=$C$7,TRUE)),ROW(G300))),\"\")","v":""},{"$f":"IFERROR(VLOOKUP($B308,SIP!$D$5776:$P$6032,12,0),0)","v":0},{"$f":"IFERROR(H308-I308,0)","v":0},{"$f":"IFERROR(VLOOKUP($B308,SIP!$D$5776:$P$6032,8,0),0)","v":0},{"$f":"IFERROR(INDEX(Table2[OFF/ON],_xlfn.AGGREGATE(15,6,(ROW(Table2[FPPGroupCode])-2)/(Table2[DepoName]=$C$2)/(IF($C$3<>\"\",Table2[BULAN]=$C$3,TRUE))/(IF($C$4<>\"\",Table2[OFF/ON]=$C$4,TRUE))/(IF($C$5<>\"\",Table2[Status]=$C$5,TRUE))/(IF($C$6<>\"\",Table2[FPPDate]=$C$6,TRUE))/(IF($C$7<>\"\",Table2[ProposalCode]=$C$7,TRUE)),ROW(K300))),\"\")","v":""}]
[{"$f":"IF(LEN($B309),ROW(A301),\"\")","v":""},{"$f":"IFERROR(INDEX(Table2[FPPGroupCode],_xlfn.AGGREGATE(15,6,(ROW(Table2[FPPGroupCode])-2)/(Table2[DepoName]=$C$2)/(IF($C$3<>\"\",Table2[BULAN]=$C$3,TRUE))/(IF($C$4<>\"\",Table2[OFF/ON]=$C$4,TRUE))/(IF($C$5<>\"\",Table2[Status]=$C$5,TRUE))/(IF($C$6<>\"\",Table2[FPPDate]=$C$6,TRUE))/(IF($C$7<>\"\",Table2[ProposalCode]=$C$7,TRUE)),ROW(A301))),\"\")","v":""},{"$f":"IFERROR(VLOOKUP($B309,SIP!$D$3:$Q$12237,14,0),0)","v":0},{"$f":"IFERROR(INDEX(Table2[Activity],_xlfn.AGGREGATE(15,6,(ROW(Table2[FPPGroupCode])-2)/(Table2[DepoName]=$C$2)/(IF($C$3<>\"\",Table2[BULAN]=$C$3,TRUE))/(IF($C$4<>\"\",Table2[OFF/ON]=$C$4,TRUE))/(IF($C$5<>\"\",Table2[Status]=$C$5,TRUE))/(IF($C$6<>\"\",Table2[]=$C$6,TRUE))/(IF($C$7<>\"\",Table2[ProposalCode]=$C$7,TRUE)),ROW(B301))),\"\")","v":""},{"$f":"IFERROR(INDEX(Table2[Location],_xlfn.AGGREGATE(15,6,(ROW(Table2[FPPGroupCode])-2)/(Table2[DepoName]=$C$2)/(IF($C$3<>\"\",Table2[BULAN]=$C$3,TRUE))/(IF($C$4<>\"\",Table2[OFF/ON]=$C$4,TRUE))/(IF($C$5<>\"\",Table2[Status]=$C$5,TRUE))/(IF($C$6<>\"\",Table2[FPPDate]=$C$6,TRUE))/(IF($C$7<>\"\",Table2[ProposalCode]=$C$7,TRUE)),ROW(D301))),\"\")","v":""},{"$f":"IFERROR(INDEX(Table2[PeriodeStart],_xlfn.AGGREGATE(15,6,(ROW(Table2[FPPGroupCode])-2)/(Table2[DepoName]=$C$2)/(IF($C$3<>\"\",Table2[BULAN]=$C$3,TRUE))/(IF($C$4<>\"\",Table2[OFF/ON]=$C$4,TRUE))/(IF($C$5<>\"\",Table2[Status]=$C$5,TRUE))/(IF($C$6<>\"\",Table2[FPPDate]=$C$6,TRUE))/(IF($C$7<>\"\",Table2[ProposalCode]=$C$7,TRUE)),ROW(E301))),\"\")","v":""},{"$f":"IFERROR(INDEX(Table2[PeriodeEnd],_xlfn.AGGREGATE(15,6,(ROW(Table2[FPPGroupCode])-2)/(Table2[DepoName]=$C$2)/(IF($C$3<>\"\",Table2[BULAN]=$C$3,TRUE))/(IF($C$4<>\"\",Table2[OFF/ON]=$C$4,TRUE))/(IF($C$5<>\"\",Table2[Status]=$C$5,TRUE))/(IF($C$6<>\"\",Table2[FPPDate]=$C$6,TRUE))/(IF($C$7<>\"\",Table2[ProposalCode]=$C$7,TRUE)),ROW(F301))),\"\")","v":""},{"$f":"IFERROR(INDEX(Table2[Amount_FPPDepo],_xlfn.AGGREGATE(15,6,(ROW(Table2[FPPGroupCode])-2)/(Table2[DepoName]=$C$2)/(IF($C$3<>\"\",Table2[BULAN]=$C$3,TRUE))/(IF($C$4<>\"\",Table2[OFF/ON]=$C$4,TRUE))/(IF($C$5<>\"\",Table2[Status]=$C$5,TRUE))/(IF($C$6<>\"\",Table2[FPPDate]=$C$6,TRUE))/(IF($C$7<>\"\",Table2[ProposalCode]=$C$7,TRUE)),ROW(G301))),\"\")","v":""},{"$f":"IFERROR(VLOOKUP($B309,SIP!$D$5776:$P$6032,12,0),0)","v":0},{"$f":"IFERROR(H309-I309,0)","v":0},{"$f":"IFERROR(VLOOKUP($B309,SIP!$D$5776:$P$6032,8,0),0)","v":0},{"$f":"IFERROR(INDEX(Table2[OFF/ON],_xlfn.AGGREGATE(15,6,(ROW(Table2[FPPGroupCode])-2)/(Table2[DepoName]=$C$2)/(IF($C$3<>\"\",Table2[BULAN]=$C$3,TRUE))/(IF($C$4<>\"\",Table2[OFF/ON]=$C$4,TRUE))/(IF($C$5<>\"\",Table2[Status]=$C$5,TRUE))/(IF($C$6<>\"\",Table2[FPPDate]=$C$6,TRUE))/(IF($C$7<>\"\",Table2[ProposalCode]=$C$7,TRUE)),ROW(K301))),\"\")","v":""}]
[{"$f":"IF(LEN($B310),ROW(A302),\"\")","v":""},{"$f":"IFERROR(INDEX(Table2[FPPGroupCode],_xlfn.AGGREGATE(15,6,(ROW(Table2[FPPGroupCode])-2)/(Table2[DepoName]=$C$2)/(IF($C$3<>\"\",Table2[BULAN]=$C$3,TRUE))/(IF($C$4<>\"\",Table2[OFF/ON]=$C$4,TRUE))/(IF($C$5<>\"\",Table2[Status]=$C$5,TRUE))/(IF($C$6<>\"\",Table2[FPPDate]=$C$6,TRUE))/(IF($C$7<>\"\",Table2[ProposalCode]=$C$7,TRUE)),ROW(A302))),\"\")","v":""},{"$f":"IFERROR(VLOOKUP($B310,SIP!$D$3:$Q$12237,14,0),0)","v":0},{"$f":"IFERROR(INDEX(Table2[Activity],_xlfn.AGGREGATE(15,6,(ROW(Table2[FPPGroupCode])-2)/(Table2[DepoName]=$C$2)/(IF($C$3<>\"\",Table2[BULAN]=$C$3,TRUE))/(IF($C$4<>\"\",Table2[OFF/ON]=$C$4,TRUE))/(IF($C$5<>\"\",Table2[Status]=$C$5,TRUE))/(IF($C$6<>\"\",Table2[]=$C$6,TRUE))/(IF($C$7<>\"\",Table2[ProposalCode]=$C$7,TRUE)),ROW(B302))),\"\")","v":""},{"$f":"IFERROR(INDEX(Table2[Location],_xlfn.AGGREGATE(15,6,(ROW(Table2[FPPGroupCode])-2)/(Table2[DepoName]=$C$2)/(IF($C$3<>\"\",Table2[BULAN]=$C$3,TRUE))/(IF($C$4<>\"\",Table2[OFF/ON]=$C$4,TRUE))/(IF($C$5<>\"\",Table2[Status]=$C$5,TRUE))/(IF($C$6<>\"\",Table2[FPPDate]=$C$6,TRUE))/(IF($C$7<>\"\",Table2[ProposalCode]=$C$7,TRUE)),ROW(D302))),\"\")","v":""},{"$f":"IFERROR(INDEX(Table2[PeriodeStart],_xlfn.AGGREGATE(15,6,(ROW(Table2[FPPGroupCode])-2)/(Table2[DepoName]=$C$2)/(IF($C$3<>\"\",Table2[BULAN]=$C$3,TRUE))/(IF($C$4<>\"\",Table2[OFF/ON]=$C$4,TRUE))/(IF($C$5<>\"\",Table2[Status]=$C$5,TRUE))/(IF($C$6<>\"\",Table2[FPPDate]=$C$6,TRUE))/(IF($C$7<>\"\",Table2[ProposalCode]=$C$7,TRUE)),ROW(E302))),\"\")","v":""},{"$f":"IFERROR(INDEX(Table2[PeriodeEnd],_xlfn.AGGREGATE(15,6,(ROW(Table2[FPPGroupCode])-2)/(Table2[DepoName]=$C$2)/(IF($C$3<>\"\",Table2[BULAN]=$C$3,TRUE))/(IF($C$4<>\"\",Table2[OFF/ON]=$C$4,TRUE))/(IF($C$5<>\"\",Table2[Status]=$C$5,TRUE))/(IF($C$6<>\"\",Table2[FPPDate]=$C$6,TRUE))/(IF($C$7<>\"\",Table2[ProposalCode]=$C$7,TRUE)),ROW(F302))),\"\")","v":""},{"$f":"IFERROR(INDEX(Table2[Amount_FPPDepo],_xlfn.AGGREGATE(15,6,(ROW(Table2[FPPGroupCode])-2)/(Table2[DepoName]=$C$2)/(IF($C$3<>\"\",Table2[BULAN]=$C$3,TRUE))/(IF($C$4<>\"\",Table2[OFF/ON]=$C$4,TRUE))/(IF($C$5<>\"\",Table2[Status]=$C$5,TRUE))/(IF($C$6<>\"\",Table2[FPPDate]=$C$6,TRUE))/(IF($C$7<>\"\",Table2[ProposalCode]=$C$7,TRUE)),ROW(G302))),\"\")","v":""},{"$f":"IFERROR(VLOOKUP($B310,SIP!$D$5776:$P$6032,12,0),0)","v":0},{"$f":"IFERROR(H310-I310,0)","v":0},{"$f":"IFERROR(VLOOKUP($B310,SIP!$D$5776:$P$6032,8,0),0)","v":0},{"$f":"IFERROR(INDEX(Table2[OFF/ON],_xlfn.AGGREGATE(15,6,(ROW(Table2[FPPGroupCode])-2)/(Table2[DepoName]=$C$2)/(IF($C$3<>\"\",Table2[BULAN]=$C$3,TRUE))/(IF($C$4<>\"\",Table2[OFF/ON]=$C$4,TRUE))/(IF($C$5<>\"\",Table2[Status]=$C$5,TRUE))/(IF($C$6<>\"\",Table2[FPPDate]=$C$6,TRUE))/(IF($C$7<>\"\",Table2[ProposalCode]=$C$7,TRUE)),ROW(K302))),\"\")","v":""}]
[{"$f":"IF(LEN($B311),ROW(A303),\"\")","v":""},{"$f":"IFERROR(INDEX(Table2[FPPGroupCode],_xlfn.AGGREGATE(15,6,(ROW(Table2[FPPGroupCode])-2)/(Table2[DepoName]=$C$2)/(IF($C$3<>\"\",Table2[BULAN]=$C$3,TRUE))/(IF($C$4<>\"\",Table2[OFF/ON]=$C$4,TRUE))/(IF($C$5<>\"\",Table2[Status]=$C$5,TRUE))/(IF($C$6<>\"\",Table2[FPPDate]=$C$6,TRUE))/(IF($C$7<>\"\",Table2[ProposalCode]=$C$7,TRUE)),ROW(A303))),\"\")","v":""},{"$f":"IFERROR(VLOOKUP($B311,SIP!$D$3:$Q$12237,14,0),0)","v":0},{"$f":"IFERROR(INDEX(Table2[Activity],_xlfn.AGGREGATE(15,6,(ROW(Table2[FPPGroupCode])-2)/(Table2[DepoName]=$C$2)/(IF($C$3<>\"\",Table2[BULAN]=$C$3,TRUE))/(IF($C$4<>\"\",Table2[OFF/ON]=$C$4,TRUE))/(IF($C$5<>\"\",Table2[Status]=$C$5,TRUE))/(IF($C$6<>\"\",Table2[]=$C$6,TRUE))/(IF($C$7<>\"\",Table2[ProposalCode]=$C$7,TRUE)),ROW(B303))),\"\")","v":""},{"$f":"IFERROR(INDEX(Table2[Location],_xlfn.AGGREGATE(15,6,(ROW(Table2[FPPGroupCode])-2)/(Table2[DepoName]=$C$2)/(IF($C$3<>\"\",Table2[BULAN]=$C$3,TRUE))/(IF($C$4<>\"\",Table2[OFF/ON]=$C$4,TRUE))/(IF($C$5<>\"\",Table2[Status]=$C$5,TRUE))/(IF($C$6<>\"\",Table2[FPPDate]=$C$6,TRUE))/(IF($C$7<>\"\",Table2[ProposalCode]=$C$7,TRUE)),ROW(D303))),\"\")","v":""},{"$f":"IFERROR(INDEX(Table2[PeriodeStart],_xlfn.AGGREGATE(15,6,(ROW(Table2[FPPGroupCode])-2)/(Table2[DepoName]=$C$2)/(IF($C$3<>\"\",Table2[BULAN]=$C$3,TRUE))/(IF($C$4<>\"\",Table2[OFF/ON]=$C$4,TRUE))/(IF($C$5<>\"\",Table2[Status]=$C$5,TRUE))/(IF($C$6<>\"\",Table2[FPPDate]=$C$6,TRUE))/(IF($C$7<>\"\",Table2[ProposalCode]=$C$7,TRUE)),ROW(E303))),\"\")","v":""},{"$f":"IFERROR(INDEX(Table2[PeriodeEnd],_xlfn.AGGREGATE(15,6,(ROW(Table2[FPPGroupCode])-2)/(Table2[DepoName]=$C$2)/(IF($C$3<>\"\",Table2[BULAN]=$C$3,TRUE))/(IF($C$4<>\"\",Table2[OFF/ON]=$C$4,TRUE))/(IF($C$5<>\"\",Table2[Status]=$C$5,TRUE))/(IF($C$6<>\"\",Table2[FPPDate]=$C$6,TRUE))/(IF($C$7<>\"\",Table2[ProposalCode]=$C$7,TRUE)),ROW(F303))),\"\")","v":""},{"$f":"IFERROR(INDEX(Table2[Amount_FPPDepo],_xlfn.AGGREGATE(15,6,(ROW(Table2[FPPGroupCode])-2)/(Table2[DepoName]=$C$2)/(IF($C$3<>\"\",Table2[BULAN]=$C$3,TRUE))/(IF($C$4<>\"\",Table2[OFF/ON]=$C$4,TRUE))/(IF($C$5<>\"\",Table2[Status]=$C$5,TRUE))/(IF($C$6<>\"\",Table2[FPPDate]=$C$6,TRUE))/(IF($C$7<>\"\",Table2[ProposalCode]=$C$7,TRUE)),ROW(G303))),\"\")","v":""},{"$f":"IFERROR(VLOOKUP($B311,SIP!$D$5776:$P$6032,12,0),0)","v":0},{"$f":"IFERROR(H311-I311,0)","v":0},{"$f":"IFERROR(VLOOKUP($B311,SIP!$D$5776:$P$6032,8,0),0)","v":0},{"$f":"IFERROR(INDEX(Table2[OFF/ON],_xlfn.AGGREGATE(15,6,(ROW(Table2[FPPGroupCode])-2)/(Table2[DepoName]=$C$2)/(IF($C$3<>\"\",Table2[BULAN]=$C$3,TRUE))/(IF($C$4<>\"\",Table2[OFF/ON]=$C$4,TRUE))/(IF($C$5<>\"\",Table2[Status]=$C$5,TRUE))/(IF($C$6<>\"\",Table2[FPPDate]=$C$6,TRUE))/(IF($C$7<>\"\",Table2[ProposalCode]=$C$7,TRUE)),ROW(K303))),\"\")","v":""}]
[{"$f":"IF(LEN($B312),ROW(A304),\"\")","v":""},{"$f":"IFERROR(INDEX(Table2[FPPGroupCode],_xlfn.AGGREGATE(15,6,(ROW(Table2[FPPGroupCode])-2)/(Table2[DepoName]=$C$2)/(IF($C$3<>\"\",Table2[BULAN]=$C$3,TRUE))/(IF($C$4<>\"\",Table2[OFF/ON]=$C$4,TRUE))/(IF($C$5<>\"\",Table2[Status]=$C$5,TRUE))/(IF($C$6<>\"\",Table2[FPPDate]=$C$6,TRUE))/(IF($C$7<>\"\",Table2[ProposalCode]=$C$7,TRUE)),ROW(A304))),\"\")","v":""},{"$f":"IFERROR(VLOOKUP($B312,SIP!$D$3:$Q$12237,14,0),0)","v":0},{"$f":"IFERROR(INDEX(Table2[Activity],_xlfn.AGGREGATE(15,6,(ROW(Table2[FPPGroupCode])-2)/(Table2[DepoName]=$C$2)/(IF($C$3<>\"\",Table2[BULAN]=$C$3,TRUE))/(IF($C$4<>\"\",Table2[OFF/ON]=$C$4,TRUE))/(IF($C$5<>\"\",Table2[Status]=$C$5,TRUE))/(IF($C$6<>\"\",Table2[]=$C$6,TRUE))/(IF($C$7<>\"\",Table2[ProposalCode]=$C$7,TRUE)),ROW(B304))),\"\")","v":""},{"$f":"IFERROR(INDEX(Table2[Location],_xlfn.AGGREGATE(15,6,(ROW(Table2[FPPGroupCode])-2)/(Table2[DepoName]=$C$2)/(IF($C$3<>\"\",Table2[BULAN]=$C$3,TRUE))/(IF($C$4<>\"\",Table2[OFF/ON]=$C$4,TRUE))/(IF($C$5<>\"\",Table2[Status]=$C$5,TRUE))/(IF($C$6<>\"\",Table2[FPPDate]=$C$6,TRUE))/(IF($C$7<>\"\",Table2[ProposalCode]=$C$7,TRUE)),ROW(D304))),\"\")","v":""},{"$f":"IFERROR(INDEX(Table2[PeriodeStart],_xlfn.AGGREGATE(15,6,(ROW(Table2[FPPGroupCode])-2)/(Table2[DepoName]=$C$2)/(IF($C$3<>\"\",Table2[BULAN]=$C$3,TRUE))/(IF($C$4<>\"\",Table2[OFF/ON]=$C$4,TRUE))/(IF($C$5<>\"\",Table2[Status]=$C$5,TRUE))/(IF($C$6<>\"\",Table2[FPPDate]=$C$6,TRUE))/(IF($C$7<>\"\",Table2[ProposalCode]=$C$7,TRUE)),ROW(E304))),\"\")","v":""},{"$f":"IFERROR(INDEX(Table2[PeriodeEnd],_xlfn.AGGREGATE(15,6,(ROW(Table2[FPPGroupCode])-2)/(Table2[DepoName]=$C$2)/(IF($C$3<>\"\",Table2[BULAN]=$C$3,TRUE))/(IF($C$4<>\"\",Table2[OFF/ON]=$C$4,TRUE))/(IF($C$5<>\"\",Table2[Status]=$C$5,TRUE))/(IF($C$6<>\"\",Table2[FPPDate]=$C$6,TRUE))/(IF($C$7<>\"\",Table2[ProposalCode]=$C$7,TRUE)),ROW(F304))),\"\")","v":""},{"$f":"IFERROR(INDEX(Table2[Amount_FPPDepo],_xlfn.AGGREGATE(15,6,(ROW(Table2[FPPGroupCode])-2)/(Table2[DepoName]=$C$2)/(IF($C$3<>\"\",Table2[BULAN]=$C$3,TRUE))/(IF($C$4<>\"\",Table2[OFF/ON]=$C$4,TRUE))/(IF($C$5<>\"\",Table2[Status]=$C$5,TRUE))/(IF($C$6<>\"\",Table2[FPPDate]=$C$6,TRUE))/(IF($C$7<>\"\",Table2[ProposalCode]=$C$7,TRUE)),ROW(G304))),\"\")","v":""},{"$f":"IFERROR(VLOOKUP($B312,SIP!$D$5776:$P$6032,12,0),0)","v":0},{"$f":"IFERROR(H312-I312,0)","v":0},{"$f":"IFERROR(VLOOKUP($B312,SIP!$D$5776:$P$6032,8,0),0)","v":0},{"$f":"IFERROR(INDEX(Table2[OFF/ON],_xlfn.AGGREGATE(15,6,(ROW(Table2[FPPGroupCode])-2)/(Table2[DepoName]=$C$2)/(IF($C$3<>\"\",Table2[BULAN]=$C$3,TRUE))/(IF($C$4<>\"\",Table2[OFF/ON]=$C$4,TRUE))/(IF($C$5<>\"\",Table2[Status]=$C$5,TRUE))/(IF($C$6<>\"\",Table2[FPPDate]=$C$6,TRUE))/(IF($C$7<>\"\",Table2[ProposalCode]=$C$7,TRUE)),ROW(K304))),\"\")","v":""}]
[{"$f":"IF(LEN($B313),ROW(A305),\"\")","v":""},{"$f":"IFERROR(INDEX(Table2[FPPGroupCode],_xlfn.AGGREGATE(15,6,(ROW(Table2[FPPGroupCode])-2)/(Table2[DepoName]=$C$2)/(IF($C$3<>\"\",Table2[BULAN]=$C$3,TRUE))/(IF($C$4<>\"\",Table2[OFF/ON]=$C$4,TRUE))/(IF($C$5<>\"\",Table2[Status]=$C$5,TRUE))/(IF($C$6<>\"\",Table2[FPPDate]=$C$6,TRUE))/(IF($C$7<>\"\",Table2[ProposalCode]=$C$7,TRUE)),ROW(A305))),\"\")","v":""},{"$f":"IFERROR(VLOOKUP($B313,SIP!$D$3:$Q$12237,14,0),0)","v":0},{"$f":"IFERROR(INDEX(Table2[Activity],_xlfn.AGGREGATE(15,6,(ROW(Table2[FPPGroupCode])-2)/(Table2[DepoName]=$C$2)/(IF($C$3<>\"\",Table2[BULAN]=$C$3,TRUE))/(IF($C$4<>\"\",Table2[OFF/ON]=$C$4,TRUE))/(IF($C$5<>\"\",Table2[Status]=$C$5,TRUE))/(IF($C$6<>\"\",Table2[]=$C$6,TRUE))/(IF($C$7<>\"\",Table2[ProposalCode]=$C$7,TRUE)),ROW(B305))),\"\")","v":""},{"$f":"IFERROR(INDEX(Table2[Location],_xlfn.AGGREGATE(15,6,(ROW(Table2[FPPGroupCode])-2)/(Table2[DepoName]=$C$2)/(IF($C$3<>\"\",Table2[BULAN]=$C$3,TRUE))/(IF($C$4<>\"\",Table2[OFF/ON]=$C$4,TRUE))/(IF($C$5<>\"\",Table2[Status]=$C$5,TRUE))/(IF($C$6<>\"\",Table2[FPPDate]=$C$6,TRUE))/(IF($C$7<>\"\",Table2[ProposalCode]=$C$7,TRUE)),ROW(D305))),\"\")","v":""},{"$f":"IFERROR(INDEX(Table2[PeriodeStart],_xlfn.AGGREGATE(15,6,(ROW(Table2[FPPGroupCode])-2)/(Table2[DepoName]=$C$2)/(IF($C$3<>\"\",Table2[BULAN]=$C$3,TRUE))/(IF($C$4<>\"\",Table2[OFF/ON]=$C$4,TRUE))/(IF($C$5<>\"\",Table2[Status]=$C$5,TRUE))/(IF($C$6<>\"\",Table2[FPPDate]=$C$6,TRUE))/(IF($C$7<>\"\",Table2[ProposalCode]=$C$7,TRUE)),ROW(E305))),\"\")","v":""},{"$f":"IFERROR(INDEX(Table2[PeriodeEnd],_xlfn.AGGREGATE(15,6,(ROW(Table2[FPPGroupCode])-2)/(Table2[DepoName]=$C$2)/(IF($C$3<>\"\",Table2[BULAN]=$C$3,TRUE))/(IF($C$4<>\"\",Table2[OFF/ON]=$C$4,TRUE))/(IF($C$5<>\"\",Table2[Status]=$C$5,TRUE))/(IF($C$6<>\"\",Table2[FPPDate]=$C$6,TRUE))/(IF($C$7<>\"\",Table2[ProposalCode]=$C$7,TRUE)),ROW(F305))),\"\")","v":""},{"$f":"IFERROR(INDEX(Table2[Amount_FPPDepo],_xlfn.AGGREGATE(15,6,(ROW(Table2[FPPGroupCode])-2)/(Table2[DepoName]=$C$2)/(IF($C$3<>\"\",Table2[BULAN]=$C$3,TRUE))/(IF($C$4<>\"\",Table2[OFF/ON]=$C$4,TRUE))/(IF($C$5<>\"\",Table2[Status]=$C$5,TRUE))/(IF($C$6<>\"\",Table2[FPPDate]=$C$6,TRUE))/(IF($C$7<>\"\",Table2[ProposalCode]=$C$7,TRUE)),ROW(G305))),\"\")","v":""},{"$f":"IFERROR(VLOOKUP($B313,SIP!$D$5776:$P$6032,12,0),0)","v":0},{"$f":"IFERROR(H313-I313,0)","v":0},{"$f":"IFERROR(VLOOKUP($B313,SIP!$D$5776:$P$6032,8,0),0)","v":0},{"$f":"IFERROR(INDEX(Table2[OFF/ON],_xlfn.AGGREGATE(15,6,(ROW(Table2[FPPGroupCode])-2)/(Table2[DepoName]=$C$2)/(IF($C$3<>\"\",Table2[BULAN]=$C$3,TRUE))/(IF($C$4<>\"\",Table2[OFF/ON]=$C$4,TRUE))/(IF($C$5<>\"\",Table2[Status]=$C$5,TRUE))/(IF($C$6<>\"\",Table2[FPPDate]=$C$6,TRUE))/(IF($C$7<>\"\",Table2[ProposalCode]=$C$7,TRUE)),ROW(K305))),\"\")","v":""}]
[{"$f":"IF(LEN($B314),ROW(A306),\"\")","v":""},{"$f":"IFERROR(INDEX(Table2[FPPGroupCode],_xlfn.AGGREGATE(15,6,(ROW(Table2[FPPGroupCode])-2)/(Table2[DepoName]=$C$2)/(IF($C$3<>\"\",Table2[BULAN]=$C$3,TRUE))/(IF($C$4<>\"\",Table2[OFF/ON]=$C$4,TRUE))/(IF($C$5<>\"\",Table2[Status]=$C$5,TRUE))/(IF($C$6<>\"\",Table2[FPPDate]=$C$6,TRUE))/(IF($C$7<>\"\",Table2[ProposalCode]=$C$7,TRUE)),ROW(A306))),\"\")","v":""},{"$f":"IFERROR(VLOOKUP($B314,SIP!$D$3:$Q$12237,14,0),0)","v":0},{"$f":"IFERROR(INDEX(Table2[Activity],_xlfn.AGGREGATE(15,6,(ROW(Table2[FPPGroupCode])-2)/(Table2[DepoName]=$C$2)/(IF($C$3<>\"\",Table2[BULAN]=$C$3,TRUE))/(IF($C$4<>\"\",Table2[OFF/ON]=$C$4,TRUE))/(IF($C$5<>\"\",Table2[Status]=$C$5,TRUE))/(IF($C$6<>\"\",Table2[]=$C$6,TRUE))/(IF($C$7<>\"\",Table2[ProposalCode]=$C$7,TRUE)),ROW(B306))),\"\")","v":""},{"$f":"IFERROR(INDEX(Table2[Location],_xlfn.AGGREGATE(15,6,(ROW(Table2[FPPGroupCode])-2)/(Table2[DepoName]=$C$2)/(IF($C$3<>\"\",Table2[BULAN]=$C$3,TRUE))/(IF($C$4<>\"\",Table2[OFF/ON]=$C$4,TRUE))/(IF($C$5<>\"\",Table2[Status]=$C$5,TRUE))/(IF($C$6<>\"\",Table2[FPPDate]=$C$6,TRUE))/(IF($C$7<>\"\",Table2[ProposalCode]=$C$7,TRUE)),ROW(D306))),\"\")","v":""},{"$f":"IFERROR(INDEX(Table2[PeriodeStart],_xlfn.AGGREGATE(15,6,(ROW(Table2[FPPGroupCode])-2)/(Table2[DepoName]=$C$2)/(IF($C$3<>\"\",Table2[BULAN]=$C$3,TRUE))/(IF($C$4<>\"\",Table2[OFF/ON]=$C$4,TRUE))/(IF($C$5<>\"\",Table2[Status]=$C$5,TRUE))/(IF($C$6<>\"\",Table2[FPPDate]=$C$6,TRUE))/(IF($C$7<>\"\",Table2[ProposalCode]=$C$7,TRUE)),ROW(E306))),\"\")","v":""},{"$f":"IFERROR(INDEX(Table2[PeriodeEnd],_xlfn.AGGREGATE(15,6,(ROW(Table2[FPPGroupCode])-2)/(Table2[DepoName]=$C$2)/(IF($C$3<>\"\",Table2[BULAN]=$C$3,TRUE))/(IF($C$4<>\"\",Table2[OFF/ON]=$C$4,TRUE))/(IF($C$5<>\"\",Table2[Status]=$C$5,TRUE))/(IF($C$6<>\"\",Table2[FPPDate]=$C$6,TRUE))/(IF($C$7<>\"\",Table2[ProposalCode]=$C$7,TRUE)),ROW(F306))),\"\")","v":""},{"$f":"IFERROR(INDEX(Table2[Amount_FPPDepo],_xlfn.AGGREGATE(15,6,(ROW(Table2[FPPGroupCode])-2)/(Table2[DepoName]=$C$2)/(IF($C$3<>\"\",Table2[BULAN]=$C$3,TRUE))/(IF($C$4<>\"\",Table2[OFF/ON]=$C$4,TRUE))/(IF($C$5<>\"\",Table2[Status]=$C$5,TRUE))/(IF($C$6<>\"\",Table2[FPPDate]=$C$6,TRUE))/(IF($C$7<>\"\",Table2[ProposalCode]=$C$7,TRUE)),ROW(G306))),\"\")","v":""},{"$f":"IFERROR(VLOOKUP($B314,SIP!$D$5776:$P$6032,12,0),0)","v":0},{"$f":"IFERROR(H314-I314,0)","v":0},{"$f":"IFERROR(VLOOKUP($B314,SIP!$D$5776:$P$6032,8,0),0)","v":0},{"$f":"IFERROR(INDEX(Table2[OFF/ON],_xlfn.AGGREGATE(15,6,(ROW(Table2[FPPGroupCode])-2)/(Table2[DepoName]=$C$2)/(IF($C$3<>\"\",Table2[BULAN]=$C$3,TRUE))/(IF($C$4<>\"\",Table2[OFF/ON]=$C$4,TRUE))/(IF($C$5<>\"\",Table2[Status]=$C$5,TRUE))/(IF($C$6<>\"\",Table2[FPPDate]=$C$6,TRUE))/(IF($C$7<>\"\",Table2[ProposalCode]=$C$7,TRUE)),ROW(K306))),\"\")","v":""}]
[{"$f":"IF(LEN($B315),ROW(A307),\"\")","v":""},{"$f":"IFERROR(INDEX(Table2[FPPGroupCode],_xlfn.AGGREGATE(15,6,(ROW(Table2[FPPGroupCode])-2)/(Table2[DepoName]=$C$2)/(IF($C$3<>\"\",Table2[BULAN]=$C$3,TRUE))/(IF($C$4<>\"\",Table2[OFF/ON]=$C$4,TRUE))/(IF($C$5<>\"\",Table2[Status]=$C$5,TRUE))/(IF($C$6<>\"\",Table2[FPPDate]=$C$6,TRUE))/(IF($C$7<>\"\",Table2[ProposalCode]=$C$7,TRUE)),ROW(A307))),\"\")","v":""},{"$f":"IFERROR(VLOOKUP($B315,SIP!$D$3:$Q$12237,14,0),0)","v":0},{"$f":"IFERROR(INDEX(Table2[Activity],_xlfn.AGGREGATE(15,6,(ROW(Table2[FPPGroupCode])-2)/(Table2[DepoName]=$C$2)/(IF($C$3<>\"\",Table2[BULAN]=$C$3,TRUE))/(IF($C$4<>\"\",Table2[OFF/ON]=$C$4,TRUE))/(IF($C$5<>\"\",Table2[Status]=$C$5,TRUE))/(IF($C$6<>\"\",Table2[]=$C$6,TRUE))/(IF($C$7<>\"\",Table2[ProposalCode]=$C$7,TRUE)),ROW(B307))),\"\")","v":""},{"$f":"IFERROR(INDEX(Table2[Location],_xlfn.AGGREGATE(15,6,(ROW(Table2[FPPGroupCode])-2)/(Table2[DepoName]=$C$2)/(IF($C$3<>\"\",Table2[BULAN]=$C$3,TRUE))/(IF($C$4<>\"\",Table2[OFF/ON]=$C$4,TRUE))/(IF($C$5<>\"\",Table2[Status]=$C$5,TRUE))/(IF($C$6<>\"\",Table2[FPPDate]=$C$6,TRUE))/(IF($C$7<>\"\",Table2[ProposalCode]=$C$7,TRUE)),ROW(D307))),\"\")","v":""},{"$f":"IFERROR(INDEX(Table2[PeriodeStart],_xlfn.AGGREGATE(15,6,(ROW(Table2[FPPGroupCode])-2)/(Table2[DepoName]=$C$2)/(IF($C$3<>\"\",Table2[BULAN]=$C$3,TRUE))/(IF($C$4<>\"\",Table2[OFF/ON]=$C$4,TRUE))/(IF($C$5<>\"\",Table2[Status]=$C$5,TRUE))/(IF($C$6<>\"\",Table2[FPPDate]=$C$6,TRUE))/(IF($C$7<>\"\",Table2[ProposalCode]=$C$7,TRUE)),ROW(E307))),\"\")","v":""},{"$f":"IFERROR(INDEX(Table2[PeriodeEnd],_xlfn.AGGREGATE(15,6,(ROW(Table2[FPPGroupCode])-2)/(Table2[DepoName]=$C$2)/(IF($C$3<>\"\",Table2[BULAN]=$C$3,TRUE))/(IF($C$4<>\"\",Table2[OFF/ON]=$C$4,TRUE))/(IF($C$5<>\"\",Table2[Status]=$C$5,TRUE))/(IF($C$6<>\"\",Table2[FPPDate]=$C$6,TRUE))/(IF($C$7<>\"\",Table2[ProposalCode]=$C$7,TRUE)),ROW(F307))),\"\")","v":""},{"$f":"IFERROR(INDEX(Table2[Amount_FPPDepo],_xlfn.AGGREGATE(15,6,(ROW(Table2[FPPGroupCode])-2)/(Table2[DepoName]=$C$2)/(IF($C$3<>\"\",Table2[BULAN]=$C$3,TRUE))/(IF($C$4<>\"\",Table2[OFF/ON]=$C$4,TRUE))/(IF($C$5<>\"\",Table2[Status]=$C$5,TRUE))/(IF($C$6<>\"\",Table2[FPPDate]=$C$6,TRUE))/(IF($C$7<>\"\",Table2[ProposalCode]=$C$7,TRUE)),ROW(G307))),\"\")","v":""},{"$f":"IFERROR(VLOOKUP($B315,SIP!$D$5776:$P$6032,12,0),0)","v":0},{"$f":"IFERROR(H315-I315,0)","v":0},{"$f":"IFERROR(VLOOKUP($B315,SIP!$D$5776:$P$6032,8,0),0)","v":0},{"$f":"IFERROR(INDEX(Table2[OFF/ON],_xlfn.AGGREGATE(15,6,(ROW(Table2[FPPGroupCode])-2)/(Table2[DepoName]=$C$2)/(IF($C$3<>\"\",Table2[BULAN]=$C$3,TRUE))/(IF($C$4<>\"\",Table2[OFF/ON]=$C$4,TRUE))/(IF($C$5<>\"\",Table2[Status]=$C$5,TRUE))/(IF($C$6<>\"\",Table2[FPPDate]=$C$6,TRUE))/(IF($C$7<>\"\",Table2[ProposalCode]=$C$7,TRUE)),ROW(K307))),\"\")","v":""}]
[{"$f":"IF(LEN($B316),ROW(A308),\"\")","v":""},{"$f":"IFERROR(INDEX(Table2[FPPGroupCode],_xlfn.AGGREGATE(15,6,(ROW(Table2[FPPGroupCode])-2)/(Table2[DepoName]=$C$2)/(IF($C$3<>\"\",Table2[BULAN]=$C$3,TRUE))/(IF($C$4<>\"\",Table2[OFF/ON]=$C$4,TRUE))/(IF($C$5<>\"\",Table2[Status]=$C$5,TRUE))/(IF($C$6<>\"\",Table2[FPPDate]=$C$6,TRUE))/(IF($C$7<>\"\",Table2[ProposalCode]=$C$7,TRUE)),ROW(A308))),\"\")","v":""},{"$f":"IFERROR(VLOOKUP($B316,SIP!$D$3:$Q$12237,14,0),0)","v":0},{"$f":"IFERROR(INDEX(Table2[Activity],_xlfn.AGGREGATE(15,6,(ROW(Table2[FPPGroupCode])-2)/(Table2[DepoName]=$C$2)/(IF($C$3<>\"\",Table2[BULAN]=$C$3,TRUE))/(IF($C$4<>\"\",Table2[OFF/ON]=$C$4,TRUE))/(IF($C$5<>\"\",Table2[Status]=$C$5,TRUE))/(IF($C$6<>\"\",Table2[]=$C$6,TRUE))/(IF($C$7<>\"\",Table2[ProposalCode]=$C$7,TRUE)),ROW(B308))),\"\")","v":""},{"$f":"IFERROR(INDEX(Table2[Location],_xlfn.AGGREGATE(15,6,(ROW(Table2[FPPGroupCode])-2)/(Table2[DepoName]=$C$2)/(IF($C$3<>\"\",Table2[BULAN]=$C$3,TRUE))/(IF($C$4<>\"\",Table2[OFF/ON]=$C$4,TRUE))/(IF($C$5<>\"\",Table2[Status]=$C$5,TRUE))/(IF($C$6<>\"\",Table2[FPPDate]=$C$6,TRUE))/(IF($C$7<>\"\",Table2[ProposalCode]=$C$7,TRUE)),ROW(D308))),\"\")","v":""},{"$f":"IFERROR(INDEX(Table2[PeriodeStart],_xlfn.AGGREGATE(15,6,(ROW(Table2[FPPGroupCode])-2)/(Table2[DepoName]=$C$2)/(IF($C$3<>\"\",Table2[BULAN]=$C$3,TRUE))/(IF($C$4<>\"\",Table2[OFF/ON]=$C$4,TRUE))/(IF($C$5<>\"\",Table2[Status]=$C$5,TRUE))/(IF($C$6<>\"\",Table2[FPPDate]=$C$6,TRUE))/(IF($C$7<>\"\",Table2[ProposalCode]=$C$7,TRUE)),ROW(E308))),\"\")","v":""},{"$f":"IFERROR(INDEX(Table2[PeriodeEnd],_xlfn.AGGREGATE(15,6,(ROW(Table2[FPPGroupCode])-2)/(Table2[DepoName]=$C$2)/(IF($C$3<>\"\",Table2[BULAN]=$C$3,TRUE))/(IF($C$4<>\"\",Table2[OFF/ON]=$C$4,TRUE))/(IF($C$5<>\"\",Table2[Status]=$C$5,TRUE))/(IF($C$6<>\"\",Table2[FPPDate]=$C$6,TRUE))/(IF($C$7<>\"\",Table2[ProposalCode]=$C$7,TRUE)),ROW(F308))),\"\")","v":""},{"$f":"IFERROR(INDEX(Table2[Amount_FPPDepo],_xlfn.AGGREGATE(15,6,(ROW(Table2[FPPGroupCode])-2)/(Table2[DepoName]=$C$2)/(IF($C$3<>\"\",Table2[BULAN]=$C$3,TRUE))/(IF($C$4<>\"\",Table2[OFF/ON]=$C$4,TRUE))/(IF($C$5<>\"\",Table2[Status]=$C$5,TRUE))/(IF($C$6<>\"\",Table2[FPPDate]=$C$6,TRUE))/(IF($C$7<>\"\",Table2[ProposalCode]=$C$7,TRUE)),ROW(G308))),\"\")","v":""},{"$f":"IFERROR(VLOOKUP($B316,SIP!$D$5776:$P$6032,12,0),0)","v":0},{"$f":"IFERROR(H316-I316,0)","v":0},{"$f":"IFERROR(VLOOKUP($B316,SIP!$D$5776:$P$6032,8,0),0)","v":0},{"$f":"IFERROR(INDEX(Table2[OFF/ON],_xlfn.AGGREGATE(15,6,(ROW(Table2[FPPGroupCode])-2)/(Table2[DepoName]=$C$2)/(IF($C$3<>\"\",Table2[BULAN]=$C$3,TRUE))/(IF($C$4<>\"\",Table2[OFF/ON]=$C$4,TRUE))/(IF($C$5<>\"\",Table2[Status]=$C$5,TRUE))/(IF($C$6<>\"\",Table2[FPPDate]=$C$6,TRUE))/(IF($C$7<>\"\",Table2[ProposalCode]=$C$7,TRUE)),ROW(K308))),\"\")","v":""}]
[{"$f":"IF(LEN($B317),ROW(A309),\"\")","v":""},{"$f":"IFERROR(INDEX(Table2[FPPGroupCode],_xlfn.AGGREGATE(15,6,(ROW(Table2[FPPGroupCode])-2)/(Table2[DepoName]=$C$2)/(IF($C$3<>\"\",Table2[BULAN]=$C$3,TRUE))/(IF($C$4<>\"\",Table2[OFF/ON]=$C$4,TRUE))/(IF($C$5<>\"\",Table2[Status]=$C$5,TRUE))/(IF($C$6<>\"\",Table2[FPPDate]=$C$6,TRUE))/(IF($C$7<>\"\",Table2[ProposalCode]=$C$7,TRUE)),ROW(A309))),\"\")","v":""},{"$f":"IFERROR(VLOOKUP($B317,SIP!$D$3:$Q$12237,14,0),0)","v":0},{"$f":"IFERROR(INDEX(Table2[Activity],_xlfn.AGGREGATE(15,6,(ROW(Table2[FPPGroupCode])-2)/(Table2[DepoName]=$C$2)/(IF($C$3<>\"\",Table2[BULAN]=$C$3,TRUE))/(IF($C$4<>\"\",Table2[OFF/ON]=$C$4,TRUE))/(IF($C$5<>\"\",Table2[Status]=$C$5,TRUE))/(IF($C$6<>\"\",Table2[]=$C$6,TRUE))/(IF($C$7<>\"\",Table2[ProposalCode]=$C$7,TRUE)),ROW(B309))),\"\")","v":""},{"$f":"IFERROR(INDEX(Table2[Location],_xlfn.AGGREGATE(15,6,(ROW(Table2[FPPGroupCode])-2)/(Table2[DepoName]=$C$2)/(IF($C$3<>\"\",Table2[BULAN]=$C$3,TRUE))/(IF($C$4<>\"\",Table2[OFF/ON]=$C$4,TRUE))/(IF($C$5<>\"\",Table2[Status]=$C$5,TRUE))/(IF($C$6<>\"\",Table2[FPPDate]=$C$6,TRUE))/(IF($C$7<>\"\",Table2[ProposalCode]=$C$7,TRUE)),ROW(D309))),\"\")","v":""},{"$f":"IFERROR(INDEX(Table2[PeriodeStart],_xlfn.AGGREGATE(15,6,(ROW(Table2[FPPGroupCode])-2)/(Table2[DepoName]=$C$2)/(IF($C$3<>\"\",Table2[BULAN]=$C$3,TRUE))/(IF($C$4<>\"\",Table2[OFF/ON]=$C$4,TRUE))/(IF($C$5<>\"\",Table2[Status]=$C$5,TRUE))/(IF($C$6<>\"\",Table2[FPPDate]=$C$6,TRUE))/(IF($C$7<>\"\",Table2[ProposalCode]=$C$7,TRUE)),ROW(E309))),\"\")","v":""},{"$f":"IFERROR(INDEX(Table2[PeriodeEnd],_xlfn.AGGREGATE(15,6,(ROW(Table2[FPPGroupCode])-2)/(Table2[DepoName]=$C$2)/(IF($C$3<>\"\",Table2[BULAN]=$C$3,TRUE))/(IF($C$4<>\"\",Table2[OFF/ON]=$C$4,TRUE))/(IF($C$5<>\"\",Table2[Status]=$C$5,TRUE))/(IF($C$6<>\"\",Table2[FPPDate]=$C$6,TRUE))/(IF($C$7<>\"\",Table2[ProposalCode]=$C$7,TRUE)),ROW(F309))),\"\")","v":""},{"$f":"IFERROR(INDEX(Table2[Amount_FPPDepo],_xlfn.AGGREGATE(15,6,(ROW(Table2[FPPGroupCode])-2)/(Table2[DepoName]=$C$2)/(IF($C$3<>\"\",Table2[BULAN]=$C$3,TRUE))/(IF($C$4<>\"\",Table2[OFF/ON]=$C$4,TRUE))/(IF($C$5<>\"\",Table2[Status]=$C$5,TRUE))/(IF($C$6<>\"\",Table2[FPPDate]=$C$6,TRUE))/(IF($C$7<>\"\",Table2[ProposalCode]=$C$7,TRUE)),ROW(G309))),\"\")","v":""},{"$f":"IFERROR(VLOOKUP($B317,SIP!$D$5776:$P$6032,12,0),0)","v":0},{"$f":"IFERROR(H317-I317,0)","v":0},{"$f":"IFERROR(VLOOKUP($B317,SIP!$D$5776:$P$6032,8,0),0)","v":0},{"$f":"IFERROR(INDEX(Table2[OFF/ON],_xlfn.AGGREGATE(15,6,(ROW(Table2[FPPGroupCode])-2)/(Table2[DepoName]=$C$2)/(IF($C$3<>\"\",Table2[BULAN]=$C$3,TRUE))/(IF($C$4<>\"\",Table2[OFF/ON]=$C$4,TRUE))/(IF($C$5<>\"\",Table2[Status]=$C$5,TRUE))/(IF($C$6<>\"\",Table2[FPPDate]=$C$6,TRUE))/(IF($C$7<>\"\",Table2[ProposalCode]=$C$7,TRUE)),ROW(K309))),\"\")","v":""}]
[{"$f":"IF(LEN($B318),ROW(A310),\"\")","v":""},{"$f":"IFERROR(INDEX(Table2[FPPGroupCode],_xlfn.AGGREGATE(15,6,(ROW(Table2[FPPGroupCode])-2)/(Table2[DepoName]=$C$2)/(IF($C$3<>\"\",Table2[BULAN]=$C$3,TRUE))/(IF($C$4<>\"\",Table2[OFF/ON]=$C$4,TRUE))/(IF($C$5<>\"\",Table2[Status]=$C$5,TRUE))/(IF($C$6<>\"\",Table2[FPPDate]=$C$6,TRUE))/(IF($C$7<>\"\",Table2[ProposalCode]=$C$7,TRUE)),ROW(A310))),\"\")","v":""},{"$f":"IFERROR(VLOOKUP($B318,SIP!$D$3:$Q$12237,14,0),0)","v":0},{"$f":"IFERROR(INDEX(Table2[Activity],_xlfn.AGGREGATE(15,6,(ROW(Table2[FPPGroupCode])-2)/(Table2[DepoName]=$C$2)/(IF($C$3<>\"\",Table2[BULAN]=$C$3,TRUE))/(IF($C$4<>\"\",Table2[OFF/ON]=$C$4,TRUE))/(IF($C$5<>\"\",Table2[Status]=$C$5,TRUE))/(IF($C$6<>\"\",Table2[]=$C$6,TRUE))/(IF($C$7<>\"\",Table2[ProposalCode]=$C$7,TRUE)),ROW(B310))),\"\")","v":""},{"$f":"IFERROR(INDEX(Table2[Location],_xlfn.AGGREGATE(15,6,(ROW(Table2[FPPGroupCode])-2)/(Table2[DepoName]=$C$2)/(IF($C$3<>\"\",Table2[BULAN]=$C$3,TRUE))/(IF($C$4<>\"\",Table2[OFF/ON]=$C$4,TRUE))/(IF($C$5<>\"\",Table2[Status]=$C$5,TRUE))/(IF($C$6<>\"\",Table2[FPPDate]=$C$6,TRUE))/(IF($C$7<>\"\",Table2[ProposalCode]=$C$7,TRUE)),ROW(D310))),\"\")","v":""},{"$f":"IFERROR(INDEX(Table2[PeriodeStart],_xlfn.AGGREGATE(15,6,(ROW(Table2[FPPGroupCode])-2)/(Table2[DepoName]=$C$2)/(IF($C$3<>\"\",Table2[BULAN]=$C$3,TRUE))/(IF($C$4<>\"\",Table2[OFF/ON]=$C$4,TRUE))/(IF($C$5<>\"\",Table2[Status]=$C$5,TRUE))/(IF($C$6<>\"\",Table2[FPPDate]=$C$6,TRUE))/(IF($C$7<>\"\",Table2[ProposalCode]=$C$7,TRUE)),ROW(E310))),\"\")","v":""},{"$f":"IFERROR(INDEX(Table2[PeriodeEnd],_xlfn.AGGREGATE(15,6,(ROW(Table2[FPPGroupCode])-2)/(Table2[DepoName]=$C$2)/(IF($C$3<>\"\",Table2[BULAN]=$C$3,TRUE))/(IF($C$4<>\"\",Table2[OFF/ON]=$C$4,TRUE))/(IF($C$5<>\"\",Table2[Status]=$C$5,TRUE))/(IF($C$6<>\"\",Table2[FPPDate]=$C$6,TRUE))/(IF($C$7<>\"\",Table2[ProposalCode]=$C$7,TRUE)),ROW(F310))),\"\")","v":""},{"$f":"IFERROR(INDEX(Table2[Amount_FPPDepo],_xlfn.AGGREGATE(15,6,(ROW(Table2[FPPGroupCode])-2)/(Table2[DepoName]=$C$2)/(IF($C$3<>\"\",Table2[BULAN]=$C$3,TRUE))/(IF($C$4<>\"\",Table2[OFF/ON]=$C$4,TRUE))/(IF($C$5<>\"\",Table2[Status]=$C$5,TRUE))/(IF($C$6<>\"\",Table2[FPPDate]=$C$6,TRUE))/(IF($C$7<>\"\",Table2[ProposalCode]=$C$7,TRUE)),ROW(G310))),\"\")","v":""},{"$f":"IFERROR(VLOOKUP($B318,SIP!$D$5776:$P$6032,12,0),0)","v":0},{"$f":"IFERROR(H318-I318,0)","v":0},{"$f":"IFERROR(VLOOKUP($B318,SIP!$D$5776:$P$6032,8,0),0)","v":0},{"$f":"IFERROR(INDEX(Table2[OFF/ON],_xlfn.AGGREGATE(15,6,(ROW(Table2[FPPGroupCode])-2)/(Table2[DepoName]=$C$2)/(IF($C$3<>\"\",Table2[BULAN]=$C$3,TRUE))/(IF($C$4<>\"\",Table2[OFF/ON]=$C$4,TRUE))/(IF($C$5<>\"\",Table2[Status]=$C$5,TRUE))/(IF($C$6<>\"\",Table2[FPPDate]=$C$6,TRUE))/(IF($C$7<>\"\",Table2[ProposalCode]=$C$7,TRUE)),ROW(K310))),\"\")","v":""}]
[{"$f":"IF(LEN($B319),ROW(A311),\"\")","v":""},{"$f":"IFERROR(INDEX(Table2[FPPGroupCode],_xlfn.AGGREGATE(15,6,(ROW(Table2[FPPGroupCode])-2)/(Table2[DepoName]=$C$2)/(IF($C$3<>\"\",Table2[BULAN]=$C$3,TRUE))/(IF($C$4<>\"\",Table2[OFF/ON]=$C$4,TRUE))/(IF($C$5<>\"\",Table2[Status]=$C$5,TRUE))/(IF($C$6<>\"\",Table2[FPPDate]=$C$6,TRUE))/(IF($C$7<>\"\",Table2[ProposalCode]=$C$7,TRUE)),ROW(A311))),\"\")","v":""},{"$f":"IFERROR(VLOOKUP($B319,SIP!$D$3:$Q$12237,14,0),0)","v":0},{"$f":"IFERROR(INDEX(Table2[Activity],_xlfn.AGGREGATE(15,6,(ROW(Table2[FPPGroupCode])-2)/(Table2[DepoName]=$C$2)/(IF($C$3<>\"\",Table2[BULAN]=$C$3,TRUE))/(IF($C$4<>\"\",Table2[OFF/ON]=$C$4,TRUE))/(IF($C$5<>\"\",Table2[Status]=$C$5,TRUE))/(IF($C$6<>\"\",Table2[]=$C$6,TRUE))/(IF($C$7<>\"\",Table2[ProposalCode]=$C$7,TRUE)),ROW(B311))),\"\")","v":""},{"$f":"IFERROR(INDEX(Table2[Location],_xlfn.AGGREGATE(15,6,(ROW(Table2[FPPGroupCode])-2)/(Table2[DepoName]=$C$2)/(IF($C$3<>\"\",Table2[BULAN]=$C$3,TRUE))/(IF($C$4<>\"\",Table2[OFF/ON]=$C$4,TRUE))/(IF($C$5<>\"\",Table2[Status]=$C$5,TRUE))/(IF($C$6<>\"\",Table2[FPPDate]=$C$6,TRUE))/(IF($C$7<>\"\",Table2[ProposalCode]=$C$7,TRUE)),ROW(D311))),\"\")","v":""},{"$f":"IFERROR(INDEX(Table2[PeriodeStart],_xlfn.AGGREGATE(15,6,(ROW(Table2[FPPGroupCode])-2)/(Table2[DepoName]=$C$2)/(IF($C$3<>\"\",Table2[BULAN]=$C$3,TRUE))/(IF($C$4<>\"\",Table2[OFF/ON]=$C$4,TRUE))/(IF($C$5<>\"\",Table2[Status]=$C$5,TRUE))/(IF($C$6<>\"\",Table2[FPPDate]=$C$6,TRUE))/(IF($C$7<>\"\",Table2[ProposalCode]=$C$7,TRUE)),ROW(E311))),\"\")","v":""},{"$f":"IFERROR(INDEX(Table2[PeriodeEnd],_xlfn.AGGREGATE(15,6,(ROW(Table2[FPPGroupCode])-2)/(Table2[DepoName]=$C$2)/(IF($C$3<>\"\",Table2[BULAN]=$C$3,TRUE))/(IF($C$4<>\"\",Table2[OFF/ON]=$C$4,TRUE))/(IF($C$5<>\"\",Table2[Status]=$C$5,TRUE))/(IF($C$6<>\"\",Table2[FPPDate]=$C$6,TRUE))/(IF($C$7<>\"\",Table2[ProposalCode]=$C$7,TRUE)),ROW(F311))),\"\")","v":""},{"$f":"IFERROR(INDEX(Table2[Amount_FPPDepo],_xlfn.AGGREGATE(15,6,(ROW(Table2[FPPGroupCode])-2)/(Table2[DepoName]=$C$2)/(IF($C$3<>\"\",Table2[BULAN]=$C$3,TRUE))/(IF($C$4<>\"\",Table2[OFF/ON]=$C$4,TRUE))/(IF($C$5<>\"\",Table2[Status]=$C$5,TRUE))/(IF($C$6<>\"\",Table2[FPPDate]=$C$6,TRUE))/(IF($C$7<>\"\",Table2[ProposalCode]=$C$7,TRUE)),ROW(G311))),\"\")","v":""},{"$f":"IFERROR(VLOOKUP($B319,SIP!$D$5776:$P$6032,12,0),0)","v":0},{"$f":"IFERROR(H319-I319,0)","v":0},{"$f":"IFERROR(VLOOKUP($B319,SIP!$D$5776:$P$6032,8,0),0)","v":0},{"$f":"IFERROR(INDEX(Table2[OFF/ON],_xlfn.AGGREGATE(15,6,(ROW(Table2[FPPGroupCode])-2)/(Table2[DepoName]=$C$2)/(IF($C$3<>\"\",Table2[BULAN]=$C$3,TRUE))/(IF($C$4<>\"\",Table2[OFF/ON]=$C$4,TRUE))/(IF($C$5<>\"\",Table2[Status]=$C$5,TRUE))/(IF($C$6<>\"\",Table2[FPPDate]=$C$6,TRUE))/(IF($C$7<>\"\",Table2[ProposalCode]=$C$7,TRUE)),ROW(K311))),\"\")","v":""}]
[{"$f":"IF(LEN($B320),ROW(A312),\"\")","v":""},{"$f":"IFERROR(INDEX(Table2[FPPGroupCode],_xlfn.AGGREGATE(15,6,(ROW(Table2[FPPGroupCode])-2)/(Table2[DepoName]=$C$2)/(IF($C$3<>\"\",Table2[BULAN]=$C$3,TRUE))/(IF($C$4<>\"\",Table2[OFF/ON]=$C$4,TRUE))/(IF($C$5<>\"\",Table2[Status]=$C$5,TRUE))/(IF($C$6<>\"\",Table2[FPPDate]=$C$6,TRUE))/(IF($C$7<>\"\",Table2[ProposalCode]=$C$7,TRUE)),ROW(A312))),\"\")","v":""},{"$f":"IFERROR(VLOOKUP($B320,SIP!$D$3:$Q$12237,14,0),0)","v":0},{"$f":"IFERROR(INDEX(Table2[Activity],_xlfn.AGGREGATE(15,6,(ROW(Table2[FPPGroupCode])-2)/(Table2[DepoName]=$C$2)/(IF($C$3<>\"\",Table2[BULAN]=$C$3,TRUE))/(IF($C$4<>\"\",Table2[OFF/ON]=$C$4,TRUE))/(IF($C$5<>\"\",Table2[Status]=$C$5,TRUE))/(IF($C$6<>\"\",Table2[]=$C$6,TRUE))/(IF($C$7<>\"\",Table2[ProposalCode]=$C$7,TRUE)),ROW(B312))),\"\")","v":""},{"$f":"IFERROR(INDEX(Table2[Location],_xlfn.AGGREGATE(15,6,(ROW(Table2[FPPGroupCode])-2)/(Table2[DepoName]=$C$2)/(IF($C$3<>\"\",Table2[BULAN]=$C$3,TRUE))/(IF($C$4<>\"\",Table2[OFF/ON]=$C$4,TRUE))/(IF($C$5<>\"\",Table2[Status]=$C$5,TRUE))/(IF($C$6<>\"\",Table2[FPPDate]=$C$6,TRUE))/(IF($C$7<>\"\",Table2[ProposalCode]=$C$7,TRUE)),ROW(D312))),\"\")","v":""},{"$f":"IFERROR(INDEX(Table2[PeriodeStart],_xlfn.AGGREGATE(15,6,(ROW(Table2[FPPGroupCode])-2)/(Table2[DepoName]=$C$2)/(IF($C$3<>\"\",Table2[BULAN]=$C$3,TRUE))/(IF($C$4<>\"\",Table2[OFF/ON]=$C$4,TRUE))/(IF($C$5<>\"\",Table2[Status]=$C$5,TRUE))/(IF($C$6<>\"\",Table2[FPPDate]=$C$6,TRUE))/(IF($C$7<>\"\",Table2[ProposalCode]=$C$7,TRUE)),ROW(E312))),\"\")","v":""},{"$f":"IFERROR(INDEX(Table2[PeriodeEnd],_xlfn.AGGREGATE(15,6,(ROW(Table2[FPPGroupCode])-2)/(Table2[DepoName]=$C$2)/(IF($C$3<>\"\",Table2[BULAN]=$C$3,TRUE))/(IF($C$4<>\"\",Table2[OFF/ON]=$C$4,TRUE))/(IF($C$5<>\"\",Table2[Status]=$C$5,TRUE))/(IF($C$6<>\"\",Table2[FPPDate]=$C$6,TRUE))/(IF($C$7<>\"\",Table2[ProposalCode]=$C$7,TRUE)),ROW(F312))),\"\")","v":""},{"$f":"IFERROR(INDEX(Table2[Amount_FPPDepo],_xlfn.AGGREGATE(15,6,(ROW(Table2[FPPGroupCode])-2)/(Table2[DepoName]=$C$2)/(IF($C$3<>\"\",Table2[BULAN]=$C$3,TRUE))/(IF($C$4<>\"\",Table2[OFF/ON]=$C$4,TRUE))/(IF($C$5<>\"\",Table2[Status]=$C$5,TRUE))/(IF($C$6<>\"\",Table2[FPPDate]=$C$6,TRUE))/(IF($C$7<>\"\",Table2[ProposalCode]=$C$7,TRUE)),ROW(G312))),\"\")","v":""},{"$f":"IFERROR(VLOOKUP($B320,SIP!$D$5776:$P$6032,12,0),0)","v":0},{"$f":"IFERROR(H320-I320,0)","v":0},{"$f":"IFERROR(VLOOKUP($B320,SIP!$D$5776:$P$6032,8,0),0)","v":0},{"$f":"IFERROR(INDEX(Table2[OFF/ON],_xlfn.AGGREGATE(15,6,(ROW(Table2[FPPGroupCode])-2)/(Table2[DepoName]=$C$2)/(IF($C$3<>\"\",Table2[BULAN]=$C$3,TRUE))/(IF($C$4<>\"\",Table2[OFF/ON]=$C$4,TRUE))/(IF($C$5<>\"\",Table2[Status]=$C$5,TRUE))/(IF($C$6<>\"\",Table2[FPPDate]=$C$6,TRUE))/(IF($C$7<>\"\",Table2[ProposalCode]=$C$7,TRUE)),ROW(K312))),\"\")","v":""}]
[{"$f":"IF(LEN($B321),ROW(A313),\"\")","v":""},{"$f":"IFERROR(INDEX(Table2[FPPGroupCode],_xlfn.AGGREGATE(15,6,(ROW(Table2[FPPGroupCode])-2)/(Table2[DepoName]=$C$2)/(IF($C$3<>\"\",Table2[BULAN]=$C$3,TRUE))/(IF($C$4<>\"\",Table2[OFF/ON]=$C$4,TRUE))/(IF($C$5<>\"\",Table2[Status]=$C$5,TRUE))/(IF($C$6<>\"\",Table2[FPPDate]=$C$6,TRUE))/(IF($C$7<>\"\",Table2[ProposalCode]=$C$7,TRUE)),ROW(A313))),\"\")","v":""},{"$f":"IFERROR(VLOOKUP($B321,SIP!$D$3:$Q$12237,14,0),0)","v":0},{"$f":"IFERROR(INDEX(Table2[Activity],_xlfn.AGGREGATE(15,6,(ROW(Table2[FPPGroupCode])-2)/(Table2[DepoName]=$C$2)/(IF($C$3<>\"\",Table2[BULAN]=$C$3,TRUE))/(IF($C$4<>\"\",Table2[OFF/ON]=$C$4,TRUE))/(IF($C$5<>\"\",Table2[Status]=$C$5,TRUE))/(IF($C$6<>\"\",Table2[]=$C$6,TRUE))/(IF($C$7<>\"\",Table2[ProposalCode]=$C$7,TRUE)),ROW(B313))),\"\")","v":""},{"$f":"IFERROR(INDEX(Table2[Location],_xlfn.AGGREGATE(15,6,(ROW(Table2[FPPGroupCode])-2)/(Table2[DepoName]=$C$2)/(IF($C$3<>\"\",Table2[BULAN]=$C$3,TRUE))/(IF($C$4<>\"\",Table2[OFF/ON]=$C$4,TRUE))/(IF($C$5<>\"\",Table2[Status]=$C$5,TRUE))/(IF($C$6<>\"\",Table2[FPPDate]=$C$6,TRUE))/(IF($C$7<>\"\",Table2[ProposalCode]=$C$7,TRUE)),ROW(D313))),\"\")","v":""},{"$f":"IFERROR(INDEX(Table2[PeriodeStart],_xlfn.AGGREGATE(15,6,(ROW(Table2[FPPGroupCode])-2)/(Table2[DepoName]=$C$2)/(IF($C$3<>\"\",Table2[BULAN]=$C$3,TRUE))/(IF($C$4<>\"\",Table2[OFF/ON]=$C$4,TRUE))/(IF($C$5<>\"\",Table2[Status]=$C$5,TRUE))/(IF($C$6<>\"\",Table2[FPPDate]=$C$6,TRUE))/(IF($C$7<>\"\",Table2[ProposalCode]=$C$7,TRUE)),ROW(E313))),\"\")","v":""},{"$f":"IFERROR(INDEX(Table2[PeriodeEnd],_xlfn.AGGREGATE(15,6,(ROW(Table2[FPPGroupCode])-2)/(Table2[DepoName]=$C$2)/(IF($C$3<>\"\",Table2[BULAN]=$C$3,TRUE))/(IF($C$4<>\"\",Table2[OFF/ON]=$C$4,TRUE))/(IF($C$5<>\"\",Table2[Status]=$C$5,TRUE))/(IF($C$6<>\"\",Table2[FPPDate]=$C$6,TRUE))/(IF($C$7<>\"\",Table2[ProposalCode]=$C$7,TRUE)),ROW(F313))),\"\")","v":""},{"$f":"IFERROR(INDEX(Table2[Amount_FPPDepo],_xlfn.AGGREGATE(15,6,(ROW(Table2[FPPGroupCode])-2)/(Table2[DepoName]=$C$2)/(IF($C$3<>\"\",Table2[BULAN]=$C$3,TRUE))/(IF($C$4<>\"\",Table2[OFF/ON]=$C$4,TRUE))/(IF($C$5<>\"\",Table2[Status]=$C$5,TRUE))/(IF($C$6<>\"\",Table2[FPPDate]=$C$6,TRUE))/(IF($C$7<>\"\",Table2[ProposalCode]=$C$7,TRUE)),ROW(G313))),\"\")","v":""},{"$f":"IFERROR(VLOOKUP($B321,SIP!$D$5776:$P$6032,12,0),0)","v":0},{"$f":"IFERROR(H321-I321,0)","v":0},{"$f":"IFERROR(VLOOKUP($B321,SIP!$D$5776:$P$6032,8,0),0)","v":0},{"$f":"IFERROR(INDEX(Table2[OFF/ON],_xlfn.AGGREGATE(15,6,(ROW(Table2[FPPGroupCode])-2)/(Table2[DepoName]=$C$2)/(IF($C$3<>\"\",Table2[BULAN]=$C$3,TRUE))/(IF($C$4<>\"\",Table2[OFF/ON]=$C$4,TRUE))/(IF($C$5<>\"\",Table2[Status]=$C$5,TRUE))/(IF($C$6<>\"\",Table2[FPPDate]=$C$6,TRUE))/(IF($C$7<>\"\",Table2[ProposalCode]=$C$7,TRUE)),ROW(K313))),\"\")","v":""}]
[{"$f":"IF(LEN($B322),ROW(A314),\"\")","v":""},{"$f":"IFERROR(INDEX(Table2[FPPGroupCode],_xlfn.AGGREGATE(15,6,(ROW(Table2[FPPGroupCode])-2)/(Table2[DepoName]=$C$2)/(IF($C$3<>\"\",Table2[BULAN]=$C$3,TRUE))/(IF($C$4<>\"\",Table2[OFF/ON]=$C$4,TRUE))/(IF($C$5<>\"\",Table2[Status]=$C$5,TRUE))/(IF($C$6<>\"\",Table2[FPPDate]=$C$6,TRUE))/(IF($C$7<>\"\",Table2[ProposalCode]=$C$7,TRUE)),ROW(A314))),\"\")","v":""},{"$f":"IFERROR(VLOOKUP($B322,SIP!$D$3:$Q$12237,14,0),0)","v":0},{"$f":"IFERROR(INDEX(Table2[Activity],_xlfn.AGGREGATE(15,6,(ROW(Table2[FPPGroupCode])-2)/(Table2[DepoName]=$C$2)/(IF($C$3<>\"\",Table2[BULAN]=$C$3,TRUE))/(IF($C$4<>\"\",Table2[OFF/ON]=$C$4,TRUE))/(IF($C$5<>\"\",Table2[Status]=$C$5,TRUE))/(IF($C$6<>\"\",Table2[]=$C$6,TRUE))/(IF($C$7<>\"\",Table2[ProposalCode]=$C$7,TRUE)),ROW(B314))),\"\")","v":""},{"$f":"IFERROR(INDEX(Table2[Location],_xlfn.AGGREGATE(15,6,(ROW(Table2[FPPGroupCode])-2)/(Table2[DepoName]=$C$2)/(IF($C$3<>\"\",Table2[BULAN]=$C$3,TRUE))/(IF($C$4<>\"\",Table2[OFF/ON]=$C$4,TRUE))/(IF($C$5<>\"\",Table2[Status]=$C$5,TRUE))/(IF($C$6<>\"\",Table2[FPPDate]=$C$6,TRUE))/(IF($C$7<>\"\",Table2[ProposalCode]=$C$7,TRUE)),ROW(D314))),\"\")","v":""},{"$f":"IFERROR(INDEX(Table2[PeriodeStart],_xlfn.AGGREGATE(15,6,(ROW(Table2[FPPGroupCode])-2)/(Table2[DepoName]=$C$2)/(IF($C$3<>\"\",Table2[BULAN]=$C$3,TRUE))/(IF($C$4<>\"\",Table2[OFF/ON]=$C$4,TRUE))/(IF($C$5<>\"\",Table2[Status]=$C$5,TRUE))/(IF($C$6<>\"\",Table2[FPPDate]=$C$6,TRUE))/(IF($C$7<>\"\",Table2[ProposalCode]=$C$7,TRUE)),ROW(E314))),\"\")","v":""},{"$f":"IFERROR(INDEX(Table2[PeriodeEnd],_xlfn.AGGREGATE(15,6,(ROW(Table2[FPPGroupCode])-2)/(Table2[DepoName]=$C$2)/(IF($C$3<>\"\",Table2[BULAN]=$C$3,TRUE))/(IF($C$4<>\"\",Table2[OFF/ON]=$C$4,TRUE))/(IF($C$5<>\"\",Table2[Status]=$C$5,TRUE))/(IF($C$6<>\"\",Table2[FPPDate]=$C$6,TRUE))/(IF($C$7<>\"\",Table2[ProposalCode]=$C$7,TRUE)),ROW(F314))),\"\")","v":""},{"$f":"IFERROR(INDEX(Table2[Amount_FPPDepo],_xlfn.AGGREGATE(15,6,(ROW(Table2[FPPGroupCode])-2)/(Table2[DepoName]=$C$2)/(IF($C$3<>\"\",Table2[BULAN]=$C$3,TRUE))/(IF($C$4<>\"\",Table2[OFF/ON]=$C$4,TRUE))/(IF($C$5<>\"\",Table2[Status]=$C$5,TRUE))/(IF($C$6<>\"\",Table2[FPPDate]=$C$6,TRUE))/(IF($C$7<>\"\",Table2[ProposalCode]=$C$7,TRUE)),ROW(G314))),\"\")","v":""},{"$f":"IFERROR(VLOOKUP($B322,SIP!$D$5776:$P$6032,12,0),0)","v":0},{"$f":"IFERROR(H322-I322,0)","v":0},{"$f":"IFERROR(VLOOKUP($B322,SIP!$D$5776:$P$6032,8,0),0)","v":0},{"$f":"IFERROR(INDEX(Table2[OFF/ON],_xlfn.AGGREGATE(15,6,(ROW(Table2[FPPGroupCode])-2)/(Table2[DepoName]=$C$2)/(IF($C$3<>\"\",Table2[BULAN]=$C$3,TRUE))/(IF($C$4<>\"\",Table2[OFF/ON]=$C$4,TRUE))/(IF($C$5<>\"\",Table2[Status]=$C$5,TRUE))/(IF($C$6<>\"\",Table2[FPPDate]=$C$6,TRUE))/(IF($C$7<>\"\",Table2[ProposalCode]=$C$7,TRUE)),ROW(K314))),\"\")","v":""}]
[{"$f":"IF(LEN($B323),ROW(A315),\"\")","v":""},{"$f":"IFERROR(INDEX(Table2[FPPGroupCode],_xlfn.AGGREGATE(15,6,(ROW(Table2[FPPGroupCode])-2)/(Table2[DepoName]=$C$2)/(IF($C$3<>\"\",Table2[BULAN]=$C$3,TRUE))/(IF($C$4<>\"\",Table2[OFF/ON]=$C$4,TRUE))/(IF($C$5<>\"\",Table2[Status]=$C$5,TRUE))/(IF($C$6<>\"\",Table2[FPPDate]=$C$6,TRUE))/(IF($C$7<>\"\",Table2[ProposalCode]=$C$7,TRUE)),ROW(A315))),\"\")","v":""},{"$f":"IFERROR(VLOOKUP($B323,SIP!$D$3:$Q$12237,14,0),0)","v":0},{"$f":"IFERROR(INDEX(Table2[Activity],_xlfn.AGGREGATE(15,6,(ROW(Table2[FPPGroupCode])-2)/(Table2[DepoName]=$C$2)/(IF($C$3<>\"\",Table2[BULAN]=$C$3,TRUE))/(IF($C$4<>\"\",Table2[OFF/ON]=$C$4,TRUE))/(IF($C$5<>\"\",Table2[Status]=$C$5,TRUE))/(IF($C$6<>\"\",Table2[]=$C$6,TRUE))/(IF($C$7<>\"\",Table2[ProposalCode]=$C$7,TRUE)),ROW(B315))),\"\")","v":""},{"$f":"IFERROR(INDEX(Table2[Location],_xlfn.AGGREGATE(15,6,(ROW(Table2[FPPGroupCode])-2)/(Table2[DepoName]=$C$2)/(IF($C$3<>\"\",Table2[BULAN]=$C$3,TRUE))/(IF($C$4<>\"\",Table2[OFF/ON]=$C$4,TRUE))/(IF($C$5<>\"\",Table2[Status]=$C$5,TRUE))/(IF($C$6<>\"\",Table2[FPPDate]=$C$6,TRUE))/(IF($C$7<>\"\",Table2[ProposalCode]=$C$7,TRUE)),ROW(D315))),\"\")","v":""},{"$f":"IFERROR(INDEX(Table2[PeriodeStart],_xlfn.AGGREGATE(15,6,(ROW(Table2[FPPGroupCode])-2)/(Table2[DepoName]=$C$2)/(IF($C$3<>\"\",Table2[BULAN]=$C$3,TRUE))/(IF($C$4<>\"\",Table2[OFF/ON]=$C$4,TRUE))/(IF($C$5<>\"\",Table2[Status]=$C$5,TRUE))/(IF($C$6<>\"\",Table2[FPPDate]=$C$6,TRUE))/(IF($C$7<>\"\",Table2[ProposalCode]=$C$7,TRUE)),ROW(E315))),\"\")","v":""},{"$f":"IFERROR(INDEX(Table2[PeriodeEnd],_xlfn.AGGREGATE(15,6,(ROW(Table2[FPPGroupCode])-2)/(Table2[DepoName]=$C$2)/(IF($C$3<>\"\",Table2[BULAN]=$C$3,TRUE))/(IF($C$4<>\"\",Table2[OFF/ON]=$C$4,TRUE))/(IF($C$5<>\"\",Table2[Status]=$C$5,TRUE))/(IF($C$6<>\"\",Table2[FPPDate]=$C$6,TRUE))/(IF($C$7<>\"\",Table2[ProposalCode]=$C$7,TRUE)),ROW(F315))),\"\")","v":""},{"$f":"IFERROR(INDEX(Table2[Amount_FPPDepo],_xlfn.AGGREGATE(15,6,(ROW(Table2[FPPGroupCode])-2)/(Table2[DepoName]=$C$2)/(IF($C$3<>\"\",Table2[BULAN]=$C$3,TRUE))/(IF($C$4<>\"\",Table2[OFF/ON]=$C$4,TRUE))/(IF($C$5<>\"\",Table2[Status]=$C$5,TRUE))/(IF($C$6<>\"\",Table2[FPPDate]=$C$6,TRUE))/(IF($C$7<>\"\",Table2[ProposalCode]=$C$7,TRUE)),ROW(G315))),\"\")","v":""},{"$f":"IFERROR(VLOOKUP($B323,SIP!$D$5776:$P$6032,12,0),0)","v":0},{"$f":"IFERROR(H323-I323,0)","v":0},{"$f":"IFERROR(VLOOKUP($B323,SIP!$D$5776:$P$6032,8,0),0)","v":0},{"$f":"IFERROR(INDEX(Table2[OFF/ON],_xlfn.AGGREGATE(15,6,(ROW(Table2[FPPGroupCode])-2)/(Table2[DepoName]=$C$2)/(IF($C$3<>\"\",Table2[BULAN]=$C$3,TRUE))/(IF($C$4<>\"\",Table2[OFF/ON]=$C$4,TRUE))/(IF($C$5<>\"\",Table2[Status]=$C$5,TRUE))/(IF($C$6<>\"\",Table2[FPPDate]=$C$6,TRUE))/(IF($C$7<>\"\",Table2[ProposalCode]=$C$7,TRUE)),ROW(K315))),\"\")","v":""}]
[{"$f":"IF(LEN($B324),ROW(A316),\"\")","v":""},{"$f":"IFERROR(INDEX(Table2[FPPGroupCode],_xlfn.AGGREGATE(15,6,(ROW(Table2[FPPGroupCode])-2)/(Table2[DepoName]=$C$2)/(IF($C$3<>\"\",Table2[BULAN]=$C$3,TRUE))/(IF($C$4<>\"\",Table2[OFF/ON]=$C$4,TRUE))/(IF($C$5<>\"\",Table2[Status]=$C$5,TRUE))/(IF($C$6<>\"\",Table2[FPPDate]=$C$6,TRUE))/(IF($C$7<>\"\",Table2[ProposalCode]=$C$7,TRUE)),ROW(A316))),\"\")","v":""},{"$f":"IFERROR(VLOOKUP($B324,SIP!$D$3:$Q$12237,14,0),0)","v":0},{"$f":"IFERROR(INDEX(Table2[Activity],_xlfn.AGGREGATE(15,6,(ROW(Table2[FPPGroupCode])-2)/(Table2[DepoName]=$C$2)/(IF($C$3<>\"\",Table2[BULAN]=$C$3,TRUE))/(IF($C$4<>\"\",Table2[OFF/ON]=$C$4,TRUE))/(IF($C$5<>\"\",Table2[Status]=$C$5,TRUE))/(IF($C$6<>\"\",Table2[]=$C$6,TRUE))/(IF($C$7<>\"\",Table2[ProposalCode]=$C$7,TRUE)),ROW(B316))),\"\")","v":""},{"$f":"IFERROR(INDEX(Table2[Location],_xlfn.AGGREGATE(15,6,(ROW(Table2[FPPGroupCode])-2)/(Table2[DepoName]=$C$2)/(IF($C$3<>\"\",Table2[BULAN]=$C$3,TRUE))/(IF($C$4<>\"\",Table2[OFF/ON]=$C$4,TRUE))/(IF($C$5<>\"\",Table2[Status]=$C$5,TRUE))/(IF($C$6<>\"\",Table2[FPPDate]=$C$6,TRUE))/(IF($C$7<>\"\",Table2[ProposalCode]=$C$7,TRUE)),ROW(D316))),\"\")","v":""},{"$f":"IFERROR(INDEX(Table2[PeriodeStart],_xlfn.AGGREGATE(15,6,(ROW(Table2[FPPGroupCode])-2)/(Table2[DepoName]=$C$2)/(IF($C$3<>\"\",Table2[BULAN]=$C$3,TRUE))/(IF($C$4<>\"\",Table2[OFF/ON]=$C$4,TRUE))/(IF($C$5<>\"\",Table2[Status]=$C$5,TRUE))/(IF($C$6<>\"\",Table2[FPPDate]=$C$6,TRUE))/(IF($C$7<>\"\",Table2[ProposalCode]=$C$7,TRUE)),ROW(E316))),\"\")","v":""},{"$f":"IFERROR(INDEX(Table2[PeriodeEnd],_xlfn.AGGREGATE(15,6,(ROW(Table2[FPPGroupCode])-2)/(Table2[DepoName]=$C$2)/(IF($C$3<>\"\",Table2[BULAN]=$C$3,TRUE))/(IF($C$4<>\"\",Table2[OFF/ON]=$C$4,TRUE))/(IF($C$5<>\"\",Table2[Status]=$C$5,TRUE))/(IF($C$6<>\"\",Table2[FPPDate]=$C$6,TRUE))/(IF($C$7<>\"\",Table2[ProposalCode]=$C$7,TRUE)),ROW(F316))),\"\")","v":""},{"$f":"IFERROR(INDEX(Table2[Amount_FPPDepo],_xlfn.AGGREGATE(15,6,(ROW(Table2[FPPGroupCode])-2)/(Table2[DepoName]=$C$2)/(IF($C$3<>\"\",Table2[BULAN]=$C$3,TRUE))/(IF($C$4<>\"\",Table2[OFF/ON]=$C$4,TRUE))/(IF($C$5<>\"\",Table2[Status]=$C$5,TRUE))/(IF($C$6<>\"\",Table2[FPPDate]=$C$6,TRUE))/(IF($C$7<>\"\",Table2[ProposalCode]=$C$7,TRUE)),ROW(G316))),\"\")","v":""},{"$f":"IFERROR(VLOOKUP($B324,SIP!$D$5776:$P$6032,12,0),0)","v":0},{"$f":"IFERROR(H324-I324,0)","v":0},{"$f":"IFERROR(VLOOKUP($B324,SIP!$D$5776:$P$6032,8,0),0)","v":0},{"$f":"IFERROR(INDEX(Table2[OFF/ON],_xlfn.AGGREGATE(15,6,(ROW(Table2[FPPGroupCode])-2)/(Table2[DepoName]=$C$2)/(IF($C$3<>\"\",Table2[BULAN]=$C$3,TRUE))/(IF($C$4<>\"\",Table2[OFF/ON]=$C$4,TRUE))/(IF($C$5<>\"\",Table2[Status]=$C$5,TRUE))/(IF($C$6<>\"\",Table2[FPPDate]=$C$6,TRUE))/(IF($C$7<>\"\",Table2[ProposalCode]=$C$7,TRUE)),ROW(K316))),\"\")","v":""}]
[{"$f":"IF(LEN($B325),ROW(A317),\"\")","v":""},{"$f":"IFERROR(INDEX(Table2[FPPGroupCode],_xlfn.AGGREGATE(15,6,(ROW(Table2[FPPGroupCode])-2)/(Table2[DepoName]=$C$2)/(IF($C$3<>\"\",Table2[BULAN]=$C$3,TRUE))/(IF($C$4<>\"\",Table2[OFF/ON]=$C$4,TRUE))/(IF($C$5<>\"\",Table2[Status]=$C$5,TRUE))/(IF($C$6<>\"\",Table2[FPPDate]=$C$6,TRUE))/(IF($C$7<>\"\",Table2[ProposalCode]=$C$7,TRUE)),ROW(A317))),\"\")","v":""},{"$f":"IFERROR(VLOOKUP($B325,SIP!$D$3:$Q$12237,14,0),0)","v":0},{"$f":"IFERROR(INDEX(Table2[Activity],_xlfn.AGGREGATE(15,6,(ROW(Table2[FPPGroupCode])-2)/(Table2[DepoName]=$C$2)/(IF($C$3<>\"\",Table2[BULAN]=$C$3,TRUE))/(IF($C$4<>\"\",Table2[OFF/ON]=$C$4,TRUE))/(IF($C$5<>\"\",Table2[Status]=$C$5,TRUE))/(IF($C$6<>\"\",Table2[]=$C$6,TRUE))/(IF($C$7<>\"\",Table2[ProposalCode]=$C$7,TRUE)),ROW(B317))),\"\")","v":""},{"$f":"IFERROR(INDEX(Table2[Location],_xlfn.AGGREGATE(15,6,(ROW(Table2[FPPGroupCode])-2)/(Table2[DepoName]=$C$2)/(IF($C$3<>\"\",Table2[BULAN]=$C$3,TRUE))/(IF($C$4<>\"\",Table2[OFF/ON]=$C$4,TRUE))/(IF($C$5<>\"\",Table2[Status]=$C$5,TRUE))/(IF($C$6<>\"\",Table2[FPPDate]=$C$6,TRUE))/(IF($C$7<>\"\",Table2[ProposalCode]=$C$7,TRUE)),ROW(D317))),\"\")","v":""},{"$f":"IFERROR(INDEX(Table2[PeriodeStart],_xlfn.AGGREGATE(15,6,(ROW(Table2[FPPGroupCode])-2)/(Table2[DepoName]=$C$2)/(IF($C$3<>\"\",Table2[BULAN]=$C$3,TRUE))/(IF($C$4<>\"\",Table2[OFF/ON]=$C$4,TRUE))/(IF($C$5<>\"\",Table2[Status]=$C$5,TRUE))/(IF($C$6<>\"\",Table2[FPPDate]=$C$6,TRUE))/(IF($C$7<>\"\",Table2[ProposalCode]=$C$7,TRUE)),ROW(E317))),\"\")","v":""},{"$f":"IFERROR(INDEX(Table2[PeriodeEnd],_xlfn.AGGREGATE(15,6,(ROW(Table2[FPPGroupCode])-2)/(Table2[DepoName]=$C$2)/(IF($C$3<>\"\",Table2[BULAN]=$C$3,TRUE))/(IF($C$4<>\"\",Table2[OFF/ON]=$C$4,TRUE))/(IF($C$5<>\"\",Table2[Status]=$C$5,TRUE))/(IF($C$6<>\"\",Table2[FPPDate]=$C$6,TRUE))/(IF($C$7<>\"\",Table2[ProposalCode]=$C$7,TRUE)),ROW(F317))),\"\")","v":""},{"$f":"IFERROR(INDEX(Table2[Amount_FPPDepo],_xlfn.AGGREGATE(15,6,(ROW(Table2[FPPGroupCode])-2)/(Table2[DepoName]=$C$2)/(IF($C$3<>\"\",Table2[BULAN]=$C$3,TRUE))/(IF($C$4<>\"\",Table2[OFF/ON]=$C$4,TRUE))/(IF($C$5<>\"\",Table2[Status]=$C$5,TRUE))/(IF($C$6<>\"\",Table2[FPPDate]=$C$6,TRUE))/(IF($C$7<>\"\",Table2[ProposalCode]=$C$7,TRUE)),ROW(G317))),\"\")","v":""},{"$f":"IFERROR(VLOOKUP($B325,SIP!$D$5776:$P$6032,12,0),0)","v":0},{"$f":"IFERROR(H325-I325,0)","v":0},{"$f":"IFERROR(VLOOKUP($B325,SIP!$D$5776:$P$6032,8,0),0)","v":0},{"$f":"IFERROR(INDEX(Table2[OFF/ON],_xlfn.AGGREGATE(15,6,(ROW(Table2[FPPGroupCode])-2)/(Table2[DepoName]=$C$2)/(IF($C$3<>\"\",Table2[BULAN]=$C$3,TRUE))/(IF($C$4<>\"\",Table2[OFF/ON]=$C$4,TRUE))/(IF($C$5<>\"\",Table2[Status]=$C$5,TRUE))/(IF($C$6<>\"\",Table2[FPPDate]=$C$6,TRUE))/(IF($C$7<>\"\",Table2[ProposalCode]=$C$7,TRUE)),ROW(K317))),\"\")","v":""}]
[{"$f":"IF(LEN($B326),ROW(A318),\"\")","v":""},{"$f":"IFERROR(INDEX(Table2[FPPGroupCode],_xlfn.AGGREGATE(15,6,(ROW(Table2[FPPGroupCode])-2)/(Table2[DepoName]=$C$2)/(IF($C$3<>\"\",Table2[BULAN]=$C$3,TRUE))/(IF($C$4<>\"\",Table2[OFF/ON]=$C$4,TRUE))/(IF($C$5<>\"\",Table2[Status]=$C$5,TRUE))/(IF($C$6<>\"\",Table2[FPPDate]=$C$6,TRUE))/(IF($C$7<>\"\",Table2[ProposalCode]=$C$7,TRUE)),ROW(A318))),\"\")","v":""},{"$f":"IFERROR(VLOOKUP($B326,SIP!$D$3:$Q$12237,14,0),0)","v":0},{"$f":"IFERROR(INDEX(Table2[Activity],_xlfn.AGGREGATE(15,6,(ROW(Table2[FPPGroupCode])-2)/(Table2[DepoName]=$C$2)/(IF($C$3<>\"\",Table2[BULAN]=$C$3,TRUE))/(IF($C$4<>\"\",Table2[OFF/ON]=$C$4,TRUE))/(IF($C$5<>\"\",Table2[Status]=$C$5,TRUE))/(IF($C$6<>\"\",Table2[]=$C$6,TRUE))/(IF($C$7<>\"\",Table2[ProposalCode]=$C$7,TRUE)),ROW(B318))),\"\")","v":""},{"$f":"IFERROR(INDEX(Table2[Location],_xlfn.AGGREGATE(15,6,(ROW(Table2[FPPGroupCode])-2)/(Table2[DepoName]=$C$2)/(IF($C$3<>\"\",Table2[BULAN]=$C$3,TRUE))/(IF($C$4<>\"\",Table2[OFF/ON]=$C$4,TRUE))/(IF($C$5<>\"\",Table2[Status]=$C$5,TRUE))/(IF($C$6<>\"\",Table2[FPPDate]=$C$6,TRUE))/(IF($C$7<>\"\",Table2[ProposalCode]=$C$7,TRUE)),ROW(D318))),\"\")","v":""},{"$f":"IFERROR(INDEX(Table2[PeriodeStart],_xlfn.AGGREGATE(15,6,(ROW(Table2[FPPGroupCode])-2)/(Table2[DepoName]=$C$2)/(IF($C$3<>\"\",Table2[BULAN]=$C$3,TRUE))/(IF($C$4<>\"\",Table2[OFF/ON]=$C$4,TRUE))/(IF($C$5<>\"\",Table2[Status]=$C$5,TRUE))/(IF($C$6<>\"\",Table2[FPPDate]=$C$6,TRUE))/(IF($C$7<>\"\",Table2[ProposalCode]=$C$7,TRUE)),ROW(E318))),\"\")","v":""},{"$f":"IFERROR(INDEX(Table2[PeriodeEnd],_xlfn.AGGREGATE(15,6,(ROW(Table2[FPPGroupCode])-2)/(Table2[DepoName]=$C$2)/(IF($C$3<>\"\",Table2[BULAN]=$C$3,TRUE))/(IF($C$4<>\"\",Table2[OFF/ON]=$C$4,TRUE))/(IF($C$5<>\"\",Table2[Status]=$C$5,TRUE))/(IF($C$6<>\"\",Table2[FPPDate]=$C$6,TRUE))/(IF($C$7<>\"\",Table2[ProposalCode]=$C$7,TRUE)),ROW(F318))),\"\")","v":""},{"$f":"IFERROR(INDEX(Table2[Amount_FPPDepo],_xlfn.AGGREGATE(15,6,(ROW(Table2[FPPGroupCode])-2)/(Table2[DepoName]=$C$2)/(IF($C$3<>\"\",Table2[BULAN]=$C$3,TRUE))/(IF($C$4<>\"\",Table2[OFF/ON]=$C$4,TRUE))/(IF($C$5<>\"\",Table2[Status]=$C$5,TRUE))/(IF($C$6<>\"\",Table2[FPPDate]=$C$6,TRUE))/(IF($C$7<>\"\",Table2[ProposalCode]=$C$7,TRUE)),ROW(G318))),\"\")","v":""},{"$f":"IFERROR(VLOOKUP($B326,SIP!$D$5776:$P$6032,12,0),0)","v":0},{"$f":"IFERROR(H326-I326,0)","v":0},{"$f":"IFERROR(VLOOKUP($B326,SIP!$D$5776:$P$6032,8,0),0)","v":0},{"$f":"IFERROR(INDEX(Table2[OFF/ON],_xlfn.AGGREGATE(15,6,(ROW(Table2[FPPGroupCode])-2)/(Table2[DepoName]=$C$2)/(IF($C$3<>\"\",Table2[BULAN]=$C$3,TRUE))/(IF($C$4<>\"\",Table2[OFF/ON]=$C$4,TRUE))/(IF($C$5<>\"\",Table2[Status]=$C$5,TRUE))/(IF($C$6<>\"\",Table2[FPPDate]=$C$6,TRUE))/(IF($C$7<>\"\",Table2[ProposalCode]=$C$7,TRUE)),ROW(K318))),\"\")","v":""}]
[{"$f":"IF(LEN($B327),ROW(A319),\"\")","v":""},{"$f":"IFERROR(INDEX(Table2[FPPGroupCode],_xlfn.AGGREGATE(15,6,(ROW(Table2[FPPGroupCode])-2)/(Table2[DepoName]=$C$2)/(IF($C$3<>\"\",Table2[BULAN]=$C$3,TRUE))/(IF($C$4<>\"\",Table2[OFF/ON]=$C$4,TRUE))/(IF($C$5<>\"\",Table2[Status]=$C$5,TRUE))/(IF($C$6<>\"\",Table2[FPPDate]=$C$6,TRUE))/(IF($C$7<>\"\",Table2[ProposalCode]=$C$7,TRUE)),ROW(A319))),\"\")","v":""},{"$f":"IFERROR(VLOOKUP($B327,SIP!$D$3:$Q$12237,14,0),0)","v":0},{"$f":"IFERROR(INDEX(Table2[Activity],_xlfn.AGGREGATE(15,6,(ROW(Table2[FPPGroupCode])-2)/(Table2[DepoName]=$C$2)/(IF($C$3<>\"\",Table2[BULAN]=$C$3,TRUE))/(IF($C$4<>\"\",Table2[OFF/ON]=$C$4,TRUE))/(IF($C$5<>\"\",Table2[Status]=$C$5,TRUE))/(IF($C$6<>\"\",Table2[]=$C$6,TRUE))/(IF($C$7<>\"\",Table2[ProposalCode]=$C$7,TRUE)),ROW(B319))),\"\")","v":""},{"$f":"IFERROR(INDEX(Table2[Location],_xlfn.AGGREGATE(15,6,(ROW(Table2[FPPGroupCode])-2)/(Table2[DepoName]=$C$2)/(IF($C$3<>\"\",Table2[BULAN]=$C$3,TRUE))/(IF($C$4<>\"\",Table2[OFF/ON]=$C$4,TRUE))/(IF($C$5<>\"\",Table2[Status]=$C$5,TRUE))/(IF($C$6<>\"\",Table2[FPPDate]=$C$6,TRUE))/(IF($C$7<>\"\",Table2[ProposalCode]=$C$7,TRUE)),ROW(D319))),\"\")","v":""},{"$f":"IFERROR(INDEX(Table2[PeriodeStart],_xlfn.AGGREGATE(15,6,(ROW(Table2[FPPGroupCode])-2)/(Table2[DepoName]=$C$2)/(IF($C$3<>\"\",Table2[BULAN]=$C$3,TRUE))/(IF($C$4<>\"\",Table2[OFF/ON]=$C$4,TRUE))/(IF($C$5<>\"\",Table2[Status]=$C$5,TRUE))/(IF($C$6<>\"\",Table2[FPPDate]=$C$6,TRUE))/(IF($C$7<>\"\",Table2[ProposalCode]=$C$7,TRUE)),ROW(E319))),\"\")","v":""},{"$f":"IFERROR(INDEX(Table2[PeriodeEnd],_xlfn.AGGREGATE(15,6,(ROW(Table2[FPPGroupCode])-2)/(Table2[DepoName]=$C$2)/(IF($C$3<>\"\",Table2[BULAN]=$C$3,TRUE))/(IF($C$4<>\"\",Table2[OFF/ON]=$C$4,TRUE))/(IF($C$5<>\"\",Table2[Status]=$C$5,TRUE))/(IF($C$6<>\"\",Table2[FPPDate]=$C$6,TRUE))/(IF($C$7<>\"\",Table2[ProposalCode]=$C$7,TRUE)),ROW(F319))),\"\")","v":""},{"$f":"IFERROR(INDEX(Table2[Amount_FPPDepo],_xlfn.AGGREGATE(15,6,(ROW(Table2[FPPGroupCode])-2)/(Table2[DepoName]=$C$2)/(IF($C$3<>\"\",Table2[BULAN]=$C$3,TRUE))/(IF($C$4<>\"\",Table2[OFF/ON]=$C$4,TRUE))/(IF($C$5<>\"\",Table2[Status]=$C$5,TRUE))/(IF($C$6<>\"\",Table2[FPPDate]=$C$6,TRUE))/(IF($C$7<>\"\",Table2[ProposalCode]=$C$7,TRUE)),ROW(G319))),\"\")","v":""},{"$f":"IFERROR(VLOOKUP($B327,SIP!$D$5776:$P$6032,12,0),0)","v":0},{"$f":"IFERROR(H327-I327,0)","v":0},{"$f":"IFERROR(VLOOKUP($B327,SIP!$D$5776:$P$6032,8,0),0)","v":0},{"$f":"IFERROR(INDEX(Table2[OFF/ON],_xlfn.AGGREGATE(15,6,(ROW(Table2[FPPGroupCode])-2)/(Table2[DepoName]=$C$2)/(IF($C$3<>\"\",Table2[BULAN]=$C$3,TRUE))/(IF($C$4<>\"\",Table2[OFF/ON]=$C$4,TRUE))/(IF($C$5<>\"\",Table2[Status]=$C$5,TRUE))/(IF($C$6<>\"\",Table2[FPPDate]=$C$6,TRUE))/(IF($C$7<>\"\",Table2[ProposalCode]=$C$7,TRUE)),ROW(K319))),\"\")","v":""}]
[{"$f":"IF(LEN($B328),ROW(A320),\"\")","v":""},{"$f":"IFERROR(INDEX(Table2[FPPGroupCode],_xlfn.AGGREGATE(15,6,(ROW(Table2[FPPGroupCode])-2)/(Table2[DepoName]=$C$2)/(IF($C$3<>\"\",Table2[BULAN]=$C$3,TRUE))/(IF($C$4<>\"\",Table2[OFF/ON]=$C$4,TRUE))/(IF($C$5<>\"\",Table2[Status]=$C$5,TRUE))/(IF($C$6<>\"\",Table2[FPPDate]=$C$6,TRUE))/(IF($C$7<>\"\",Table2[ProposalCode]=$C$7,TRUE)),ROW(A320))),\"\")","v":""},{"$f":"IFERROR(VLOOKUP($B328,SIP!$D$3:$Q$12237,14,0),0)","v":0},{"$f":"IFERROR(INDEX(Table2[Activity],_xlfn.AGGREGATE(15,6,(ROW(Table2[FPPGroupCode])-2)/(Table2[DepoName]=$C$2)/(IF($C$3<>\"\",Table2[BULAN]=$C$3,TRUE))/(IF($C$4<>\"\",Table2[OFF/ON]=$C$4,TRUE))/(IF($C$5<>\"\",Table2[Status]=$C$5,TRUE))/(IF($C$6<>\"\",Table2[]=$C$6,TRUE))/(IF($C$7<>\"\",Table2[ProposalCode]=$C$7,TRUE)),ROW(B320))),\"\")","v":""},{"$f":"IFERROR(INDEX(Table2[Location],_xlfn.AGGREGATE(15,6,(ROW(Table2[FPPGroupCode])-2)/(Table2[DepoName]=$C$2)/(IF($C$3<>\"\",Table2[BULAN]=$C$3,TRUE))/(IF($C$4<>\"\",Table2[OFF/ON]=$C$4,TRUE))/(IF($C$5<>\"\",Table2[Status]=$C$5,TRUE))/(IF($C$6<>\"\",Table2[FPPDate]=$C$6,TRUE))/(IF($C$7<>\"\",Table2[ProposalCode]=$C$7,TRUE)),ROW(D320))),\"\")","v":""},{"$f":"IFERROR(INDEX(Table2[PeriodeStart],_xlfn.AGGREGATE(15,6,(ROW(Table2[FPPGroupCode])-2)/(Table2[DepoName]=$C$2)/(IF($C$3<>\"\",Table2[BULAN]=$C$3,TRUE))/(IF($C$4<>\"\",Table2[OFF/ON]=$C$4,TRUE))/(IF($C$5<>\"\",Table2[Status]=$C$5,TRUE))/(IF($C$6<>\"\",Table2[FPPDate]=$C$6,TRUE))/(IF($C$7<>\"\",Table2[ProposalCode]=$C$7,TRUE)),ROW(E320))),\"\")","v":""},{"$f":"IFERROR(INDEX(Table2[PeriodeEnd],_xlfn.AGGREGATE(15,6,(ROW(Table2[FPPGroupCode])-2)/(Table2[DepoName]=$C$2)/(IF($C$3<>\"\",Table2[BULAN]=$C$3,TRUE))/(IF($C$4<>\"\",Table2[OFF/ON]=$C$4,TRUE))/(IF($C$5<>\"\",Table2[Status]=$C$5,TRUE))/(IF($C$6<>\"\",Table2[FPPDate]=$C$6,TRUE))/(IF($C$7<>\"\",Table2[ProposalCode]=$C$7,TRUE)),ROW(F320))),\"\")","v":""},{"$f":"IFERROR(INDEX(Table2[Amount_FPPDepo],_xlfn.AGGREGATE(15,6,(ROW(Table2[FPPGroupCode])-2)/(Table2[DepoName]=$C$2)/(IF($C$3<>\"\",Table2[BULAN]=$C$3,TRUE))/(IF($C$4<>\"\",Table2[OFF/ON]=$C$4,TRUE))/(IF($C$5<>\"\",Table2[Status]=$C$5,TRUE))/(IF($C$6<>\"\",Table2[FPPDate]=$C$6,TRUE))/(IF($C$7<>\"\",Table2[ProposalCode]=$C$7,TRUE)),ROW(G320))),\"\")","v":""},{"$f":"IFERROR(VLOOKUP($B328,SIP!$D$5776:$P$6032,12,0),0)","v":0},{"$f":"IFERROR(H328-I328,0)","v":0},{"$f":"IFERROR(VLOOKUP($B328,SIP!$D$5776:$P$6032,8,0),0)","v":0},{"$f":"IFERROR(INDEX(Table2[OFF/ON],_xlfn.AGGREGATE(15,6,(ROW(Table2[FPPGroupCode])-2)/(Table2[DepoName]=$C$2)/(IF($C$3<>\"\",Table2[BULAN]=$C$3,TRUE))/(IF($C$4<>\"\",Table2[OFF/ON]=$C$4,TRUE))/(IF($C$5<>\"\",Table2[Status]=$C$5,TRUE))/(IF($C$6<>\"\",Table2[FPPDate]=$C$6,TRUE))/(IF($C$7<>\"\",Table2[ProposalCode]=$C$7,TRUE)),ROW(K320))),\"\")","v":""}]
[{"$f":"IF(LEN($B329),ROW(A321),\"\")","v":""},{"$f":"IFERROR(INDEX(Table2[FPPGroupCode],_xlfn.AGGREGATE(15,6,(ROW(Table2[FPPGroupCode])-2)/(Table2[DepoName]=$C$2)/(IF($C$3<>\"\",Table2[BULAN]=$C$3,TRUE))/(IF($C$4<>\"\",Table2[OFF/ON]=$C$4,TRUE))/(IF($C$5<>\"\",Table2[Status]=$C$5,TRUE))/(IF($C$6<>\"\",Table2[FPPDate]=$C$6,TRUE))/(IF($C$7<>\"\",Table2[ProposalCode]=$C$7,TRUE)),ROW(A321))),\"\")","v":""},{"$f":"IFERROR(VLOOKUP($B329,SIP!$D$3:$Q$12237,14,0),0)","v":0},{"$f":"IFERROR(INDEX(Table2[Activity],_xlfn.AGGREGATE(15,6,(ROW(Table2[FPPGroupCode])-2)/(Table2[DepoName]=$C$2)/(IF($C$3<>\"\",Table2[BULAN]=$C$3,TRUE))/(IF($C$4<>\"\",Table2[OFF/ON]=$C$4,TRUE))/(IF($C$5<>\"\",Table2[Status]=$C$5,TRUE))/(IF($C$6<>\"\",Table2[]=$C$6,TRUE))/(IF($C$7<>\"\",Table2[ProposalCode]=$C$7,TRUE)),ROW(B321))),\"\")","v":""},{"$f":"IFERROR(INDEX(Table2[Location],_xlfn.AGGREGATE(15,6,(ROW(Table2[FPPGroupCode])-2)/(Table2[DepoName]=$C$2)/(IF($C$3<>\"\",Table2[BULAN]=$C$3,TRUE))/(IF($C$4<>\"\",Table2[OFF/ON]=$C$4,TRUE))/(IF($C$5<>\"\",Table2[Status]=$C$5,TRUE))/(IF($C$6<>\"\",Table2[FPPDate]=$C$6,TRUE))/(IF($C$7<>\"\",Table2[ProposalCode]=$C$7,TRUE)),ROW(D321))),\"\")","v":""},{"$f":"IFERROR(INDEX(Table2[PeriodeStart],_xlfn.AGGREGATE(15,6,(ROW(Table2[FPPGroupCode])-2)/(Table2[DepoName]=$C$2)/(IF($C$3<>\"\",Table2[BULAN]=$C$3,TRUE))/(IF($C$4<>\"\",Table2[OFF/ON]=$C$4,TRUE))/(IF($C$5<>\"\",Table2[Status]=$C$5,TRUE))/(IF($C$6<>\"\",Table2[FPPDate]=$C$6,TRUE))/(IF($C$7<>\"\",Table2[ProposalCode]=$C$7,TRUE)),ROW(E321))),\"\")","v":""},{"$f":"IFERROR(INDEX(Table2[PeriodeEnd],_xlfn.AGGREGATE(15,6,(ROW(Table2[FPPGroupCode])-2)/(Table2[DepoName]=$C$2)/(IF($C$3<>\"\",Table2[BULAN]=$C$3,TRUE))/(IF($C$4<>\"\",Table2[OFF/ON]=$C$4,TRUE))/(IF($C$5<>\"\",Table2[Status]=$C$5,TRUE))/(IF($C$6<>\"\",Table2[FPPDate]=$C$6,TRUE))/(IF($C$7<>\"\",Table2[ProposalCode]=$C$7,TRUE)),ROW(F321))),\"\")","v":""},{"$f":"IFERROR(INDEX(Table2[Amount_FPPDepo],_xlfn.AGGREGATE(15,6,(ROW(Table2[FPPGroupCode])-2)/(Table2[DepoName]=$C$2)/(IF($C$3<>\"\",Table2[BULAN]=$C$3,TRUE))/(IF($C$4<>\"\",Table2[OFF/ON]=$C$4,TRUE))/(IF($C$5<>\"\",Table2[Status]=$C$5,TRUE))/(IF($C$6<>\"\",Table2[FPPDate]=$C$6,TRUE))/(IF($C$7<>\"\",Table2[ProposalCode]=$C$7,TRUE)),ROW(G321))),\"\")","v":""},{"$f":"IFERROR(VLOOKUP($B329,SIP!$D$5776:$P$6032,12,0),0)","v":0},{"$f":"IFERROR(H329-I329,0)","v":0},{"$f":"IFERROR(VLOOKUP($B329,SIP!$D$5776:$P$6032,8,0),0)","v":0},{"$f":"IFERROR(INDEX(Table2[OFF/ON],_xlfn.AGGREGATE(15,6,(ROW(Table2[FPPGroupCode])-2)/(Table2[DepoName]=$C$2)/(IF($C$3<>\"\",Table2[BULAN]=$C$3,TRUE))/(IF($C$4<>\"\",Table2[OFF/ON]=$C$4,TRUE))/(IF($C$5<>\"\",Table2[Status]=$C$5,TRUE))/(IF($C$6<>\"\",Table2[FPPDate]=$C$6,TRUE))/(IF($C$7<>\"\",Table2[ProposalCode]=$C$7,TRUE)),ROW(K321))),\"\")","v":""}]
[{"$f":"IF(LEN($B330),ROW(A322),\"\")","v":""},{"$f":"IFERROR(INDEX(Table2[FPPGroupCode],_xlfn.AGGREGATE(15,6,(ROW(Table2[FPPGroupCode])-2)/(Table2[DepoName]=$C$2)/(IF($C$3<>\"\",Table2[BULAN]=$C$3,TRUE))/(IF($C$4<>\"\",Table2[OFF/ON]=$C$4,TRUE))/(IF($C$5<>\"\",Table2[Status]=$C$5,TRUE))/(IF($C$6<>\"\",Table2[FPPDate]=$C$6,TRUE))/(IF($C$7<>\"\",Table2[ProposalCode]=$C$7,TRUE)),ROW(A322))),\"\")","v":""},{"$f":"IFERROR(VLOOKUP($B330,SIP!$D$3:$Q$12237,14,0),0)","v":0},{"$f":"IFERROR(INDEX(Table2[Activity],_xlfn.AGGREGATE(15,6,(ROW(Table2[FPPGroupCode])-2)/(Table2[DepoName]=$C$2)/(IF($C$3<>\"\",Table2[BULAN]=$C$3,TRUE))/(IF($C$4<>\"\",Table2[OFF/ON]=$C$4,TRUE))/(IF($C$5<>\"\",Table2[Status]=$C$5,TRUE))/(IF($C$6<>\"\",Table2[]=$C$6,TRUE))/(IF($C$7<>\"\",Table2[ProposalCode]=$C$7,TRUE)),ROW(B322))),\"\")","v":""},{"$f":"IFERROR(INDEX(Table2[Location],_xlfn.AGGREGATE(15,6,(ROW(Table2[FPPGroupCode])-2)/(Table2[DepoName]=$C$2)/(IF($C$3<>\"\",Table2[BULAN]=$C$3,TRUE))/(IF($C$4<>\"\",Table2[OFF/ON]=$C$4,TRUE))/(IF($C$5<>\"\",Table2[Status]=$C$5,TRUE))/(IF($C$6<>\"\",Table2[FPPDate]=$C$6,TRUE))/(IF($C$7<>\"\",Table2[ProposalCode]=$C$7,TRUE)),ROW(D322))),\"\")","v":""},{"$f":"IFERROR(INDEX(Table2[PeriodeStart],_xlfn.AGGREGATE(15,6,(ROW(Table2[FPPGroupCode])-2)/(Table2[DepoName]=$C$2)/(IF($C$3<>\"\",Table2[BULAN]=$C$3,TRUE))/(IF($C$4<>\"\",Table2[OFF/ON]=$C$4,TRUE))/(IF($C$5<>\"\",Table2[Status]=$C$5,TRUE))/(IF($C$6<>\"\",Table2[FPPDate]=$C$6,TRUE))/(IF($C$7<>\"\",Table2[ProposalCode]=$C$7,TRUE)),ROW(E322))),\"\")","v":""},{"$f":"IFERROR(INDEX(Table2[PeriodeEnd],_xlfn.AGGREGATE(15,6,(ROW(Table2[FPPGroupCode])-2)/(Table2[DepoName]=$C$2)/(IF($C$3<>\"\",Table2[BULAN]=$C$3,TRUE))/(IF($C$4<>\"\",Table2[OFF/ON]=$C$4,TRUE))/(IF($C$5<>\"\",Table2[Status]=$C$5,TRUE))/(IF($C$6<>\"\",Table2[FPPDate]=$C$6,TRUE))/(IF($C$7<>\"\",Table2[ProposalCode]=$C$7,TRUE)),ROW(F322))),\"\")","v":""},{"$f":"IFERROR(INDEX(Table2[Amount_FPPDepo],_xlfn.AGGREGATE(15,6,(ROW(Table2[FPPGroupCode])-2)/(Table2[DepoName]=$C$2)/(IF($C$3<>\"\",Table2[BULAN]=$C$3,TRUE))/(IF($C$4<>\"\",Table2[OFF/ON]=$C$4,TRUE))/(IF($C$5<>\"\",Table2[Status]=$C$5,TRUE))/(IF($C$6<>\"\",Table2[FPPDate]=$C$6,TRUE))/(IF($C$7<>\"\",Table2[ProposalCode]=$C$7,TRUE)),ROW(G322))),\"\")","v":""},{"$f":"IFERROR(VLOOKUP($B330,SIP!$D$5776:$P$6032,12,0),0)","v":0},{"$f":"IFERROR(H330-I330,0)","v":0},{"$f":"IFERROR(VLOOKUP($B330,SIP!$D$5776:$P$6032,8,0),0)","v":0},{"$f":"IFERROR(INDEX(Table2[OFF/ON],_xlfn.AGGREGATE(15,6,(ROW(Table2[FPPGroupCode])-2)/(Table2[DepoName]=$C$2)/(IF($C$3<>\"\",Table2[BULAN]=$C$3,TRUE))/(IF($C$4<>\"\",Table2[OFF/ON]=$C$4,TRUE))/(IF($C$5<>\"\",Table2[Status]=$C$5,TRUE))/(IF($C$6<>\"\",Table2[FPPDate]=$C$6,TRUE))/(IF($C$7<>\"\",Table2[ProposalCode]=$C$7,TRUE)),ROW(K322))),\"\")","v":""}]
[{"$f":"IF(LEN($B331),ROW(A323),\"\")","v":""},{"$f":"IFERROR(INDEX(Table2[FPPGroupCode],_xlfn.AGGREGATE(15,6,(ROW(Table2[FPPGroupCode])-2)/(Table2[DepoName]=$C$2)/(IF($C$3<>\"\",Table2[BULAN]=$C$3,TRUE))/(IF($C$4<>\"\",Table2[OFF/ON]=$C$4,TRUE))/(IF($C$5<>\"\",Table2[Status]=$C$5,TRUE))/(IF($C$6<>\"\",Table2[FPPDate]=$C$6,TRUE))/(IF($C$7<>\"\",Table2[ProposalCode]=$C$7,TRUE)),ROW(A323))),\"\")","v":""},{"$f":"IFERROR(VLOOKUP($B331,SIP!$D$3:$Q$12237,14,0),0)","v":0},{"$f":"IFERROR(INDEX(Table2[Activity],_xlfn.AGGREGATE(15,6,(ROW(Table2[FPPGroupCode])-2)/(Table2[DepoName]=$C$2)/(IF($C$3<>\"\",Table2[BULAN]=$C$3,TRUE))/(IF($C$4<>\"\",Table2[OFF/ON]=$C$4,TRUE))/(IF($C$5<>\"\",Table2[Status]=$C$5,TRUE))/(IF($C$6<>\"\",Table2[]=$C$6,TRUE))/(IF($C$7<>\"\",Table2[ProposalCode]=$C$7,TRUE)),ROW(B323))),\"\")","v":""},{"$f":"IFERROR(INDEX(Table2[Location],_xlfn.AGGREGATE(15,6,(ROW(Table2[FPPGroupCode])-2)/(Table2[DepoName]=$C$2)/(IF($C$3<>\"\",Table2[BULAN]=$C$3,TRUE))/(IF($C$4<>\"\",Table2[OFF/ON]=$C$4,TRUE))/(IF($C$5<>\"\",Table2[Status]=$C$5,TRUE))/(IF($C$6<>\"\",Table2[FPPDate]=$C$6,TRUE))/(IF($C$7<>\"\",Table2[ProposalCode]=$C$7,TRUE)),ROW(D323))),\"\")","v":""},{"$f":"IFERROR(INDEX(Table2[PeriodeStart],_xlfn.AGGREGATE(15,6,(ROW(Table2[FPPGroupCode])-2)/(Table2[DepoName]=$C$2)/(IF($C$3<>\"\",Table2[BULAN]=$C$3,TRUE))/(IF($C$4<>\"\",Table2[OFF/ON]=$C$4,TRUE))/(IF($C$5<>\"\",Table2[Status]=$C$5,TRUE))/(IF($C$6<>\"\",Table2[FPPDate]=$C$6,TRUE))/(IF($C$7<>\"\",Table2[ProposalCode]=$C$7,TRUE)),ROW(E323))),\"\")","v":""},{"$f":"IFERROR(INDEX(Table2[PeriodeEnd],_xlfn.AGGREGATE(15,6,(ROW(Table2[FPPGroupCode])-2)/(Table2[DepoName]=$C$2)/(IF($C$3<>\"\",Table2[BULAN]=$C$3,TRUE))/(IF($C$4<>\"\",Table2[OFF/ON]=$C$4,TRUE))/(IF($C$5<>\"\",Table2[Status]=$C$5,TRUE))/(IF($C$6<>\"\",Table2[FPPDate]=$C$6,TRUE))/(IF($C$7<>\"\",Table2[ProposalCode]=$C$7,TRUE)),ROW(F323))),\"\")","v":""},{"$f":"IFERROR(INDEX(Table2[Amount_FPPDepo],_xlfn.AGGREGATE(15,6,(ROW(Table2[FPPGroupCode])-2)/(Table2[DepoName]=$C$2)/(IF($C$3<>\"\",Table2[BULAN]=$C$3,TRUE))/(IF($C$4<>\"\",Table2[OFF/ON]=$C$4,TRUE))/(IF($C$5<>\"\",Table2[Status]=$C$5,TRUE))/(IF($C$6<>\"\",Table2[FPPDate]=$C$6,TRUE))/(IF($C$7<>\"\",Table2[ProposalCode]=$C$7,TRUE)),ROW(G323))),\"\")","v":""},{"$f":"IFERROR(VLOOKUP($B331,SIP!$D$5776:$P$6032,12,0),0)","v":0},{"$f":"IFERROR(H331-I331,0)","v":0},{"$f":"IFERROR(VLOOKUP($B331,SIP!$D$5776:$P$6032,8,0),0)","v":0},{"$f":"IFERROR(INDEX(Table2[OFF/ON],_xlfn.AGGREGATE(15,6,(ROW(Table2[FPPGroupCode])-2)/(Table2[DepoName]=$C$2)/(IF($C$3<>\"\",Table2[BULAN]=$C$3,TRUE))/(IF($C$4<>\"\",Table2[OFF/ON]=$C$4,TRUE))/(IF($C$5<>\"\",Table2[Status]=$C$5,TRUE))/(IF($C$6<>\"\",Table2[FPPDate]=$C$6,TRUE))/(IF($C$7<>\"\",Table2[ProposalCode]=$C$7,TRUE)),ROW(K323))),\"\")","v":""}]
[{"$f":"IF(LEN($B332),ROW(A324),\"\")","v":""},{"$f":"IFERROR(INDEX(Table2[FPPGroupCode],_xlfn.AGGREGATE(15,6,(ROW(Table2[FPPGroupCode])-2)/(Table2[DepoName]=$C$2)/(IF($C$3<>\"\",Table2[BULAN]=$C$3,TRUE))/(IF($C$4<>\"\",Table2[OFF/ON]=$C$4,TRUE))/(IF($C$5<>\"\",Table2[Status]=$C$5,TRUE))/(IF($C$6<>\"\",Table2[FPPDate]=$C$6,TRUE))/(IF($C$7<>\"\",Table2[ProposalCode]=$C$7,TRUE)),ROW(A324))),\"\")","v":""},{"$f":"IFERROR(VLOOKUP($B332,SIP!$D$3:$Q$12237,14,0),0)","v":0},{"$f":"IFERROR(INDEX(Table2[Activity],_xlfn.AGGREGATE(15,6,(ROW(Table2[FPPGroupCode])-2)/(Table2[DepoName]=$C$2)/(IF($C$3<>\"\",Table2[BULAN]=$C$3,TRUE))/(IF($C$4<>\"\",Table2[OFF/ON]=$C$4,TRUE))/(IF($C$5<>\"\",Table2[Status]=$C$5,TRUE))/(IF($C$6<>\"\",Table2[]=$C$6,TRUE))/(IF($C$7<>\"\",Table2[ProposalCode]=$C$7,TRUE)),ROW(B324))),\"\")","v":""},{"$f":"IFERROR(INDEX(Table2[Location],_xlfn.AGGREGATE(15,6,(ROW(Table2[FPPGroupCode])-2)/(Table2[DepoName]=$C$2)/(IF($C$3<>\"\",Table2[BULAN]=$C$3,TRUE))/(IF($C$4<>\"\",Table2[OFF/ON]=$C$4,TRUE))/(IF($C$5<>\"\",Table2[Status]=$C$5,TRUE))/(IF($C$6<>\"\",Table2[FPPDate]=$C$6,TRUE))/(IF($C$7<>\"\",Table2[ProposalCode]=$C$7,TRUE)),ROW(D324))),\"\")","v":""},{"$f":"IFERROR(INDEX(Table2[PeriodeStart],_xlfn.AGGREGATE(15,6,(ROW(Table2[FPPGroupCode])-2)/(Table2[DepoName]=$C$2)/(IF($C$3<>\"\",Table2[BULAN]=$C$3,TRUE))/(IF($C$4<>\"\",Table2[OFF/ON]=$C$4,TRUE))/(IF($C$5<>\"\",Table2[Status]=$C$5,TRUE))/(IF($C$6<>\"\",Table2[FPPDate]=$C$6,TRUE))/(IF($C$7<>\"\",Table2[ProposalCode]=$C$7,TRUE)),ROW(E324))),\"\")","v":""},{"$f":"IFERROR(INDEX(Table2[PeriodeEnd],_xlfn.AGGREGATE(15,6,(ROW(Table2[FPPGroupCode])-2)/(Table2[DepoName]=$C$2)/(IF($C$3<>\"\",Table2[BULAN]=$C$3,TRUE))/(IF($C$4<>\"\",Table2[OFF/ON]=$C$4,TRUE))/(IF($C$5<>\"\",Table2[Status]=$C$5,TRUE))/(IF($C$6<>\"\",Table2[FPPDate]=$C$6,TRUE))/(IF($C$7<>\"\",Table2[ProposalCode]=$C$7,TRUE)),ROW(F324))),\"\")","v":""},{"$f":"IFERROR(INDEX(Table2[Amount_FPPDepo],_xlfn.AGGREGATE(15,6,(ROW(Table2[FPPGroupCode])-2)/(Table2[DepoName]=$C$2)/(IF($C$3<>\"\",Table2[BULAN]=$C$3,TRUE))/(IF($C$4<>\"\",Table2[OFF/ON]=$C$4,TRUE))/(IF($C$5<>\"\",Table2[Status]=$C$5,TRUE))/(IF($C$6<>\"\",Table2[FPPDate]=$C$6,TRUE))/(IF($C$7<>\"\",Table2[ProposalCode]=$C$7,TRUE)),ROW(G324))),\"\")","v":""},{"$f":"IFERROR(VLOOKUP($B332,SIP!$D$5776:$P$6032,12,0),0)","v":0},{"$f":"IFERROR(H332-I332,0)","v":0},{"$f":"IFERROR(VLOOKUP($B332,SIP!$D$5776:$P$6032,8,0),0)","v":0},{"$f":"IFERROR(INDEX(Table2[OFF/ON],_xlfn.AGGREGATE(15,6,(ROW(Table2[FPPGroupCode])-2)/(Table2[DepoName]=$C$2)/(IF($C$3<>\"\",Table2[BULAN]=$C$3,TRUE))/(IF($C$4<>\"\",Table2[OFF/ON]=$C$4,TRUE))/(IF($C$5<>\"\",Table2[Status]=$C$5,TRUE))/(IF($C$6<>\"\",Table2[FPPDate]=$C$6,TRUE))/(IF($C$7<>\"\",Table2[ProposalCode]=$C$7,TRUE)),ROW(K324))),\"\")","v":""}]
[{"$f":"IF(LEN($B333),ROW(A325),\"\")","v":""},{"$f":"IFERROR(INDEX(Table2[FPPGroupCode],_xlfn.AGGREGATE(15,6,(ROW(Table2[FPPGroupCode])-2)/(Table2[DepoName]=$C$2)/(IF($C$3<>\"\",Table2[BULAN]=$C$3,TRUE))/(IF($C$4<>\"\",Table2[OFF/ON]=$C$4,TRUE))/(IF($C$5<>\"\",Table2[Status]=$C$5,TRUE))/(IF($C$6<>\"\",Table2[FPPDate]=$C$6,TRUE))/(IF($C$7<>\"\",Table2[ProposalCode]=$C$7,TRUE)),ROW(A325))),\"\")","v":""},{"$f":"IFERROR(VLOOKUP($B333,SIP!$D$3:$Q$12237,14,0),0)","v":0},{"$f":"IFERROR(INDEX(Table2[Activity],_xlfn.AGGREGATE(15,6,(ROW(Table2[FPPGroupCode])-2)/(Table2[DepoName]=$C$2)/(IF($C$3<>\"\",Table2[BULAN]=$C$3,TRUE))/(IF($C$4<>\"\",Table2[OFF/ON]=$C$4,TRUE))/(IF($C$5<>\"\",Table2[Status]=$C$5,TRUE))/(IF($C$6<>\"\",Table2[]=$C$6,TRUE))/(IF($C$7<>\"\",Table2[ProposalCode]=$C$7,TRUE)),ROW(B325))),\"\")","v":""},{"$f":"IFERROR(INDEX(Table2[Location],_xlfn.AGGREGATE(15,6,(ROW(Table2[FPPGroupCode])-2)/(Table2[DepoName]=$C$2)/(IF($C$3<>\"\",Table2[BULAN]=$C$3,TRUE))/(IF($C$4<>\"\",Table2[OFF/ON]=$C$4,TRUE))/(IF($C$5<>\"\",Table2[Status]=$C$5,TRUE))/(IF($C$6<>\"\",Table2[FPPDate]=$C$6,TRUE))/(IF($C$7<>\"\",Table2[ProposalCode]=$C$7,TRUE)),ROW(D325))),\"\")","v":""},{"$f":"IFERROR(INDEX(Table2[PeriodeStart],_xlfn.AGGREGATE(15,6,(ROW(Table2[FPPGroupCode])-2)/(Table2[DepoName]=$C$2)/(IF($C$3<>\"\",Table2[BULAN]=$C$3,TRUE))/(IF($C$4<>\"\",Table2[OFF/ON]=$C$4,TRUE))/(IF($C$5<>\"\",Table2[Status]=$C$5,TRUE))/(IF($C$6<>\"\",Table2[FPPDate]=$C$6,TRUE))/(IF($C$7<>\"\",Table2[ProposalCode]=$C$7,TRUE)),ROW(E325))),\"\")","v":""},{"$f":"IFERROR(INDEX(Table2[PeriodeEnd],_xlfn.AGGREGATE(15,6,(ROW(Table2[FPPGroupCode])-2)/(Table2[DepoName]=$C$2)/(IF($C$3<>\"\",Table2[BULAN]=$C$3,TRUE))/(IF($C$4<>\"\",Table2[OFF/ON]=$C$4,TRUE))/(IF($C$5<>\"\",Table2[Status]=$C$5,TRUE))/(IF($C$6<>\"\",Table2[FPPDate]=$C$6,TRUE))/(IF($C$7<>\"\",Table2[ProposalCode]=$C$7,TRUE)),ROW(F325))),\"\")","v":""},{"$f":"IFERROR(INDEX(Table2[Amount_FPPDepo],_xlfn.AGGREGATE(15,6,(ROW(Table2[FPPGroupCode])-2)/(Table2[DepoName]=$C$2)/(IF($C$3<>\"\",Table2[BULAN]=$C$3,TRUE))/(IF($C$4<>\"\",Table2[OFF/ON]=$C$4,TRUE))/(IF($C$5<>\"\",Table2[Status]=$C$5,TRUE))/(IF($C$6<>\"\",Table2[FPPDate]=$C$6,TRUE))/(IF($C$7<>\"\",Table2[ProposalCode]=$C$7,TRUE)),ROW(G325))),\"\")","v":""},{"$f":"IFERROR(VLOOKUP($B333,SIP!$D$5776:$P$6032,12,0),0)","v":0},{"$f":"IFERROR(H333-I333,0)","v":0},{"$f":"IFERROR(VLOOKUP($B333,SIP!$D$5776:$P$6032,8,0),0)","v":0},{"$f":"IFERROR(INDEX(Table2[OFF/ON],_xlfn.AGGREGATE(15,6,(ROW(Table2[FPPGroupCode])-2)/(Table2[DepoName]=$C$2)/(IF($C$3<>\"\",Table2[BULAN]=$C$3,TRUE))/(IF($C$4<>\"\",Table2[OFF/ON]=$C$4,TRUE))/(IF($C$5<>\"\",Table2[Status]=$C$5,TRUE))/(IF($C$6<>\"\",Table2[FPPDate]=$C$6,TRUE))/(IF($C$7<>\"\",Table2[ProposalCode]=$C$7,TRUE)),ROW(K325))),\"\")","v":""}]
[{"$f":"IF(LEN($B334),ROW(A326),\"\")","v":""},{"$f":"IFERROR(INDEX(Table2[FPPGroupCode],_xlfn.AGGREGATE(15,6,(ROW(Table2[FPPGroupCode])-2)/(Table2[DepoName]=$C$2)/(IF($C$3<>\"\",Table2[BULAN]=$C$3,TRUE))/(IF($C$4<>\"\",Table2[OFF/ON]=$C$4,TRUE))/(IF($C$5<>\"\",Table2[Status]=$C$5,TRUE))/(IF($C$6<>\"\",Table2[FPPDate]=$C$6,TRUE))/(IF($C$7<>\"\",Table2[ProposalCode]=$C$7,TRUE)),ROW(A326))),\"\")","v":""},{"$f":"IFERROR(VLOOKUP($B334,SIP!$D$3:$Q$12237,14,0),0)","v":0},{"$f":"IFERROR(INDEX(Table2[Activity],_xlfn.AGGREGATE(15,6,(ROW(Table2[FPPGroupCode])-2)/(Table2[DepoName]=$C$2)/(IF($C$3<>\"\",Table2[BULAN]=$C$3,TRUE))/(IF($C$4<>\"\",Table2[OFF/ON]=$C$4,TRUE))/(IF($C$5<>\"\",Table2[Status]=$C$5,TRUE))/(IF($C$6<>\"\",Table2[]=$C$6,TRUE))/(IF($C$7<>\"\",Table2[ProposalCode]=$C$7,TRUE)),ROW(B326))),\"\")","v":""},{"$f":"IFERROR(INDEX(Table2[Location],_xlfn.AGGREGATE(15,6,(ROW(Table2[FPPGroupCode])-2)/(Table2[DepoName]=$C$2)/(IF($C$3<>\"\",Table2[BULAN]=$C$3,TRUE))/(IF($C$4<>\"\",Table2[OFF/ON]=$C$4,TRUE))/(IF($C$5<>\"\",Table2[Status]=$C$5,TRUE))/(IF($C$6<>\"\",Table2[FPPDate]=$C$6,TRUE))/(IF($C$7<>\"\",Table2[ProposalCode]=$C$7,TRUE)),ROW(D326))),\"\")","v":""},{"$f":"IFERROR(INDEX(Table2[PeriodeStart],_xlfn.AGGREGATE(15,6,(ROW(Table2[FPPGroupCode])-2)/(Table2[DepoName]=$C$2)/(IF($C$3<>\"\",Table2[BULAN]=$C$3,TRUE))/(IF($C$4<>\"\",Table2[OFF/ON]=$C$4,TRUE))/(IF($C$5<>\"\",Table2[Status]=$C$5,TRUE))/(IF($C$6<>\"\",Table2[FPPDate]=$C$6,TRUE))/(IF($C$7<>\"\",Table2[ProposalCode]=$C$7,TRUE)),ROW(E326))),\"\")","v":""},{"$f":"IFERROR(INDEX(Table2[PeriodeEnd],_xlfn.AGGREGATE(15,6,(ROW(Table2[FPPGroupCode])-2)/(Table2[DepoName]=$C$2)/(IF($C$3<>\"\",Table2[BULAN]=$C$3,TRUE))/(IF($C$4<>\"\",Table2[OFF/ON]=$C$4,TRUE))/(IF($C$5<>\"\",Table2[Status]=$C$5,TRUE))/(IF($C$6<>\"\",Table2[FPPDate]=$C$6,TRUE))/(IF($C$7<>\"\",Table2[ProposalCode]=$C$7,TRUE)),ROW(F326))),\"\")","v":""},{"$f":"IFERROR(INDEX(Table2[Amount_FPPDepo],_xlfn.AGGREGATE(15,6,(ROW(Table2[FPPGroupCode])-2)/(Table2[DepoName]=$C$2)/(IF($C$3<>\"\",Table2[BULAN]=$C$3,TRUE))/(IF($C$4<>\"\",Table2[OFF/ON]=$C$4,TRUE))/(IF($C$5<>\"\",Table2[Status]=$C$5,TRUE))/(IF($C$6<>\"\",Table2[FPPDate]=$C$6,TRUE))/(IF($C$7<>\"\",Table2[ProposalCode]=$C$7,TRUE)),ROW(G326))),\"\")","v":""},{"$f":"IFERROR(VLOOKUP($B334,SIP!$D$5776:$P$6032,12,0),0)","v":0},{"$f":"IFERROR(H334-I334,0)","v":0},{"$f":"IFERROR(VLOOKUP($B334,SIP!$D$5776:$P$6032,8,0),0)","v":0},{"$f":"IFERROR(INDEX(Table2[OFF/ON],_xlfn.AGGREGATE(15,6,(ROW(Table2[FPPGroupCode])-2)/(Table2[DepoName]=$C$2)/(IF($C$3<>\"\",Table2[BULAN]=$C$3,TRUE))/(IF($C$4<>\"\",Table2[OFF/ON]=$C$4,TRUE))/(IF($C$5<>\"\",Table2[Status]=$C$5,TRUE))/(IF($C$6<>\"\",Table2[FPPDate]=$C$6,TRUE))/(IF($C$7<>\"\",Table2[ProposalCode]=$C$7,TRUE)),ROW(K326))),\"\")","v":""}]
[{"$f":"IF(LEN($B335),ROW(A327),\"\")","v":""},{"$f":"IFERROR(INDEX(Table2[FPPGroupCode],_xlfn.AGGREGATE(15,6,(ROW(Table2[FPPGroupCode])-2)/(Table2[DepoName]=$C$2)/(IF($C$3<>\"\",Table2[BULAN]=$C$3,TRUE))/(IF($C$4<>\"\",Table2[OFF/ON]=$C$4,TRUE))/(IF($C$5<>\"\",Table2[Status]=$C$5,TRUE))/(IF($C$6<>\"\",Table2[FPPDate]=$C$6,TRUE))/(IF($C$7<>\"\",Table2[ProposalCode]=$C$7,TRUE)),ROW(A327))),\"\")","v":""},{"$f":"IFERROR(VLOOKUP($B335,SIP!$D$3:$Q$12237,14,0),0)","v":0},{"$f":"IFERROR(INDEX(Table2[Activity],_xlfn.AGGREGATE(15,6,(ROW(Table2[FPPGroupCode])-2)/(Table2[DepoName]=$C$2)/(IF($C$3<>\"\",Table2[BULAN]=$C$3,TRUE))/(IF($C$4<>\"\",Table2[OFF/ON]=$C$4,TRUE))/(IF($C$5<>\"\",Table2[Status]=$C$5,TRUE))/(IF($C$6<>\"\",Table2[]=$C$6,TRUE))/(IF($C$7<>\"\",Table2[ProposalCode]=$C$7,TRUE)),ROW(B327))),\"\")","v":""},{"$f":"IFERROR(INDEX(Table2[Location],_xlfn.AGGREGATE(15,6,(ROW(Table2[FPPGroupCode])-2)/(Table2[DepoName]=$C$2)/(IF($C$3<>\"\",Table2[BULAN]=$C$3,TRUE))/(IF($C$4<>\"\",Table2[OFF/ON]=$C$4,TRUE))/(IF($C$5<>\"\",Table2[Status]=$C$5,TRUE))/(IF($C$6<>\"\",Table2[FPPDate]=$C$6,TRUE))/(IF($C$7<>\"\",Table2[ProposalCode]=$C$7,TRUE)),ROW(D327))),\"\")","v":""},{"$f":"IFERROR(INDEX(Table2[PeriodeStart],_xlfn.AGGREGATE(15,6,(ROW(Table2[FPPGroupCode])-2)/(Table2[DepoName]=$C$2)/(IF($C$3<>\"\",Table2[BULAN]=$C$3,TRUE))/(IF($C$4<>\"\",Table2[OFF/ON]=$C$4,TRUE))/(IF($C$5<>\"\",Table2[Status]=$C$5,TRUE))/(IF($C$6<>\"\",Table2[FPPDate]=$C$6,TRUE))/(IF($C$7<>\"\",Table2[ProposalCode]=$C$7,TRUE)),ROW(E327))),\"\")","v":""},{"$f":"IFERROR(INDEX(Table2[PeriodeEnd],_xlfn.AGGREGATE(15,6,(ROW(Table2[FPPGroupCode])-2)/(Table2[DepoName]=$C$2)/(IF($C$3<>\"\",Table2[BULAN]=$C$3,TRUE))/(IF($C$4<>\"\",Table2[OFF/ON]=$C$4,TRUE))/(IF($C$5<>\"\",Table2[Status]=$C$5,TRUE))/(IF($C$6<>\"\",Table2[FPPDate]=$C$6,TRUE))/(IF($C$7<>\"\",Table2[ProposalCode]=$C$7,TRUE)),ROW(F327))),\"\")","v":""},{"$f":"IFERROR(INDEX(Table2[Amount_FPPDepo],_xlfn.AGGREGATE(15,6,(ROW(Table2[FPPGroupCode])-2)/(Table2[DepoName]=$C$2)/(IF($C$3<>\"\",Table2[BULAN]=$C$3,TRUE))/(IF($C$4<>\"\",Table2[OFF/ON]=$C$4,TRUE))/(IF($C$5<>\"\",Table2[Status]=$C$5,TRUE))/(IF($C$6<>\"\",Table2[FPPDate]=$C$6,TRUE))/(IF($C$7<>\"\",Table2[ProposalCode]=$C$7,TRUE)),ROW(G327))),\"\")","v":""},{"$f":"IFERROR(VLOOKUP($B335,SIP!$D$5776:$P$6032,12,0),0)","v":0},{"$f":"IFERROR(H335-I335,0)","v":0},{"$f":"IFERROR(VLOOKUP($B335,SIP!$D$5776:$P$6032,8,0),0)","v":0},{"$f":"IFERROR(INDEX(Table2[OFF/ON],_xlfn.AGGREGATE(15,6,(ROW(Table2[FPPGroupCode])-2)/(Table2[DepoName]=$C$2)/(IF($C$3<>\"\",Table2[BULAN]=$C$3,TRUE))/(IF($C$4<>\"\",Table2[OFF/ON]=$C$4,TRUE))/(IF($C$5<>\"\",Table2[Status]=$C$5,TRUE))/(IF($C$6<>\"\",Table2[FPPDate]=$C$6,TRUE))/(IF($C$7<>\"\",Table2[ProposalCode]=$C$7,TRUE)),ROW(K327))),\"\")","v":""}]
[{"$f":"IF(LEN($B336),ROW(A328),\"\")","v":""},{"$f":"IFERROR(INDEX(Table2[FPPGroupCode],_xlfn.AGGREGATE(15,6,(ROW(Table2[FPPGroupCode])-2)/(Table2[DepoName]=$C$2)/(IF($C$3<>\"\",Table2[BULAN]=$C$3,TRUE))/(IF($C$4<>\"\",Table2[OFF/ON]=$C$4,TRUE))/(IF($C$5<>\"\",Table2[Status]=$C$5,TRUE))/(IF($C$6<>\"\",Table2[FPPDate]=$C$6,TRUE))/(IF($C$7<>\"\",Table2[ProposalCode]=$C$7,TRUE)),ROW(A328))),\"\")","v":""},{"$f":"IFERROR(VLOOKUP($B336,SIP!$D$3:$Q$12237,14,0),0)","v":0},{"$f":"IFERROR(INDEX(Table2[Activity],_xlfn.AGGREGATE(15,6,(ROW(Table2[FPPGroupCode])-2)/(Table2[DepoName]=$C$2)/(IF($C$3<>\"\",Table2[BULAN]=$C$3,TRUE))/(IF($C$4<>\"\",Table2[OFF/ON]=$C$4,TRUE))/(IF($C$5<>\"\",Table2[Status]=$C$5,TRUE))/(IF($C$6<>\"\",Table2[]=$C$6,TRUE))/(IF($C$7<>\"\",Table2[ProposalCode]=$C$7,TRUE)),ROW(B328))),\"\")","v":""},{"$f":"IFERROR(INDEX(Table2[Location],_xlfn.AGGREGATE(15,6,(ROW(Table2[FPPGroupCode])-2)/(Table2[DepoName]=$C$2)/(IF($C$3<>\"\",Table2[BULAN]=$C$3,TRUE))/(IF($C$4<>\"\",Table2[OFF/ON]=$C$4,TRUE))/(IF($C$5<>\"\",Table2[Status]=$C$5,TRUE))/(IF($C$6<>\"\",Table2[FPPDate]=$C$6,TRUE))/(IF($C$7<>\"\",Table2[ProposalCode]=$C$7,TRUE)),ROW(D328))),\"\")","v":""},{"$f":"IFERROR(INDEX(Table2[PeriodeStart],_xlfn.AGGREGATE(15,6,(ROW(Table2[FPPGroupCode])-2)/(Table2[DepoName]=$C$2)/(IF($C$3<>\"\",Table2[BULAN]=$C$3,TRUE))/(IF($C$4<>\"\",Table2[OFF/ON]=$C$4,TRUE))/(IF($C$5<>\"\",Table2[Status]=$C$5,TRUE))/(IF($C$6<>\"\",Table2[FPPDate]=$C$6,TRUE))/(IF($C$7<>\"\",Table2[ProposalCode]=$C$7,TRUE)),ROW(E328))),\"\")","v":""},{"$f":"IFERROR(INDEX(Table2[PeriodeEnd],_xlfn.AGGREGATE(15,6,(ROW(Table2[FPPGroupCode])-2)/(Table2[DepoName]=$C$2)/(IF($C$3<>\"\",Table2[BULAN]=$C$3,TRUE))/(IF($C$4<>\"\",Table2[OFF/ON]=$C$4,TRUE))/(IF($C$5<>\"\",Table2[Status]=$C$5,TRUE))/(IF($C$6<>\"\",Table2[FPPDate]=$C$6,TRUE))/(IF($C$7<>\"\",Table2[ProposalCode]=$C$7,TRUE)),ROW(F328))),\"\")","v":""},{"$f":"IFERROR(INDEX(Table2[Amount_FPPDepo],_xlfn.AGGREGATE(15,6,(ROW(Table2[FPPGroupCode])-2)/(Table2[DepoName]=$C$2)/(IF($C$3<>\"\",Table2[BULAN]=$C$3,TRUE))/(IF($C$4<>\"\",Table2[OFF/ON]=$C$4,TRUE))/(IF($C$5<>\"\",Table2[Status]=$C$5,TRUE))/(IF($C$6<>\"\",Table2[FPPDate]=$C$6,TRUE))/(IF($C$7<>\"\",Table2[ProposalCode]=$C$7,TRUE)),ROW(G328))),\"\")","v":""},{"$f":"IFERROR(VLOOKUP($B336,SIP!$D$5776:$P$6032,12,0),0)","v":0},{"$f":"IFERROR(H336-I336,0)","v":0},{"$f":"IFERROR(VLOOKUP($B336,SIP!$D$5776:$P$6032,8,0),0)","v":0},{"$f":"IFERROR(INDEX(Table2[OFF/ON],_xlfn.AGGREGATE(15,6,(ROW(Table2[FPPGroupCode])-2)/(Table2[DepoName]=$C$2)/(IF($C$3<>\"\",Table2[BULAN]=$C$3,TRUE))/(IF($C$4<>\"\",Table2[OFF/ON]=$C$4,TRUE))/(IF($C$5<>\"\",Table2[Status]=$C$5,TRUE))/(IF($C$6<>\"\",Table2[FPPDate]=$C$6,TRUE))/(IF($C$7<>\"\",Table2[ProposalCode]=$C$7,TRUE)),ROW(K328))),\"\")","v":""}]
[{"$f":"IF(LEN($B337),ROW(A329),\"\")","v":""},{"$f":"IFERROR(INDEX(Table2[FPPGroupCode],_xlfn.AGGREGATE(15,6,(ROW(Table2[FPPGroupCode])-2)/(Table2[DepoName]=$C$2)/(IF($C$3<>\"\",Table2[BULAN]=$C$3,TRUE))/(IF($C$4<>\"\",Table2[OFF/ON]=$C$4,TRUE))/(IF($C$5<>\"\",Table2[Status]=$C$5,TRUE))/(IF($C$6<>\"\",Table2[FPPDate]=$C$6,TRUE))/(IF($C$7<>\"\",Table2[ProposalCode]=$C$7,TRUE)),ROW(A329))),\"\")","v":""},{"$f":"IFERROR(VLOOKUP($B337,SIP!$D$3:$Q$12237,14,0),0)","v":0},{"$f":"IFERROR(INDEX(Table2[Activity],_xlfn.AGGREGATE(15,6,(ROW(Table2[FPPGroupCode])-2)/(Table2[DepoName]=$C$2)/(IF($C$3<>\"\",Table2[BULAN]=$C$3,TRUE))/(IF($C$4<>\"\",Table2[OFF/ON]=$C$4,TRUE))/(IF($C$5<>\"\",Table2[Status]=$C$5,TRUE))/(IF($C$6<>\"\",Table2[]=$C$6,TRUE))/(IF($C$7<>\"\",Table2[ProposalCode]=$C$7,TRUE)),ROW(B329))),\"\")","v":""},{"$f":"IFERROR(INDEX(Table2[Location],_xlfn.AGGREGATE(15,6,(ROW(Table2[FPPGroupCode])-2)/(Table2[DepoName]=$C$2)/(IF($C$3<>\"\",Table2[BULAN]=$C$3,TRUE))/(IF($C$4<>\"\",Table2[OFF/ON]=$C$4,TRUE))/(IF($C$5<>\"\",Table2[Status]=$C$5,TRUE))/(IF($C$6<>\"\",Table2[FPPDate]=$C$6,TRUE))/(IF($C$7<>\"\",Table2[ProposalCode]=$C$7,TRUE)),ROW(D329))),\"\")","v":""},{"$f":"IFERROR(INDEX(Table2[PeriodeStart],_xlfn.AGGREGATE(15,6,(ROW(Table2[FPPGroupCode])-2)/(Table2[DepoName]=$C$2)/(IF($C$3<>\"\",Table2[BULAN]=$C$3,TRUE))/(IF($C$4<>\"\",Table2[OFF/ON]=$C$4,TRUE))/(IF($C$5<>\"\",Table2[Status]=$C$5,TRUE))/(IF($C$6<>\"\",Table2[FPPDate]=$C$6,TRUE))/(IF($C$7<>\"\",Table2[ProposalCode]=$C$7,TRUE)),ROW(E329))),\"\")","v":""},{"$f":"IFERROR(INDEX(Table2[PeriodeEnd],_xlfn.AGGREGATE(15,6,(ROW(Table2[FPPGroupCode])-2)/(Table2[DepoName]=$C$2)/(IF($C$3<>\"\",Table2[BULAN]=$C$3,TRUE))/(IF($C$4<>\"\",Table2[OFF/ON]=$C$4,TRUE))/(IF($C$5<>\"\",Table2[Status]=$C$5,TRUE))/(IF($C$6<>\"\",Table2[FPPDate]=$C$6,TRUE))/(IF($C$7<>\"\",Table2[ProposalCode]=$C$7,TRUE)),ROW(F329))),\"\")","v":""},{"$f":"IFERROR(INDEX(Table2[Amount_FPPDepo],_xlfn.AGGREGATE(15,6,(ROW(Table2[FPPGroupCode])-2)/(Table2[DepoName]=$C$2)/(IF($C$3<>\"\",Table2[BULAN]=$C$3,TRUE))/(IF($C$4<>\"\",Table2[OFF/ON]=$C$4,TRUE))/(IF($C$5<>\"\",Table2[Status]=$C$5,TRUE))/(IF($C$6<>\"\",Table2[FPPDate]=$C$6,TRUE))/(IF($C$7<>\"\",Table2[ProposalCode]=$C$7,TRUE)),ROW(G329))),\"\")","v":""},{"$f":"IFERROR(VLOOKUP($B337,SIP!$D$5776:$P$6032,12,0),0)","v":0},{"$f":"IFERROR(H337-I337,0)","v":0},{"$f":"IFERROR(VLOOKUP($B337,SIP!$D$5776:$P$6032,8,0),0)","v":0},{"$f":"IFERROR(INDEX(Table2[OFF/ON],_xlfn.AGGREGATE(15,6,(ROW(Table2[FPPGroupCode])-2)/(Table2[DepoName]=$C$2)/(IF($C$3<>\"\",Table2[BULAN]=$C$3,TRUE))/(IF($C$4<>\"\",Table2[OFF/ON]=$C$4,TRUE))/(IF($C$5<>\"\",Table2[Status]=$C$5,TRUE))/(IF($C$6<>\"\",Table2[FPPDate]=$C$6,TRUE))/(IF($C$7<>\"\",Table2[ProposalCode]=$C$7,TRUE)),ROW(K329))),\"\")","v":""}]
[{"$f":"IF(LEN($B338),ROW(A330),\"\")","v":""},{"$f":"IFERROR(INDEX(Table2[FPPGroupCode],_xlfn.AGGREGATE(15,6,(ROW(Table2[FPPGroupCode])-2)/(Table2[DepoName]=$C$2)/(IF($C$3<>\"\",Table2[BULAN]=$C$3,TRUE))/(IF($C$4<>\"\",Table2[OFF/ON]=$C$4,TRUE))/(IF($C$5<>\"\",Table2[Status]=$C$5,TRUE))/(IF($C$6<>\"\",Table2[FPPDate]=$C$6,TRUE))/(IF($C$7<>\"\",Table2[ProposalCode]=$C$7,TRUE)),ROW(A330))),\"\")","v":""},{"$f":"IFERROR(VLOOKUP($B338,SIP!$D$3:$Q$12237,14,0),0)","v":0},{"$f":"IFERROR(INDEX(Table2[Activity],_xlfn.AGGREGATE(15,6,(ROW(Table2[FPPGroupCode])-2)/(Table2[DepoName]=$C$2)/(IF($C$3<>\"\",Table2[BULAN]=$C$3,TRUE))/(IF($C$4<>\"\",Table2[OFF/ON]=$C$4,TRUE))/(IF($C$5<>\"\",Table2[Status]=$C$5,TRUE))/(IF($C$6<>\"\",Table2[]=$C$6,TRUE))/(IF($C$7<>\"\",Table2[ProposalCode]=$C$7,TRUE)),ROW(B330))),\"\")","v":""},{"$f":"IFERROR(INDEX(Table2[Location],_xlfn.AGGREGATE(15,6,(ROW(Table2[FPPGroupCode])-2)/(Table2[DepoName]=$C$2)/(IF($C$3<>\"\",Table2[BULAN]=$C$3,TRUE))/(IF($C$4<>\"\",Table2[OFF/ON]=$C$4,TRUE))/(IF($C$5<>\"\",Table2[Status]=$C$5,TRUE))/(IF($C$6<>\"\",Table2[FPPDate]=$C$6,TRUE))/(IF($C$7<>\"\",Table2[ProposalCode]=$C$7,TRUE)),ROW(D330))),\"\")","v":""},{"$f":"IFERROR(INDEX(Table2[PeriodeStart],_xlfn.AGGREGATE(15,6,(ROW(Table2[FPPGroupCode])-2)/(Table2[DepoName]=$C$2)/(IF($C$3<>\"\",Table2[BULAN]=$C$3,TRUE))/(IF($C$4<>\"\",Table2[OFF/ON]=$C$4,TRUE))/(IF($C$5<>\"\",Table2[Status]=$C$5,TRUE))/(IF($C$6<>\"\",Table2[FPPDate]=$C$6,TRUE))/(IF($C$7<>\"\",Table2[ProposalCode]=$C$7,TRUE)),ROW(E330))),\"\")","v":""},{"$f":"IFERROR(INDEX(Table2[PeriodeEnd],_xlfn.AGGREGATE(15,6,(ROW(Table2[FPPGroupCode])-2)/(Table2[DepoName]=$C$2)/(IF($C$3<>\"\",Table2[BULAN]=$C$3,TRUE))/(IF($C$4<>\"\",Table2[OFF/ON]=$C$4,TRUE))/(IF($C$5<>\"\",Table2[Status]=$C$5,TRUE))/(IF($C$6<>\"\",Table2[FPPDate]=$C$6,TRUE))/(IF($C$7<>\"\",Table2[ProposalCode]=$C$7,TRUE)),ROW(F330))),\"\")","v":""},{"$f":"IFERROR(INDEX(Table2[Amount_FPPDepo],_xlfn.AGGREGATE(15,6,(ROW(Table2[FPPGroupCode])-2)/(Table2[DepoName]=$C$2)/(IF($C$3<>\"\",Table2[BULAN]=$C$3,TRUE))/(IF($C$4<>\"\",Table2[OFF/ON]=$C$4,TRUE))/(IF($C$5<>\"\",Table2[Status]=$C$5,TRUE))/(IF($C$6<>\"\",Table2[FPPDate]=$C$6,TRUE))/(IF($C$7<>\"\",Table2[ProposalCode]=$C$7,TRUE)),ROW(G330))),\"\")","v":""},{"$f":"IFERROR(VLOOKUP($B338,SIP!$D$5776:$P$6032,12,0),0)","v":0},{"$f":"IFERROR(H338-I338,0)","v":0},{"$f":"IFERROR(VLOOKUP($B338,SIP!$D$5776:$P$6032,8,0),0)","v":0},{"$f":"IFERROR(INDEX(Table2[OFF/ON],_xlfn.AGGREGATE(15,6,(ROW(Table2[FPPGroupCode])-2)/(Table2[DepoName]=$C$2)/(IF($C$3<>\"\",Table2[BULAN]=$C$3,TRUE))/(IF($C$4<>\"\",Table2[OFF/ON]=$C$4,TRUE))/(IF($C$5<>\"\",Table2[Status]=$C$5,TRUE))/(IF($C$6<>\"\",Table2[FPPDate]=$C$6,TRUE))/(IF($C$7<>\"\",Table2[ProposalCode]=$C$7,TRUE)),ROW(K330))),\"\")","v":""}]
[{"$f":"IF(LEN($B339),ROW(A331),\"\")","v":""},{"$f":"IFERROR(INDEX(Table2[FPPGroupCode],_xlfn.AGGREGATE(15,6,(ROW(Table2[FPPGroupCode])-2)/(Table2[DepoName]=$C$2)/(IF($C$3<>\"\",Table2[BULAN]=$C$3,TRUE))/(IF($C$4<>\"\",Table2[OFF/ON]=$C$4,TRUE))/(IF($C$5<>\"\",Table2[Status]=$C$5,TRUE))/(IF($C$6<>\"\",Table2[FPPDate]=$C$6,TRUE))/(IF($C$7<>\"\",Table2[ProposalCode]=$C$7,TRUE)),ROW(A331))),\"\")","v":""},{"$f":"IFERROR(VLOOKUP($B339,SIP!$D$3:$Q$12237,14,0),0)","v":0},{"$f":"IFERROR(INDEX(Table2[Activity],_xlfn.AGGREGATE(15,6,(ROW(Table2[FPPGroupCode])-2)/(Table2[DepoName]=$C$2)/(IF($C$3<>\"\",Table2[BULAN]=$C$3,TRUE))/(IF($C$4<>\"\",Table2[OFF/ON]=$C$4,TRUE))/(IF($C$5<>\"\",Table2[Status]=$C$5,TRUE))/(IF($C$6<>\"\",Table2[]=$C$6,TRUE))/(IF($C$7<>\"\",Table2[ProposalCode]=$C$7,TRUE)),ROW(B331))),\"\")","v":""},{"$f":"IFERROR(INDEX(Table2[Location],_xlfn.AGGREGATE(15,6,(ROW(Table2[FPPGroupCode])-2)/(Table2[DepoName]=$C$2)/(IF($C$3<>\"\",Table2[BULAN]=$C$3,TRUE))/(IF($C$4<>\"\",Table2[OFF/ON]=$C$4,TRUE))/(IF($C$5<>\"\",Table2[Status]=$C$5,TRUE))/(IF($C$6<>\"\",Table2[FPPDate]=$C$6,TRUE))/(IF($C$7<>\"\",Table2[ProposalCode]=$C$7,TRUE)),ROW(D331))),\"\")","v":""},{"$f":"IFERROR(INDEX(Table2[PeriodeStart],_xlfn.AGGREGATE(15,6,(ROW(Table2[FPPGroupCode])-2)/(Table2[DepoName]=$C$2)/(IF($C$3<>\"\",Table2[BULAN]=$C$3,TRUE))/(IF($C$4<>\"\",Table2[OFF/ON]=$C$4,TRUE))/(IF($C$5<>\"\",Table2[Status]=$C$5,TRUE))/(IF($C$6<>\"\",Table2[FPPDate]=$C$6,TRUE))/(IF($C$7<>\"\",Table2[ProposalCode]=$C$7,TRUE)),ROW(E331))),\"\")","v":""},{"$f":"IFERROR(INDEX(Table2[PeriodeEnd],_xlfn.AGGREGATE(15,6,(ROW(Table2[FPPGroupCode])-2)/(Table2[DepoName]=$C$2)/(IF($C$3<>\"\",Table2[BULAN]=$C$3,TRUE))/(IF($C$4<>\"\",Table2[OFF/ON]=$C$4,TRUE))/(IF($C$5<>\"\",Table2[Status]=$C$5,TRUE))/(IF($C$6<>\"\",Table2[FPPDate]=$C$6,TRUE))/(IF($C$7<>\"\",Table2[ProposalCode]=$C$7,TRUE)),ROW(F331))),\"\")","v":""},{"$f":"IFERROR(INDEX(Table2[Amount_FPPDepo],_xlfn.AGGREGATE(15,6,(ROW(Table2[FPPGroupCode])-2)/(Table2[DepoName]=$C$2)/(IF($C$3<>\"\",Table2[BULAN]=$C$3,TRUE))/(IF($C$4<>\"\",Table2[OFF/ON]=$C$4,TRUE))/(IF($C$5<>\"\",Table2[Status]=$C$5,TRUE))/(IF($C$6<>\"\",Table2[FPPDate]=$C$6,TRUE))/(IF($C$7<>\"\",Table2[ProposalCode]=$C$7,TRUE)),ROW(G331))),\"\")","v":""},{"$f":"IFERROR(VLOOKUP($B339,SIP!$D$5776:$P$6032,12,0),0)","v":0},{"$f":"IFERROR(H339-I339,0)","v":0},{"$f":"IFERROR(VLOOKUP($B339,SIP!$D$5776:$P$6032,8,0),0)","v":0},{"$f":"IFERROR(INDEX(Table2[OFF/ON],_xlfn.AGGREGATE(15,6,(ROW(Table2[FPPGroupCode])-2)/(Table2[DepoName]=$C$2)/(IF($C$3<>\"\",Table2[BULAN]=$C$3,TRUE))/(IF($C$4<>\"\",Table2[OFF/ON]=$C$4,TRUE))/(IF($C$5<>\"\",Table2[Status]=$C$5,TRUE))/(IF($C$6<>\"\",Table2[FPPDate]=$C$6,TRUE))/(IF($C$7<>\"\",Table2[ProposalCode]=$C$7,TRUE)),ROW(K331))),\"\")","v":""}]
[{"$f":"IF(LEN($B340),ROW(A332),\"\")","v":""},{"$f":"IFERROR(INDEX(Table2[FPPGroupCode],_xlfn.AGGREGATE(15,6,(ROW(Table2[FPPGroupCode])-2)/(Table2[DepoName]=$C$2)/(IF($C$3<>\"\",Table2[BULAN]=$C$3,TRUE))/(IF($C$4<>\"\",Table2[OFF/ON]=$C$4,TRUE))/(IF($C$5<>\"\",Table2[Status]=$C$5,TRUE))/(IF($C$6<>\"\",Table2[FPPDate]=$C$6,TRUE))/(IF($C$7<>\"\",Table2[ProposalCode]=$C$7,TRUE)),ROW(A332))),\"\")","v":""},{"$f":"IFERROR(VLOOKUP($B340,SIP!$D$3:$Q$12237,14,0),0)","v":0},{"$f":"IFERROR(INDEX(Table2[Activity],_xlfn.AGGREGATE(15,6,(ROW(Table2[FPPGroupCode])-2)/(Table2[DepoName]=$C$2)/(IF($C$3<>\"\",Table2[BULAN]=$C$3,TRUE))/(IF($C$4<>\"\",Table2[OFF/ON]=$C$4,TRUE))/(IF($C$5<>\"\",Table2[Status]=$C$5,TRUE))/(IF($C$6<>\"\",Table2[]=$C$6,TRUE))/(IF($C$7<>\"\",Table2[ProposalCode]=$C$7,TRUE)),ROW(B332))),\"\")","v":""},{"$f":"IFERROR(INDEX(Table2[Location],_xlfn.AGGREGATE(15,6,(ROW(Table2[FPPGroupCode])-2)/(Table2[DepoName]=$C$2)/(IF($C$3<>\"\",Table2[BULAN]=$C$3,TRUE))/(IF($C$4<>\"\",Table2[OFF/ON]=$C$4,TRUE))/(IF($C$5<>\"\",Table2[Status]=$C$5,TRUE))/(IF($C$6<>\"\",Table2[FPPDate]=$C$6,TRUE))/(IF($C$7<>\"\",Table2[ProposalCode]=$C$7,TRUE)),ROW(D332))),\"\")","v":""},{"$f":"IFERROR(INDEX(Table2[PeriodeStart],_xlfn.AGGREGATE(15,6,(ROW(Table2[FPPGroupCode])-2)/(Table2[DepoName]=$C$2)/(IF($C$3<>\"\",Table2[BULAN]=$C$3,TRUE))/(IF($C$4<>\"\",Table2[OFF/ON]=$C$4,TRUE))/(IF($C$5<>\"\",Table2[Status]=$C$5,TRUE))/(IF($C$6<>\"\",Table2[FPPDate]=$C$6,TRUE))/(IF($C$7<>\"\",Table2[ProposalCode]=$C$7,TRUE)),ROW(E332))),\"\")","v":""},{"$f":"IFERROR(INDEX(Table2[PeriodeEnd],_xlfn.AGGREGATE(15,6,(ROW(Table2[FPPGroupCode])-2)/(Table2[DepoName]=$C$2)/(IF($C$3<>\"\",Table2[BULAN]=$C$3,TRUE))/(IF($C$4<>\"\",Table2[OFF/ON]=$C$4,TRUE))/(IF($C$5<>\"\",Table2[Status]=$C$5,TRUE))/(IF($C$6<>\"\",Table2[FPPDate]=$C$6,TRUE))/(IF($C$7<>\"\",Table2[ProposalCode]=$C$7,TRUE)),ROW(F332))),\"\")","v":""},{"$f":"IFERROR(INDEX(Table2[Amount_FPPDepo],_xlfn.AGGREGATE(15,6,(ROW(Table2[FPPGroupCode])-2)/(Table2[DepoName]=$C$2)/(IF($C$3<>\"\",Table2[BULAN]=$C$3,TRUE))/(IF($C$4<>\"\",Table2[OFF/ON]=$C$4,TRUE))/(IF($C$5<>\"\",Table2[Status]=$C$5,TRUE))/(IF($C$6<>\"\",Table2[FPPDate]=$C$6,TRUE))/(IF($C$7<>\"\",Table2[ProposalCode]=$C$7,TRUE)),ROW(G332))),\"\")","v":""},{"$f":"IFERROR(VLOOKUP($B340,SIP!$D$5776:$P$6032,12,0),0)","v":0},{"$f":"IFERROR(H340-I340,0)","v":0},{"$f":"IFERROR(VLOOKUP($B340,SIP!$D$5776:$P$6032,8,0),0)","v":0},{"$f":"IFERROR(INDEX(Table2[OFF/ON],_xlfn.AGGREGATE(15,6,(ROW(Table2[FPPGroupCode])-2)/(Table2[DepoName]=$C$2)/(IF($C$3<>\"\",Table2[BULAN]=$C$3,TRUE))/(IF($C$4<>\"\",Table2[OFF/ON]=$C$4,TRUE))/(IF($C$5<>\"\",Table2[Status]=$C$5,TRUE))/(IF($C$6<>\"\",Table2[FPPDate]=$C$6,TRUE))/(IF($C$7<>\"\",Table2[ProposalCode]=$C$7,TRUE)),ROW(K332))),\"\")","v":""}]
[{"$f":"IF(LEN($B341),ROW(A333),\"\")","v":""},{"$f":"IFERROR(INDEX(Table2[FPPGroupCode],_xlfn.AGGREGATE(15,6,(ROW(Table2[FPPGroupCode])-2)/(Table2[DepoName]=$C$2)/(IF($C$3<>\"\",Table2[BULAN]=$C$3,TRUE))/(IF($C$4<>\"\",Table2[OFF/ON]=$C$4,TRUE))/(IF($C$5<>\"\",Table2[Status]=$C$5,TRUE))/(IF($C$6<>\"\",Table2[FPPDate]=$C$6,TRUE))/(IF($C$7<>\"\",Table2[ProposalCode]=$C$7,TRUE)),ROW(A333))),\"\")","v":""},{"$f":"IFERROR(VLOOKUP($B341,SIP!$D$3:$Q$12237,14,0),0)","v":0},{"$f":"IFERROR(INDEX(Table2[Activity],_xlfn.AGGREGATE(15,6,(ROW(Table2[FPPGroupCode])-2)/(Table2[DepoName]=$C$2)/(IF($C$3<>\"\",Table2[BULAN]=$C$3,TRUE))/(IF($C$4<>\"\",Table2[OFF/ON]=$C$4,TRUE))/(IF($C$5<>\"\",Table2[Status]=$C$5,TRUE))/(IF($C$6<>\"\",Table2[]=$C$6,TRUE))/(IF($C$7<>\"\",Table2[ProposalCode]=$C$7,TRUE)),ROW(B333))),\"\")","v":""},{"$f":"IFERROR(INDEX(Table2[Location],_xlfn.AGGREGATE(15,6,(ROW(Table2[FPPGroupCode])-2)/(Table2[DepoName]=$C$2)/(IF($C$3<>\"\",Table2[BULAN]=$C$3,TRUE))/(IF($C$4<>\"\",Table2[OFF/ON]=$C$4,TRUE))/(IF($C$5<>\"\",Table2[Status]=$C$5,TRUE))/(IF($C$6<>\"\",Table2[FPPDate]=$C$6,TRUE))/(IF($C$7<>\"\",Table2[ProposalCode]=$C$7,TRUE)),ROW(D333))),\"\")","v":""},{"$f":"IFERROR(INDEX(Table2[PeriodeStart],_xlfn.AGGREGATE(15,6,(ROW(Table2[FPPGroupCode])-2)/(Table2[DepoName]=$C$2)/(IF($C$3<>\"\",Table2[BULAN]=$C$3,TRUE))/(IF($C$4<>\"\",Table2[OFF/ON]=$C$4,TRUE))/(IF($C$5<>\"\",Table2[Status]=$C$5,TRUE))/(IF($C$6<>\"\",Table2[FPPDate]=$C$6,TRUE))/(IF($C$7<>\"\",Table2[ProposalCode]=$C$7,TRUE)),ROW(E333))),\"\")","v":""},{"$f":"IFERROR(INDEX(Table2[PeriodeEnd],_xlfn.AGGREGATE(15,6,(ROW(Table2[FPPGroupCode])-2)/(Table2[DepoName]=$C$2)/(IF($C$3<>\"\",Table2[BULAN]=$C$3,TRUE))/(IF($C$4<>\"\",Table2[OFF/ON]=$C$4,TRUE))/(IF($C$5<>\"\",Table2[Status]=$C$5,TRUE))/(IF($C$6<>\"\",Table2[FPPDate]=$C$6,TRUE))/(IF($C$7<>\"\",Table2[ProposalCode]=$C$7,TRUE)),ROW(F333))),\"\")","v":""},{"$f":"IFERROR(INDEX(Table2[Amount_FPPDepo],_xlfn.AGGREGATE(15,6,(ROW(Table2[FPPGroupCode])-2)/(Table2[DepoName]=$C$2)/(IF($C$3<>\"\",Table2[BULAN]=$C$3,TRUE))/(IF($C$4<>\"\",Table2[OFF/ON]=$C$4,TRUE))/(IF($C$5<>\"\",Table2[Status]=$C$5,TRUE))/(IF($C$6<>\"\",Table2[FPPDate]=$C$6,TRUE))/(IF($C$7<>\"\",Table2[ProposalCode]=$C$7,TRUE)),ROW(G333))),\"\")","v":""},{"$f":"IFERROR(VLOOKUP($B341,SIP!$D$5776:$P$6032,12,0),0)","v":0},{"$f":"IFERROR(H341-I341,0)","v":0},{"$f":"IFERROR(VLOOKUP($B341,SIP!$D$5776:$P$6032,8,0),0)","v":0},{"$f":"IFERROR(INDEX(Table2[OFF/ON],_xlfn.AGGREGATE(15,6,(ROW(Table2[FPPGroupCode])-2)/(Table2[DepoName]=$C$2)/(IF($C$3<>\"\",Table2[BULAN]=$C$3,TRUE))/(IF($C$4<>\"\",Table2[OFF/ON]=$C$4,TRUE))/(IF($C$5<>\"\",Table2[Status]=$C$5,TRUE))/(IF($C$6<>\"\",Table2[FPPDate]=$C$6,TRUE))/(IF($C$7<>\"\",Table2[ProposalCode]=$C$7,TRUE)),ROW(K333))),\"\")","v":""}]
[{"$f":"IF(LEN($B342),ROW(A334),\"\")","v":""},{"$f":"IFERROR(INDEX(Table2[FPPGroupCode],_xlfn.AGGREGATE(15,6,(ROW(Table2[FPPGroupCode])-2)/(Table2[DepoName]=$C$2)/(IF($C$3<>\"\",Table2[BULAN]=$C$3,TRUE))/(IF($C$4<>\"\",Table2[OFF/ON]=$C$4,TRUE))/(IF($C$5<>\"\",Table2[Status]=$C$5,TRUE))/(IF($C$6<>\"\",Table2[FPPDate]=$C$6,TRUE))/(IF($C$7<>\"\",Table2[ProposalCode]=$C$7,TRUE)),ROW(A334))),\"\")","v":""},{"$f":"IFERROR(VLOOKUP($B342,SIP!$D$3:$Q$12237,14,0),0)","v":0},{"$f":"IFERROR(INDEX(Table2[Activity],_xlfn.AGGREGATE(15,6,(ROW(Table2[FPPGroupCode])-2)/(Table2[DepoName]=$C$2)/(IF($C$3<>\"\",Table2[BULAN]=$C$3,TRUE))/(IF($C$4<>\"\",Table2[OFF/ON]=$C$4,TRUE))/(IF($C$5<>\"\",Table2[Status]=$C$5,TRUE))/(IF($C$6<>\"\",Table2[]=$C$6,TRUE))/(IF($C$7<>\"\",Table2[ProposalCode]=$C$7,TRUE)),ROW(B334))),\"\")","v":""},{"$f":"IFERROR(INDEX(Table2[Location],_xlfn.AGGREGATE(15,6,(ROW(Table2[FPPGroupCode])-2)/(Table2[DepoName]=$C$2)/(IF($C$3<>\"\",Table2[BULAN]=$C$3,TRUE))/(IF($C$4<>\"\",Table2[OFF/ON]=$C$4,TRUE))/(IF($C$5<>\"\",Table2[Status]=$C$5,TRUE))/(IF($C$6<>\"\",Table2[FPPDate]=$C$6,TRUE))/(IF($C$7<>\"\",Table2[ProposalCode]=$C$7,TRUE)),ROW(D334))),\"\")","v":""},{"$f":"IFERROR(INDEX(Table2[PeriodeStart],_xlfn.AGGREGATE(15,6,(ROW(Table2[FPPGroupCode])-2)/(Table2[DepoName]=$C$2)/(IF($C$3<>\"\",Table2[BULAN]=$C$3,TRUE))/(IF($C$4<>\"\",Table2[OFF/ON]=$C$4,TRUE))/(IF($C$5<>\"\",Table2[Status]=$C$5,TRUE))/(IF($C$6<>\"\",Table2[FPPDate]=$C$6,TRUE))/(IF($C$7<>\"\",Table2[ProposalCode]=$C$7,TRUE)),ROW(E334))),\"\")","v":""},{"$f":"IFERROR(INDEX(Table2[PeriodeEnd],_xlfn.AGGREGATE(15,6,(ROW(Table2[FPPGroupCode])-2)/(Table2[DepoName]=$C$2)/(IF($C$3<>\"\",Table2[BULAN]=$C$3,TRUE))/(IF($C$4<>\"\",Table2[OFF/ON]=$C$4,TRUE))/(IF($C$5<>\"\",Table2[Status]=$C$5,TRUE))/(IF($C$6<>\"\",Table2[FPPDate]=$C$6,TRUE))/(IF($C$7<>\"\",Table2[ProposalCode]=$C$7,TRUE)),ROW(F334))),\"\")","v":""},{"$f":"IFERROR(INDEX(Table2[Amount_FPPDepo],_xlfn.AGGREGATE(15,6,(ROW(Table2[FPPGroupCode])-2)/(Table2[DepoName]=$C$2)/(IF($C$3<>\"\",Table2[BULAN]=$C$3,TRUE))/(IF($C$4<>\"\",Table2[OFF/ON]=$C$4,TRUE))/(IF($C$5<>\"\",Table2[Status]=$C$5,TRUE))/(IF($C$6<>\"\",Table2[FPPDate]=$C$6,TRUE))/(IF($C$7<>\"\",Table2[ProposalCode]=$C$7,TRUE)),ROW(G334))),\"\")","v":""},{"$f":"IFERROR(VLOOKUP($B342,SIP!$D$5776:$P$6032,12,0),0)","v":0},{"$f":"IFERROR(H342-I342,0)","v":0},{"$f":"IFERROR(VLOOKUP($B342,SIP!$D$5776:$P$6032,8,0),0)","v":0},{"$f":"IFERROR(INDEX(Table2[OFF/ON],_xlfn.AGGREGATE(15,6,(ROW(Table2[FPPGroupCode])-2)/(Table2[DepoName]=$C$2)/(IF($C$3<>\"\",Table2[BULAN]=$C$3,TRUE))/(IF($C$4<>\"\",Table2[OFF/ON]=$C$4,TRUE))/(IF($C$5<>\"\",Table2[Status]=$C$5,TRUE))/(IF($C$6<>\"\",Table2[FPPDate]=$C$6,TRUE))/(IF($C$7<>\"\",Table2[ProposalCode]=$C$7,TRUE)),ROW(K334))),\"\")","v":""}]
[{"$f":"IF(LEN($B343),ROW(A335),\"\")","v":""},{"$f":"IFERROR(INDEX(Table2[FPPGroupCode],_xlfn.AGGREGATE(15,6,(ROW(Table2[FPPGroupCode])-2)/(Table2[DepoName]=$C$2)/(IF($C$3<>\"\",Table2[BULAN]=$C$3,TRUE))/(IF($C$4<>\"\",Table2[OFF/ON]=$C$4,TRUE))/(IF($C$5<>\"\",Table2[Status]=$C$5,TRUE))/(IF($C$6<>\"\",Table2[FPPDate]=$C$6,TRUE))/(IF($C$7<>\"\",Table2[ProposalCode]=$C$7,TRUE)),ROW(A335))),\"\")","v":""},{"$f":"IFERROR(VLOOKUP($B343,SIP!$D$3:$Q$12237,14,0),0)","v":0},{"$f":"IFERROR(INDEX(Table2[Activity],_xlfn.AGGREGATE(15,6,(ROW(Table2[FPPGroupCode])-2)/(Table2[DepoName]=$C$2)/(IF($C$3<>\"\",Table2[BULAN]=$C$3,TRUE))/(IF($C$4<>\"\",Table2[OFF/ON]=$C$4,TRUE))/(IF($C$5<>\"\",Table2[Status]=$C$5,TRUE))/(IF($C$6<>\"\",Table2[]=$C$6,TRUE))/(IF($C$7<>\"\",Table2[ProposalCode]=$C$7,TRUE)),ROW(B335))),\"\")","v":""},{"$f":"IFERROR(INDEX(Table2[Location],_xlfn.AGGREGATE(15,6,(ROW(Table2[FPPGroupCode])-2)/(Table2[DepoName]=$C$2)/(IF($C$3<>\"\",Table2[BULAN]=$C$3,TRUE))/(IF($C$4<>\"\",Table2[OFF/ON]=$C$4,TRUE))/(IF($C$5<>\"\",Table2[Status]=$C$5,TRUE))/(IF($C$6<>\"\",Table2[FPPDate]=$C$6,TRUE))/(IF($C$7<>\"\",Table2[ProposalCode]=$C$7,TRUE)),ROW(D335))),\"\")","v":""},{"$f":"IFERROR(INDEX(Table2[PeriodeStart],_xlfn.AGGREGATE(15,6,(ROW(Table2[FPPGroupCode])-2)/(Table2[DepoName]=$C$2)/(IF($C$3<>\"\",Table2[BULAN]=$C$3,TRUE))/(IF($C$4<>\"\",Table2[OFF/ON]=$C$4,TRUE))/(IF($C$5<>\"\",Table2[Status]=$C$5,TRUE))/(IF($C$6<>\"\",Table2[FPPDate]=$C$6,TRUE))/(IF($C$7<>\"\",Table2[ProposalCode]=$C$7,TRUE)),ROW(E335))),\"\")","v":""},{"$f":"IFERROR(INDEX(Table2[PeriodeEnd],_xlfn.AGGREGATE(15,6,(ROW(Table2[FPPGroupCode])-2)/(Table2[DepoName]=$C$2)/(IF($C$3<>\"\",Table2[BULAN]=$C$3,TRUE))/(IF($C$4<>\"\",Table2[OFF/ON]=$C$4,TRUE))/(IF($C$5<>\"\",Table2[Status]=$C$5,TRUE))/(IF($C$6<>\"\",Table2[FPPDate]=$C$6,TRUE))/(IF($C$7<>\"\",Table2[ProposalCode]=$C$7,TRUE)),ROW(F335))),\"\")","v":""},{"$f":"IFERROR(INDEX(Table2[Amount_FPPDepo],_xlfn.AGGREGATE(15,6,(ROW(Table2[FPPGroupCode])-2)/(Table2[DepoName]=$C$2)/(IF($C$3<>\"\",Table2[BULAN]=$C$3,TRUE))/(IF($C$4<>\"\",Table2[OFF/ON]=$C$4,TRUE))/(IF($C$5<>\"\",Table2[Status]=$C$5,TRUE))/(IF($C$6<>\"\",Table2[FPPDate]=$C$6,TRUE))/(IF($C$7<>\"\",Table2[ProposalCode]=$C$7,TRUE)),ROW(G335))),\"\")","v":""},{"$f":"IFERROR(VLOOKUP($B343,SIP!$D$5776:$P$6032,12,0),0)","v":0},{"$f":"IFERROR(H343-I343,0)","v":0},{"$f":"IFERROR(VLOOKUP($B343,SIP!$D$5776:$P$6032,8,0),0)","v":0},{"$f":"IFERROR(INDEX(Table2[OFF/ON],_xlfn.AGGREGATE(15,6,(ROW(Table2[FPPGroupCode])-2)/(Table2[DepoName]=$C$2)/(IF($C$3<>\"\",Table2[BULAN]=$C$3,TRUE))/(IF($C$4<>\"\",Table2[OFF/ON]=$C$4,TRUE))/(IF($C$5<>\"\",Table2[Status]=$C$5,TRUE))/(IF($C$6<>\"\",Table2[FPPDate]=$C$6,TRUE))/(IF($C$7<>\"\",Table2[ProposalCode]=$C$7,TRUE)),ROW(K335))),\"\")","v":""}]
[{"$f":"IF(LEN($B344),ROW(A336),\"\")","v":""},{"$f":"IFERROR(INDEX(Table2[FPPGroupCode],_xlfn.AGGREGATE(15,6,(ROW(Table2[FPPGroupCode])-2)/(Table2[DepoName]=$C$2)/(IF($C$3<>\"\",Table2[BULAN]=$C$3,TRUE))/(IF($C$4<>\"\",Table2[OFF/ON]=$C$4,TRUE))/(IF($C$5<>\"\",Table2[Status]=$C$5,TRUE))/(IF($C$6<>\"\",Table2[FPPDate]=$C$6,TRUE))/(IF($C$7<>\"\",Table2[ProposalCode]=$C$7,TRUE)),ROW(A336))),\"\")","v":""},{"$f":"IFERROR(VLOOKUP($B344,SIP!$D$3:$Q$12237,14,0),0)","v":0},{"$f":"IFERROR(INDEX(Table2[Activity],_xlfn.AGGREGATE(15,6,(ROW(Table2[FPPGroupCode])-2)/(Table2[DepoName]=$C$2)/(IF($C$3<>\"\",Table2[BULAN]=$C$3,TRUE))/(IF($C$4<>\"\",Table2[OFF/ON]=$C$4,TRUE))/(IF($C$5<>\"\",Table2[Status]=$C$5,TRUE))/(IF($C$6<>\"\",Table2[]=$C$6,TRUE))/(IF($C$7<>\"\",Table2[ProposalCode]=$C$7,TRUE)),ROW(B336))),\"\")","v":""},{"$f":"IFERROR(INDEX(Table2[Location],_xlfn.AGGREGATE(15,6,(ROW(Table2[FPPGroupCode])-2)/(Table2[DepoName]=$C$2)/(IF($C$3<>\"\",Table2[BULAN]=$C$3,TRUE))/(IF($C$4<>\"\",Table2[OFF/ON]=$C$4,TRUE))/(IF($C$5<>\"\",Table2[Status]=$C$5,TRUE))/(IF($C$6<>\"\",Table2[FPPDate]=$C$6,TRUE))/(IF($C$7<>\"\",Table2[ProposalCode]=$C$7,TRUE)),ROW(D336))),\"\")","v":""},{"$f":"IFERROR(INDEX(Table2[PeriodeStart],_xlfn.AGGREGATE(15,6,(ROW(Table2[FPPGroupCode])-2)/(Table2[DepoName]=$C$2)/(IF($C$3<>\"\",Table2[BULAN]=$C$3,TRUE))/(IF($C$4<>\"\",Table2[OFF/ON]=$C$4,TRUE))/(IF($C$5<>\"\",Table2[Status]=$C$5,TRUE))/(IF($C$6<>\"\",Table2[FPPDate]=$C$6,TRUE))/(IF($C$7<>\"\",Table2[ProposalCode]=$C$7,TRUE)),ROW(E336))),\"\")","v":""},{"$f":"IFERROR(INDEX(Table2[PeriodeEnd],_xlfn.AGGREGATE(15,6,(ROW(Table2[FPPGroupCode])-2)/(Table2[DepoName]=$C$2)/(IF($C$3<>\"\",Table2[BULAN]=$C$3,TRUE))/(IF($C$4<>\"\",Table2[OFF/ON]=$C$4,TRUE))/(IF($C$5<>\"\",Table2[Status]=$C$5,TRUE))/(IF($C$6<>\"\",Table2[FPPDate]=$C$6,TRUE))/(IF($C$7<>\"\",Table2[ProposalCode]=$C$7,TRUE)),ROW(F336))),\"\")","v":""},{"$f":"IFERROR(INDEX(Table2[Amount_FPPDepo],_xlfn.AGGREGATE(15,6,(ROW(Table2[FPPGroupCode])-2)/(Table2[DepoName]=$C$2)/(IF($C$3<>\"\",Table2[BULAN]=$C$3,TRUE))/(IF($C$4<>\"\",Table2[OFF/ON]=$C$4,TRUE))/(IF($C$5<>\"\",Table2[Status]=$C$5,TRUE))/(IF($C$6<>\"\",Table2[FPPDate]=$C$6,TRUE))/(IF($C$7<>\"\",Table2[ProposalCode]=$C$7,TRUE)),ROW(G336))),\"\")","v":""},{"$f":"IFERROR(VLOOKUP($B344,SIP!$D$5776:$P$6032,12,0),0)","v":0},{"$f":"IFERROR(H344-I344,0)","v":0},{"$f":"IFERROR(VLOOKUP($B344,SIP!$D$5776:$P$6032,8,0),0)","v":0},{"$f":"IFERROR(INDEX(Table2[OFF/ON],_xlfn.AGGREGATE(15,6,(ROW(Table2[FPPGroupCode])-2)/(Table2[DepoName]=$C$2)/(IF($C$3<>\"\",Table2[BULAN]=$C$3,TRUE))/(IF($C$4<>\"\",Table2[OFF/ON]=$C$4,TRUE))/(IF($C$5<>\"\",Table2[Status]=$C$5,TRUE))/(IF($C$6<>\"\",Table2[FPPDate]=$C$6,TRUE))/(IF($C$7<>\"\",Table2[ProposalCode]=$C$7,TRUE)),ROW(K336))),\"\")","v":""}]
[{"$f":"IF(LEN($B345),ROW(A337),\"\")","v":""},{"$f":"IFERROR(INDEX(Table2[FPPGroupCode],_xlfn.AGGREGATE(15,6,(ROW(Table2[FPPGroupCode])-2)/(Table2[DepoName]=$C$2)/(IF($C$3<>\"\",Table2[BULAN]=$C$3,TRUE))/(IF($C$4<>\"\",Table2[OFF/ON]=$C$4,TRUE))/(IF($C$5<>\"\",Table2[Status]=$C$5,TRUE))/(IF($C$6<>\"\",Table2[FPPDate]=$C$6,TRUE))/(IF($C$7<>\"\",Table2[ProposalCode]=$C$7,TRUE)),ROW(A337))),\"\")","v":""},{"$f":"IFERROR(VLOOKUP($B345,SIP!$D$3:$Q$12237,14,0),0)","v":0},{"$f":"IFERROR(INDEX(Table2[Activity],_xlfn.AGGREGATE(15,6,(ROW(Table2[FPPGroupCode])-2)/(Table2[DepoName]=$C$2)/(IF($C$3<>\"\",Table2[BULAN]=$C$3,TRUE))/(IF($C$4<>\"\",Table2[OFF/ON]=$C$4,TRUE))/(IF($C$5<>\"\",Table2[Status]=$C$5,TRUE))/(IF($C$6<>\"\",Table2[]=$C$6,TRUE))/(IF($C$7<>\"\",Table2[ProposalCode]=$C$7,TRUE)),ROW(B337))),\"\")","v":""},{"$f":"IFERROR(INDEX(Table2[Location],_xlfn.AGGREGATE(15,6,(ROW(Table2[FPPGroupCode])-2)/(Table2[DepoName]=$C$2)/(IF($C$3<>\"\",Table2[BULAN]=$C$3,TRUE))/(IF($C$4<>\"\",Table2[OFF/ON]=$C$4,TRUE))/(IF($C$5<>\"\",Table2[Status]=$C$5,TRUE))/(IF($C$6<>\"\",Table2[FPPDate]=$C$6,TRUE))/(IF($C$7<>\"\",Table2[ProposalCode]=$C$7,TRUE)),ROW(D337))),\"\")","v":""},{"$f":"IFERROR(INDEX(Table2[PeriodeStart],_xlfn.AGGREGATE(15,6,(ROW(Table2[FPPGroupCode])-2)/(Table2[DepoName]=$C$2)/(IF($C$3<>\"\",Table2[BULAN]=$C$3,TRUE))/(IF($C$4<>\"\",Table2[OFF/ON]=$C$4,TRUE))/(IF($C$5<>\"\",Table2[Status]=$C$5,TRUE))/(IF($C$6<>\"\",Table2[FPPDate]=$C$6,TRUE))/(IF($C$7<>\"\",Table2[ProposalCode]=$C$7,TRUE)),ROW(E337))),\"\")","v":""},{"$f":"IFERROR(INDEX(Table2[PeriodeEnd],_xlfn.AGGREGATE(15,6,(ROW(Table2[FPPGroupCode])-2)/(Table2[DepoName]=$C$2)/(IF($C$3<>\"\",Table2[BULAN]=$C$3,TRUE))/(IF($C$4<>\"\",Table2[OFF/ON]=$C$4,TRUE))/(IF($C$5<>\"\",Table2[Status]=$C$5,TRUE))/(IF($C$6<>\"\",Table2[FPPDate]=$C$6,TRUE))/(IF($C$7<>\"\",Table2[ProposalCode]=$C$7,TRUE)),ROW(F337))),\"\")","v":""},{"$f":"IFERROR(INDEX(Table2[Amount_FPPDepo],_xlfn.AGGREGATE(15,6,(ROW(Table2[FPPGroupCode])-2)/(Table2[DepoName]=$C$2)/(IF($C$3<>\"\",Table2[BULAN]=$C$3,TRUE))/(IF($C$4<>\"\",Table2[OFF/ON]=$C$4,TRUE))/(IF($C$5<>\"\",Table2[Status]=$C$5,TRUE))/(IF($C$6<>\"\",Table2[FPPDate]=$C$6,TRUE))/(IF($C$7<>\"\",Table2[ProposalCode]=$C$7,TRUE)),ROW(G337))),\"\")","v":""},{"$f":"IFERROR(VLOOKUP($B345,SIP!$D$5776:$P$6032,12,0),0)","v":0},{"$f":"IFERROR(H345-I345,0)","v":0},{"$f":"IFERROR(VLOOKUP($B345,SIP!$D$5776:$P$6032,8,0),0)","v":0},{"$f":"IFERROR(INDEX(Table2[OFF/ON],_xlfn.AGGREGATE(15,6,(ROW(Table2[FPPGroupCode])-2)/(Table2[DepoName]=$C$2)/(IF($C$3<>\"\",Table2[BULAN]=$C$3,TRUE))/(IF($C$4<>\"\",Table2[OFF/ON]=$C$4,TRUE))/(IF($C$5<>\"\",Table2[Status]=$C$5,TRUE))/(IF($C$6<>\"\",Table2[FPPDate]=$C$6,TRUE))/(IF($C$7<>\"\",Table2[ProposalCode]=$C$7,TRUE)),ROW(K337))),\"\")","v":""}]
[{"$f":"IF(LEN($B346),ROW(A338),\"\")","v":""},{"$f":"IFERROR(INDEX(Table2[FPPGroupCode],_xlfn.AGGREGATE(15,6,(ROW(Table2[FPPGroupCode])-2)/(Table2[DepoName]=$C$2)/(IF($C$3<>\"\",Table2[BULAN]=$C$3,TRUE))/(IF($C$4<>\"\",Table2[OFF/ON]=$C$4,TRUE))/(IF($C$5<>\"\",Table2[Status]=$C$5,TRUE))/(IF($C$6<>\"\",Table2[FPPDate]=$C$6,TRUE))/(IF($C$7<>\"\",Table2[ProposalCode]=$C$7,TRUE)),ROW(A338))),\"\")","v":""},{"$f":"IFERROR(VLOOKUP($B346,SIP!$D$3:$Q$12237,14,0),0)","v":0},{"$f":"IFERROR(INDEX(Table2[Activity],_xlfn.AGGREGATE(15,6,(ROW(Table2[FPPGroupCode])-2)/(Table2[DepoName]=$C$2)/(IF($C$3<>\"\",Table2[BULAN]=$C$3,TRUE))/(IF($C$4<>\"\",Table2[OFF/ON]=$C$4,TRUE))/(IF($C$5<>\"\",Table2[Status]=$C$5,TRUE))/(IF($C$6<>\"\",Table2[]=$C$6,TRUE))/(IF($C$7<>\"\",Table2[ProposalCode]=$C$7,TRUE)),ROW(B338))),\"\")","v":""},{"$f":"IFERROR(INDEX(Table2[Location],_xlfn.AGGREGATE(15,6,(ROW(Table2[FPPGroupCode])-2)/(Table2[DepoName]=$C$2)/(IF($C$3<>\"\",Table2[BULAN]=$C$3,TRUE))/(IF($C$4<>\"\",Table2[OFF/ON]=$C$4,TRUE))/(IF($C$5<>\"\",Table2[Status]=$C$5,TRUE))/(IF($C$6<>\"\",Table2[FPPDate]=$C$6,TRUE))/(IF($C$7<>\"\",Table2[ProposalCode]=$C$7,TRUE)),ROW(D338))),\"\")","v":""},{"$f":"IFERROR(INDEX(Table2[PeriodeStart],_xlfn.AGGREGATE(15,6,(ROW(Table2[FPPGroupCode])-2)/(Table2[DepoName]=$C$2)/(IF($C$3<>\"\",Table2[BULAN]=$C$3,TRUE))/(IF($C$4<>\"\",Table2[OFF/ON]=$C$4,TRUE))/(IF($C$5<>\"\",Table2[Status]=$C$5,TRUE))/(IF($C$6<>\"\",Table2[FPPDate]=$C$6,TRUE))/(IF($C$7<>\"\",Table2[ProposalCode]=$C$7,TRUE)),ROW(E338))),\"\")","v":""},{"$f":"IFERROR(INDEX(Table2[PeriodeEnd],_xlfn.AGGREGATE(15,6,(ROW(Table2[FPPGroupCode])-2)/(Table2[DepoName]=$C$2)/(IF($C$3<>\"\",Table2[BULAN]=$C$3,TRUE))/(IF($C$4<>\"\",Table2[OFF/ON]=$C$4,TRUE))/(IF($C$5<>\"\",Table2[Status]=$C$5,TRUE))/(IF($C$6<>\"\",Table2[FPPDate]=$C$6,TRUE))/(IF($C$7<>\"\",Table2[ProposalCode]=$C$7,TRUE)),ROW(F338))),\"\")","v":""},{"$f":"IFERROR(INDEX(Table2[Amount_FPPDepo],_xlfn.AGGREGATE(15,6,(ROW(Table2[FPPGroupCode])-2)/(Table2[DepoName]=$C$2)/(IF($C$3<>\"\",Table2[BULAN]=$C$3,TRUE))/(IF($C$4<>\"\",Table2[OFF/ON]=$C$4,TRUE))/(IF($C$5<>\"\",Table2[Status]=$C$5,TRUE))/(IF($C$6<>\"\",Table2[FPPDate]=$C$6,TRUE))/(IF($C$7<>\"\",Table2[ProposalCode]=$C$7,TRUE)),ROW(G338))),\"\")","v":""},{"$f":"IFERROR(VLOOKUP($B346,SIP!$D$5776:$P$6032,12,0),0)","v":0},{"$f":"IFERROR(H346-I346,0)","v":0},{"$f":"IFERROR(VLOOKUP($B346,SIP!$D$5776:$P$6032,8,0),0)","v":0},{"$f":"IFERROR(INDEX(Table2[OFF/ON],_xlfn.AGGREGATE(15,6,(ROW(Table2[FPPGroupCode])-2)/(Table2[DepoName]=$C$2)/(IF($C$3<>\"\",Table2[BULAN]=$C$3,TRUE))/(IF($C$4<>\"\",Table2[OFF/ON]=$C$4,TRUE))/(IF($C$5<>\"\",Table2[Status]=$C$5,TRUE))/(IF($C$6<>\"\",Table2[FPPDate]=$C$6,TRUE))/(IF($C$7<>\"\",Table2[ProposalCode]=$C$7,TRUE)),ROW(K338))),\"\")","v":""}]
[{"$f":"IF(LEN($B347),ROW(A339),\"\")","v":""},{"$f":"IFERROR(INDEX(Table2[FPPGroupCode],_xlfn.AGGREGATE(15,6,(ROW(Table2[FPPGroupCode])-2)/(Table2[DepoName]=$C$2)/(IF($C$3<>\"\",Table2[BULAN]=$C$3,TRUE))/(IF($C$4<>\"\",Table2[OFF/ON]=$C$4,TRUE))/(IF($C$5<>\"\",Table2[Status]=$C$5,TRUE))/(IF($C$6<>\"\",Table2[FPPDate]=$C$6,TRUE))/(IF($C$7<>\"\",Table2[ProposalCode]=$C$7,TRUE)),ROW(A339))),\"\")","v":""},{"$f":"IFERROR(VLOOKUP($B347,SIP!$D$3:$Q$12237,14,0),0)","v":0},{"$f":"IFERROR(INDEX(Table2[Activity],_xlfn.AGGREGATE(15,6,(ROW(Table2[FPPGroupCode])-2)/(Table2[DepoName]=$C$2)/(IF($C$3<>\"\",Table2[BULAN]=$C$3,TRUE))/(IF($C$4<>\"\",Table2[OFF/ON]=$C$4,TRUE))/(IF($C$5<>\"\",Table2[Status]=$C$5,TRUE))/(IF($C$6<>\"\",Table2[]=$C$6,TRUE))/(IF($C$7<>\"\",Table2[ProposalCode]=$C$7,TRUE)),ROW(B339))),\"\")","v":""},{"$f":"IFERROR(INDEX(Table2[Location],_xlfn.AGGREGATE(15,6,(ROW(Table2[FPPGroupCode])-2)/(Table2[DepoName]=$C$2)/(IF($C$3<>\"\",Table2[BULAN]=$C$3,TRUE))/(IF($C$4<>\"\",Table2[OFF/ON]=$C$4,TRUE))/(IF($C$5<>\"\",Table2[Status]=$C$5,TRUE))/(IF($C$6<>\"\",Table2[FPPDate]=$C$6,TRUE))/(IF($C$7<>\"\",Table2[ProposalCode]=$C$7,TRUE)),ROW(D339))),\"\")","v":""},{"$f":"IFERROR(INDEX(Table2[PeriodeStart],_xlfn.AGGREGATE(15,6,(ROW(Table2[FPPGroupCode])-2)/(Table2[DepoName]=$C$2)/(IF($C$3<>\"\",Table2[BULAN]=$C$3,TRUE))/(IF($C$4<>\"\",Table2[OFF/ON]=$C$4,TRUE))/(IF($C$5<>\"\",Table2[Status]=$C$5,TRUE))/(IF($C$6<>\"\",Table2[FPPDate]=$C$6,TRUE))/(IF($C$7<>\"\",Table2[ProposalCode]=$C$7,TRUE)),ROW(E339))),\"\")","v":""},{"$f":"IFERROR(INDEX(Table2[PeriodeEnd],_xlfn.AGGREGATE(15,6,(ROW(Table2[FPPGroupCode])-2)/(Table2[DepoName]=$C$2)/(IF($C$3<>\"\",Table2[BULAN]=$C$3,TRUE))/(IF($C$4<>\"\",Table2[OFF/ON]=$C$4,TRUE))/(IF($C$5<>\"\",Table2[Status]=$C$5,TRUE))/(IF($C$6<>\"\",Table2[FPPDate]=$C$6,TRUE))/(IF($C$7<>\"\",Table2[ProposalCode]=$C$7,TRUE)),ROW(F339))),\"\")","v":""},{"$f":"IFERROR(INDEX(Table2[Amount_FPPDepo],_xlfn.AGGREGATE(15,6,(ROW(Table2[FPPGroupCode])-2)/(Table2[DepoName]=$C$2)/(IF($C$3<>\"\",Table2[BULAN]=$C$3,TRUE))/(IF($C$4<>\"\",Table2[OFF/ON]=$C$4,TRUE))/(IF($C$5<>\"\",Table2[Status]=$C$5,TRUE))/(IF($C$6<>\"\",Table2[FPPDate]=$C$6,TRUE))/(IF($C$7<>\"\",Table2[ProposalCode]=$C$7,TRUE)),ROW(G339))),\"\")","v":""},{"$f":"IFERROR(VLOOKUP($B347,SIP!$D$5776:$P$6032,12,0),0)","v":0},{"$f":"IFERROR(H347-I347,0)","v":0},{"$f":"IFERROR(VLOOKUP($B347,SIP!$D$5776:$P$6032,8,0),0)","v":0},{"$f":"IFERROR(INDEX(Table2[OFF/ON],_xlfn.AGGREGATE(15,6,(ROW(Table2[FPPGroupCode])-2)/(Table2[DepoName]=$C$2)/(IF($C$3<>\"\",Table2[BULAN]=$C$3,TRUE))/(IF($C$4<>\"\",Table2[OFF/ON]=$C$4,TRUE))/(IF($C$5<>\"\",Table2[Status]=$C$5,TRUE))/(IF($C$6<>\"\",Table2[FPPDate]=$C$6,TRUE))/(IF($C$7<>\"\",Table2[ProposalCode]=$C$7,TRUE)),ROW(K339))),\"\")","v":""}]
[{"$f":"IF(LEN($B348),ROW(A340),\"\")","v":""},{"$f":"IFERROR(INDEX(Table2[FPPGroupCode],_xlfn.AGGREGATE(15,6,(ROW(Table2[FPPGroupCode])-2)/(Table2[DepoName]=$C$2)/(IF($C$3<>\"\",Table2[BULAN]=$C$3,TRUE))/(IF($C$4<>\"\",Table2[OFF/ON]=$C$4,TRUE))/(IF($C$5<>\"\",Table2[Status]=$C$5,TRUE))/(IF($C$6<>\"\",Table2[FPPDate]=$C$6,TRUE))/(IF($C$7<>\"\",Table2[ProposalCode]=$C$7,TRUE)),ROW(A340))),\"\")","v":""},{"$f":"IFERROR(VLOOKUP($B348,SIP!$D$3:$Q$12237,14,0),0)","v":0},{"$f":"IFERROR(INDEX(Table2[Activity],_xlfn.AGGREGATE(15,6,(ROW(Table2[FPPGroupCode])-2)/(Table2[DepoName]=$C$2)/(IF($C$3<>\"\",Table2[BULAN]=$C$3,TRUE))/(IF($C$4<>\"\",Table2[OFF/ON]=$C$4,TRUE))/(IF($C$5<>\"\",Table2[Status]=$C$5,TRUE))/(IF($C$6<>\"\",Table2[]=$C$6,TRUE))/(IF($C$7<>\"\",Table2[ProposalCode]=$C$7,TRUE)),ROW(B340))),\"\")","v":""},{"$f":"IFERROR(INDEX(Table2[Location],_xlfn.AGGREGATE(15,6,(ROW(Table2[FPPGroupCode])-2)/(Table2[DepoName]=$C$2)/(IF($C$3<>\"\",Table2[BULAN]=$C$3,TRUE))/(IF($C$4<>\"\",Table2[OFF/ON]=$C$4,TRUE))/(IF($C$5<>\"\",Table2[Status]=$C$5,TRUE))/(IF($C$6<>\"\",Table2[FPPDate]=$C$6,TRUE))/(IF($C$7<>\"\",Table2[ProposalCode]=$C$7,TRUE)),ROW(D340))),\"\")","v":""},{"$f":"IFERROR(INDEX(Table2[PeriodeStart],_xlfn.AGGREGATE(15,6,(ROW(Table2[FPPGroupCode])-2)/(Table2[DepoName]=$C$2)/(IF($C$3<>\"\",Table2[BULAN]=$C$3,TRUE))/(IF($C$4<>\"\",Table2[OFF/ON]=$C$4,TRUE))/(IF($C$5<>\"\",Table2[Status]=$C$5,TRUE))/(IF($C$6<>\"\",Table2[FPPDate]=$C$6,TRUE))/(IF($C$7<>\"\",Table2[ProposalCode]=$C$7,TRUE)),ROW(E340))),\"\")","v":""},{"$f":"IFERROR(INDEX(Table2[PeriodeEnd],_xlfn.AGGREGATE(15,6,(ROW(Table2[FPPGroupCode])-2)/(Table2[DepoName]=$C$2)/(IF($C$3<>\"\",Table2[BULAN]=$C$3,TRUE))/(IF($C$4<>\"\",Table2[OFF/ON]=$C$4,TRUE))/(IF($C$5<>\"\",Table2[Status]=$C$5,TRUE))/(IF($C$6<>\"\",Table2[FPPDate]=$C$6,TRUE))/(IF($C$7<>\"\",Table2[ProposalCode]=$C$7,TRUE)),ROW(F340))),\"\")","v":""},{"$f":"IFERROR(INDEX(Table2[Amount_FPPDepo],_xlfn.AGGREGATE(15,6,(ROW(Table2[FPPGroupCode])-2)/(Table2[DepoName]=$C$2)/(IF($C$3<>\"\",Table2[BULAN]=$C$3,TRUE))/(IF($C$4<>\"\",Table2[OFF/ON]=$C$4,TRUE))/(IF($C$5<>\"\",Table2[Status]=$C$5,TRUE))/(IF($C$6<>\"\",Table2[FPPDate]=$C$6,TRUE))/(IF($C$7<>\"\",Table2[ProposalCode]=$C$7,TRUE)),ROW(G340))),\"\")","v":""},{"$f":"IFERROR(VLOOKUP($B348,SIP!$D$5776:$P$6032,12,0),0)","v":0},{"$f":"IFERROR(H348-I348,0)","v":0},{"$f":"IFERROR(VLOOKUP($B348,SIP!$D$5776:$P$6032,8,0),0)","v":0},{"$f":"IFERROR(INDEX(Table2[OFF/ON],_xlfn.AGGREGATE(15,6,(ROW(Table2[FPPGroupCode])-2)/(Table2[DepoName]=$C$2)/(IF($C$3<>\"\",Table2[BULAN]=$C$3,TRUE))/(IF($C$4<>\"\",Table2[OFF/ON]=$C$4,TRUE))/(IF($C$5<>\"\",Table2[Status]=$C$5,TRUE))/(IF($C$6<>\"\",Table2[FPPDate]=$C$6,TRUE))/(IF($C$7<>\"\",Table2[ProposalCode]=$C$7,TRUE)),ROW(K340))),\"\")","v":""}]
[{"$f":"IF(LEN($B349),ROW(A341),\"\")","v":""},{"$f":"IFERROR(INDEX(Table2[FPPGroupCode],_xlfn.AGGREGATE(15,6,(ROW(Table2[FPPGroupCode])-2)/(Table2[DepoName]=$C$2)/(IF($C$3<>\"\",Table2[BULAN]=$C$3,TRUE))/(IF($C$4<>\"\",Table2[OFF/ON]=$C$4,TRUE))/(IF($C$5<>\"\",Table2[Status]=$C$5,TRUE))/(IF($C$6<>\"\",Table2[FPPDate]=$C$6,TRUE))/(IF($C$7<>\"\",Table2[ProposalCode]=$C$7,TRUE)),ROW(A341))),\"\")","v":""},{"$f":"IFERROR(VLOOKUP($B349,SIP!$D$3:$Q$12237,14,0),0)","v":0},{"$f":"IFERROR(INDEX(Table2[Activity],_xlfn.AGGREGATE(15,6,(ROW(Table2[FPPGroupCode])-2)/(Table2[DepoName]=$C$2)/(IF($C$3<>\"\",Table2[BULAN]=$C$3,TRUE))/(IF($C$4<>\"\",Table2[OFF/ON]=$C$4,TRUE))/(IF($C$5<>\"\",Table2[Status]=$C$5,TRUE))/(IF($C$6<>\"\",Table2[]=$C$6,TRUE))/(IF($C$7<>\"\",Table2[ProposalCode]=$C$7,TRUE)),ROW(B341))),\"\")","v":""},{"$f":"IFERROR(INDEX(Table2[Location],_xlfn.AGGREGATE(15,6,(ROW(Table2[FPPGroupCode])-2)/(Table2[DepoName]=$C$2)/(IF($C$3<>\"\",Table2[BULAN]=$C$3,TRUE))/(IF($C$4<>\"\",Table2[OFF/ON]=$C$4,TRUE))/(IF($C$5<>\"\",Table2[Status]=$C$5,TRUE))/(IF($C$6<>\"\",Table2[FPPDate]=$C$6,TRUE))/(IF($C$7<>\"\",Table2[ProposalCode]=$C$7,TRUE)),ROW(D341))),\"\")","v":""},{"$f":"IFERROR(INDEX(Table2[PeriodeStart],_xlfn.AGGREGATE(15,6,(ROW(Table2[FPPGroupCode])-2)/(Table2[DepoName]=$C$2)/(IF($C$3<>\"\",Table2[BULAN]=$C$3,TRUE))/(IF($C$4<>\"\",Table2[OFF/ON]=$C$4,TRUE))/(IF($C$5<>\"\",Table2[Status]=$C$5,TRUE))/(IF($C$6<>\"\",Table2[FPPDate]=$C$6,TRUE))/(IF($C$7<>\"\",Table2[ProposalCode]=$C$7,TRUE)),ROW(E341))),\"\")","v":""},{"$f":"IFERROR(INDEX(Table2[PeriodeEnd],_xlfn.AGGREGATE(15,6,(ROW(Table2[FPPGroupCode])-2)/(Table2[DepoName]=$C$2)/(IF($C$3<>\"\",Table2[BULAN]=$C$3,TRUE))/(IF($C$4<>\"\",Table2[OFF/ON]=$C$4,TRUE))/(IF($C$5<>\"\",Table2[Status]=$C$5,TRUE))/(IF($C$6<>\"\",Table2[FPPDate]=$C$6,TRUE))/(IF($C$7<>\"\",Table2[ProposalCode]=$C$7,TRUE)),ROW(F341))),\"\")","v":""},{"$f":"IFERROR(INDEX(Table2[Amount_FPPDepo],_xlfn.AGGREGATE(15,6,(ROW(Table2[FPPGroupCode])-2)/(Table2[DepoName]=$C$2)/(IF($C$3<>\"\",Table2[BULAN]=$C$3,TRUE))/(IF($C$4<>\"\",Table2[OFF/ON]=$C$4,TRUE))/(IF($C$5<>\"\",Table2[Status]=$C$5,TRUE))/(IF($C$6<>\"\",Table2[FPPDate]=$C$6,TRUE))/(IF($C$7<>\"\",Table2[ProposalCode]=$C$7,TRUE)),ROW(G341))),\"\")","v":""},{"$f":"IFERROR(VLOOKUP($B349,SIP!$D$5776:$P$6032,12,0),0)","v":0},{"$f":"IFERROR(H349-I349,0)","v":0},{"$f":"IFERROR(VLOOKUP($B349,SIP!$D$5776:$P$6032,8,0),0)","v":0},{"$f":"IFERROR(INDEX(Table2[OFF/ON],_xlfn.AGGREGATE(15,6,(ROW(Table2[FPPGroupCode])-2)/(Table2[DepoName]=$C$2)/(IF($C$3<>\"\",Table2[BULAN]=$C$3,TRUE))/(IF($C$4<>\"\",Table2[OFF/ON]=$C$4,TRUE))/(IF($C$5<>\"\",Table2[Status]=$C$5,TRUE))/(IF($C$6<>\"\",Table2[FPPDate]=$C$6,TRUE))/(IF($C$7<>\"\",Table2[ProposalCode]=$C$7,TRUE)),ROW(K341))),\"\")","v":""}]
[{"$f":"IF(LEN($B350),ROW(A342),\"\")","v":""},{"$f":"IFERROR(INDEX(Table2[FPPGroupCode],_xlfn.AGGREGATE(15,6,(ROW(Table2[FPPGroupCode])-2)/(Table2[DepoName]=$C$2)/(IF($C$3<>\"\",Table2[BULAN]=$C$3,TRUE))/(IF($C$4<>\"\",Table2[OFF/ON]=$C$4,TRUE))/(IF($C$5<>\"\",Table2[Status]=$C$5,TRUE))/(IF($C$6<>\"\",Table2[FPPDate]=$C$6,TRUE))/(IF($C$7<>\"\",Table2[ProposalCode]=$C$7,TRUE)),ROW(A342))),\"\")","v":""},{"$f":"IFERROR(VLOOKUP($B350,SIP!$D$3:$Q$12237,14,0),0)","v":0},{"$f":"IFERROR(INDEX(Table2[Activity],_xlfn.AGGREGATE(15,6,(ROW(Table2[FPPGroupCode])-2)/(Table2[DepoName]=$C$2)/(IF($C$3<>\"\",Table2[BULAN]=$C$3,TRUE))/(IF($C$4<>\"\",Table2[OFF/ON]=$C$4,TRUE))/(IF($C$5<>\"\",Table2[Status]=$C$5,TRUE))/(IF($C$6<>\"\",Table2[]=$C$6,TRUE))/(IF($C$7<>\"\",Table2[ProposalCode]=$C$7,TRUE)),ROW(B342))),\"\")","v":""},{"$f":"IFERROR(INDEX(Table2[Location],_xlfn.AGGREGATE(15,6,(ROW(Table2[FPPGroupCode])-2)/(Table2[DepoName]=$C$2)/(IF($C$3<>\"\",Table2[BULAN]=$C$3,TRUE))/(IF($C$4<>\"\",Table2[OFF/ON]=$C$4,TRUE))/(IF($C$5<>\"\",Table2[Status]=$C$5,TRUE))/(IF($C$6<>\"\",Table2[FPPDate]=$C$6,TRUE))/(IF($C$7<>\"\",Table2[ProposalCode]=$C$7,TRUE)),ROW(D342))),\"\")","v":""},{"$f":"IFERROR(INDEX(Table2[PeriodeStart],_xlfn.AGGREGATE(15,6,(ROW(Table2[FPPGroupCode])-2)/(Table2[DepoName]=$C$2)/(IF($C$3<>\"\",Table2[BULAN]=$C$3,TRUE))/(IF($C$4<>\"\",Table2[OFF/ON]=$C$4,TRUE))/(IF($C$5<>\"\",Table2[Status]=$C$5,TRUE))/(IF($C$6<>\"\",Table2[FPPDate]=$C$6,TRUE))/(IF($C$7<>\"\",Table2[ProposalCode]=$C$7,TRUE)),ROW(E342))),\"\")","v":""},{"$f":"IFERROR(INDEX(Table2[PeriodeEnd],_xlfn.AGGREGATE(15,6,(ROW(Table2[FPPGroupCode])-2)/(Table2[DepoName]=$C$2)/(IF($C$3<>\"\",Table2[BULAN]=$C$3,TRUE))/(IF($C$4<>\"\",Table2[OFF/ON]=$C$4,TRUE))/(IF($C$5<>\"\",Table2[Status]=$C$5,TRUE))/(IF($C$6<>\"\",Table2[FPPDate]=$C$6,TRUE))/(IF($C$7<>\"\",Table2[ProposalCode]=$C$7,TRUE)),ROW(F342))),\"\")","v":""},{"$f":"IFERROR(INDEX(Table2[Amount_FPPDepo],_xlfn.AGGREGATE(15,6,(ROW(Table2[FPPGroupCode])-2)/(Table2[DepoName]=$C$2)/(IF($C$3<>\"\",Table2[BULAN]=$C$3,TRUE))/(IF($C$4<>\"\",Table2[OFF/ON]=$C$4,TRUE))/(IF($C$5<>\"\",Table2[Status]=$C$5,TRUE))/(IF($C$6<>\"\",Table2[FPPDate]=$C$6,TRUE))/(IF($C$7<>\"\",Table2[ProposalCode]=$C$7,TRUE)),ROW(G342))),\"\")","v":""},{"$f":"IFERROR(VLOOKUP($B350,SIP!$D$5776:$P$6032,12,0),0)","v":0},{"$f":"IFERROR(H350-I350,0)","v":0},{"$f":"IFERROR(VLOOKUP($B350,SIP!$D$5776:$P$6032,8,0),0)","v":0},{"$f":"IFERROR(INDEX(Table2[OFF/ON],_xlfn.AGGREGATE(15,6,(ROW(Table2[FPPGroupCode])-2)/(Table2[DepoName]=$C$2)/(IF($C$3<>\"\",Table2[BULAN]=$C$3,TRUE))/(IF($C$4<>\"\",Table2[OFF/ON]=$C$4,TRUE))/(IF($C$5<>\"\",Table2[Status]=$C$5,TRUE))/(IF($C$6<>\"\",Table2[FPPDate]=$C$6,TRUE))/(IF($C$7<>\"\",Table2[ProposalCode]=$C$7,TRUE)),ROW(K342))),\"\")","v":""}]
[{"$f":"IF(LEN($B351),ROW(A343),\"\")","v":""},{"$f":"IFERROR(INDEX(Table2[FPPGroupCode],_xlfn.AGGREGATE(15,6,(ROW(Table2[FPPGroupCode])-2)/(Table2[DepoName]=$C$2)/(IF($C$3<>\"\",Table2[BULAN]=$C$3,TRUE))/(IF($C$4<>\"\",Table2[OFF/ON]=$C$4,TRUE))/(IF($C$5<>\"\",Table2[Status]=$C$5,TRUE))/(IF($C$6<>\"\",Table2[FPPDate]=$C$6,TRUE))/(IF($C$7<>\"\",Table2[ProposalCode]=$C$7,TRUE)),ROW(A343))),\"\")","v":""},{"$f":"IFERROR(VLOOKUP($B351,SIP!$D$3:$Q$12237,14,0),0)","v":0},{"$f":"IFERROR(INDEX(Table2[Activity],_xlfn.AGGREGATE(15,6,(ROW(Table2[FPPGroupCode])-2)/(Table2[DepoName]=$C$2)/(IF($C$3<>\"\",Table2[BULAN]=$C$3,TRUE))/(IF($C$4<>\"\",Table2[OFF/ON]=$C$4,TRUE))/(IF($C$5<>\"\",Table2[Status]=$C$5,TRUE))/(IF($C$6<>\"\",Table2[]=$C$6,TRUE))/(IF($C$7<>\"\",Table2[ProposalCode]=$C$7,TRUE)),ROW(B343))),\"\")","v":""},{"$f":"IFERROR(INDEX(Table2[Location],_xlfn.AGGREGATE(15,6,(ROW(Table2[FPPGroupCode])-2)/(Table2[DepoName]=$C$2)/(IF($C$3<>\"\",Table2[BULAN]=$C$3,TRUE))/(IF($C$4<>\"\",Table2[OFF/ON]=$C$4,TRUE))/(IF($C$5<>\"\",Table2[Status]=$C$5,TRUE))/(IF($C$6<>\"\",Table2[FPPDate]=$C$6,TRUE))/(IF($C$7<>\"\",Table2[ProposalCode]=$C$7,TRUE)),ROW(D343))),\"\")","v":""},{"$f":"IFERROR(INDEX(Table2[PeriodeStart],_xlfn.AGGREGATE(15,6,(ROW(Table2[FPPGroupCode])-2)/(Table2[DepoName]=$C$2)/(IF($C$3<>\"\",Table2[BULAN]=$C$3,TRUE))/(IF($C$4<>\"\",Table2[OFF/ON]=$C$4,TRUE))/(IF($C$5<>\"\",Table2[Status]=$C$5,TRUE))/(IF($C$6<>\"\",Table2[FPPDate]=$C$6,TRUE))/(IF($C$7<>\"\",Table2[ProposalCode]=$C$7,TRUE)),ROW(E343))),\"\")","v":""},{"$f":"IFERROR(INDEX(Table2[PeriodeEnd],_xlfn.AGGREGATE(15,6,(ROW(Table2[FPPGroupCode])-2)/(Table2[DepoName]=$C$2)/(IF($C$3<>\"\",Table2[BULAN]=$C$3,TRUE))/(IF($C$4<>\"\",Table2[OFF/ON]=$C$4,TRUE))/(IF($C$5<>\"\",Table2[Status]=$C$5,TRUE))/(IF($C$6<>\"\",Table2[FPPDate]=$C$6,TRUE))/(IF($C$7<>\"\",Table2[ProposalCode]=$C$7,TRUE)),ROW(F343))),\"\")","v":""},{"$f":"IFERROR(INDEX(Table2[Amount_FPPDepo],_xlfn.AGGREGATE(15,6,(ROW(Table2[FPPGroupCode])-2)/(Table2[DepoName]=$C$2)/(IF($C$3<>\"\",Table2[BULAN]=$C$3,TRUE))/(IF($C$4<>\"\",Table2[OFF/ON]=$C$4,TRUE))/(IF($C$5<>\"\",Table2[Status]=$C$5,TRUE))/(IF($C$6<>\"\",Table2[FPPDate]=$C$6,TRUE))/(IF($C$7<>\"\",Table2[ProposalCode]=$C$7,TRUE)),ROW(G343))),\"\")","v":""},{"$f":"IFERROR(VLOOKUP($B351,SIP!$D$5776:$P$6032,12,0),0)","v":0},{"$f":"IFERROR(H351-I351,0)","v":0},{"$f":"IFERROR(VLOOKUP($B351,SIP!$D$5776:$P$6032,8,0),0)","v":0},{"$f":"IFERROR(INDEX(Table2[OFF/ON],_xlfn.AGGREGATE(15,6,(ROW(Table2[FPPGroupCode])-2)/(Table2[DepoName]=$C$2)/(IF($C$3<>\"\",Table2[BULAN]=$C$3,TRUE))/(IF($C$4<>\"\",Table2[OFF/ON]=$C$4,TRUE))/(IF($C$5<>\"\",Table2[Status]=$C$5,TRUE))/(IF($C$6<>\"\",Table2[FPPDate]=$C$6,TRUE))/(IF($C$7<>\"\",Table2[ProposalCode]=$C$7,TRUE)),ROW(K343))),\"\")","v":""}]
[{"$f":"IF(LEN($B352),ROW(A344),\"\")","v":""},{"$f":"IFERROR(INDEX(Table2[FPPGroupCode],_xlfn.AGGREGATE(15,6,(ROW(Table2[FPPGroupCode])-2)/(Table2[DepoName]=$C$2)/(IF($C$3<>\"\",Table2[BULAN]=$C$3,TRUE))/(IF($C$4<>\"\",Table2[OFF/ON]=$C$4,TRUE))/(IF($C$5<>\"\",Table2[Status]=$C$5,TRUE))/(IF($C$6<>\"\",Table2[FPPDate]=$C$6,TRUE))/(IF($C$7<>\"\",Table2[ProposalCode]=$C$7,TRUE)),ROW(A344))),\"\")","v":""},{"$f":"IFERROR(VLOOKUP($B352,SIP!$D$3:$Q$12237,14,0),0)","v":0},{"$f":"IFERROR(INDEX(Table2[Activity],_xlfn.AGGREGATE(15,6,(ROW(Table2[FPPGroupCode])-2)/(Table2[DepoName]=$C$2)/(IF($C$3<>\"\",Table2[BULAN]=$C$3,TRUE))/(IF($C$4<>\"\",Table2[OFF/ON]=$C$4,TRUE))/(IF($C$5<>\"\",Table2[Status]=$C$5,TRUE))/(IF($C$6<>\"\",Table2[]=$C$6,TRUE))/(IF($C$7<>\"\",Table2[ProposalCode]=$C$7,TRUE)),ROW(B344))),\"\")","v":""},{"$f":"IFERROR(INDEX(Table2[Location],_xlfn.AGGREGATE(15,6,(ROW(Table2[FPPGroupCode])-2)/(Table2[DepoName]=$C$2)/(IF($C$3<>\"\",Table2[BULAN]=$C$3,TRUE))/(IF($C$4<>\"\",Table2[OFF/ON]=$C$4,TRUE))/(IF($C$5<>\"\",Table2[Status]=$C$5,TRUE))/(IF($C$6<>\"\",Table2[FPPDate]=$C$6,TRUE))/(IF($C$7<>\"\",Table2[ProposalCode]=$C$7,TRUE)),ROW(D344))),\"\")","v":""},{"$f":"IFERROR(INDEX(Table2[PeriodeStart],_xlfn.AGGREGATE(15,6,(ROW(Table2[FPPGroupCode])-2)/(Table2[DepoName]=$C$2)/(IF($C$3<>\"\",Table2[BULAN]=$C$3,TRUE))/(IF($C$4<>\"\",Table2[OFF/ON]=$C$4,TRUE))/(IF($C$5<>\"\",Table2[Status]=$C$5,TRUE))/(IF($C$6<>\"\",Table2[FPPDate]=$C$6,TRUE))/(IF($C$7<>\"\",Table2[ProposalCode]=$C$7,TRUE)),ROW(E344))),\"\")","v":""},{"$f":"IFERROR(INDEX(Table2[PeriodeEnd],_xlfn.AGGREGATE(15,6,(ROW(Table2[FPPGroupCode])-2)/(Table2[DepoName]=$C$2)/(IF($C$3<>\"\",Table2[BULAN]=$C$3,TRUE))/(IF($C$4<>\"\",Table2[OFF/ON]=$C$4,TRUE))/(IF($C$5<>\"\",Table2[Status]=$C$5,TRUE))/(IF($C$6<>\"\",Table2[FPPDate]=$C$6,TRUE))/(IF($C$7<>\"\",Table2[ProposalCode]=$C$7,TRUE)),ROW(F344))),\"\")","v":""},{"$f":"IFERROR(INDEX(Table2[Amount_FPPDepo],_xlfn.AGGREGATE(15,6,(ROW(Table2[FPPGroupCode])-2)/(Table2[DepoName]=$C$2)/(IF($C$3<>\"\",Table2[BULAN]=$C$3,TRUE))/(IF($C$4<>\"\",Table2[OFF/ON]=$C$4,TRUE))/(IF($C$5<>\"\",Table2[Status]=$C$5,TRUE))/(IF($C$6<>\"\",Table2[FPPDate]=$C$6,TRUE))/(IF($C$7<>\"\",Table2[ProposalCode]=$C$7,TRUE)),ROW(G344))),\"\")","v":""},{"$f":"IFERROR(VLOOKUP($B352,SIP!$D$5776:$P$6032,12,0),0)","v":0},{"$f":"IFERROR(H352-I352,0)","v":0},{"$f":"IFERROR(VLOOKUP($B352,SIP!$D$5776:$P$6032,8,0),0)","v":0},{"$f":"IFERROR(INDEX(Table2[OFF/ON],_xlfn.AGGREGATE(15,6,(ROW(Table2[FPPGroupCode])-2)/(Table2[DepoName]=$C$2)/(IF($C$3<>\"\",Table2[BULAN]=$C$3,TRUE))/(IF($C$4<>\"\",Table2[OFF/ON]=$C$4,TRUE))/(IF($C$5<>\"\",Table2[Status]=$C$5,TRUE))/(IF($C$6<>\"\",Table2[FPPDate]=$C$6,TRUE))/(IF($C$7<>\"\",Table2[ProposalCode]=$C$7,TRUE)),ROW(K344))),\"\")","v":""}]
[{"$f":"IF(LEN($B353),ROW(A345),\"\")","v":""},{"$f":"IFERROR(INDEX(Table2[FPPGroupCode],_xlfn.AGGREGATE(15,6,(ROW(Table2[FPPGroupCode])-2)/(Table2[DepoName]=$C$2)/(IF($C$3<>\"\",Table2[BULAN]=$C$3,TRUE))/(IF($C$4<>\"\",Table2[OFF/ON]=$C$4,TRUE))/(IF($C$5<>\"\",Table2[Status]=$C$5,TRUE))/(IF($C$6<>\"\",Table2[FPPDate]=$C$6,TRUE))/(IF($C$7<>\"\",Table2[ProposalCode]=$C$7,TRUE)),ROW(A345))),\"\")","v":""},{"$f":"IFERROR(VLOOKUP($B353,SIP!$D$3:$Q$12237,14,0),0)","v":0},{"$f":"IFERROR(INDEX(Table2[Activity],_xlfn.AGGREGATE(15,6,(ROW(Table2[FPPGroupCode])-2)/(Table2[DepoName]=$C$2)/(IF($C$3<>\"\",Table2[BULAN]=$C$3,TRUE))/(IF($C$4<>\"\",Table2[OFF/ON]=$C$4,TRUE))/(IF($C$5<>\"\",Table2[Status]=$C$5,TRUE))/(IF($C$6<>\"\",Table2[]=$C$6,TRUE))/(IF($C$7<>\"\",Table2[ProposalCode]=$C$7,TRUE)),ROW(B345))),\"\")","v":""},{"$f":"IFERROR(INDEX(Table2[Location],_xlfn.AGGREGATE(15,6,(ROW(Table2[FPPGroupCode])-2)/(Table2[DepoName]=$C$2)/(IF($C$3<>\"\",Table2[BULAN]=$C$3,TRUE))/(IF($C$4<>\"\",Table2[OFF/ON]=$C$4,TRUE))/(IF($C$5<>\"\",Table2[Status]=$C$5,TRUE))/(IF($C$6<>\"\",Table2[FPPDate]=$C$6,TRUE))/(IF($C$7<>\"\",Table2[ProposalCode]=$C$7,TRUE)),ROW(D345))),\"\")","v":""},{"$f":"IFERROR(INDEX(Table2[PeriodeStart],_xlfn.AGGREGATE(15,6,(ROW(Table2[FPPGroupCode])-2)/(Table2[DepoName]=$C$2)/(IF($C$3<>\"\",Table2[BULAN]=$C$3,TRUE))/(IF($C$4<>\"\",Table2[OFF/ON]=$C$4,TRUE))/(IF($C$5<>\"\",Table2[Status]=$C$5,TRUE))/(IF($C$6<>\"\",Table2[FPPDate]=$C$6,TRUE))/(IF($C$7<>\"\",Table2[ProposalCode]=$C$7,TRUE)),ROW(E345))),\"\")","v":""},{"$f":"IFERROR(INDEX(Table2[PeriodeEnd],_xlfn.AGGREGATE(15,6,(ROW(Table2[FPPGroupCode])-2)/(Table2[DepoName]=$C$2)/(IF($C$3<>\"\",Table2[BULAN]=$C$3,TRUE))/(IF($C$4<>\"\",Table2[OFF/ON]=$C$4,TRUE))/(IF($C$5<>\"\",Table2[Status]=$C$5,TRUE))/(IF($C$6<>\"\",Table2[FPPDate]=$C$6,TRUE))/(IF($C$7<>\"\",Table2[ProposalCode]=$C$7,TRUE)),ROW(F345))),\"\")","v":""},{"$f":"IFERROR(INDEX(Table2[Amount_FPPDepo],_xlfn.AGGREGATE(15,6,(ROW(Table2[FPPGroupCode])-2)/(Table2[DepoName]=$C$2)/(IF($C$3<>\"\",Table2[BULAN]=$C$3,TRUE))/(IF($C$4<>\"\",Table2[OFF/ON]=$C$4,TRUE))/(IF($C$5<>\"\",Table2[Status]=$C$5,TRUE))/(IF($C$6<>\"\",Table2[FPPDate]=$C$6,TRUE))/(IF($C$7<>\"\",Table2[ProposalCode]=$C$7,TRUE)),ROW(G345))),\"\")","v":""},{"$f":"IFERROR(VLOOKUP($B353,SIP!$D$5776:$P$6032,12,0),0)","v":0},{"$f":"IFERROR(H353-I353,0)","v":0},{"$f":"IFERROR(VLOOKUP($B353,SIP!$D$5776:$P$6032,8,0),0)","v":0},{"$f":"IFERROR(INDEX(Table2[OFF/ON],_xlfn.AGGREGATE(15,6,(ROW(Table2[FPPGroupCode])-2)/(Table2[DepoName]=$C$2)/(IF($C$3<>\"\",Table2[BULAN]=$C$3,TRUE))/(IF($C$4<>\"\",Table2[OFF/ON]=$C$4,TRUE))/(IF($C$5<>\"\",Table2[Status]=$C$5,TRUE))/(IF($C$6<>\"\",Table2[FPPDate]=$C$6,TRUE))/(IF($C$7<>\"\",Table2[ProposalCode]=$C$7,TRUE)),ROW(K345))),\"\")","v":""}]
[{"$f":"IF(LEN($B354),ROW(A346),\"\")","v":""},{"$f":"IFERROR(INDEX(Table2[FPPGroupCode],_xlfn.AGGREGATE(15,6,(ROW(Table2[FPPGroupCode])-2)/(Table2[DepoName]=$C$2)/(IF($C$3<>\"\",Table2[BULAN]=$C$3,TRUE))/(IF($C$4<>\"\",Table2[OFF/ON]=$C$4,TRUE))/(IF($C$5<>\"\",Table2[Status]=$C$5,TRUE))/(IF($C$6<>\"\",Table2[FPPDate]=$C$6,TRUE))/(IF($C$7<>\"\",Table2[ProposalCode]=$C$7,TRUE)),ROW(A346))),\"\")","v":""},{"$f":"IFERROR(VLOOKUP($B354,SIP!$D$3:$Q$12237,14,0),0)","v":0},{"$f":"IFERROR(INDEX(Table2[Activity],_xlfn.AGGREGATE(15,6,(ROW(Table2[FPPGroupCode])-2)/(Table2[DepoName]=$C$2)/(IF($C$3<>\"\",Table2[BULAN]=$C$3,TRUE))/(IF($C$4<>\"\",Table2[OFF/ON]=$C$4,TRUE))/(IF($C$5<>\"\",Table2[Status]=$C$5,TRUE))/(IF($C$6<>\"\",Table2[]=$C$6,TRUE))/(IF($C$7<>\"\",Table2[ProposalCode]=$C$7,TRUE)),ROW(B346))),\"\")","v":""},{"$f":"IFERROR(INDEX(Table2[Location],_xlfn.AGGREGATE(15,6,(ROW(Table2[FPPGroupCode])-2)/(Table2[DepoName]=$C$2)/(IF($C$3<>\"\",Table2[BULAN]=$C$3,TRUE))/(IF($C$4<>\"\",Table2[OFF/ON]=$C$4,TRUE))/(IF($C$5<>\"\",Table2[Status]=$C$5,TRUE))/(IF($C$6<>\"\",Table2[FPPDate]=$C$6,TRUE))/(IF($C$7<>\"\",Table2[ProposalCode]=$C$7,TRUE)),ROW(D346))),\"\")","v":""},{"$f":"IFERROR(INDEX(Table2[PeriodeStart],_xlfn.AGGREGATE(15,6,(ROW(Table2[FPPGroupCode])-2)/(Table2[DepoName]=$C$2)/(IF($C$3<>\"\",Table2[BULAN]=$C$3,TRUE))/(IF($C$4<>\"\",Table2[OFF/ON]=$C$4,TRUE))/(IF($C$5<>\"\",Table2[Status]=$C$5,TRUE))/(IF($C$6<>\"\",Table2[FPPDate]=$C$6,TRUE))/(IF($C$7<>\"\",Table2[ProposalCode]=$C$7,TRUE)),ROW(E346))),\"\")","v":""},{"$f":"IFERROR(INDEX(Table2[PeriodeEnd],_xlfn.AGGREGATE(15,6,(ROW(Table2[FPPGroupCode])-2)/(Table2[DepoName]=$C$2)/(IF($C$3<>\"\",Table2[BULAN]=$C$3,TRUE))/(IF($C$4<>\"\",Table2[OFF/ON]=$C$4,TRUE))/(IF($C$5<>\"\",Table2[Status]=$C$5,TRUE))/(IF($C$6<>\"\",Table2[FPPDate]=$C$6,TRUE))/(IF($C$7<>\"\",Table2[ProposalCode]=$C$7,TRUE)),ROW(F346))),\"\")","v":""},{"$f":"IFERROR(INDEX(Table2[Amount_FPPDepo],_xlfn.AGGREGATE(15,6,(ROW(Table2[FPPGroupCode])-2)/(Table2[DepoName]=$C$2)/(IF($C$3<>\"\",Table2[BULAN]=$C$3,TRUE))/(IF($C$4<>\"\",Table2[OFF/ON]=$C$4,TRUE))/(IF($C$5<>\"\",Table2[Status]=$C$5,TRUE))/(IF($C$6<>\"\",Table2[FPPDate]=$C$6,TRUE))/(IF($C$7<>\"\",Table2[ProposalCode]=$C$7,TRUE)),ROW(G346))),\"\")","v":""},{"$f":"IFERROR(VLOOKUP($B354,SIP!$D$5776:$P$6032,12,0),0)","v":0},{"$f":"IFERROR(H354-I354,0)","v":0},{"$f":"IFERROR(VLOOKUP($B354,SIP!$D$5776:$P$6032,8,0),0)","v":0},{"$f":"IFERROR(INDEX(Table2[OFF/ON],_xlfn.AGGREGATE(15,6,(ROW(Table2[FPPGroupCode])-2)/(Table2[DepoName]=$C$2)/(IF($C$3<>\"\",Table2[BULAN]=$C$3,TRUE))/(IF($C$4<>\"\",Table2[OFF/ON]=$C$4,TRUE))/(IF($C$5<>\"\",Table2[Status]=$C$5,TRUE))/(IF($C$6<>\"\",Table2[FPPDate]=$C$6,TRUE))/(IF($C$7<>\"\",Table2[ProposalCode]=$C$7,TRUE)),ROW(K346))),\"\")","v":""}]
[{"$f":"IF(LEN($B355),ROW(A347),\"\")","v":""},{"$f":"IFERROR(INDEX(Table2[FPPGroupCode],_xlfn.AGGREGATE(15,6,(ROW(Table2[FPPGroupCode])-2)/(Table2[DepoName]=$C$2)/(IF($C$3<>\"\",Table2[BULAN]=$C$3,TRUE))/(IF($C$4<>\"\",Table2[OFF/ON]=$C$4,TRUE))/(IF($C$5<>\"\",Table2[Status]=$C$5,TRUE))/(IF($C$6<>\"\",Table2[FPPDate]=$C$6,TRUE))/(IF($C$7<>\"\",Table2[ProposalCode]=$C$7,TRUE)),ROW(A347))),\"\")","v":""},{"$f":"IFERROR(VLOOKUP($B355,SIP!$D$3:$Q$12237,14,0),0)","v":0},{"$f":"IFERROR(INDEX(Table2[Activity],_xlfn.AGGREGATE(15,6,(ROW(Table2[FPPGroupCode])-2)/(Table2[DepoName]=$C$2)/(IF($C$3<>\"\",Table2[BULAN]=$C$3,TRUE))/(IF($C$4<>\"\",Table2[OFF/ON]=$C$4,TRUE))/(IF($C$5<>\"\",Table2[Status]=$C$5,TRUE))/(IF($C$6<>\"\",Table2[]=$C$6,TRUE))/(IF($C$7<>\"\",Table2[ProposalCode]=$C$7,TRUE)),ROW(B347))),\"\")","v":""},{"$f":"IFERROR(INDEX(Table2[Location],_xlfn.AGGREGATE(15,6,(ROW(Table2[FPPGroupCode])-2)/(Table2[DepoName]=$C$2)/(IF($C$3<>\"\",Table2[BULAN]=$C$3,TRUE))/(IF($C$4<>\"\",Table2[OFF/ON]=$C$4,TRUE))/(IF($C$5<>\"\",Table2[Status]=$C$5,TRUE))/(IF($C$6<>\"\",Table2[FPPDate]=$C$6,TRUE))/(IF($C$7<>\"\",Table2[ProposalCode]=$C$7,TRUE)),ROW(D347))),\"\")","v":""},{"$f":"IFERROR(INDEX(Table2[PeriodeStart],_xlfn.AGGREGATE(15,6,(ROW(Table2[FPPGroupCode])-2)/(Table2[DepoName]=$C$2)/(IF($C$3<>\"\",Table2[BULAN]=$C$3,TRUE))/(IF($C$4<>\"\",Table2[OFF/ON]=$C$4,TRUE))/(IF($C$5<>\"\",Table2[Status]=$C$5,TRUE))/(IF($C$6<>\"\",Table2[FPPDate]=$C$6,TRUE))/(IF($C$7<>\"\",Table2[ProposalCode]=$C$7,TRUE)),ROW(E347))),\"\")","v":""},{"$f":"IFERROR(INDEX(Table2[PeriodeEnd],_xlfn.AGGREGATE(15,6,(ROW(Table2[FPPGroupCode])-2)/(Table2[DepoName]=$C$2)/(IF($C$3<>\"\",Table2[BULAN]=$C$3,TRUE))/(IF($C$4<>\"\",Table2[OFF/ON]=$C$4,TRUE))/(IF($C$5<>\"\",Table2[Status]=$C$5,TRUE))/(IF($C$6<>\"\",Table2[FPPDate]=$C$6,TRUE))/(IF($C$7<>\"\",Table2[ProposalCode]=$C$7,TRUE)),ROW(F347))),\"\")","v":""},{"$f":"IFERROR(INDEX(Table2[Amount_FPPDepo],_xlfn.AGGREGATE(15,6,(ROW(Table2[FPPGroupCode])-2)/(Table2[DepoName]=$C$2)/(IF($C$3<>\"\",Table2[BULAN]=$C$3,TRUE))/(IF($C$4<>\"\",Table2[OFF/ON]=$C$4,TRUE))/(IF($C$5<>\"\",Table2[Status]=$C$5,TRUE))/(IF($C$6<>\"\",Table2[FPPDate]=$C$6,TRUE))/(IF($C$7<>\"\",Table2[ProposalCode]=$C$7,TRUE)),ROW(G347))),\"\")","v":""},{"$f":"IFERROR(VLOOKUP($B355,SIP!$D$5776:$P$6032,12,0),0)","v":0},{"$f":"IFERROR(H355-I355,0)","v":0},{"$f":"IFERROR(VLOOKUP($B355,SIP!$D$5776:$P$6032,8,0),0)","v":0},{"$f":"IFERROR(INDEX(Table2[OFF/ON],_xlfn.AGGREGATE(15,6,(ROW(Table2[FPPGroupCode])-2)/(Table2[DepoName]=$C$2)/(IF($C$3<>\"\",Table2[BULAN]=$C$3,TRUE))/(IF($C$4<>\"\",Table2[OFF/ON]=$C$4,TRUE))/(IF($C$5<>\"\",Table2[Status]=$C$5,TRUE))/(IF($C$6<>\"\",Table2[FPPDate]=$C$6,TRUE))/(IF($C$7<>\"\",Table2[ProposalCode]=$C$7,TRUE)),ROW(K347))),\"\")","v":""}]
[{"$f":"IF(LEN($B356),ROW(A348),\"\")","v":""},{"$f":"IFERROR(INDEX(Table2[FPPGroupCode],_xlfn.AGGREGATE(15,6,(ROW(Table2[FPPGroupCode])-2)/(Table2[DepoName]=$C$2)/(IF($C$3<>\"\",Table2[BULAN]=$C$3,TRUE))/(IF($C$4<>\"\",Table2[OFF/ON]=$C$4,TRUE))/(IF($C$5<>\"\",Table2[Status]=$C$5,TRUE))/(IF($C$6<>\"\",Table2[FPPDate]=$C$6,TRUE))/(IF($C$7<>\"\",Table2[ProposalCode]=$C$7,TRUE)),ROW(A348))),\"\")","v":""},{"$f":"IFERROR(VLOOKUP($B356,SIP!$D$3:$Q$12237,14,0),0)","v":0},{"$f":"IFERROR(INDEX(Table2[Activity],_xlfn.AGGREGATE(15,6,(ROW(Table2[FPPGroupCode])-2)/(Table2[DepoName]=$C$2)/(IF($C$3<>\"\",Table2[BULAN]=$C$3,TRUE))/(IF($C$4<>\"\",Table2[OFF/ON]=$C$4,TRUE))/(IF($C$5<>\"\",Table2[Status]=$C$5,TRUE))/(IF($C$6<>\"\",Table2[]=$C$6,TRUE))/(IF($C$7<>\"\",Table2[ProposalCode]=$C$7,TRUE)),ROW(B348))),\"\")","v":""},{"$f":"IFERROR(INDEX(Table2[Location],_xlfn.AGGREGATE(15,6,(ROW(Table2[FPPGroupCode])-2)/(Table2[DepoName]=$C$2)/(IF($C$3<>\"\",Table2[BULAN]=$C$3,TRUE))/(IF($C$4<>\"\",Table2[OFF/ON]=$C$4,TRUE))/(IF($C$5<>\"\",Table2[Status]=$C$5,TRUE))/(IF($C$6<>\"\",Table2[FPPDate]=$C$6,TRUE))/(IF($C$7<>\"\",Table2[ProposalCode]=$C$7,TRUE)),ROW(D348))),\"\")","v":""},{"$f":"IFERROR(INDEX(Table2[PeriodeStart],_xlfn.AGGREGATE(15,6,(ROW(Table2[FPPGroupCode])-2)/(Table2[DepoName]=$C$2)/(IF($C$3<>\"\",Table2[BULAN]=$C$3,TRUE))/(IF($C$4<>\"\",Table2[OFF/ON]=$C$4,TRUE))/(IF($C$5<>\"\",Table2[Status]=$C$5,TRUE))/(IF($C$6<>\"\",Table2[FPPDate]=$C$6,TRUE))/(IF($C$7<>\"\",Table2[ProposalCode]=$C$7,TRUE)),ROW(E348))),\"\")","v":""},{"$f":"IFERROR(INDEX(Table2[PeriodeEnd],_xlfn.AGGREGATE(15,6,(ROW(Table2[FPPGroupCode])-2)/(Table2[DepoName]=$C$2)/(IF($C$3<>\"\",Table2[BULAN]=$C$3,TRUE))/(IF($C$4<>\"\",Table2[OFF/ON]=$C$4,TRUE))/(IF($C$5<>\"\",Table2[Status]=$C$5,TRUE))/(IF($C$6<>\"\",Table2[FPPDate]=$C$6,TRUE))/(IF($C$7<>\"\",Table2[ProposalCode]=$C$7,TRUE)),ROW(F348))),\"\")","v":""},{"$f":"IFERROR(INDEX(Table2[Amount_FPPDepo],_xlfn.AGGREGATE(15,6,(ROW(Table2[FPPGroupCode])-2)/(Table2[DepoName]=$C$2)/(IF($C$3<>\"\",Table2[BULAN]=$C$3,TRUE))/(IF($C$4<>\"\",Table2[OFF/ON]=$C$4,TRUE))/(IF($C$5<>\"\",Table2[Status]=$C$5,TRUE))/(IF($C$6<>\"\",Table2[FPPDate]=$C$6,TRUE))/(IF($C$7<>\"\",Table2[ProposalCode]=$C$7,TRUE)),ROW(G348))),\"\")","v":""},{"$f":"IFERROR(VLOOKUP($B356,SIP!$D$5776:$P$6032,12,0),0)","v":0},{"$f":"IFERROR(H356-I356,0)","v":0},{"$f":"IFERROR(VLOOKUP($B356,SIP!$D$5776:$P$6032,8,0),0)","v":0},{"$f":"IFERROR(INDEX(Table2[OFF/ON],_xlfn.AGGREGATE(15,6,(ROW(Table2[FPPGroupCode])-2)/(Table2[DepoName]=$C$2)/(IF($C$3<>\"\",Table2[BULAN]=$C$3,TRUE))/(IF($C$4<>\"\",Table2[OFF/ON]=$C$4,TRUE))/(IF($C$5<>\"\",Table2[Status]=$C$5,TRUE))/(IF($C$6<>\"\",Table2[FPPDate]=$C$6,TRUE))/(IF($C$7<>\"\",Table2[ProposalCode]=$C$7,TRUE)),ROW(K348))),\"\")","v":""}]
[{"$f":"IF(LEN($B357),ROW(A349),\"\")","v":""},{"$f":"IFERROR(INDEX(Table2[FPPGroupCode],_xlfn.AGGREGATE(15,6,(ROW(Table2[FPPGroupCode])-2)/(Table2[DepoName]=$C$2)/(IF($C$3<>\"\",Table2[BULAN]=$C$3,TRUE))/(IF($C$4<>\"\",Table2[OFF/ON]=$C$4,TRUE))/(IF($C$5<>\"\",Table2[Status]=$C$5,TRUE))/(IF($C$6<>\"\",Table2[FPPDate]=$C$6,TRUE))/(IF($C$7<>\"\",Table2[ProposalCode]=$C$7,TRUE)),ROW(A349))),\"\")","v":""},{"$f":"IFERROR(VLOOKUP($B357,SIP!$D$3:$Q$12237,14,0),0)","v":0},{"$f":"IFERROR(INDEX(Table2[Activity],_xlfn.AGGREGATE(15,6,(ROW(Table2[FPPGroupCode])-2)/(Table2[DepoName]=$C$2)/(IF($C$3<>\"\",Table2[BULAN]=$C$3,TRUE))/(IF($C$4<>\"\",Table2[OFF/ON]=$C$4,TRUE))/(IF($C$5<>\"\",Table2[Status]=$C$5,TRUE))/(IF($C$6<>\"\",Table2[]=$C$6,TRUE))/(IF($C$7<>\"\",Table2[ProposalCode]=$C$7,TRUE)),ROW(B349))),\"\")","v":""},{"$f":"IFERROR(INDEX(Table2[Location],_xlfn.AGGREGATE(15,6,(ROW(Table2[FPPGroupCode])-2)/(Table2[DepoName]=$C$2)/(IF($C$3<>\"\",Table2[BULAN]=$C$3,TRUE))/(IF($C$4<>\"\",Table2[OFF/ON]=$C$4,TRUE))/(IF($C$5<>\"\",Table2[Status]=$C$5,TRUE))/(IF($C$6<>\"\",Table2[FPPDate]=$C$6,TRUE))/(IF($C$7<>\"\",Table2[ProposalCode]=$C$7,TRUE)),ROW(D349))),\"\")","v":""},{"$f":"IFERROR(INDEX(Table2[PeriodeStart],_xlfn.AGGREGATE(15,6,(ROW(Table2[FPPGroupCode])-2)/(Table2[DepoName]=$C$2)/(IF($C$3<>\"\",Table2[BULAN]=$C$3,TRUE))/(IF($C$4<>\"\",Table2[OFF/ON]=$C$4,TRUE))/(IF($C$5<>\"\",Table2[Status]=$C$5,TRUE))/(IF($C$6<>\"\",Table2[FPPDate]=$C$6,TRUE))/(IF($C$7<>\"\",Table2[ProposalCode]=$C$7,TRUE)),ROW(E349))),\"\")","v":""},{"$f":"IFERROR(INDEX(Table2[PeriodeEnd],_xlfn.AGGREGATE(15,6,(ROW(Table2[FPPGroupCode])-2)/(Table2[DepoName]=$C$2)/(IF($C$3<>\"\",Table2[BULAN]=$C$3,TRUE))/(IF($C$4<>\"\",Table2[OFF/ON]=$C$4,TRUE))/(IF($C$5<>\"\",Table2[Status]=$C$5,TRUE))/(IF($C$6<>\"\",Table2[FPPDate]=$C$6,TRUE))/(IF($C$7<>\"\",Table2[ProposalCode]=$C$7,TRUE)),ROW(F349))),\"\")","v":""},{"$f":"IFERROR(INDEX(Table2[Amount_FPPDepo],_xlfn.AGGREGATE(15,6,(ROW(Table2[FPPGroupCode])-2)/(Table2[DepoName]=$C$2)/(IF($C$3<>\"\",Table2[BULAN]=$C$3,TRUE))/(IF($C$4<>\"\",Table2[OFF/ON]=$C$4,TRUE))/(IF($C$5<>\"\",Table2[Status]=$C$5,TRUE))/(IF($C$6<>\"\",Table2[FPPDate]=$C$6,TRUE))/(IF($C$7<>\"\",Table2[ProposalCode]=$C$7,TRUE)),ROW(G349))),\"\")","v":""},{"$f":"IFERROR(VLOOKUP($B357,SIP!$D$5776:$P$6032,12,0),0)","v":0},{"$f":"IFERROR(H357-I357,0)","v":0},{"$f":"IFERROR(VLOOKUP($B357,SIP!$D$5776:$P$6032,8,0),0)","v":0},{"$f":"IFERROR(INDEX(Table2[OFF/ON],_xlfn.AGGREGATE(15,6,(ROW(Table2[FPPGroupCode])-2)/(Table2[DepoName]=$C$2)/(IF($C$3<>\"\",Table2[BULAN]=$C$3,TRUE))/(IF($C$4<>\"\",Table2[OFF/ON]=$C$4,TRUE))/(IF($C$5<>\"\",Table2[Status]=$C$5,TRUE))/(IF($C$6<>\"\",Table2[FPPDate]=$C$6,TRUE))/(IF($C$7<>\"\",Table2[ProposalCode]=$C$7,TRUE)),ROW(K349))),\"\")","v":""}]
[{"$f":"IF(LEN($B358),ROW(A350),\"\")","v":""},{"$f":"IFERROR(INDEX(Table2[FPPGroupCode],_xlfn.AGGREGATE(15,6,(ROW(Table2[FPPGroupCode])-2)/(Table2[DepoName]=$C$2)/(IF($C$3<>\"\",Table2[BULAN]=$C$3,TRUE))/(IF($C$4<>\"\",Table2[OFF/ON]=$C$4,TRUE))/(IF($C$5<>\"\",Table2[Status]=$C$5,TRUE))/(IF($C$6<>\"\",Table2[FPPDate]=$C$6,TRUE))/(IF($C$7<>\"\",Table2[ProposalCode]=$C$7,TRUE)),ROW(A350))),\"\")","v":""},{"$f":"IFERROR(VLOOKUP($B358,SIP!$D$3:$Q$12237,14,0),0)","v":0},{"$f":"IFERROR(INDEX(Table2[Activity],_xlfn.AGGREGATE(15,6,(ROW(Table2[FPPGroupCode])-2)/(Table2[DepoName]=$C$2)/(IF($C$3<>\"\",Table2[BULAN]=$C$3,TRUE))/(IF($C$4<>\"\",Table2[OFF/ON]=$C$4,TRUE))/(IF($C$5<>\"\",Table2[Status]=$C$5,TRUE))/(IF($C$6<>\"\",Table2[]=$C$6,TRUE))/(IF($C$7<>\"\",Table2[ProposalCode]=$C$7,TRUE)),ROW(B350))),\"\")","v":""},{"$f":"IFERROR(INDEX(Table2[Location],_xlfn.AGGREGATE(15,6,(ROW(Table2[FPPGroupCode])-2)/(Table2[DepoName]=$C$2)/(IF($C$3<>\"\",Table2[BULAN]=$C$3,TRUE))/(IF($C$4<>\"\",Table2[OFF/ON]=$C$4,TRUE))/(IF($C$5<>\"\",Table2[Status]=$C$5,TRUE))/(IF($C$6<>\"\",Table2[FPPDate]=$C$6,TRUE))/(IF($C$7<>\"\",Table2[ProposalCode]=$C$7,TRUE)),ROW(D350))),\"\")","v":""},{"$f":"IFERROR(INDEX(Table2[PeriodeStart],_xlfn.AGGREGATE(15,6,(ROW(Table2[FPPGroupCode])-2)/(Table2[DepoName]=$C$2)/(IF($C$3<>\"\",Table2[BULAN]=$C$3,TRUE))/(IF($C$4<>\"\",Table2[OFF/ON]=$C$4,TRUE))/(IF($C$5<>\"\",Table2[Status]=$C$5,TRUE))/(IF($C$6<>\"\",Table2[FPPDate]=$C$6,TRUE))/(IF($C$7<>\"\",Table2[ProposalCode]=$C$7,TRUE)),ROW(E350))),\"\")","v":""},{"$f":"IFERROR(INDEX(Table2[PeriodeEnd],_xlfn.AGGREGATE(15,6,(ROW(Table2[FPPGroupCode])-2)/(Table2[DepoName]=$C$2)/(IF($C$3<>\"\",Table2[BULAN]=$C$3,TRUE))/(IF($C$4<>\"\",Table2[OFF/ON]=$C$4,TRUE))/(IF($C$5<>\"\",Table2[Status]=$C$5,TRUE))/(IF($C$6<>\"\",Table2[FPPDate]=$C$6,TRUE))/(IF($C$7<>\"\",Table2[ProposalCode]=$C$7,TRUE)),ROW(F350))),\"\")","v":""},{"$f":"IFERROR(INDEX(Table2[Amount_FPPDepo],_xlfn.AGGREGATE(15,6,(ROW(Table2[FPPGroupCode])-2)/(Table2[DepoName]=$C$2)/(IF($C$3<>\"\",Table2[BULAN]=$C$3,TRUE))/(IF($C$4<>\"\",Table2[OFF/ON]=$C$4,TRUE))/(IF($C$5<>\"\",Table2[Status]=$C$5,TRUE))/(IF($C$6<>\"\",Table2[FPPDate]=$C$6,TRUE))/(IF($C$7<>\"\",Table2[ProposalCode]=$C$7,TRUE)),ROW(G350))),\"\")","v":""},{"$f":"IFERROR(VLOOKUP($B358,SIP!$D$5776:$P$6032,12,0),0)","v":0},{"$f":"IFERROR(H358-I358,0)","v":0},{"$f":"IFERROR(VLOOKUP($B358,SIP!$D$5776:$P$6032,8,0),0)","v":0},{"$f":"IFERROR(INDEX(Table2[OFF/ON],_xlfn.AGGREGATE(15,6,(ROW(Table2[FPPGroupCode])-2)/(Table2[DepoName]=$C$2)/(IF($C$3<>\"\",Table2[BULAN]=$C$3,TRUE))/(IF($C$4<>\"\",Table2[OFF/ON]=$C$4,TRUE))/(IF($C$5<>\"\",Table2[Status]=$C$5,TRUE))/(IF($C$6<>\"\",Table2[FPPDate]=$C$6,TRUE))/(IF($C$7<>\"\",Table2[ProposalCode]=$C$7,TRUE)),ROW(K350))),\"\")","v":""}]
[{"$f":"IF(LEN($B359),ROW(A351),\"\")","v":""},{"$f":"IFERROR(INDEX(Table2[FPPGroupCode],_xlfn.AGGREGATE(15,6,(ROW(Table2[FPPGroupCode])-2)/(Table2[DepoName]=$C$2)/(IF($C$3<>\"\",Table2[BULAN]=$C$3,TRUE))/(IF($C$4<>\"\",Table2[OFF/ON]=$C$4,TRUE))/(IF($C$5<>\"\",Table2[Status]=$C$5,TRUE))/(IF($C$6<>\"\",Table2[FPPDate]=$C$6,TRUE))/(IF($C$7<>\"\",Table2[ProposalCode]=$C$7,TRUE)),ROW(A351))),\"\")","v":""},{"$f":"IFERROR(VLOOKUP($B359,SIP!$D$3:$Q$12237,14,0),0)","v":0},{"$f":"IFERROR(INDEX(Table2[Activity],_xlfn.AGGREGATE(15,6,(ROW(Table2[FPPGroupCode])-2)/(Table2[DepoName]=$C$2)/(IF($C$3<>\"\",Table2[BULAN]=$C$3,TRUE))/(IF($C$4<>\"\",Table2[OFF/ON]=$C$4,TRUE))/(IF($C$5<>\"\",Table2[Status]=$C$5,TRUE))/(IF($C$6<>\"\",Table2[]=$C$6,TRUE))/(IF($C$7<>\"\",Table2[ProposalCode]=$C$7,TRUE)),ROW(B351))),\"\")","v":""},{"$f":"IFERROR(INDEX(Table2[Location],_xlfn.AGGREGATE(15,6,(ROW(Table2[FPPGroupCode])-2)/(Table2[DepoName]=$C$2)/(IF($C$3<>\"\",Table2[BULAN]=$C$3,TRUE))/(IF($C$4<>\"\",Table2[OFF/ON]=$C$4,TRUE))/(IF($C$5<>\"\",Table2[Status]=$C$5,TRUE))/(IF($C$6<>\"\",Table2[FPPDate]=$C$6,TRUE))/(IF($C$7<>\"\",Table2[ProposalCode]=$C$7,TRUE)),ROW(D351))),\"\")","v":""},{"$f":"IFERROR(INDEX(Table2[PeriodeStart],_xlfn.AGGREGATE(15,6,(ROW(Table2[FPPGroupCode])-2)/(Table2[DepoName]=$C$2)/(IF($C$3<>\"\",Table2[BULAN]=$C$3,TRUE))/(IF($C$4<>\"\",Table2[OFF/ON]=$C$4,TRUE))/(IF($C$5<>\"\",Table2[Status]=$C$5,TRUE))/(IF($C$6<>\"\",Table2[FPPDate]=$C$6,TRUE))/(IF($C$7<>\"\",Table2[ProposalCode]=$C$7,TRUE)),ROW(E351))),\"\")","v":""},{"$f":"IFERROR(INDEX(Table2[PeriodeEnd],_xlfn.AGGREGATE(15,6,(ROW(Table2[FPPGroupCode])-2)/(Table2[DepoName]=$C$2)/(IF($C$3<>\"\",Table2[BULAN]=$C$3,TRUE))/(IF($C$4<>\"\",Table2[OFF/ON]=$C$4,TRUE))/(IF($C$5<>\"\",Table2[Status]=$C$5,TRUE))/(IF($C$6<>\"\",Table2[FPPDate]=$C$6,TRUE))/(IF($C$7<>\"\",Table2[ProposalCode]=$C$7,TRUE)),ROW(F351))),\"\")","v":""},{"$f":"IFERROR(INDEX(Table2[Amount_FPPDepo],_xlfn.AGGREGATE(15,6,(ROW(Table2[FPPGroupCode])-2)/(Table2[DepoName]=$C$2)/(IF($C$3<>\"\",Table2[BULAN]=$C$3,TRUE))/(IF($C$4<>\"\",Table2[OFF/ON]=$C$4,TRUE))/(IF($C$5<>\"\",Table2[Status]=$C$5,TRUE))/(IF($C$6<>\"\",Table2[FPPDate]=$C$6,TRUE))/(IF($C$7<>\"\",Table2[ProposalCode]=$C$7,TRUE)),ROW(G351))),\"\")","v":""},{"$f":"IFERROR(VLOOKUP($B359,SIP!$D$5776:$P$6032,12,0),0)","v":0},{"$f":"IFERROR(H359-I359,0)","v":0},{"$f":"IFERROR(VLOOKUP($B359,SIP!$D$5776:$P$6032,8,0),0)","v":0},{"$f":"IFERROR(INDEX(Table2[OFF/ON],_xlfn.AGGREGATE(15,6,(ROW(Table2[FPPGroupCode])-2)/(Table2[DepoName]=$C$2)/(IF($C$3<>\"\",Table2[BULAN]=$C$3,TRUE))/(IF($C$4<>\"\",Table2[OFF/ON]=$C$4,TRUE))/(IF($C$5<>\"\",Table2[Status]=$C$5,TRUE))/(IF($C$6<>\"\",Table2[FPPDate]=$C$6,TRUE))/(IF($C$7<>\"\",Table2[ProposalCode]=$C$7,TRUE)),ROW(K351))),\"\")","v":""}]
[{"$f":"IF(LEN($B360),ROW(A352),\"\")","v":""},{"$f":"IFERROR(INDEX(Table2[FPPGroupCode],_xlfn.AGGREGATE(15,6,(ROW(Table2[FPPGroupCode])-2)/(Table2[DepoName]=$C$2)/(IF($C$3<>\"\",Table2[BULAN]=$C$3,TRUE))/(IF($C$4<>\"\",Table2[OFF/ON]=$C$4,TRUE))/(IF($C$5<>\"\",Table2[Status]=$C$5,TRUE))/(IF($C$6<>\"\",Table2[FPPDate]=$C$6,TRUE))/(IF($C$7<>\"\",Table2[ProposalCode]=$C$7,TRUE)),ROW(A352))),\"\")","v":""},{"$f":"IFERROR(VLOOKUP($B360,SIP!$D$3:$Q$12237,14,0),0)","v":0},{"$f":"IFERROR(INDEX(Table2[Activity],_xlfn.AGGREGATE(15,6,(ROW(Table2[FPPGroupCode])-2)/(Table2[DepoName]=$C$2)/(IF($C$3<>\"\",Table2[BULAN]=$C$3,TRUE))/(IF($C$4<>\"\",Table2[OFF/ON]=$C$4,TRUE))/(IF($C$5<>\"\",Table2[Status]=$C$5,TRUE))/(IF($C$6<>\"\",Table2[]=$C$6,TRUE))/(IF($C$7<>\"\",Table2[ProposalCode]=$C$7,TRUE)),ROW(B352))),\"\")","v":""},{"$f":"IFERROR(INDEX(Table2[Location],_xlfn.AGGREGATE(15,6,(ROW(Table2[FPPGroupCode])-2)/(Table2[DepoName]=$C$2)/(IF($C$3<>\"\",Table2[BULAN]=$C$3,TRUE))/(IF($C$4<>\"\",Table2[OFF/ON]=$C$4,TRUE))/(IF($C$5<>\"\",Table2[Status]=$C$5,TRUE))/(IF($C$6<>\"\",Table2[FPPDate]=$C$6,TRUE))/(IF($C$7<>\"\",Table2[ProposalCode]=$C$7,TRUE)),ROW(D352))),\"\")","v":""},{"$f":"IFERROR(INDEX(Table2[PeriodeStart],_xlfn.AGGREGATE(15,6,(ROW(Table2[FPPGroupCode])-2)/(Table2[DepoName]=$C$2)/(IF($C$3<>\"\",Table2[BULAN]=$C$3,TRUE))/(IF($C$4<>\"\",Table2[OFF/ON]=$C$4,TRUE))/(IF($C$5<>\"\",Table2[Status]=$C$5,TRUE))/(IF($C$6<>\"\",Table2[FPPDate]=$C$6,TRUE))/(IF($C$7<>\"\",Table2[ProposalCode]=$C$7,TRUE)),ROW(E352))),\"\")","v":""},{"$f":"IFERROR(INDEX(Table2[PeriodeEnd],_xlfn.AGGREGATE(15,6,(ROW(Table2[FPPGroupCode])-2)/(Table2[DepoName]=$C$2)/(IF($C$3<>\"\",Table2[BULAN]=$C$3,TRUE))/(IF($C$4<>\"\",Table2[OFF/ON]=$C$4,TRUE))/(IF($C$5<>\"\",Table2[Status]=$C$5,TRUE))/(IF($C$6<>\"\",Table2[FPPDate]=$C$6,TRUE))/(IF($C$7<>\"\",Table2[ProposalCode]=$C$7,TRUE)),ROW(F352))),\"\")","v":""},{"$f":"IFERROR(INDEX(Table2[Amount_FPPDepo],_xlfn.AGGREGATE(15,6,(ROW(Table2[FPPGroupCode])-2)/(Table2[DepoName]=$C$2)/(IF($C$3<>\"\",Table2[BULAN]=$C$3,TRUE))/(IF($C$4<>\"\",Table2[OFF/ON]=$C$4,TRUE))/(IF($C$5<>\"\",Table2[Status]=$C$5,TRUE))/(IF($C$6<>\"\",Table2[FPPDate]=$C$6,TRUE))/(IF($C$7<>\"\",Table2[ProposalCode]=$C$7,TRUE)),ROW(G352))),\"\")","v":""},{"$f":"IFERROR(VLOOKUP($B360,SIP!$D$5776:$P$6032,12,0),0)","v":0},{"$f":"IFERROR(H360-I360,0)","v":0},{"$f":"IFERROR(VLOOKUP($B360,SIP!$D$5776:$P$6032,8,0),0)","v":0},{"$f":"IFERROR(INDEX(Table2[OFF/ON],_xlfn.AGGREGATE(15,6,(ROW(Table2[FPPGroupCode])-2)/(Table2[DepoName]=$C$2)/(IF($C$3<>\"\",Table2[BULAN]=$C$3,TRUE))/(IF($C$4<>\"\",Table2[OFF/ON]=$C$4,TRUE))/(IF($C$5<>\"\",Table2[Status]=$C$5,TRUE))/(IF($C$6<>\"\",Table2[FPPDate]=$C$6,TRUE))/(IF($C$7<>\"\",Table2[ProposalCode]=$C$7,TRUE)),ROW(K352))),\"\")","v":""}]
[{"$f":"IF(LEN($B361),ROW(A353),\"\")","v":""},{"$f":"IFERROR(INDEX(Table2[FPPGroupCode],_xlfn.AGGREGATE(15,6,(ROW(Table2[FPPGroupCode])-2)/(Table2[DepoName]=$C$2)/(IF($C$3<>\"\",Table2[BULAN]=$C$3,TRUE))/(IF($C$4<>\"\",Table2[OFF/ON]=$C$4,TRUE))/(IF($C$5<>\"\",Table2[Status]=$C$5,TRUE))/(IF($C$6<>\"\",Table2[FPPDate]=$C$6,TRUE))/(IF($C$7<>\"\",Table2[ProposalCode]=$C$7,TRUE)),ROW(A353))),\"\")","v":""},{"$f":"IFERROR(VLOOKUP($B361,SIP!$D$3:$Q$12237,14,0),0)","v":0},{"$f":"IFERROR(INDEX(Table2[Activity],_xlfn.AGGREGATE(15,6,(ROW(Table2[FPPGroupCode])-2)/(Table2[DepoName]=$C$2)/(IF($C$3<>\"\",Table2[BULAN]=$C$3,TRUE))/(IF($C$4<>\"\",Table2[OFF/ON]=$C$4,TRUE))/(IF($C$5<>\"\",Table2[Status]=$C$5,TRUE))/(IF($C$6<>\"\",Table2[]=$C$6,TRUE))/(IF($C$7<>\"\",Table2[ProposalCode]=$C$7,TRUE)),ROW(B353))),\"\")","v":""},{"$f":"IFERROR(INDEX(Table2[Location],_xlfn.AGGREGATE(15,6,(ROW(Table2[FPPGroupCode])-2)/(Table2[DepoName]=$C$2)/(IF($C$3<>\"\",Table2[BULAN]=$C$3,TRUE))/(IF($C$4<>\"\",Table2[OFF/ON]=$C$4,TRUE))/(IF($C$5<>\"\",Table2[Status]=$C$5,TRUE))/(IF($C$6<>\"\",Table2[FPPDate]=$C$6,TRUE))/(IF($C$7<>\"\",Table2[ProposalCode]=$C$7,TRUE)),ROW(D353))),\"\")","v":""},{"$f":"IFERROR(INDEX(Table2[PeriodeStart],_xlfn.AGGREGATE(15,6,(ROW(Table2[FPPGroupCode])-2)/(Table2[DepoName]=$C$2)/(IF($C$3<>\"\",Table2[BULAN]=$C$3,TRUE))/(IF($C$4<>\"\",Table2[OFF/ON]=$C$4,TRUE))/(IF($C$5<>\"\",Table2[Status]=$C$5,TRUE))/(IF($C$6<>\"\",Table2[FPPDate]=$C$6,TRUE))/(IF($C$7<>\"\",Table2[ProposalCode]=$C$7,TRUE)),ROW(E353))),\"\")","v":""},{"$f":"IFERROR(INDEX(Table2[PeriodeEnd],_xlfn.AGGREGATE(15,6,(ROW(Table2[FPPGroupCode])-2)/(Table2[DepoName]=$C$2)/(IF($C$3<>\"\",Table2[BULAN]=$C$3,TRUE))/(IF($C$4<>\"\",Table2[OFF/ON]=$C$4,TRUE))/(IF($C$5<>\"\",Table2[Status]=$C$5,TRUE))/(IF($C$6<>\"\",Table2[FPPDate]=$C$6,TRUE))/(IF($C$7<>\"\",Table2[ProposalCode]=$C$7,TRUE)),ROW(F353))),\"\")","v":""},{"$f":"IFERROR(INDEX(Table2[Amount_FPPDepo],_xlfn.AGGREGATE(15,6,(ROW(Table2[FPPGroupCode])-2)/(Table2[DepoName]=$C$2)/(IF($C$3<>\"\",Table2[BULAN]=$C$3,TRUE))/(IF($C$4<>\"\",Table2[OFF/ON]=$C$4,TRUE))/(IF($C$5<>\"\",Table2[Status]=$C$5,TRUE))/(IF($C$6<>\"\",Table2[FPPDate]=$C$6,TRUE))/(IF($C$7<>\"\",Table2[ProposalCode]=$C$7,TRUE)),ROW(G353))),\"\")","v":""},{"$f":"IFERROR(VLOOKUP($B361,SIP!$D$5776:$P$6032,12,0),0)","v":0},{"$f":"IFERROR(H361-I361,0)","v":0},{"$f":"IFERROR(VLOOKUP($B361,SIP!$D$5776:$P$6032,8,0),0)","v":0},{"$f":"IFERROR(INDEX(Table2[OFF/ON],_xlfn.AGGREGATE(15,6,(ROW(Table2[FPPGroupCode])-2)/(Table2[DepoName]=$C$2)/(IF($C$3<>\"\",Table2[BULAN]=$C$3,TRUE))/(IF($C$4<>\"\",Table2[OFF/ON]=$C$4,TRUE))/(IF($C$5<>\"\",Table2[Status]=$C$5,TRUE))/(IF($C$6<>\"\",Table2[FPPDate]=$C$6,TRUE))/(IF($C$7<>\"\",Table2[ProposalCode]=$C$7,TRUE)),ROW(K353))),\"\")","v":""}]
[{"$f":"IF(LEN($B362),ROW(A354),\"\")","v":""},{"$f":"IFERROR(INDEX(Table2[FPPGroupCode],_xlfn.AGGREGATE(15,6,(ROW(Table2[FPPGroupCode])-2)/(Table2[DepoName]=$C$2)/(IF($C$3<>\"\",Table2[BULAN]=$C$3,TRUE))/(IF($C$4<>\"\",Table2[OFF/ON]=$C$4,TRUE))/(IF($C$5<>\"\",Table2[Status]=$C$5,TRUE))/(IF($C$6<>\"\",Table2[FPPDate]=$C$6,TRUE))/(IF($C$7<>\"\",Table2[ProposalCode]=$C$7,TRUE)),ROW(A354))),\"\")","v":""},{"$f":"IFERROR(VLOOKUP($B362,SIP!$D$3:$Q$12237,14,0),0)","v":0},{"$f":"IFERROR(INDEX(Table2[Activity],_xlfn.AGGREGATE(15,6,(ROW(Table2[FPPGroupCode])-2)/(Table2[DepoName]=$C$2)/(IF($C$3<>\"\",Table2[BULAN]=$C$3,TRUE))/(IF($C$4<>\"\",Table2[OFF/ON]=$C$4,TRUE))/(IF($C$5<>\"\",Table2[Status]=$C$5,TRUE))/(IF($C$6<>\"\",Table2[]=$C$6,TRUE))/(IF($C$7<>\"\",Table2[ProposalCode]=$C$7,TRUE)),ROW(B354))),\"\")","v":""},{"$f":"IFERROR(INDEX(Table2[Location],_xlfn.AGGREGATE(15,6,(ROW(Table2[FPPGroupCode])-2)/(Table2[DepoName]=$C$2)/(IF($C$3<>\"\",Table2[BULAN]=$C$3,TRUE))/(IF($C$4<>\"\",Table2[OFF/ON]=$C$4,TRUE))/(IF($C$5<>\"\",Table2[Status]=$C$5,TRUE))/(IF($C$6<>\"\",Table2[FPPDate]=$C$6,TRUE))/(IF($C$7<>\"\",Table2[ProposalCode]=$C$7,TRUE)),ROW(D354))),\"\")","v":""},{"$f":"IFERROR(INDEX(Table2[PeriodeStart],_xlfn.AGGREGATE(15,6,(ROW(Table2[FPPGroupCode])-2)/(Table2[DepoName]=$C$2)/(IF($C$3<>\"\",Table2[BULAN]=$C$3,TRUE))/(IF($C$4<>\"\",Table2[OFF/ON]=$C$4,TRUE))/(IF($C$5<>\"\",Table2[Status]=$C$5,TRUE))/(IF($C$6<>\"\",Table2[FPPDate]=$C$6,TRUE))/(IF($C$7<>\"\",Table2[ProposalCode]=$C$7,TRUE)),ROW(E354))),\"\")","v":""},{"$f":"IFERROR(INDEX(Table2[PeriodeEnd],_xlfn.AGGREGATE(15,6,(ROW(Table2[FPPGroupCode])-2)/(Table2[DepoName]=$C$2)/(IF($C$3<>\"\",Table2[BULAN]=$C$3,TRUE))/(IF($C$4<>\"\",Table2[OFF/ON]=$C$4,TRUE))/(IF($C$5<>\"\",Table2[Status]=$C$5,TRUE))/(IF($C$6<>\"\",Table2[FPPDate]=$C$6,TRUE))/(IF($C$7<>\"\",Table2[ProposalCode]=$C$7,TRUE)),ROW(F354))),\"\")","v":""},{"$f":"IFERROR(INDEX(Table2[Amount_FPPDepo],_xlfn.AGGREGATE(15,6,(ROW(Table2[FPPGroupCode])-2)/(Table2[DepoName]=$C$2)/(IF($C$3<>\"\",Table2[BULAN]=$C$3,TRUE))/(IF($C$4<>\"\",Table2[OFF/ON]=$C$4,TRUE))/(IF($C$5<>\"\",Table2[Status]=$C$5,TRUE))/(IF($C$6<>\"\",Table2[FPPDate]=$C$6,TRUE))/(IF($C$7<>\"\",Table2[ProposalCode]=$C$7,TRUE)),ROW(G354))),\"\")","v":""},{"$f":"IFERROR(VLOOKUP($B362,SIP!$D$5776:$P$6032,12,0),0)","v":0},{"$f":"IFERROR(H362-I362,0)","v":0},{"$f":"IFERROR(VLOOKUP($B362,SIP!$D$5776:$P$6032,8,0),0)","v":0},{"$f":"IFERROR(INDEX(Table2[OFF/ON],_xlfn.AGGREGATE(15,6,(ROW(Table2[FPPGroupCode])-2)/(Table2[DepoName]=$C$2)/(IF($C$3<>\"\",Table2[BULAN]=$C$3,TRUE))/(IF($C$4<>\"\",Table2[OFF/ON]=$C$4,TRUE))/(IF($C$5<>\"\",Table2[Status]=$C$5,TRUE))/(IF($C$6<>\"\",Table2[FPPDate]=$C$6,TRUE))/(IF($C$7<>\"\",Table2[ProposalCode]=$C$7,TRUE)),ROW(K354))),\"\")","v":""}]
[{"$f":"IF(LEN($B363),ROW(A355),\"\")","v":""},{"$f":"IFERROR(INDEX(Table2[FPPGroupCode],_xlfn.AGGREGATE(15,6,(ROW(Table2[FPPGroupCode])-2)/(Table2[DepoName]=$C$2)/(IF($C$3<>\"\",Table2[BULAN]=$C$3,TRUE))/(IF($C$4<>\"\",Table2[OFF/ON]=$C$4,TRUE))/(IF($C$5<>\"\",Table2[Status]=$C$5,TRUE))/(IF($C$6<>\"\",Table2[FPPDate]=$C$6,TRUE))/(IF($C$7<>\"\",Table2[ProposalCode]=$C$7,TRUE)),ROW(A355))),\"\")","v":""},{"$f":"IFERROR(VLOOKUP($B363,SIP!$D$3:$Q$12237,14,0),0)","v":0},{"$f":"IFERROR(INDEX(Table2[Activity],_xlfn.AGGREGATE(15,6,(ROW(Table2[FPPGroupCode])-2)/(Table2[DepoName]=$C$2)/(IF($C$3<>\"\",Table2[BULAN]=$C$3,TRUE))/(IF($C$4<>\"\",Table2[OFF/ON]=$C$4,TRUE))/(IF($C$5<>\"\",Table2[Status]=$C$5,TRUE))/(IF($C$6<>\"\",Table2[]=$C$6,TRUE))/(IF($C$7<>\"\",Table2[ProposalCode]=$C$7,TRUE)),ROW(B355))),\"\")","v":""},{"$f":"IFERROR(INDEX(Table2[Location],_xlfn.AGGREGATE(15,6,(ROW(Table2[FPPGroupCode])-2)/(Table2[DepoName]=$C$2)/(IF($C$3<>\"\",Table2[BULAN]=$C$3,TRUE))/(IF($C$4<>\"\",Table2[OFF/ON]=$C$4,TRUE))/(IF($C$5<>\"\",Table2[Status]=$C$5,TRUE))/(IF($C$6<>\"\",Table2[FPPDate]=$C$6,TRUE))/(IF($C$7<>\"\",Table2[ProposalCode]=$C$7,TRUE)),ROW(D355))),\"\")","v":""},{"$f":"IFERROR(INDEX(Table2[PeriodeStart],_xlfn.AGGREGATE(15,6,(ROW(Table2[FPPGroupCode])-2)/(Table2[DepoName]=$C$2)/(IF($C$3<>\"\",Table2[BULAN]=$C$3,TRUE))/(IF($C$4<>\"\",Table2[OFF/ON]=$C$4,TRUE))/(IF($C$5<>\"\",Table2[Status]=$C$5,TRUE))/(IF($C$6<>\"\",Table2[FPPDate]=$C$6,TRUE))/(IF($C$7<>\"\",Table2[ProposalCode]=$C$7,TRUE)),ROW(E355))),\"\")","v":""},{"$f":"IFERROR(INDEX(Table2[PeriodeEnd],_xlfn.AGGREGATE(15,6,(ROW(Table2[FPPGroupCode])-2)/(Table2[DepoName]=$C$2)/(IF($C$3<>\"\",Table2[BULAN]=$C$3,TRUE))/(IF($C$4<>\"\",Table2[OFF/ON]=$C$4,TRUE))/(IF($C$5<>\"\",Table2[Status]=$C$5,TRUE))/(IF($C$6<>\"\",Table2[FPPDate]=$C$6,TRUE))/(IF($C$7<>\"\",Table2[ProposalCode]=$C$7,TRUE)),ROW(F355))),\"\")","v":""},{"$f":"IFERROR(INDEX(Table2[Amount_FPPDepo],_xlfn.AGGREGATE(15,6,(ROW(Table2[FPPGroupCode])-2)/(Table2[DepoName]=$C$2)/(IF($C$3<>\"\",Table2[BULAN]=$C$3,TRUE))/(IF($C$4<>\"\",Table2[OFF/ON]=$C$4,TRUE))/(IF($C$5<>\"\",Table2[Status]=$C$5,TRUE))/(IF($C$6<>\"\",Table2[FPPDate]=$C$6,TRUE))/(IF($C$7<>\"\",Table2[ProposalCode]=$C$7,TRUE)),ROW(G355))),\"\")","v":""},{"$f":"IFERROR(VLOOKUP($B363,SIP!$D$5776:$P$6032,12,0),0)","v":0},{"$f":"IFERROR(H363-I363,0)","v":0},{"$f":"IFERROR(VLOOKUP($B363,SIP!$D$5776:$P$6032,8,0),0)","v":0},{"$f":"IFERROR(INDEX(Table2[OFF/ON],_xlfn.AGGREGATE(15,6,(ROW(Table2[FPPGroupCode])-2)/(Table2[DepoName]=$C$2)/(IF($C$3<>\"\",Table2[BULAN]=$C$3,TRUE))/(IF($C$4<>\"\",Table2[OFF/ON]=$C$4,TRUE))/(IF($C$5<>\"\",Table2[Status]=$C$5,TRUE))/(IF($C$6<>\"\",Table2[FPPDate]=$C$6,TRUE))/(IF($C$7<>\"\",Table2[ProposalCode]=$C$7,TRUE)),ROW(K355))),\"\")","v":""}]
[{"$f":"IF(LEN($B364),ROW(A356),\"\")","v":""},{"$f":"IFERROR(INDEX(Table2[FPPGroupCode],_xlfn.AGGREGATE(15,6,(ROW(Table2[FPPGroupCode])-2)/(Table2[DepoName]=$C$2)/(IF($C$3<>\"\",Table2[BULAN]=$C$3,TRUE))/(IF($C$4<>\"\",Table2[OFF/ON]=$C$4,TRUE))/(IF($C$5<>\"\",Table2[Status]=$C$5,TRUE))/(IF($C$6<>\"\",Table2[FPPDate]=$C$6,TRUE))/(IF($C$7<>\"\",Table2[ProposalCode]=$C$7,TRUE)),ROW(A356))),\"\")","v":""},{"$f":"IFERROR(VLOOKUP($B364,SIP!$D$3:$Q$12237,14,0),0)","v":0},{"$f":"IFERROR(INDEX(Table2[Activity],_xlfn.AGGREGATE(15,6,(ROW(Table2[FPPGroupCode])-2)/(Table2[DepoName]=$C$2)/(IF($C$3<>\"\",Table2[BULAN]=$C$3,TRUE))/(IF($C$4<>\"\",Table2[OFF/ON]=$C$4,TRUE))/(IF($C$5<>\"\",Table2[Status]=$C$5,TRUE))/(IF($C$6<>\"\",Table2[]=$C$6,TRUE))/(IF($C$7<>\"\",Table2[ProposalCode]=$C$7,TRUE)),ROW(B356))),\"\")","v":""},{"$f":"IFERROR(INDEX(Table2[Location],_xlfn.AGGREGATE(15,6,(ROW(Table2[FPPGroupCode])-2)/(Table2[DepoName]=$C$2)/(IF($C$3<>\"\",Table2[BULAN]=$C$3,TRUE))/(IF($C$4<>\"\",Table2[OFF/ON]=$C$4,TRUE))/(IF($C$5<>\"\",Table2[Status]=$C$5,TRUE))/(IF($C$6<>\"\",Table2[FPPDate]=$C$6,TRUE))/(IF($C$7<>\"\",Table2[ProposalCode]=$C$7,TRUE)),ROW(D356))),\"\")","v":""},{"$f":"IFERROR(INDEX(Table2[PeriodeStart],_xlfn.AGGREGATE(15,6,(ROW(Table2[FPPGroupCode])-2)/(Table2[DepoName]=$C$2)/(IF($C$3<>\"\",Table2[BULAN]=$C$3,TRUE))/(IF($C$4<>\"\",Table2[OFF/ON]=$C$4,TRUE))/(IF($C$5<>\"\",Table2[Status]=$C$5,TRUE))/(IF($C$6<>\"\",Table2[FPPDate]=$C$6,TRUE))/(IF($C$7<>\"\",Table2[ProposalCode]=$C$7,TRUE)),ROW(E356))),\"\")","v":""},{"$f":"IFERROR(INDEX(Table2[PeriodeEnd],_xlfn.AGGREGATE(15,6,(ROW(Table2[FPPGroupCode])-2)/(Table2[DepoName]=$C$2)/(IF($C$3<>\"\",Table2[BULAN]=$C$3,TRUE))/(IF($C$4<>\"\",Table2[OFF/ON]=$C$4,TRUE))/(IF($C$5<>\"\",Table2[Status]=$C$5,TRUE))/(IF($C$6<>\"\",Table2[FPPDate]=$C$6,TRUE))/(IF($C$7<>\"\",Table2[ProposalCode]=$C$7,TRUE)),ROW(F356))),\"\")","v":""},{"$f":"IFERROR(INDEX(Table2[Amount_FPPDepo],_xlfn.AGGREGATE(15,6,(ROW(Table2[FPPGroupCode])-2)/(Table2[DepoName]=$C$2)/(IF($C$3<>\"\",Table2[BULAN]=$C$3,TRUE))/(IF($C$4<>\"\",Table2[OFF/ON]=$C$4,TRUE))/(IF($C$5<>\"\",Table2[Status]=$C$5,TRUE))/(IF($C$6<>\"\",Table2[FPPDate]=$C$6,TRUE))/(IF($C$7<>\"\",Table2[ProposalCode]=$C$7,TRUE)),ROW(G356))),\"\")","v":""},{"$f":"IFERROR(VLOOKUP($B364,SIP!$D$5776:$P$6032,12,0),0)","v":0},{"$f":"IFERROR(H364-I364,0)","v":0},{"$f":"IFERROR(VLOOKUP($B364,SIP!$D$5776:$P$6032,8,0),0)","v":0},{"$f":"IFERROR(INDEX(Table2[OFF/ON],_xlfn.AGGREGATE(15,6,(ROW(Table2[FPPGroupCode])-2)/(Table2[DepoName]=$C$2)/(IF($C$3<>\"\",Table2[BULAN]=$C$3,TRUE))/(IF($C$4<>\"\",Table2[OFF/ON]=$C$4,TRUE))/(IF($C$5<>\"\",Table2[Status]=$C$5,TRUE))/(IF($C$6<>\"\",Table2[FPPDate]=$C$6,TRUE))/(IF($C$7<>\"\",Table2[ProposalCode]=$C$7,TRUE)),ROW(K356))),\"\")","v":""}]
[{"$f":"IF(LEN($B365),ROW(A357),\"\")","v":""},{"$f":"IFERROR(INDEX(Table2[FPPGroupCode],_xlfn.AGGREGATE(15,6,(ROW(Table2[FPPGroupCode])-2)/(Table2[DepoName]=$C$2)/(IF($C$3<>\"\",Table2[BULAN]=$C$3,TRUE))/(IF($C$4<>\"\",Table2[OFF/ON]=$C$4,TRUE))/(IF($C$5<>\"\",Table2[Status]=$C$5,TRUE))/(IF($C$6<>\"\",Table2[FPPDate]=$C$6,TRUE))/(IF($C$7<>\"\",Table2[ProposalCode]=$C$7,TRUE)),ROW(A357))),\"\")","v":""},{"$f":"IFERROR(VLOOKUP($B365,SIP!$D$3:$Q$12237,14,0),0)","v":0},{"$f":"IFERROR(INDEX(Table2[Activity],_xlfn.AGGREGATE(15,6,(ROW(Table2[FPPGroupCode])-2)/(Table2[DepoName]=$C$2)/(IF($C$3<>\"\",Table2[BULAN]=$C$3,TRUE))/(IF($C$4<>\"\",Table2[OFF/ON]=$C$4,TRUE))/(IF($C$5<>\"\",Table2[Status]=$C$5,TRUE))/(IF($C$6<>\"\",Table2[]=$C$6,TRUE))/(IF($C$7<>\"\",Table2[ProposalCode]=$C$7,TRUE)),ROW(B357))),\"\")","v":""},{"$f":"IFERROR(INDEX(Table2[Location],_xlfn.AGGREGATE(15,6,(ROW(Table2[FPPGroupCode])-2)/(Table2[DepoName]=$C$2)/(IF($C$3<>\"\",Table2[BULAN]=$C$3,TRUE))/(IF($C$4<>\"\",Table2[OFF/ON]=$C$4,TRUE))/(IF($C$5<>\"\",Table2[Status]=$C$5,TRUE))/(IF($C$6<>\"\",Table2[FPPDate]=$C$6,TRUE))/(IF($C$7<>\"\",Table2[ProposalCode]=$C$7,TRUE)),ROW(D357))),\"\")","v":""},{"$f":"IFERROR(INDEX(Table2[PeriodeStart],_xlfn.AGGREGATE(15,6,(ROW(Table2[FPPGroupCode])-2)/(Table2[DepoName]=$C$2)/(IF($C$3<>\"\",Table2[BULAN]=$C$3,TRUE))/(IF($C$4<>\"\",Table2[OFF/ON]=$C$4,TRUE))/(IF($C$5<>\"\",Table2[Status]=$C$5,TRUE))/(IF($C$6<>\"\",Table2[FPPDate]=$C$6,TRUE))/(IF($C$7<>\"\",Table2[ProposalCode]=$C$7,TRUE)),ROW(E357))),\"\")","v":""},{"$f":"IFERROR(INDEX(Table2[PeriodeEnd],_xlfn.AGGREGATE(15,6,(ROW(Table2[FPPGroupCode])-2)/(Table2[DepoName]=$C$2)/(IF($C$3<>\"\",Table2[BULAN]=$C$3,TRUE))/(IF($C$4<>\"\",Table2[OFF/ON]=$C$4,TRUE))/(IF($C$5<>\"\",Table2[Status]=$C$5,TRUE))/(IF($C$6<>\"\",Table2[FPPDate]=$C$6,TRUE))/(IF($C$7<>\"\",Table2[ProposalCode]=$C$7,TRUE)),ROW(F357))),\"\")","v":""},{"$f":"IFERROR(INDEX(Table2[Amount_FPPDepo],_xlfn.AGGREGATE(15,6,(ROW(Table2[FPPGroupCode])-2)/(Table2[DepoName]=$C$2)/(IF($C$3<>\"\",Table2[BULAN]=$C$3,TRUE))/(IF($C$4<>\"\",Table2[OFF/ON]=$C$4,TRUE))/(IF($C$5<>\"\",Table2[Status]=$C$5,TRUE))/(IF($C$6<>\"\",Table2[FPPDate]=$C$6,TRUE))/(IF($C$7<>\"\",Table2[ProposalCode]=$C$7,TRUE)),ROW(G357))),\"\")","v":""},{"$f":"IFERROR(VLOOKUP($B365,SIP!$D$5776:$P$6032,12,0),0)","v":0},{"$f":"IFERROR(H365-I365,0)","v":0},{"$f":"IFERROR(VLOOKUP($B365,SIP!$D$5776:$P$6032,8,0),0)","v":0},{"$f":"IFERROR(INDEX(Table2[OFF/ON],_xlfn.AGGREGATE(15,6,(ROW(Table2[FPPGroupCode])-2)/(Table2[DepoName]=$C$2)/(IF($C$3<>\"\",Table2[BULAN]=$C$3,TRUE))/(IF($C$4<>\"\",Table2[OFF/ON]=$C$4,TRUE))/(IF($C$5<>\"\",Table2[Status]=$C$5,TRUE))/(IF($C$6<>\"\",Table2[FPPDate]=$C$6,TRUE))/(IF($C$7<>\"\",Table2[ProposalCode]=$C$7,TRUE)),ROW(K357))),\"\")","v":""}]
[{"$f":"IF(LEN($B366),ROW(A358),\"\")","v":""},{"$f":"IFERROR(INDEX(Table2[FPPGroupCode],_xlfn.AGGREGATE(15,6,(ROW(Table2[FPPGroupCode])-2)/(Table2[DepoName]=$C$2)/(IF($C$3<>\"\",Table2[BULAN]=$C$3,TRUE))/(IF($C$4<>\"\",Table2[OFF/ON]=$C$4,TRUE))/(IF($C$5<>\"\",Table2[Status]=$C$5,TRUE))/(IF($C$6<>\"\",Table2[FPPDate]=$C$6,TRUE))/(IF($C$7<>\"\",Table2[ProposalCode]=$C$7,TRUE)),ROW(A358))),\"\")","v":""},{"$f":"IFERROR(VLOOKUP($B366,SIP!$D$3:$Q$12237,14,0),0)","v":0},{"$f":"IFERROR(INDEX(Table2[Activity],_xlfn.AGGREGATE(15,6,(ROW(Table2[FPPGroupCode])-2)/(Table2[DepoName]=$C$2)/(IF($C$3<>\"\",Table2[BULAN]=$C$3,TRUE))/(IF($C$4<>\"\",Table2[OFF/ON]=$C$4,TRUE))/(IF($C$5<>\"\",Table2[Status]=$C$5,TRUE))/(IF($C$6<>\"\",Table2[]=$C$6,TRUE))/(IF($C$7<>\"\",Table2[ProposalCode]=$C$7,TRUE)),ROW(B358))),\"\")","v":""},{"$f":"IFERROR(INDEX(Table2[Location],_xlfn.AGGREGATE(15,6,(ROW(Table2[FPPGroupCode])-2)/(Table2[DepoName]=$C$2)/(IF($C$3<>\"\",Table2[BULAN]=$C$3,TRUE))/(IF($C$4<>\"\",Table2[OFF/ON]=$C$4,TRUE))/(IF($C$5<>\"\",Table2[Status]=$C$5,TRUE))/(IF($C$6<>\"\",Table2[FPPDate]=$C$6,TRUE))/(IF($C$7<>\"\",Table2[ProposalCode]=$C$7,TRUE)),ROW(D358))),\"\")","v":""},{"$f":"IFERROR(INDEX(Table2[PeriodeStart],_xlfn.AGGREGATE(15,6,(ROW(Table2[FPPGroupCode])-2)/(Table2[DepoName]=$C$2)/(IF($C$3<>\"\",Table2[BULAN]=$C$3,TRUE))/(IF($C$4<>\"\",Table2[OFF/ON]=$C$4,TRUE))/(IF($C$5<>\"\",Table2[Status]=$C$5,TRUE))/(IF($C$6<>\"\",Table2[FPPDate]=$C$6,TRUE))/(IF($C$7<>\"\",Table2[ProposalCode]=$C$7,TRUE)),ROW(E358))),\"\")","v":""},{"$f":"IFERROR(INDEX(Table2[PeriodeEnd],_xlfn.AGGREGATE(15,6,(ROW(Table2[FPPGroupCode])-2)/(Table2[DepoName]=$C$2)/(IF($C$3<>\"\",Table2[BULAN]=$C$3,TRUE))/(IF($C$4<>\"\",Table2[OFF/ON]=$C$4,TRUE))/(IF($C$5<>\"\",Table2[Status]=$C$5,TRUE))/(IF($C$6<>\"\",Table2[FPPDate]=$C$6,TRUE))/(IF($C$7<>\"\",Table2[ProposalCode]=$C$7,TRUE)),ROW(F358))),\"\")","v":""},{"$f":"IFERROR(INDEX(Table2[Amount_FPPDepo],_xlfn.AGGREGATE(15,6,(ROW(Table2[FPPGroupCode])-2)/(Table2[DepoName]=$C$2)/(IF($C$3<>\"\",Table2[BULAN]=$C$3,TRUE))/(IF($C$4<>\"\",Table2[OFF/ON]=$C$4,TRUE))/(IF($C$5<>\"\",Table2[Status]=$C$5,TRUE))/(IF($C$6<>\"\",Table2[FPPDate]=$C$6,TRUE))/(IF($C$7<>\"\",Table2[ProposalCode]=$C$7,TRUE)),ROW(G358))),\"\")","v":""},{"$f":"IFERROR(VLOOKUP($B366,SIP!$D$5776:$P$6032,12,0),0)","v":0},{"$f":"IFERROR(H366-I366,0)","v":0},{"$f":"IFERROR(VLOOKUP($B366,SIP!$D$5776:$P$6032,8,0),0)","v":0},{"$f":"IFERROR(INDEX(Table2[OFF/ON],_xlfn.AGGREGATE(15,6,(ROW(Table2[FPPGroupCode])-2)/(Table2[DepoName]=$C$2)/(IF($C$3<>\"\",Table2[BULAN]=$C$3,TRUE))/(IF($C$4<>\"\",Table2[OFF/ON]=$C$4,TRUE))/(IF($C$5<>\"\",Table2[Status]=$C$5,TRUE))/(IF($C$6<>\"\",Table2[FPPDate]=$C$6,TRUE))/(IF($C$7<>\"\",Table2[ProposalCode]=$C$7,TRUE)),ROW(K358))),\"\")","v":""}]
[{"$f":"IF(LEN($B367),ROW(A359),\"\")","v":""},{"$f":"IFERROR(INDEX(Table2[FPPGroupCode],_xlfn.AGGREGATE(15,6,(ROW(Table2[FPPGroupCode])-2)/(Table2[DepoName]=$C$2)/(IF($C$3<>\"\",Table2[BULAN]=$C$3,TRUE))/(IF($C$4<>\"\",Table2[OFF/ON]=$C$4,TRUE))/(IF($C$5<>\"\",Table2[Status]=$C$5,TRUE))/(IF($C$6<>\"\",Table2[FPPDate]=$C$6,TRUE))/(IF($C$7<>\"\",Table2[ProposalCode]=$C$7,TRUE)),ROW(A359))),\"\")","v":""},{"$f":"IFERROR(VLOOKUP($B367,SIP!$D$3:$Q$12237,14,0),0)","v":0},{"$f":"IFERROR(INDEX(Table2[Activity],_xlfn.AGGREGATE(15,6,(ROW(Table2[FPPGroupCode])-2)/(Table2[DepoName]=$C$2)/(IF($C$3<>\"\",Table2[BULAN]=$C$3,TRUE))/(IF($C$4<>\"\",Table2[OFF/ON]=$C$4,TRUE))/(IF($C$5<>\"\",Table2[Status]=$C$5,TRUE))/(IF($C$6<>\"\",Table2[]=$C$6,TRUE))/(IF($C$7<>\"\",Table2[ProposalCode]=$C$7,TRUE)),ROW(B359))),\"\")","v":""},{"$f":"IFERROR(INDEX(Table2[Location],_xlfn.AGGREGATE(15,6,(ROW(Table2[FPPGroupCode])-2)/(Table2[DepoName]=$C$2)/(IF($C$3<>\"\",Table2[BULAN]=$C$3,TRUE))/(IF($C$4<>\"\",Table2[OFF/ON]=$C$4,TRUE))/(IF($C$5<>\"\",Table2[Status]=$C$5,TRUE))/(IF($C$6<>\"\",Table2[FPPDate]=$C$6,TRUE))/(IF($C$7<>\"\",Table2[ProposalCode]=$C$7,TRUE)),ROW(D359))),\"\")","v":""},{"$f":"IFERROR(INDEX(Table2[PeriodeStart],_xlfn.AGGREGATE(15,6,(ROW(Table2[FPPGroupCode])-2)/(Table2[DepoName]=$C$2)/(IF($C$3<>\"\",Table2[BULAN]=$C$3,TRUE))/(IF($C$4<>\"\",Table2[OFF/ON]=$C$4,TRUE))/(IF($C$5<>\"\",Table2[Status]=$C$5,TRUE))/(IF($C$6<>\"\",Table2[FPPDate]=$C$6,TRUE))/(IF($C$7<>\"\",Table2[ProposalCode]=$C$7,TRUE)),ROW(E359))),\"\")","v":""},{"$f":"IFERROR(INDEX(Table2[PeriodeEnd],_xlfn.AGGREGATE(15,6,(ROW(Table2[FPPGroupCode])-2)/(Table2[DepoName]=$C$2)/(IF($C$3<>\"\",Table2[BULAN]=$C$3,TRUE))/(IF($C$4<>\"\",Table2[OFF/ON]=$C$4,TRUE))/(IF($C$5<>\"\",Table2[Status]=$C$5,TRUE))/(IF($C$6<>\"\",Table2[FPPDate]=$C$6,TRUE))/(IF($C$7<>\"\",Table2[ProposalCode]=$C$7,TRUE)),ROW(F359))),\"\")","v":""},{"$f":"IFERROR(INDEX(Table2[Amount_FPPDepo],_xlfn.AGGREGATE(15,6,(ROW(Table2[FPPGroupCode])-2)/(Table2[DepoName]=$C$2)/(IF($C$3<>\"\",Table2[BULAN]=$C$3,TRUE))/(IF($C$4<>\"\",Table2[OFF/ON]=$C$4,TRUE))/(IF($C$5<>\"\",Table2[Status]=$C$5,TRUE))/(IF($C$6<>\"\",Table2[FPPDate]=$C$6,TRUE))/(IF($C$7<>\"\",Table2[ProposalCode]=$C$7,TRUE)),ROW(G359))),\"\")","v":""},{"$f":"IFERROR(VLOOKUP($B367,SIP!$D$5776:$P$6032,12,0),0)","v":0},{"$f":"IFERROR(H367-I367,0)","v":0},{"$f":"IFERROR(VLOOKUP($B367,SIP!$D$5776:$P$6032,8,0),0)","v":0},{"$f":"IFERROR(INDEX(Table2[OFF/ON],_xlfn.AGGREGATE(15,6,(ROW(Table2[FPPGroupCode])-2)/(Table2[DepoName]=$C$2)/(IF($C$3<>\"\",Table2[BULAN]=$C$3,TRUE))/(IF($C$4<>\"\",Table2[OFF/ON]=$C$4,TRUE))/(IF($C$5<>\"\",Table2[Status]=$C$5,TRUE))/(IF($C$6<>\"\",Table2[FPPDate]=$C$6,TRUE))/(IF($C$7<>\"\",Table2[ProposalCode]=$C$7,TRUE)),ROW(K359))),\"\")","v":""}]
[{"$f":"IF(LEN($B368),ROW(A360),\"\")","v":""},{"$f":"IFERROR(INDEX(Table2[FPPGroupCode],_xlfn.AGGREGATE(15,6,(ROW(Table2[FPPGroupCode])-2)/(Table2[DepoName]=$C$2)/(IF($C$3<>\"\",Table2[BULAN]=$C$3,TRUE))/(IF($C$4<>\"\",Table2[OFF/ON]=$C$4,TRUE))/(IF($C$5<>\"\",Table2[Status]=$C$5,TRUE))/(IF($C$6<>\"\",Table2[FPPDate]=$C$6,TRUE))/(IF($C$7<>\"\",Table2[ProposalCode]=$C$7,TRUE)),ROW(A360))),\"\")","v":""},{"$f":"IFERROR(VLOOKUP($B368,SIP!$D$3:$Q$12237,14,0),0)","v":0},{"$f":"IFERROR(INDEX(Table2[Activity],_xlfn.AGGREGATE(15,6,(ROW(Table2[FPPGroupCode])-2)/(Table2[DepoName]=$C$2)/(IF($C$3<>\"\",Table2[BULAN]=$C$3,TRUE))/(IF($C$4<>\"\",Table2[OFF/ON]=$C$4,TRUE))/(IF($C$5<>\"\",Table2[Status]=$C$5,TRUE))/(IF($C$6<>\"\",Table2[]=$C$6,TRUE))/(IF($C$7<>\"\",Table2[ProposalCode]=$C$7,TRUE)),ROW(B360))),\"\")","v":""},{"$f":"IFERROR(INDEX(Table2[Location],_xlfn.AGGREGATE(15,6,(ROW(Table2[FPPGroupCode])-2)/(Table2[DepoName]=$C$2)/(IF($C$3<>\"\",Table2[BULAN]=$C$3,TRUE))/(IF($C$4<>\"\",Table2[OFF/ON]=$C$4,TRUE))/(IF($C$5<>\"\",Table2[Status]=$C$5,TRUE))/(IF($C$6<>\"\",Table2[FPPDate]=$C$6,TRUE))/(IF($C$7<>\"\",Table2[ProposalCode]=$C$7,TRUE)),ROW(D360))),\"\")","v":""},{"$f":"IFERROR(INDEX(Table2[PeriodeStart],_xlfn.AGGREGATE(15,6,(ROW(Table2[FPPGroupCode])-2)/(Table2[DepoName]=$C$2)/(IF($C$3<>\"\",Table2[BULAN]=$C$3,TRUE))/(IF($C$4<>\"\",Table2[OFF/ON]=$C$4,TRUE))/(IF($C$5<>\"\",Table2[Status]=$C$5,TRUE))/(IF($C$6<>\"\",Table2[FPPDate]=$C$6,TRUE))/(IF($C$7<>\"\",Table2[ProposalCode]=$C$7,TRUE)),ROW(E360))),\"\")","v":""},{"$f":"IFERROR(INDEX(Table2[PeriodeEnd],_xlfn.AGGREGATE(15,6,(ROW(Table2[FPPGroupCode])-2)/(Table2[DepoName]=$C$2)/(IF($C$3<>\"\",Table2[BULAN]=$C$3,TRUE))/(IF($C$4<>\"\",Table2[OFF/ON]=$C$4,TRUE))/(IF($C$5<>\"\",Table2[Status]=$C$5,TRUE))/(IF($C$6<>\"\",Table2[FPPDate]=$C$6,TRUE))/(IF($C$7<>\"\",Table2[ProposalCode]=$C$7,TRUE)),ROW(F360))),\"\")","v":""},{"$f":"IFERROR(INDEX(Table2[Amount_FPPDepo],_xlfn.AGGREGATE(15,6,(ROW(Table2[FPPGroupCode])-2)/(Table2[DepoName]=$C$2)/(IF($C$3<>\"\",Table2[BULAN]=$C$3,TRUE))/(IF($C$4<>\"\",Table2[OFF/ON]=$C$4,TRUE))/(IF($C$5<>\"\",Table2[Status]=$C$5,TRUE))/(IF($C$6<>\"\",Table2[FPPDate]=$C$6,TRUE))/(IF($C$7<>\"\",Table2[ProposalCode]=$C$7,TRUE)),ROW(G360))),\"\")","v":""},{"$f":"IFERROR(VLOOKUP($B368,SIP!$D$5776:$P$6032,12,0),0)","v":0},{"$f":"IFERROR(H368-I368,0)","v":0},{"$f":"IFERROR(VLOOKUP($B368,SIP!$D$5776:$P$6032,8,0),0)","v":0},{"$f":"IFERROR(INDEX(Table2[OFF/ON],_xlfn.AGGREGATE(15,6,(ROW(Table2[FPPGroupCode])-2)/(Table2[DepoName]=$C$2)/(IF($C$3<>\"\",Table2[BULAN]=$C$3,TRUE))/(IF($C$4<>\"\",Table2[OFF/ON]=$C$4,TRUE))/(IF($C$5<>\"\",Table2[Status]=$C$5,TRUE))/(IF($C$6<>\"\",Table2[FPPDate]=$C$6,TRUE))/(IF($C$7<>\"\",Table2[ProposalCode]=$C$7,TRUE)),ROW(K360))),\"\")","v":""}]
[{"$f":"IF(LEN($B369),ROW(A361),\"\")","v":""},{"$f":"IFERROR(INDEX(Table2[FPPGroupCode],_xlfn.AGGREGATE(15,6,(ROW(Table2[FPPGroupCode])-2)/(Table2[DepoName]=$C$2)/(IF($C$3<>\"\",Table2[BULAN]=$C$3,TRUE))/(IF($C$4<>\"\",Table2[OFF/ON]=$C$4,TRUE))/(IF($C$5<>\"\",Table2[Status]=$C$5,TRUE))/(IF($C$6<>\"\",Table2[FPPDate]=$C$6,TRUE))/(IF($C$7<>\"\",Table2[ProposalCode]=$C$7,TRUE)),ROW(A361))),\"\")","v":""},{"$f":"IFERROR(VLOOKUP($B369,SIP!$D$3:$Q$12237,14,0),0)","v":0},{"$f":"IFERROR(INDEX(Table2[Activity],_xlfn.AGGREGATE(15,6,(ROW(Table2[FPPGroupCode])-2)/(Table2[DepoName]=$C$2)/(IF($C$3<>\"\",Table2[BULAN]=$C$3,TRUE))/(IF($C$4<>\"\",Table2[OFF/ON]=$C$4,TRUE))/(IF($C$5<>\"\",Table2[Status]=$C$5,TRUE))/(IF($C$6<>\"\",Table2[]=$C$6,TRUE))/(IF($C$7<>\"\",Table2[ProposalCode]=$C$7,TRUE)),ROW(B361))),\"\")","v":""},{"$f":"IFERROR(INDEX(Table2[Location],_xlfn.AGGREGATE(15,6,(ROW(Table2[FPPGroupCode])-2)/(Table2[DepoName]=$C$2)/(IF($C$3<>\"\",Table2[BULAN]=$C$3,TRUE))/(IF($C$4<>\"\",Table2[OFF/ON]=$C$4,TRUE))/(IF($C$5<>\"\",Table2[Status]=$C$5,TRUE))/(IF($C$6<>\"\",Table2[FPPDate]=$C$6,TRUE))/(IF($C$7<>\"\",Table2[ProposalCode]=$C$7,TRUE)),ROW(D361))),\"\")","v":""},{"$f":"IFERROR(INDEX(Table2[PeriodeStart],_xlfn.AGGREGATE(15,6,(ROW(Table2[FPPGroupCode])-2)/(Table2[DepoName]=$C$2)/(IF($C$3<>\"\",Table2[BULAN]=$C$3,TRUE))/(IF($C$4<>\"\",Table2[OFF/ON]=$C$4,TRUE))/(IF($C$5<>\"\",Table2[Status]=$C$5,TRUE))/(IF($C$6<>\"\",Table2[FPPDate]=$C$6,TRUE))/(IF($C$7<>\"\",Table2[ProposalCode]=$C$7,TRUE)),ROW(E361))),\"\")","v":""},{"$f":"IFERROR(INDEX(Table2[PeriodeEnd],_xlfn.AGGREGATE(15,6,(ROW(Table2[FPPGroupCode])-2)/(Table2[DepoName]=$C$2)/(IF($C$3<>\"\",Table2[BULAN]=$C$3,TRUE))/(IF($C$4<>\"\",Table2[OFF/ON]=$C$4,TRUE))/(IF($C$5<>\"\",Table2[Status]=$C$5,TRUE))/(IF($C$6<>\"\",Table2[FPPDate]=$C$6,TRUE))/(IF($C$7<>\"\",Table2[ProposalCode]=$C$7,TRUE)),ROW(F361))),\"\")","v":""},{"$f":"IFERROR(INDEX(Table2[Amount_FPPDepo],_xlfn.AGGREGATE(15,6,(ROW(Table2[FPPGroupCode])-2)/(Table2[DepoName]=$C$2)/(IF($C$3<>\"\",Table2[BULAN]=$C$3,TRUE))/(IF($C$4<>\"\",Table2[OFF/ON]=$C$4,TRUE))/(IF($C$5<>\"\",Table2[Status]=$C$5,TRUE))/(IF($C$6<>\"\",Table2[FPPDate]=$C$6,TRUE))/(IF($C$7<>\"\",Table2[ProposalCode]=$C$7,TRUE)),ROW(G361))),\"\")","v":""},{"$f":"IFERROR(VLOOKUP($B369,SIP!$D$5776:$P$6032,12,0),0)","v":0},{"$f":"IFERROR(H369-I369,0)","v":0},{"$f":"IFERROR(VLOOKUP($B369,SIP!$D$5776:$P$6032,8,0),0)","v":0},{"$f":"IFERROR(INDEX(Table2[OFF/ON],_xlfn.AGGREGATE(15,6,(ROW(Table2[FPPGroupCode])-2)/(Table2[DepoName]=$C$2)/(IF($C$3<>\"\",Table2[BULAN]=$C$3,TRUE))/(IF($C$4<>\"\",Table2[OFF/ON]=$C$4,TRUE))/(IF($C$5<>\"\",Table2[Status]=$C$5,TRUE))/(IF($C$6<>\"\",Table2[FPPDate]=$C$6,TRUE))/(IF($C$7<>\"\",Table2[ProposalCode]=$C$7,TRUE)),ROW(K361))),\"\")","v":""}]
[{"$f":"IF(LEN($B370),ROW(A362),\"\")","v":""},{"$f":"IFERROR(INDEX(Table2[FPPGroupCode],_xlfn.AGGREGATE(15,6,(ROW(Table2[FPPGroupCode])-2)/(Table2[DepoName]=$C$2)/(IF($C$3<>\"\",Table2[BULAN]=$C$3,TRUE))/(IF($C$4<>\"\",Table2[OFF/ON]=$C$4,TRUE))/(IF($C$5<>\"\",Table2[Status]=$C$5,TRUE))/(IF($C$6<>\"\",Table2[FPPDate]=$C$6,TRUE))/(IF($C$7<>\"\",Table2[ProposalCode]=$C$7,TRUE)),ROW(A362))),\"\")","v":""},{"$f":"IFERROR(VLOOKUP($B370,SIP!$D$3:$Q$12237,14,0),0)","v":0},{"$f":"IFERROR(INDEX(Table2[Activity],_xlfn.AGGREGATE(15,6,(ROW(Table2[FPPGroupCode])-2)/(Table2[DepoName]=$C$2)/(IF($C$3<>\"\",Table2[BULAN]=$C$3,TRUE))/(IF($C$4<>\"\",Table2[OFF/ON]=$C$4,TRUE))/(IF($C$5<>\"\",Table2[Status]=$C$5,TRUE))/(IF($C$6<>\"\",Table2[]=$C$6,TRUE))/(IF($C$7<>\"\",Table2[ProposalCode]=$C$7,TRUE)),ROW(B362))),\"\")","v":""},{"$f":"IFERROR(INDEX(Table2[Location],_xlfn.AGGREGATE(15,6,(ROW(Table2[FPPGroupCode])-2)/(Table2[DepoName]=$C$2)/(IF($C$3<>\"\",Table2[BULAN]=$C$3,TRUE))/(IF($C$4<>\"\",Table2[OFF/ON]=$C$4,TRUE))/(IF($C$5<>\"\",Table2[Status]=$C$5,TRUE))/(IF($C$6<>\"\",Table2[FPPDate]=$C$6,TRUE))/(IF($C$7<>\"\",Table2[ProposalCode]=$C$7,TRUE)),ROW(D362))),\"\")","v":""},{"$f":"IFERROR(INDEX(Table2[PeriodeStart],_xlfn.AGGREGATE(15,6,(ROW(Table2[FPPGroupCode])-2)/(Table2[DepoName]=$C$2)/(IF($C$3<>\"\",Table2[BULAN]=$C$3,TRUE))/(IF($C$4<>\"\",Table2[OFF/ON]=$C$4,TRUE))/(IF($C$5<>\"\",Table2[Status]=$C$5,TRUE))/(IF($C$6<>\"\",Table2[FPPDate]=$C$6,TRUE))/(IF($C$7<>\"\",Table2[ProposalCode]=$C$7,TRUE)),ROW(E362))),\"\")","v":""},{"$f":"IFERROR(INDEX(Table2[PeriodeEnd],_xlfn.AGGREGATE(15,6,(ROW(Table2[FPPGroupCode])-2)/(Table2[DepoName]=$C$2)/(IF($C$3<>\"\",Table2[BULAN]=$C$3,TRUE))/(IF($C$4<>\"\",Table2[OFF/ON]=$C$4,TRUE))/(IF($C$5<>\"\",Table2[Status]=$C$5,TRUE))/(IF($C$6<>\"\",Table2[FPPDate]=$C$6,TRUE))/(IF($C$7<>\"\",Table2[ProposalCode]=$C$7,TRUE)),ROW(F362))),\"\")","v":""},{"$f":"IFERROR(INDEX(Table2[Amount_FPPDepo],_xlfn.AGGREGATE(15,6,(ROW(Table2[FPPGroupCode])-2)/(Table2[DepoName]=$C$2)/(IF($C$3<>\"\",Table2[BULAN]=$C$3,TRUE))/(IF($C$4<>\"\",Table2[OFF/ON]=$C$4,TRUE))/(IF($C$5<>\"\",Table2[Status]=$C$5,TRUE))/(IF($C$6<>\"\",Table2[FPPDate]=$C$6,TRUE))/(IF($C$7<>\"\",Table2[ProposalCode]=$C$7,TRUE)),ROW(G362))),\"\")","v":""},{"$f":"IFERROR(VLOOKUP($B370,SIP!$D$5776:$P$6032,12,0),0)","v":0},{"$f":"IFERROR(H370-I370,0)","v":0},{"$f":"IFERROR(VLOOKUP($B370,SIP!$D$5776:$P$6032,8,0),0)","v":0},{"$f":"IFERROR(INDEX(Table2[OFF/ON],_xlfn.AGGREGATE(15,6,(ROW(Table2[FPPGroupCode])-2)/(Table2[DepoName]=$C$2)/(IF($C$3<>\"\",Table2[BULAN]=$C$3,TRUE))/(IF($C$4<>\"\",Table2[OFF/ON]=$C$4,TRUE))/(IF($C$5<>\"\",Table2[Status]=$C$5,TRUE))/(IF($C$6<>\"\",Table2[FPPDate]=$C$6,TRUE))/(IF($C$7<>\"\",Table2[ProposalCode]=$C$7,TRUE)),ROW(K362))),\"\")","v":""}]
[{"$f":"IF(LEN($B371),ROW(A363),\"\")","v":""},{"$f":"IFERROR(INDEX(Table2[FPPGroupCode],_xlfn.AGGREGATE(15,6,(ROW(Table2[FPPGroupCode])-2)/(Table2[DepoName]=$C$2)/(IF($C$3<>\"\",Table2[BULAN]=$C$3,TRUE))/(IF($C$4<>\"\",Table2[OFF/ON]=$C$4,TRUE))/(IF($C$5<>\"\",Table2[Status]=$C$5,TRUE))/(IF($C$6<>\"\",Table2[FPPDate]=$C$6,TRUE))/(IF($C$7<>\"\",Table2[ProposalCode]=$C$7,TRUE)),ROW(A363))),\"\")","v":""},{"$f":"IFERROR(VLOOKUP($B371,SIP!$D$3:$Q$12237,14,0),0)","v":0},{"$f":"IFERROR(INDEX(Table2[Activity],_xlfn.AGGREGATE(15,6,(ROW(Table2[FPPGroupCode])-2)/(Table2[DepoName]=$C$2)/(IF($C$3<>\"\",Table2[BULAN]=$C$3,TRUE))/(IF($C$4<>\"\",Table2[OFF/ON]=$C$4,TRUE))/(IF($C$5<>\"\",Table2[Status]=$C$5,TRUE))/(IF($C$6<>\"\",Table2[]=$C$6,TRUE))/(IF($C$7<>\"\",Table2[ProposalCode]=$C$7,TRUE)),ROW(B363))),\"\")","v":""},{"$f":"IFERROR(INDEX(Table2[Location],_xlfn.AGGREGATE(15,6,(ROW(Table2[FPPGroupCode])-2)/(Table2[DepoName]=$C$2)/(IF($C$3<>\"\",Table2[BULAN]=$C$3,TRUE))/(IF($C$4<>\"\",Table2[OFF/ON]=$C$4,TRUE))/(IF($C$5<>\"\",Table2[Status]=$C$5,TRUE))/(IF($C$6<>\"\",Table2[FPPDate]=$C$6,TRUE))/(IF($C$7<>\"\",Table2[ProposalCode]=$C$7,TRUE)),ROW(D363))),\"\")","v":""},{"$f":"IFERROR(INDEX(Table2[PeriodeStart],_xlfn.AGGREGATE(15,6,(ROW(Table2[FPPGroupCode])-2)/(Table2[DepoName]=$C$2)/(IF($C$3<>\"\",Table2[BULAN]=$C$3,TRUE))/(IF($C$4<>\"\",Table2[OFF/ON]=$C$4,TRUE))/(IF($C$5<>\"\",Table2[Status]=$C$5,TRUE))/(IF($C$6<>\"\",Table2[FPPDate]=$C$6,TRUE))/(IF($C$7<>\"\",Table2[ProposalCode]=$C$7,TRUE)),ROW(E363))),\"\")","v":""},{"$f":"IFERROR(INDEX(Table2[PeriodeEnd],_xlfn.AGGREGATE(15,6,(ROW(Table2[FPPGroupCode])-2)/(Table2[DepoName]=$C$2)/(IF($C$3<>\"\",Table2[BULAN]=$C$3,TRUE))/(IF($C$4<>\"\",Table2[OFF/ON]=$C$4,TRUE))/(IF($C$5<>\"\",Table2[Status]=$C$5,TRUE))/(IF($C$6<>\"\",Table2[FPPDate]=$C$6,TRUE))/(IF($C$7<>\"\",Table2[ProposalCode]=$C$7,TRUE)),ROW(F363))),\"\")","v":""},{"$f":"IFERROR(INDEX(Table2[Amount_FPPDepo],_xlfn.AGGREGATE(15,6,(ROW(Table2[FPPGroupCode])-2)/(Table2[DepoName]=$C$2)/(IF($C$3<>\"\",Table2[BULAN]=$C$3,TRUE))/(IF($C$4<>\"\",Table2[OFF/ON]=$C$4,TRUE))/(IF($C$5<>\"\",Table2[Status]=$C$5,TRUE))/(IF($C$6<>\"\",Table2[FPPDate]=$C$6,TRUE))/(IF($C$7<>\"\",Table2[ProposalCode]=$C$7,TRUE)),ROW(G363))),\"\")","v":""},{"$f":"IFERROR(VLOOKUP($B371,SIP!$D$5776:$P$6032,12,0),0)","v":0},{"$f":"IFERROR(H371-I371,0)","v":0},{"$f":"IFERROR(VLOOKUP($B371,SIP!$D$5776:$P$6032,8,0),0)","v":0},{"$f":"IFERROR(INDEX(Table2[OFF/ON],_xlfn.AGGREGATE(15,6,(ROW(Table2[FPPGroupCode])-2)/(Table2[DepoName]=$C$2)/(IF($C$3<>\"\",Table2[BULAN]=$C$3,TRUE))/(IF($C$4<>\"\",Table2[OFF/ON]=$C$4,TRUE))/(IF($C$5<>\"\",Table2[Status]=$C$5,TRUE))/(IF($C$6<>\"\",Table2[FPPDate]=$C$6,TRUE))/(IF($C$7<>\"\",Table2[ProposalCode]=$C$7,TRUE)),ROW(K363))),\"\")","v":""}]
[{"$f":"IF(LEN($B372),ROW(A364),\"\")","v":""},{"$f":"IFERROR(INDEX(Table2[FPPGroupCode],_xlfn.AGGREGATE(15,6,(ROW(Table2[FPPGroupCode])-2)/(Table2[DepoName]=$C$2)/(IF($C$3<>\"\",Table2[BULAN]=$C$3,TRUE))/(IF($C$4<>\"\",Table2[OFF/ON]=$C$4,TRUE))/(IF($C$5<>\"\",Table2[Status]=$C$5,TRUE))/(IF($C$6<>\"\",Table2[FPPDate]=$C$6,TRUE))/(IF($C$7<>\"\",Table2[ProposalCode]=$C$7,TRUE)),ROW(A364))),\"\")","v":""},{"$f":"IFERROR(VLOOKUP($B372,SIP!$D$3:$Q$12237,14,0),0)","v":0},{"$f":"IFERROR(INDEX(Table2[Activity],_xlfn.AGGREGATE(15,6,(ROW(Table2[FPPGroupCode])-2)/(Table2[DepoName]=$C$2)/(IF($C$3<>\"\",Table2[BULAN]=$C$3,TRUE))/(IF($C$4<>\"\",Table2[OFF/ON]=$C$4,TRUE))/(IF($C$5<>\"\",Table2[Status]=$C$5,TRUE))/(IF($C$6<>\"\",Table2[]=$C$6,TRUE))/(IF($C$7<>\"\",Table2[ProposalCode]=$C$7,TRUE)),ROW(B364))),\"\")","v":""},{"$f":"IFERROR(INDEX(Table2[Location],_xlfn.AGGREGATE(15,6,(ROW(Table2[FPPGroupCode])-2)/(Table2[DepoName]=$C$2)/(IF($C$3<>\"\",Table2[BULAN]=$C$3,TRUE))/(IF($C$4<>\"\",Table2[OFF/ON]=$C$4,TRUE))/(IF($C$5<>\"\",Table2[Status]=$C$5,TRUE))/(IF($C$6<>\"\",Table2[FPPDate]=$C$6,TRUE))/(IF($C$7<>\"\",Table2[ProposalCode]=$C$7,TRUE)),ROW(D364))),\"\")","v":""},{"$f":"IFERROR(INDEX(Table2[PeriodeStart],_xlfn.AGGREGATE(15,6,(ROW(Table2[FPPGroupCode])-2)/(Table2[DepoName]=$C$2)/(IF($C$3<>\"\",Table2[BULAN]=$C$3,TRUE))/(IF($C$4<>\"\",Table2[OFF/ON]=$C$4,TRUE))/(IF($C$5<>\"\",Table2[Status]=$C$5,TRUE))/(IF($C$6<>\"\",Table2[FPPDate]=$C$6,TRUE))/(IF($C$7<>\"\",Table2[ProposalCode]=$C$7,TRUE)),ROW(E364))),\"\")","v":""},{"$f":"IFERROR(INDEX(Table2[PeriodeEnd],_xlfn.AGGREGATE(15,6,(ROW(Table2[FPPGroupCode])-2)/(Table2[DepoName]=$C$2)/(IF($C$3<>\"\",Table2[BULAN]=$C$3,TRUE))/(IF($C$4<>\"\",Table2[OFF/ON]=$C$4,TRUE))/(IF($C$5<>\"\",Table2[Status]=$C$5,TRUE))/(IF($C$6<>\"\",Table2[FPPDate]=$C$6,TRUE))/(IF($C$7<>\"\",Table2[ProposalCode]=$C$7,TRUE)),ROW(F364))),\"\")","v":""},{"$f":"IFERROR(INDEX(Table2[Amount_FPPDepo],_xlfn.AGGREGATE(15,6,(ROW(Table2[FPPGroupCode])-2)/(Table2[DepoName]=$C$2)/(IF($C$3<>\"\",Table2[BULAN]=$C$3,TRUE))/(IF($C$4<>\"\",Table2[OFF/ON]=$C$4,TRUE))/(IF($C$5<>\"\",Table2[Status]=$C$5,TRUE))/(IF($C$6<>\"\",Table2[FPPDate]=$C$6,TRUE))/(IF($C$7<>\"\",Table2[ProposalCode]=$C$7,TRUE)),ROW(G364))),\"\")","v":""},{"$f":"IFERROR(VLOOKUP($B372,SIP!$D$5776:$P$6032,12,0),0)","v":0},{"$f":"IFERROR(H372-I372,0)","v":0},{"$f":"IFERROR(VLOOKUP($B372,SIP!$D$5776:$P$6032,8,0),0)","v":0},{"$f":"IFERROR(INDEX(Table2[OFF/ON],_xlfn.AGGREGATE(15,6,(ROW(Table2[FPPGroupCode])-2)/(Table2[DepoName]=$C$2)/(IF($C$3<>\"\",Table2[BULAN]=$C$3,TRUE))/(IF($C$4<>\"\",Table2[OFF/ON]=$C$4,TRUE))/(IF($C$5<>\"\",Table2[Status]=$C$5,TRUE))/(IF($C$6<>\"\",Table2[FPPDate]=$C$6,TRUE))/(IF($C$7<>\"\",Table2[ProposalCode]=$C$7,TRUE)),ROW(K364))),\"\")","v":""}]
[{"$f":"IF(LEN($B373),ROW(A365),\"\")","v":""},{"$f":"IFERROR(INDEX(Table2[FPPGroupCode],_xlfn.AGGREGATE(15,6,(ROW(Table2[FPPGroupCode])-2)/(Table2[DepoName]=$C$2)/(IF($C$3<>\"\",Table2[BULAN]=$C$3,TRUE))/(IF($C$4<>\"\",Table2[OFF/ON]=$C$4,TRUE))/(IF($C$5<>\"\",Table2[Status]=$C$5,TRUE))/(IF($C$6<>\"\",Table2[FPPDate]=$C$6,TRUE))/(IF($C$7<>\"\",Table2[ProposalCode]=$C$7,TRUE)),ROW(A365))),\"\")","v":""},{"$f":"IFERROR(VLOOKUP($B373,SIP!$D$3:$Q$12237,14,0),0)","v":0},{"$f":"IFERROR(INDEX(Table2[Activity],_xlfn.AGGREGATE(15,6,(ROW(Table2[FPPGroupCode])-2)/(Table2[DepoName]=$C$2)/(IF($C$3<>\"\",Table2[BULAN]=$C$3,TRUE))/(IF($C$4<>\"\",Table2[OFF/ON]=$C$4,TRUE))/(IF($C$5<>\"\",Table2[Status]=$C$5,TRUE))/(IF($C$6<>\"\",Table2[]=$C$6,TRUE))/(IF($C$7<>\"\",Table2[ProposalCode]=$C$7,TRUE)),ROW(B365))),\"\")","v":""},{"$f":"IFERROR(INDEX(Table2[Location],_xlfn.AGGREGATE(15,6,(ROW(Table2[FPPGroupCode])-2)/(Table2[DepoName]=$C$2)/(IF($C$3<>\"\",Table2[BULAN]=$C$3,TRUE))/(IF($C$4<>\"\",Table2[OFF/ON]=$C$4,TRUE))/(IF($C$5<>\"\",Table2[Status]=$C$5,TRUE))/(IF($C$6<>\"\",Table2[FPPDate]=$C$6,TRUE))/(IF($C$7<>\"\",Table2[ProposalCode]=$C$7,TRUE)),ROW(D365))),\"\")","v":""},{"$f":"IFERROR(INDEX(Table2[PeriodeStart],_xlfn.AGGREGATE(15,6,(ROW(Table2[FPPGroupCode])-2)/(Table2[DepoName]=$C$2)/(IF($C$3<>\"\",Table2[BULAN]=$C$3,TRUE))/(IF($C$4<>\"\",Table2[OFF/ON]=$C$4,TRUE))/(IF($C$5<>\"\",Table2[Status]=$C$5,TRUE))/(IF($C$6<>\"\",Table2[FPPDate]=$C$6,TRUE))/(IF($C$7<>\"\",Table2[ProposalCode]=$C$7,TRUE)),ROW(E365))),\"\")","v":""},{"$f":"IFERROR(INDEX(Table2[PeriodeEnd],_xlfn.AGGREGATE(15,6,(ROW(Table2[FPPGroupCode])-2)/(Table2[DepoName]=$C$2)/(IF($C$3<>\"\",Table2[BULAN]=$C$3,TRUE))/(IF($C$4<>\"\",Table2[OFF/ON]=$C$4,TRUE))/(IF($C$5<>\"\",Table2[Status]=$C$5,TRUE))/(IF($C$6<>\"\",Table2[FPPDate]=$C$6,TRUE))/(IF($C$7<>\"\",Table2[ProposalCode]=$C$7,TRUE)),ROW(F365))),\"\")","v":""},{"$f":"IFERROR(INDEX(Table2[Amount_FPPDepo],_xlfn.AGGREGATE(15,6,(ROW(Table2[FPPGroupCode])-2)/(Table2[DepoName]=$C$2)/(IF($C$3<>\"\",Table2[BULAN]=$C$3,TRUE))/(IF($C$4<>\"\",Table2[OFF/ON]=$C$4,TRUE))/(IF($C$5<>\"\",Table2[Status]=$C$5,TRUE))/(IF($C$6<>\"\",Table2[FPPDate]=$C$6,TRUE))/(IF($C$7<>\"\",Table2[ProposalCode]=$C$7,TRUE)),ROW(G365))),\"\")","v":""},{"$f":"IFERROR(VLOOKUP($B373,SIP!$D$5776:$P$6032,12,0),0)","v":0},{"$f":"IFERROR(H373-I373,0)","v":0},{"$f":"IFERROR(VLOOKUP($B373,SIP!$D$5776:$P$6032,8,0),0)","v":0},{"$f":"IFERROR(INDEX(Table2[OFF/ON],_xlfn.AGGREGATE(15,6,(ROW(Table2[FPPGroupCode])-2)/(Table2[DepoName]=$C$2)/(IF($C$3<>\"\",Table2[BULAN]=$C$3,TRUE))/(IF($C$4<>\"\",Table2[OFF/ON]=$C$4,TRUE))/(IF($C$5<>\"\",Table2[Status]=$C$5,TRUE))/(IF($C$6<>\"\",Table2[FPPDate]=$C$6,TRUE))/(IF($C$7<>\"\",Table2[ProposalCode]=$C$7,TRUE)),ROW(K365))),\"\")","v":""}]
[{"$f":"IF(LEN($B374),ROW(A366),\"\")","v":""},{"$f":"IFERROR(INDEX(Table2[FPPGroupCode],_xlfn.AGGREGATE(15,6,(ROW(Table2[FPPGroupCode])-2)/(Table2[DepoName]=$C$2)/(IF($C$3<>\"\",Table2[BULAN]=$C$3,TRUE))/(IF($C$4<>\"\",Table2[OFF/ON]=$C$4,TRUE))/(IF($C$5<>\"\",Table2[Status]=$C$5,TRUE))/(IF($C$6<>\"\",Table2[FPPDate]=$C$6,TRUE))/(IF($C$7<>\"\",Table2[ProposalCode]=$C$7,TRUE)),ROW(A366))),\"\")","v":""},{"$f":"IFERROR(VLOOKUP($B374,SIP!$D$3:$Q$12237,14,0),0)","v":0},{"$f":"IFERROR(INDEX(Table2[Activity],_xlfn.AGGREGATE(15,6,(ROW(Table2[FPPGroupCode])-2)/(Table2[DepoName]=$C$2)/(IF($C$3<>\"\",Table2[BULAN]=$C$3,TRUE))/(IF($C$4<>\"\",Table2[OFF/ON]=$C$4,TRUE))/(IF($C$5<>\"\",Table2[Status]=$C$5,TRUE))/(IF($C$6<>\"\",Table2[]=$C$6,TRUE))/(IF($C$7<>\"\",Table2[ProposalCode]=$C$7,TRUE)),ROW(B366))),\"\")","v":""},{"$f":"IFERROR(INDEX(Table2[Location],_xlfn.AGGREGATE(15,6,(ROW(Table2[FPPGroupCode])-2)/(Table2[DepoName]=$C$2)/(IF($C$3<>\"\",Table2[BULAN]=$C$3,TRUE))/(IF($C$4<>\"\",Table2[OFF/ON]=$C$4,TRUE))/(IF($C$5<>\"\",Table2[Status]=$C$5,TRUE))/(IF($C$6<>\"\",Table2[FPPDate]=$C$6,TRUE))/(IF($C$7<>\"\",Table2[ProposalCode]=$C$7,TRUE)),ROW(D366))),\"\")","v":""},{"$f":"IFERROR(INDEX(Table2[PeriodeStart],_xlfn.AGGREGATE(15,6,(ROW(Table2[FPPGroupCode])-2)/(Table2[DepoName]=$C$2)/(IF($C$3<>\"\",Table2[BULAN]=$C$3,TRUE))/(IF($C$4<>\"\",Table2[OFF/ON]=$C$4,TRUE))/(IF($C$5<>\"\",Table2[Status]=$C$5,TRUE))/(IF($C$6<>\"\",Table2[FPPDate]=$C$6,TRUE))/(IF($C$7<>\"\",Table2[ProposalCode]=$C$7,TRUE)),ROW(E366))),\"\")","v":""},{"$f":"IFERROR(INDEX(Table2[PeriodeEnd],_xlfn.AGGREGATE(15,6,(ROW(Table2[FPPGroupCode])-2)/(Table2[DepoName]=$C$2)/(IF($C$3<>\"\",Table2[BULAN]=$C$3,TRUE))/(IF($C$4<>\"\",Table2[OFF/ON]=$C$4,TRUE))/(IF($C$5<>\"\",Table2[Status]=$C$5,TRUE))/(IF($C$6<>\"\",Table2[FPPDate]=$C$6,TRUE))/(IF($C$7<>\"\",Table2[ProposalCode]=$C$7,TRUE)),ROW(F366))),\"\")","v":""},{"$f":"IFERROR(INDEX(Table2[Amount_FPPDepo],_xlfn.AGGREGATE(15,6,(ROW(Table2[FPPGroupCode])-2)/(Table2[DepoName]=$C$2)/(IF($C$3<>\"\",Table2[BULAN]=$C$3,TRUE))/(IF($C$4<>\"\",Table2[OFF/ON]=$C$4,TRUE))/(IF($C$5<>\"\",Table2[Status]=$C$5,TRUE))/(IF($C$6<>\"\",Table2[FPPDate]=$C$6,TRUE))/(IF($C$7<>\"\",Table2[ProposalCode]=$C$7,TRUE)),ROW(G366))),\"\")","v":""},{"$f":"IFERROR(VLOOKUP($B374,SIP!$D$5776:$P$6032,12,0),0)","v":0},{"$f":"IFERROR(H374-I374,0)","v":0},{"$f":"IFERROR(VLOOKUP($B374,SIP!$D$5776:$P$6032,8,0),0)","v":0},{"$f":"IFERROR(INDEX(Table2[OFF/ON],_xlfn.AGGREGATE(15,6,(ROW(Table2[FPPGroupCode])-2)/(Table2[DepoName]=$C$2)/(IF($C$3<>\"\",Table2[BULAN]=$C$3,TRUE))/(IF($C$4<>\"\",Table2[OFF/ON]=$C$4,TRUE))/(IF($C$5<>\"\",Table2[Status]=$C$5,TRUE))/(IF($C$6<>\"\",Table2[FPPDate]=$C$6,TRUE))/(IF($C$7<>\"\",Table2[ProposalCode]=$C$7,TRUE)),ROW(K366))),\"\")","v":""}]
[{"$f":"IF(LEN($B375),ROW(A367),\"\")","v":""},{"$f":"IFERROR(INDEX(Table2[FPPGroupCode],_xlfn.AGGREGATE(15,6,(ROW(Table2[FPPGroupCode])-2)/(Table2[DepoName]=$C$2)/(IF($C$3<>\"\",Table2[BULAN]=$C$3,TRUE))/(IF($C$4<>\"\",Table2[OFF/ON]=$C$4,TRUE))/(IF($C$5<>\"\",Table2[Status]=$C$5,TRUE))/(IF($C$6<>\"\",Table2[FPPDate]=$C$6,TRUE))/(IF($C$7<>\"\",Table2[ProposalCode]=$C$7,TRUE)),ROW(A367))),\"\")","v":""},{"$f":"IFERROR(VLOOKUP($B375,SIP!$D$3:$Q$12237,14,0),0)","v":0},{"$f":"IFERROR(INDEX(Table2[Activity],_xlfn.AGGREGATE(15,6,(ROW(Table2[FPPGroupCode])-2)/(Table2[DepoName]=$C$2)/(IF($C$3<>\"\",Table2[BULAN]=$C$3,TRUE))/(IF($C$4<>\"\",Table2[OFF/ON]=$C$4,TRUE))/(IF($C$5<>\"\",Table2[Status]=$C$5,TRUE))/(IF($C$6<>\"\",Table2[]=$C$6,TRUE))/(IF($C$7<>\"\",Table2[ProposalCode]=$C$7,TRUE)),ROW(B367))),\"\")","v":""},{"$f":"IFERROR(INDEX(Table2[Location],_xlfn.AGGREGATE(15,6,(ROW(Table2[FPPGroupCode])-2)/(Table2[DepoName]=$C$2)/(IF($C$3<>\"\",Table2[BULAN]=$C$3,TRUE))/(IF($C$4<>\"\",Table2[OFF/ON]=$C$4,TRUE))/(IF($C$5<>\"\",Table2[Status]=$C$5,TRUE))/(IF($C$6<>\"\",Table2[FPPDate]=$C$6,TRUE))/(IF($C$7<>\"\",Table2[ProposalCode]=$C$7,TRUE)),ROW(D367))),\"\")","v":""},{"$f":"IFERROR(INDEX(Table2[PeriodeStart],_xlfn.AGGREGATE(15,6,(ROW(Table2[FPPGroupCode])-2)/(Table2[DepoName]=$C$2)/(IF($C$3<>\"\",Table2[BULAN]=$C$3,TRUE))/(IF($C$4<>\"\",Table2[OFF/ON]=$C$4,TRUE))/(IF($C$5<>\"\",Table2[Status]=$C$5,TRUE))/(IF($C$6<>\"\",Table2[FPPDate]=$C$6,TRUE))/(IF($C$7<>\"\",Table2[ProposalCode]=$C$7,TRUE)),ROW(E367))),\"\")","v":""},{"$f":"IFERROR(INDEX(Table2[PeriodeEnd],_xlfn.AGGREGATE(15,6,(ROW(Table2[FPPGroupCode])-2)/(Table2[DepoName]=$C$2)/(IF($C$3<>\"\",Table2[BULAN]=$C$3,TRUE))/(IF($C$4<>\"\",Table2[OFF/ON]=$C$4,TRUE))/(IF($C$5<>\"\",Table2[Status]=$C$5,TRUE))/(IF($C$6<>\"\",Table2[FPPDate]=$C$6,TRUE))/(IF($C$7<>\"\",Table2[ProposalCode]=$C$7,TRUE)),ROW(F367))),\"\")","v":""},{"$f":"IFERROR(INDEX(Table2[Amount_FPPDepo],_xlfn.AGGREGATE(15,6,(ROW(Table2[FPPGroupCode])-2)/(Table2[DepoName]=$C$2)/(IF($C$3<>\"\",Table2[BULAN]=$C$3,TRUE))/(IF($C$4<>\"\",Table2[OFF/ON]=$C$4,TRUE))/(IF($C$5<>\"\",Table2[Status]=$C$5,TRUE))/(IF($C$6<>\"\",Table2[FPPDate]=$C$6,TRUE))/(IF($C$7<>\"\",Table2[ProposalCode]=$C$7,TRUE)),ROW(G367))),\"\")","v":""},{"$f":"IFERROR(VLOOKUP($B375,SIP!$D$5776:$P$6032,12,0),0)","v":0},{"$f":"IFERROR(H375-I375,0)","v":0},{"$f":"IFERROR(VLOOKUP($B375,SIP!$D$5776:$P$6032,8,0),0)","v":0},{"$f":"IFERROR(INDEX(Table2[OFF/ON],_xlfn.AGGREGATE(15,6,(ROW(Table2[FPPGroupCode])-2)/(Table2[DepoName]=$C$2)/(IF($C$3<>\"\",Table2[BULAN]=$C$3,TRUE))/(IF($C$4<>\"\",Table2[OFF/ON]=$C$4,TRUE))/(IF($C$5<>\"\",Table2[Status]=$C$5,TRUE))/(IF($C$6<>\"\",Table2[FPPDate]=$C$6,TRUE))/(IF($C$7<>\"\",Table2[ProposalCode]=$C$7,TRUE)),ROW(K367))),\"\")","v":""}]
[{"$f":"IF(LEN($B376),ROW(A368),\"\")","v":""},{"$f":"IFERROR(INDEX(Table2[FPPGroupCode],_xlfn.AGGREGATE(15,6,(ROW(Table2[FPPGroupCode])-2)/(Table2[DepoName]=$C$2)/(IF($C$3<>\"\",Table2[BULAN]=$C$3,TRUE))/(IF($C$4<>\"\",Table2[OFF/ON]=$C$4,TRUE))/(IF($C$5<>\"\",Table2[Status]=$C$5,TRUE))/(IF($C$6<>\"\",Table2[FPPDate]=$C$6,TRUE))/(IF($C$7<>\"\",Table2[ProposalCode]=$C$7,TRUE)),ROW(A368))),\"\")","v":""},{"$f":"IFERROR(VLOOKUP($B376,SIP!$D$3:$Q$12237,14,0),0)","v":0},{"$f":"IFERROR(INDEX(Table2[Activity],_xlfn.AGGREGATE(15,6,(ROW(Table2[FPPGroupCode])-2)/(Table2[DepoName]=$C$2)/(IF($C$3<>\"\",Table2[BULAN]=$C$3,TRUE))/(IF($C$4<>\"\",Table2[OFF/ON]=$C$4,TRUE))/(IF($C$5<>\"\",Table2[Status]=$C$5,TRUE))/(IF($C$6<>\"\",Table2[]=$C$6,TRUE))/(IF($C$7<>\"\",Table2[ProposalCode]=$C$7,TRUE)),ROW(B368))),\"\")","v":""},{"$f":"IFERROR(INDEX(Table2[Location],_xlfn.AGGREGATE(15,6,(ROW(Table2[FPPGroupCode])-2)/(Table2[DepoName]=$C$2)/(IF($C$3<>\"\",Table2[BULAN]=$C$3,TRUE))/(IF($C$4<>\"\",Table2[OFF/ON]=$C$4,TRUE))/(IF($C$5<>\"\",Table2[Status]=$C$5,TRUE))/(IF($C$6<>\"\",Table2[FPPDate]=$C$6,TRUE))/(IF($C$7<>\"\",Table2[ProposalCode]=$C$7,TRUE)),ROW(D368))),\"\")","v":""},{"$f":"IFERROR(INDEX(Table2[PeriodeStart],_xlfn.AGGREGATE(15,6,(ROW(Table2[FPPGroupCode])-2)/(Table2[DepoName]=$C$2)/(IF($C$3<>\"\",Table2[BULAN]=$C$3,TRUE))/(IF($C$4<>\"\",Table2[OFF/ON]=$C$4,TRUE))/(IF($C$5<>\"\",Table2[Status]=$C$5,TRUE))/(IF($C$6<>\"\",Table2[FPPDate]=$C$6,TRUE))/(IF($C$7<>\"\",Table2[ProposalCode]=$C$7,TRUE)),ROW(E368))),\"\")","v":""},{"$f":"IFERROR(INDEX(Table2[PeriodeEnd],_xlfn.AGGREGATE(15,6,(ROW(Table2[FPPGroupCode])-2)/(Table2[DepoName]=$C$2)/(IF($C$3<>\"\",Table2[BULAN]=$C$3,TRUE))/(IF($C$4<>\"\",Table2[OFF/ON]=$C$4,TRUE))/(IF($C$5<>\"\",Table2[Status]=$C$5,TRUE))/(IF($C$6<>\"\",Table2[FPPDate]=$C$6,TRUE))/(IF($C$7<>\"\",Table2[ProposalCode]=$C$7,TRUE)),ROW(F368))),\"\")","v":""},{"$f":"IFERROR(INDEX(Table2[Amount_FPPDepo],_xlfn.AGGREGATE(15,6,(ROW(Table2[FPPGroupCode])-2)/(Table2[DepoName]=$C$2)/(IF($C$3<>\"\",Table2[BULAN]=$C$3,TRUE))/(IF($C$4<>\"\",Table2[OFF/ON]=$C$4,TRUE))/(IF($C$5<>\"\",Table2[Status]=$C$5,TRUE))/(IF($C$6<>\"\",Table2[FPPDate]=$C$6,TRUE))/(IF($C$7<>\"\",Table2[ProposalCode]=$C$7,TRUE)),ROW(G368))),\"\")","v":""},{"$f":"IFERROR(VLOOKUP($B376,SIP!$D$5776:$P$6032,12,0),0)","v":0},{"$f":"IFERROR(H376-I376,0)","v":0},{"$f":"IFERROR(VLOOKUP($B376,SIP!$D$5776:$P$6032,8,0),0)","v":0},{"$f":"IFERROR(INDEX(Table2[OFF/ON],_xlfn.AGGREGATE(15,6,(ROW(Table2[FPPGroupCode])-2)/(Table2[DepoName]=$C$2)/(IF($C$3<>\"\",Table2[BULAN]=$C$3,TRUE))/(IF($C$4<>\"\",Table2[OFF/ON]=$C$4,TRUE))/(IF($C$5<>\"\",Table2[Status]=$C$5,TRUE))/(IF($C$6<>\"\",Table2[FPPDate]=$C$6,TRUE))/(IF($C$7<>\"\",Table2[ProposalCode]=$C$7,TRUE)),ROW(K368))),\"\")","v":""}]
[{"$f":"IF(LEN($B377),ROW(A369),\"\")","v":""},{"$f":"IFERROR(INDEX(Table2[FPPGroupCode],_xlfn.AGGREGATE(15,6,(ROW(Table2[FPPGroupCode])-2)/(Table2[DepoName]=$C$2)/(IF($C$3<>\"\",Table2[BULAN]=$C$3,TRUE))/(IF($C$4<>\"\",Table2[OFF/ON]=$C$4,TRUE))/(IF($C$5<>\"\",Table2[Status]=$C$5,TRUE))/(IF($C$6<>\"\",Table2[FPPDate]=$C$6,TRUE))/(IF($C$7<>\"\",Table2[ProposalCode]=$C$7,TRUE)),ROW(A369))),\"\")","v":""},{"$f":"IFERROR(VLOOKUP($B377,SIP!$D$3:$Q$12237,14,0),0)","v":0},{"$f":"IFERROR(INDEX(Table2[Activity],_xlfn.AGGREGATE(15,6,(ROW(Table2[FPPGroupCode])-2)/(Table2[DepoName]=$C$2)/(IF($C$3<>\"\",Table2[BULAN]=$C$3,TRUE))/(IF($C$4<>\"\",Table2[OFF/ON]=$C$4,TRUE))/(IF($C$5<>\"\",Table2[Status]=$C$5,TRUE))/(IF($C$6<>\"\",Table2[]=$C$6,TRUE))/(IF($C$7<>\"\",Table2[ProposalCode]=$C$7,TRUE)),ROW(B369))),\"\")","v":""},{"$f":"IFERROR(INDEX(Table2[Location],_xlfn.AGGREGATE(15,6,(ROW(Table2[FPPGroupCode])-2)/(Table2[DepoName]=$C$2)/(IF($C$3<>\"\",Table2[BULAN]=$C$3,TRUE))/(IF($C$4<>\"\",Table2[OFF/ON]=$C$4,TRUE))/(IF($C$5<>\"\",Table2[Status]=$C$5,TRUE))/(IF($C$6<>\"\",Table2[FPPDate]=$C$6,TRUE))/(IF($C$7<>\"\",Table2[ProposalCode]=$C$7,TRUE)),ROW(D369))),\"\")","v":""},{"$f":"IFERROR(INDEX(Table2[PeriodeStart],_xlfn.AGGREGATE(15,6,(ROW(Table2[FPPGroupCode])-2)/(Table2[DepoName]=$C$2)/(IF($C$3<>\"\",Table2[BULAN]=$C$3,TRUE))/(IF($C$4<>\"\",Table2[OFF/ON]=$C$4,TRUE))/(IF($C$5<>\"\",Table2[Status]=$C$5,TRUE))/(IF($C$6<>\"\",Table2[FPPDate]=$C$6,TRUE))/(IF($C$7<>\"\",Table2[ProposalCode]=$C$7,TRUE)),ROW(E369))),\"\")","v":""},{"$f":"IFERROR(INDEX(Table2[PeriodeEnd],_xlfn.AGGREGATE(15,6,(ROW(Table2[FPPGroupCode])-2)/(Table2[DepoName]=$C$2)/(IF($C$3<>\"\",Table2[BULAN]=$C$3,TRUE))/(IF($C$4<>\"\",Table2[OFF/ON]=$C$4,TRUE))/(IF($C$5<>\"\",Table2[Status]=$C$5,TRUE))/(IF($C$6<>\"\",Table2[FPPDate]=$C$6,TRUE))/(IF($C$7<>\"\",Table2[ProposalCode]=$C$7,TRUE)),ROW(F369))),\"\")","v":""},{"$f":"IFERROR(INDEX(Table2[Amount_FPPDepo],_xlfn.AGGREGATE(15,6,(ROW(Table2[FPPGroupCode])-2)/(Table2[DepoName]=$C$2)/(IF($C$3<>\"\",Table2[BULAN]=$C$3,TRUE))/(IF($C$4<>\"\",Table2[OFF/ON]=$C$4,TRUE))/(IF($C$5<>\"\",Table2[Status]=$C$5,TRUE))/(IF($C$6<>\"\",Table2[FPPDate]=$C$6,TRUE))/(IF($C$7<>\"\",Table2[ProposalCode]=$C$7,TRUE)),ROW(G369))),\"\")","v":""},{"$f":"IFERROR(VLOOKUP($B377,SIP!$D$5776:$P$6032,12,0),0)","v":0},{"$f":"IFERROR(H377-I377,0)","v":0},{"$f":"IFERROR(VLOOKUP($B377,SIP!$D$5776:$P$6032,8,0),0)","v":0},{"$f":"IFERROR(INDEX(Table2[OFF/ON],_xlfn.AGGREGATE(15,6,(ROW(Table2[FPPGroupCode])-2)/(Table2[DepoName]=$C$2)/(IF($C$3<>\"\",Table2[BULAN]=$C$3,TRUE))/(IF($C$4<>\"\",Table2[OFF/ON]=$C$4,TRUE))/(IF($C$5<>\"\",Table2[Status]=$C$5,TRUE))/(IF($C$6<>\"\",Table2[FPPDate]=$C$6,TRUE))/(IF($C$7<>\"\",Table2[ProposalCode]=$C$7,TRUE)),ROW(K369))),\"\")","v":""}]
[{"$f":"IF(LEN($B378),ROW(A370),\"\")","v":""},{"$f":"IFERROR(INDEX(Table2[FPPGroupCode],_xlfn.AGGREGATE(15,6,(ROW(Table2[FPPGroupCode])-2)/(Table2[DepoName]=$C$2)/(IF($C$3<>\"\",Table2[BULAN]=$C$3,TRUE))/(IF($C$4<>\"\",Table2[OFF/ON]=$C$4,TRUE))/(IF($C$5<>\"\",Table2[Status]=$C$5,TRUE))/(IF($C$6<>\"\",Table2[FPPDate]=$C$6,TRUE))/(IF($C$7<>\"\",Table2[ProposalCode]=$C$7,TRUE)),ROW(A370))),\"\")","v":""},{"$f":"IFERROR(VLOOKUP($B378,SIP!$D$3:$Q$12237,14,0),0)","v":0},{"$f":"IFERROR(INDEX(Table2[Activity],_xlfn.AGGREGATE(15,6,(ROW(Table2[FPPGroupCode])-2)/(Table2[DepoName]=$C$2)/(IF($C$3<>\"\",Table2[BULAN]=$C$3,TRUE))/(IF($C$4<>\"\",Table2[OFF/ON]=$C$4,TRUE))/(IF($C$5<>\"\",Table2[Status]=$C$5,TRUE))/(IF($C$6<>\"\",Table2[]=$C$6,TRUE))/(IF($C$7<>\"\",Table2[ProposalCode]=$C$7,TRUE)),ROW(B370))),\"\")","v":""},{"$f":"IFERROR(INDEX(Table2[Location],_xlfn.AGGREGATE(15,6,(ROW(Table2[FPPGroupCode])-2)/(Table2[DepoName]=$C$2)/(IF($C$3<>\"\",Table2[BULAN]=$C$3,TRUE))/(IF($C$4<>\"\",Table2[OFF/ON]=$C$4,TRUE))/(IF($C$5<>\"\",Table2[Status]=$C$5,TRUE))/(IF($C$6<>\"\",Table2[FPPDate]=$C$6,TRUE))/(IF($C$7<>\"\",Table2[ProposalCode]=$C$7,TRUE)),ROW(D370))),\"\")","v":""},{"$f":"IFERROR(INDEX(Table2[PeriodeStart],_xlfn.AGGREGATE(15,6,(ROW(Table2[FPPGroupCode])-2)/(Table2[DepoName]=$C$2)/(IF($C$3<>\"\",Table2[BULAN]=$C$3,TRUE))/(IF($C$4<>\"\",Table2[OFF/ON]=$C$4,TRUE))/(IF($C$5<>\"\",Table2[Status]=$C$5,TRUE))/(IF($C$6<>\"\",Table2[FPPDate]=$C$6,TRUE))/(IF($C$7<>\"\",Table2[ProposalCode]=$C$7,TRUE)),ROW(E370))),\"\")","v":""},{"$f":"IFERROR(INDEX(Table2[PeriodeEnd],_xlfn.AGGREGATE(15,6,(ROW(Table2[FPPGroupCode])-2)/(Table2[DepoName]=$C$2)/(IF($C$3<>\"\",Table2[BULAN]=$C$3,TRUE))/(IF($C$4<>\"\",Table2[OFF/ON]=$C$4,TRUE))/(IF($C$5<>\"\",Table2[Status]=$C$5,TRUE))/(IF($C$6<>\"\",Table2[FPPDate]=$C$6,TRUE))/(IF($C$7<>\"\",Table2[ProposalCode]=$C$7,TRUE)),ROW(F370))),\"\")","v":""},{"$f":"IFERROR(INDEX(Table2[Amount_FPPDepo],_xlfn.AGGREGATE(15,6,(ROW(Table2[FPPGroupCode])-2)/(Table2[DepoName]=$C$2)/(IF($C$3<>\"\",Table2[BULAN]=$C$3,TRUE))/(IF($C$4<>\"\",Table2[OFF/ON]=$C$4,TRUE))/(IF($C$5<>\"\",Table2[Status]=$C$5,TRUE))/(IF($C$6<>\"\",Table2[FPPDate]=$C$6,TRUE))/(IF($C$7<>\"\",Table2[ProposalCode]=$C$7,TRUE)),ROW(G370))),\"\")","v":""},{"$f":"IFERROR(VLOOKUP($B378,SIP!$D$5776:$P$6032,12,0),0)","v":0},{"$f":"IFERROR(H378-I378,0)","v":0},{"$f":"IFERROR(VLOOKUP($B378,SIP!$D$5776:$P$6032,8,0),0)","v":0},{"$f":"IFERROR(INDEX(Table2[OFF/ON],_xlfn.AGGREGATE(15,6,(ROW(Table2[FPPGroupCode])-2)/(Table2[DepoName]=$C$2)/(IF($C$3<>\"\",Table2[BULAN]=$C$3,TRUE))/(IF($C$4<>\"\",Table2[OFF/ON]=$C$4,TRUE))/(IF($C$5<>\"\",Table2[Status]=$C$5,TRUE))/(IF($C$6<>\"\",Table2[FPPDate]=$C$6,TRUE))/(IF($C$7<>\"\",Table2[ProposalCode]=$C$7,TRUE)),ROW(K370))),\"\")","v":""}]
[{"$f":"IF(LEN($B379),ROW(A371),\"\")","v":""},{"$f":"IFERROR(INDEX(Table2[FPPGroupCode],_xlfn.AGGREGATE(15,6,(ROW(Table2[FPPGroupCode])-2)/(Table2[DepoName]=$C$2)/(IF($C$3<>\"\",Table2[BULAN]=$C$3,TRUE))/(IF($C$4<>\"\",Table2[OFF/ON]=$C$4,TRUE))/(IF($C$5<>\"\",Table2[Status]=$C$5,TRUE))/(IF($C$6<>\"\",Table2[FPPDate]=$C$6,TRUE))/(IF($C$7<>\"\",Table2[ProposalCode]=$C$7,TRUE)),ROW(A371))),\"\")","v":""},{"$f":"IFERROR(VLOOKUP($B379,SIP!$D$3:$Q$12237,14,0),0)","v":0},{"$f":"IFERROR(INDEX(Table2[Activity],_xlfn.AGGREGATE(15,6,(ROW(Table2[FPPGroupCode])-2)/(Table2[DepoName]=$C$2)/(IF($C$3<>\"\",Table2[BULAN]=$C$3,TRUE))/(IF($C$4<>\"\",Table2[OFF/ON]=$C$4,TRUE))/(IF($C$5<>\"\",Table2[Status]=$C$5,TRUE))/(IF($C$6<>\"\",Table2[]=$C$6,TRUE))/(IF($C$7<>\"\",Table2[ProposalCode]=$C$7,TRUE)),ROW(B371))),\"\")","v":""},{"$f":"IFERROR(INDEX(Table2[Location],_xlfn.AGGREGATE(15,6,(ROW(Table2[FPPGroupCode])-2)/(Table2[DepoName]=$C$2)/(IF($C$3<>\"\",Table2[BULAN]=$C$3,TRUE))/(IF($C$4<>\"\",Table2[OFF/ON]=$C$4,TRUE))/(IF($C$5<>\"\",Table2[Status]=$C$5,TRUE))/(IF($C$6<>\"\",Table2[FPPDate]=$C$6,TRUE))/(IF($C$7<>\"\",Table2[ProposalCode]=$C$7,TRUE)),ROW(D371))),\"\")","v":""},{"$f":"IFERROR(INDEX(Table2[PeriodeStart],_xlfn.AGGREGATE(15,6,(ROW(Table2[FPPGroupCode])-2)/(Table2[DepoName]=$C$2)/(IF($C$3<>\"\",Table2[BULAN]=$C$3,TRUE))/(IF($C$4<>\"\",Table2[OFF/ON]=$C$4,TRUE))/(IF($C$5<>\"\",Table2[Status]=$C$5,TRUE))/(IF($C$6<>\"\",Table2[FPPDate]=$C$6,TRUE))/(IF($C$7<>\"\",Table2[ProposalCode]=$C$7,TRUE)),ROW(E371))),\"\")","v":""},{"$f":"IFERROR(INDEX(Table2[PeriodeEnd],_xlfn.AGGREGATE(15,6,(ROW(Table2[FPPGroupCode])-2)/(Table2[DepoName]=$C$2)/(IF($C$3<>\"\",Table2[BULAN]=$C$3,TRUE))/(IF($C$4<>\"\",Table2[OFF/ON]=$C$4,TRUE))/(IF($C$5<>\"\",Table2[Status]=$C$5,TRUE))/(IF($C$6<>\"\",Table2[FPPDate]=$C$6,TRUE))/(IF($C$7<>\"\",Table2[ProposalCode]=$C$7,TRUE)),ROW(F371))),\"\")","v":""},{"$f":"IFERROR(INDEX(Table2[Amount_FPPDepo],_xlfn.AGGREGATE(15,6,(ROW(Table2[FPPGroupCode])-2)/(Table2[DepoName]=$C$2)/(IF($C$3<>\"\",Table2[BULAN]=$C$3,TRUE))/(IF($C$4<>\"\",Table2[OFF/ON]=$C$4,TRUE))/(IF($C$5<>\"\",Table2[Status]=$C$5,TRUE))/(IF($C$6<>\"\",Table2[FPPDate]=$C$6,TRUE))/(IF($C$7<>\"\",Table2[ProposalCode]=$C$7,TRUE)),ROW(G371))),\"\")","v":""},{"$f":"IFERROR(VLOOKUP($B379,SIP!$D$5776:$P$6032,12,0),0)","v":0},{"$f":"IFERROR(H379-I379,0)","v":0},{"$f":"IFERROR(VLOOKUP($B379,SIP!$D$5776:$P$6032,8,0),0)","v":0},{"$f":"IFERROR(INDEX(Table2[OFF/ON],_xlfn.AGGREGATE(15,6,(ROW(Table2[FPPGroupCode])-2)/(Table2[DepoName]=$C$2)/(IF($C$3<>\"\",Table2[BULAN]=$C$3,TRUE))/(IF($C$4<>\"\",Table2[OFF/ON]=$C$4,TRUE))/(IF($C$5<>\"\",Table2[Status]=$C$5,TRUE))/(IF($C$6<>\"\",Table2[FPPDate]=$C$6,TRUE))/(IF($C$7<>\"\",Table2[ProposalCode]=$C$7,TRUE)),ROW(K371))),\"\")","v":""}]
[{"$f":"IF(LEN($B380),ROW(A372),\"\")","v":""},{"$f":"IFERROR(INDEX(Table2[FPPGroupCode],_xlfn.AGGREGATE(15,6,(ROW(Table2[FPPGroupCode])-2)/(Table2[DepoName]=$C$2)/(IF($C$3<>\"\",Table2[BULAN]=$C$3,TRUE))/(IF($C$4<>\"\",Table2[OFF/ON]=$C$4,TRUE))/(IF($C$5<>\"\",Table2[Status]=$C$5,TRUE))/(IF($C$6<>\"\",Table2[FPPDate]=$C$6,TRUE))/(IF($C$7<>\"\",Table2[ProposalCode]=$C$7,TRUE)),ROW(A372))),\"\")","v":""},{"$f":"IFERROR(VLOOKUP($B380,SIP!$D$3:$Q$12237,14,0),0)","v":0},{"$f":"IFERROR(INDEX(Table2[Activity],_xlfn.AGGREGATE(15,6,(ROW(Table2[FPPGroupCode])-2)/(Table2[DepoName]=$C$2)/(IF($C$3<>\"\",Table2[BULAN]=$C$3,TRUE))/(IF($C$4<>\"\",Table2[OFF/ON]=$C$4,TRUE))/(IF($C$5<>\"\",Table2[Status]=$C$5,TRUE))/(IF($C$6<>\"\",Table2[]=$C$6,TRUE))/(IF($C$7<>\"\",Table2[ProposalCode]=$C$7,TRUE)),ROW(B372))),\"\")","v":""},{"$f":"IFERROR(INDEX(Table2[Location],_xlfn.AGGREGATE(15,6,(ROW(Table2[FPPGroupCode])-2)/(Table2[DepoName]=$C$2)/(IF($C$3<>\"\",Table2[BULAN]=$C$3,TRUE))/(IF($C$4<>\"\",Table2[OFF/ON]=$C$4,TRUE))/(IF($C$5<>\"\",Table2[Status]=$C$5,TRUE))/(IF($C$6<>\"\",Table2[FPPDate]=$C$6,TRUE))/(IF($C$7<>\"\",Table2[ProposalCode]=$C$7,TRUE)),ROW(D372))),\"\")","v":""},{"$f":"IFERROR(INDEX(Table2[PeriodeStart],_xlfn.AGGREGATE(15,6,(ROW(Table2[FPPGroupCode])-2)/(Table2[DepoName]=$C$2)/(IF($C$3<>\"\",Table2[BULAN]=$C$3,TRUE))/(IF($C$4<>\"\",Table2[OFF/ON]=$C$4,TRUE))/(IF($C$5<>\"\",Table2[Status]=$C$5,TRUE))/(IF($C$6<>\"\",Table2[FPPDate]=$C$6,TRUE))/(IF($C$7<>\"\",Table2[ProposalCode]=$C$7,TRUE)),ROW(E372))),\"\")","v":""},{"$f":"IFERROR(INDEX(Table2[PeriodeEnd],_xlfn.AGGREGATE(15,6,(ROW(Table2[FPPGroupCode])-2)/(Table2[DepoName]=$C$2)/(IF($C$3<>\"\",Table2[BULAN]=$C$3,TRUE))/(IF($C$4<>\"\",Table2[OFF/ON]=$C$4,TRUE))/(IF($C$5<>\"\",Table2[Status]=$C$5,TRUE))/(IF($C$6<>\"\",Table2[FPPDate]=$C$6,TRUE))/(IF($C$7<>\"\",Table2[ProposalCode]=$C$7,TRUE)),ROW(F372))),\"\")","v":""},{"$f":"IFERROR(INDEX(Table2[Amount_FPPDepo],_xlfn.AGGREGATE(15,6,(ROW(Table2[FPPGroupCode])-2)/(Table2[DepoName]=$C$2)/(IF($C$3<>\"\",Table2[BULAN]=$C$3,TRUE))/(IF($C$4<>\"\",Table2[OFF/ON]=$C$4,TRUE))/(IF($C$5<>\"\",Table2[Status]=$C$5,TRUE))/(IF($C$6<>\"\",Table2[FPPDate]=$C$6,TRUE))/(IF($C$7<>\"\",Table2[ProposalCode]=$C$7,TRUE)),ROW(G372))),\"\")","v":""},{"$f":"IFERROR(VLOOKUP($B380,SIP!$D$5776:$P$6032,12,0),0)","v":0},{"$f":"IFERROR(H380-I380,0)","v":0},{"$f":"IFERROR(VLOOKUP($B380,SIP!$D$5776:$P$6032,8,0),0)","v":0},{"$f":"IFERROR(INDEX(Table2[OFF/ON],_xlfn.AGGREGATE(15,6,(ROW(Table2[FPPGroupCode])-2)/(Table2[DepoName]=$C$2)/(IF($C$3<>\"\",Table2[BULAN]=$C$3,TRUE))/(IF($C$4<>\"\",Table2[OFF/ON]=$C$4,TRUE))/(IF($C$5<>\"\",Table2[Status]=$C$5,TRUE))/(IF($C$6<>\"\",Table2[FPPDate]=$C$6,TRUE))/(IF($C$7<>\"\",Table2[ProposalCode]=$C$7,TRUE)),ROW(K372))),\"\")","v":""}]
[{"$f":"IF(LEN($B381),ROW(A373),\"\")","v":""},{"$f":"IFERROR(INDEX(Table2[FPPGroupCode],_xlfn.AGGREGATE(15,6,(ROW(Table2[FPPGroupCode])-2)/(Table2[DepoName]=$C$2)/(IF($C$3<>\"\",Table2[BULAN]=$C$3,TRUE))/(IF($C$4<>\"\",Table2[OFF/ON]=$C$4,TRUE))/(IF($C$5<>\"\",Table2[Status]=$C$5,TRUE))/(IF($C$6<>\"\",Table2[FPPDate]=$C$6,TRUE))/(IF($C$7<>\"\",Table2[ProposalCode]=$C$7,TRUE)),ROW(A373))),\"\")","v":""},{"$f":"IFERROR(VLOOKUP($B381,SIP!$D$3:$Q$12237,14,0),0)","v":0},{"$f":"IFERROR(INDEX(Table2[Activity],_xlfn.AGGREGATE(15,6,(ROW(Table2[FPPGroupCode])-2)/(Table2[DepoName]=$C$2)/(IF($C$3<>\"\",Table2[BULAN]=$C$3,TRUE))/(IF($C$4<>\"\",Table2[OFF/ON]=$C$4,TRUE))/(IF($C$5<>\"\",Table2[Status]=$C$5,TRUE))/(IF($C$6<>\"\",Table2[]=$C$6,TRUE))/(IF($C$7<>\"\",Table2[ProposalCode]=$C$7,TRUE)),ROW(B373))),\"\")","v":""},{"$f":"IFERROR(INDEX(Table2[Location],_xlfn.AGGREGATE(15,6,(ROW(Table2[FPPGroupCode])-2)/(Table2[DepoName]=$C$2)/(IF($C$3<>\"\",Table2[BULAN]=$C$3,TRUE))/(IF($C$4<>\"\",Table2[OFF/ON]=$C$4,TRUE))/(IF($C$5<>\"\",Table2[Status]=$C$5,TRUE))/(IF($C$6<>\"\",Table2[FPPDate]=$C$6,TRUE))/(IF($C$7<>\"\",Table2[ProposalCode]=$C$7,TRUE)),ROW(D373))),\"\")","v":""},{"$f":"IFERROR(INDEX(Table2[PeriodeStart],_xlfn.AGGREGATE(15,6,(ROW(Table2[FPPGroupCode])-2)/(Table2[DepoName]=$C$2)/(IF($C$3<>\"\",Table2[BULAN]=$C$3,TRUE))/(IF($C$4<>\"\",Table2[OFF/ON]=$C$4,TRUE))/(IF($C$5<>\"\",Table2[Status]=$C$5,TRUE))/(IF($C$6<>\"\",Table2[FPPDate]=$C$6,TRUE))/(IF($C$7<>\"\",Table2[ProposalCode]=$C$7,TRUE)),ROW(E373))),\"\")","v":""},{"$f":"IFERROR(INDEX(Table2[PeriodeEnd],_xlfn.AGGREGATE(15,6,(ROW(Table2[FPPGroupCode])-2)/(Table2[DepoName]=$C$2)/(IF($C$3<>\"\",Table2[BULAN]=$C$3,TRUE))/(IF($C$4<>\"\",Table2[OFF/ON]=$C$4,TRUE))/(IF($C$5<>\"\",Table2[Status]=$C$5,TRUE))/(IF($C$6<>\"\",Table2[FPPDate]=$C$6,TRUE))/(IF($C$7<>\"\",Table2[ProposalCode]=$C$7,TRUE)),ROW(F373))),\"\")","v":""},{"$f":"IFERROR(INDEX(Table2[Amount_FPPDepo],_xlfn.AGGREGATE(15,6,(ROW(Table2[FPPGroupCode])-2)/(Table2[DepoName]=$C$2)/(IF($C$3<>\"\",Table2[BULAN]=$C$3,TRUE))/(IF($C$4<>\"\",Table2[OFF/ON]=$C$4,TRUE))/(IF($C$5<>\"\",Table2[Status]=$C$5,TRUE))/(IF($C$6<>\"\",Table2[FPPDate]=$C$6,TRUE))/(IF($C$7<>\"\",Table2[ProposalCode]=$C$7,TRUE)),ROW(G373))),\"\")","v":""},{"$f":"IFERROR(VLOOKUP($B381,SIP!$D$5776:$P$6032,12,0),0)","v":0},{"$f":"IFERROR(H381-I381,0)","v":0},{"$f":"IFERROR(VLOOKUP($B381,SIP!$D$5776:$P$6032,8,0),0)","v":0},{"$f":"IFERROR(INDEX(Table2[OFF/ON],_xlfn.AGGREGATE(15,6,(ROW(Table2[FPPGroupCode])-2)/(Table2[DepoName]=$C$2)/(IF($C$3<>\"\",Table2[BULAN]=$C$3,TRUE))/(IF($C$4<>\"\",Table2[OFF/ON]=$C$4,TRUE))/(IF($C$5<>\"\",Table2[Status]=$C$5,TRUE))/(IF($C$6<>\"\",Table2[FPPDate]=$C$6,TRUE))/(IF($C$7<>\"\",Table2[ProposalCode]=$C$7,TRUE)),ROW(K373))),\"\")","v":""}]
[{"$f":"IF(LEN($B382),ROW(A374),\"\")","v":""},{"$f":"IFERROR(INDEX(Table2[FPPGroupCode],_xlfn.AGGREGATE(15,6,(ROW(Table2[FPPGroupCode])-2)/(Table2[DepoName]=$C$2)/(IF($C$3<>\"\",Table2[BULAN]=$C$3,TRUE))/(IF($C$4<>\"\",Table2[OFF/ON]=$C$4,TRUE))/(IF($C$5<>\"\",Table2[Status]=$C$5,TRUE))/(IF($C$6<>\"\",Table2[FPPDate]=$C$6,TRUE))/(IF($C$7<>\"\",Table2[ProposalCode]=$C$7,TRUE)),ROW(A374))),\"\")","v":""},{"$f":"IFERROR(VLOOKUP($B382,SIP!$D$3:$Q$12237,14,0),0)","v":0},{"$f":"IFERROR(INDEX(Table2[Activity],_xlfn.AGGREGATE(15,6,(ROW(Table2[FPPGroupCode])-2)/(Table2[DepoName]=$C$2)/(IF($C$3<>\"\",Table2[BULAN]=$C$3,TRUE))/(IF($C$4<>\"\",Table2[OFF/ON]=$C$4,TRUE))/(IF($C$5<>\"\",Table2[Status]=$C$5,TRUE))/(IF($C$6<>\"\",Table2[]=$C$6,TRUE))/(IF($C$7<>\"\",Table2[ProposalCode]=$C$7,TRUE)),ROW(B374))),\"\")","v":""},{"$f":"IFERROR(INDEX(Table2[Location],_xlfn.AGGREGATE(15,6,(ROW(Table2[FPPGroupCode])-2)/(Table2[DepoName]=$C$2)/(IF($C$3<>\"\",Table2[BULAN]=$C$3,TRUE))/(IF($C$4<>\"\",Table2[OFF/ON]=$C$4,TRUE))/(IF($C$5<>\"\",Table2[Status]=$C$5,TRUE))/(IF($C$6<>\"\",Table2[FPPDate]=$C$6,TRUE))/(IF($C$7<>\"\",Table2[ProposalCode]=$C$7,TRUE)),ROW(D374))),\"\")","v":""},{"$f":"IFERROR(INDEX(Table2[PeriodeStart],_xlfn.AGGREGATE(15,6,(ROW(Table2[FPPGroupCode])-2)/(Table2[DepoName]=$C$2)/(IF($C$3<>\"\",Table2[BULAN]=$C$3,TRUE))/(IF($C$4<>\"\",Table2[OFF/ON]=$C$4,TRUE))/(IF($C$5<>\"\",Table2[Status]=$C$5,TRUE))/(IF($C$6<>\"\",Table2[FPPDate]=$C$6,TRUE))/(IF($C$7<>\"\",Table2[ProposalCode]=$C$7,TRUE)),ROW(E374))),\"\")","v":""},{"$f":"IFERROR(INDEX(Table2[PeriodeEnd],_xlfn.AGGREGATE(15,6,(ROW(Table2[FPPGroupCode])-2)/(Table2[DepoName]=$C$2)/(IF($C$3<>\"\",Table2[BULAN]=$C$3,TRUE))/(IF($C$4<>\"\",Table2[OFF/ON]=$C$4,TRUE))/(IF($C$5<>\"\",Table2[Status]=$C$5,TRUE))/(IF($C$6<>\"\",Table2[FPPDate]=$C$6,TRUE))/(IF($C$7<>\"\",Table2[ProposalCode]=$C$7,TRUE)),ROW(F374))),\"\")","v":""},{"$f":"IFERROR(INDEX(Table2[Amount_FPPDepo],_xlfn.AGGREGATE(15,6,(ROW(Table2[FPPGroupCode])-2)/(Table2[DepoName]=$C$2)/(IF($C$3<>\"\",Table2[BULAN]=$C$3,TRUE))/(IF($C$4<>\"\",Table2[OFF/ON]=$C$4,TRUE))/(IF($C$5<>\"\",Table2[Status]=$C$5,TRUE))/(IF($C$6<>\"\",Table2[FPPDate]=$C$6,TRUE))/(IF($C$7<>\"\",Table2[ProposalCode]=$C$7,TRUE)),ROW(G374))),\"\")","v":""},{"$f":"IFERROR(VLOOKUP($B382,SIP!$D$5776:$P$6032,12,0),0)","v":0},{"$f":"IFERROR(H382-I382,0)","v":0},{"$f":"IFERROR(VLOOKUP($B382,SIP!$D$5776:$P$6032,8,0),0)","v":0},{"$f":"IFERROR(INDEX(Table2[OFF/ON],_xlfn.AGGREGATE(15,6,(ROW(Table2[FPPGroupCode])-2)/(Table2[DepoName]=$C$2)/(IF($C$3<>\"\",Table2[BULAN]=$C$3,TRUE))/(IF($C$4<>\"\",Table2[OFF/ON]=$C$4,TRUE))/(IF($C$5<>\"\",Table2[Status]=$C$5,TRUE))/(IF($C$6<>\"\",Table2[FPPDate]=$C$6,TRUE))/(IF($C$7<>\"\",Table2[ProposalCode]=$C$7,TRUE)),ROW(K374))),\"\")","v":""}]
[{"$f":"IF(LEN($B383),ROW(A375),\"\")","v":""},{"$f":"IFERROR(INDEX(Table2[FPPGroupCode],_xlfn.AGGREGATE(15,6,(ROW(Table2[FPPGroupCode])-2)/(Table2[DepoName]=$C$2)/(IF($C$3<>\"\",Table2[BULAN]=$C$3,TRUE))/(IF($C$4<>\"\",Table2[OFF/ON]=$C$4,TRUE))/(IF($C$5<>\"\",Table2[Status]=$C$5,TRUE))/(IF($C$6<>\"\",Table2[FPPDate]=$C$6,TRUE))/(IF($C$7<>\"\",Table2[ProposalCode]=$C$7,TRUE)),ROW(A375))),\"\")","v":""},{"$f":"IFERROR(VLOOKUP($B383,SIP!$D$3:$Q$12237,14,0),0)","v":0},{"$f":"IFERROR(INDEX(Table2[Activity],_xlfn.AGGREGATE(15,6,(ROW(Table2[FPPGroupCode])-2)/(Table2[DepoName]=$C$2)/(IF($C$3<>\"\",Table2[BULAN]=$C$3,TRUE))/(IF($C$4<>\"\",Table2[OFF/ON]=$C$4,TRUE))/(IF($C$5<>\"\",Table2[Status]=$C$5,TRUE))/(IF($C$6<>\"\",Table2[]=$C$6,TRUE))/(IF($C$7<>\"\",Table2[ProposalCode]=$C$7,TRUE)),ROW(B375))),\"\")","v":""},{"$f":"IFERROR(INDEX(Table2[Location],_xlfn.AGGREGATE(15,6,(ROW(Table2[FPPGroupCode])-2)/(Table2[DepoName]=$C$2)/(IF($C$3<>\"\",Table2[BULAN]=$C$3,TRUE))/(IF($C$4<>\"\",Table2[OFF/ON]=$C$4,TRUE))/(IF($C$5<>\"\",Table2[Status]=$C$5,TRUE))/(IF($C$6<>\"\",Table2[FPPDate]=$C$6,TRUE))/(IF($C$7<>\"\",Table2[ProposalCode]=$C$7,TRUE)),ROW(D375))),\"\")","v":""},{"$f":"IFERROR(INDEX(Table2[PeriodeStart],_xlfn.AGGREGATE(15,6,(ROW(Table2[FPPGroupCode])-2)/(Table2[DepoName]=$C$2)/(IF($C$3<>\"\",Table2[BULAN]=$C$3,TRUE))/(IF($C$4<>\"\",Table2[OFF/ON]=$C$4,TRUE))/(IF($C$5<>\"\",Table2[Status]=$C$5,TRUE))/(IF($C$6<>\"\",Table2[FPPDate]=$C$6,TRUE))/(IF($C$7<>\"\",Table2[ProposalCode]=$C$7,TRUE)),ROW(E375))),\"\")","v":""},{"$f":"IFERROR(INDEX(Table2[PeriodeEnd],_xlfn.AGGREGATE(15,6,(ROW(Table2[FPPGroupCode])-2)/(Table2[DepoName]=$C$2)/(IF($C$3<>\"\",Table2[BULAN]=$C$3,TRUE))/(IF($C$4<>\"\",Table2[OFF/ON]=$C$4,TRUE))/(IF($C$5<>\"\",Table2[Status]=$C$5,TRUE))/(IF($C$6<>\"\",Table2[FPPDate]=$C$6,TRUE))/(IF($C$7<>\"\",Table2[ProposalCode]=$C$7,TRUE)),ROW(F375))),\"\")","v":""},{"$f":"IFERROR(INDEX(Table2[Amount_FPPDepo],_xlfn.AGGREGATE(15,6,(ROW(Table2[FPPGroupCode])-2)/(Table2[DepoName]=$C$2)/(IF($C$3<>\"\",Table2[BULAN]=$C$3,TRUE))/(IF($C$4<>\"\",Table2[OFF/ON]=$C$4,TRUE))/(IF($C$5<>\"\",Table2[Status]=$C$5,TRUE))/(IF($C$6<>\"\",Table2[FPPDate]=$C$6,TRUE))/(IF($C$7<>\"\",Table2[ProposalCode]=$C$7,TRUE)),ROW(G375))),\"\")","v":""},{"$f":"IFERROR(VLOOKUP($B383,SIP!$D$5776:$P$6032,12,0),0)","v":0},{"$f":"IFERROR(H383-I383,0)","v":0},{"$f":"IFERROR(VLOOKUP($B383,SIP!$D$5776:$P$6032,8,0),0)","v":0},{"$f":"IFERROR(INDEX(Table2[OFF/ON],_xlfn.AGGREGATE(15,6,(ROW(Table2[FPPGroupCode])-2)/(Table2[DepoName]=$C$2)/(IF($C$3<>\"\",Table2[BULAN]=$C$3,TRUE))/(IF($C$4<>\"\",Table2[OFF/ON]=$C$4,TRUE))/(IF($C$5<>\"\",Table2[Status]=$C$5,TRUE))/(IF($C$6<>\"\",Table2[FPPDate]=$C$6,TRUE))/(IF($C$7<>\"\",Table2[ProposalCode]=$C$7,TRUE)),ROW(K375))),\"\")","v":""}]
[{"$f":"IF(LEN($B384),ROW(A376),\"\")","v":""},{"$f":"IFERROR(INDEX(Table2[FPPGroupCode],_xlfn.AGGREGATE(15,6,(ROW(Table2[FPPGroupCode])-2)/(Table2[DepoName]=$C$2)/(IF($C$3<>\"\",Table2[BULAN]=$C$3,TRUE))/(IF($C$4<>\"\",Table2[OFF/ON]=$C$4,TRUE))/(IF($C$5<>\"\",Table2[Status]=$C$5,TRUE))/(IF($C$6<>\"\",Table2[FPPDate]=$C$6,TRUE))/(IF($C$7<>\"\",Table2[ProposalCode]=$C$7,TRUE)),ROW(A376))),\"\")","v":""},{"$f":"IFERROR(VLOOKUP($B384,SIP!$D$3:$Q$12237,14,0),0)","v":0},{"$f":"IFERROR(INDEX(Table2[Activity],_xlfn.AGGREGATE(15,6,(ROW(Table2[FPPGroupCode])-2)/(Table2[DepoName]=$C$2)/(IF($C$3<>\"\",Table2[BULAN]=$C$3,TRUE))/(IF($C$4<>\"\",Table2[OFF/ON]=$C$4,TRUE))/(IF($C$5<>\"\",Table2[Status]=$C$5,TRUE))/(IF($C$6<>\"\",Table2[]=$C$6,TRUE))/(IF($C$7<>\"\",Table2[ProposalCode]=$C$7,TRUE)),ROW(B376))),\"\")","v":""},{"$f":"IFERROR(INDEX(Table2[Location],_xlfn.AGGREGATE(15,6,(ROW(Table2[FPPGroupCode])-2)/(Table2[DepoName]=$C$2)/(IF($C$3<>\"\",Table2[BULAN]=$C$3,TRUE))/(IF($C$4<>\"\",Table2[OFF/ON]=$C$4,TRUE))/(IF($C$5<>\"\",Table2[Status]=$C$5,TRUE))/(IF($C$6<>\"\",Table2[FPPDate]=$C$6,TRUE))/(IF($C$7<>\"\",Table2[ProposalCode]=$C$7,TRUE)),ROW(D376))),\"\")","v":""},{"$f":"IFERROR(INDEX(Table2[PeriodeStart],_xlfn.AGGREGATE(15,6,(ROW(Table2[FPPGroupCode])-2)/(Table2[DepoName]=$C$2)/(IF($C$3<>\"\",Table2[BULAN]=$C$3,TRUE))/(IF($C$4<>\"\",Table2[OFF/ON]=$C$4,TRUE))/(IF($C$5<>\"\",Table2[Status]=$C$5,TRUE))/(IF($C$6<>\"\",Table2[FPPDate]=$C$6,TRUE))/(IF($C$7<>\"\",Table2[ProposalCode]=$C$7,TRUE)),ROW(E376))),\"\")","v":""},{"$f":"IFERROR(INDEX(Table2[PeriodeEnd],_xlfn.AGGREGATE(15,6,(ROW(Table2[FPPGroupCode])-2)/(Table2[DepoName]=$C$2)/(IF($C$3<>\"\",Table2[BULAN]=$C$3,TRUE))/(IF($C$4<>\"\",Table2[OFF/ON]=$C$4,TRUE))/(IF($C$5<>\"\",Table2[Status]=$C$5,TRUE))/(IF($C$6<>\"\",Table2[FPPDate]=$C$6,TRUE))/(IF($C$7<>\"\",Table2[ProposalCode]=$C$7,TRUE)),ROW(F376))),\"\")","v":""},{"$f":"IFERROR(INDEX(Table2[Amount_FPPDepo],_xlfn.AGGREGATE(15,6,(ROW(Table2[FPPGroupCode])-2)/(Table2[DepoName]=$C$2)/(IF($C$3<>\"\",Table2[BULAN]=$C$3,TRUE))/(IF($C$4<>\"\",Table2[OFF/ON]=$C$4,TRUE))/(IF($C$5<>\"\",Table2[Status]=$C$5,TRUE))/(IF($C$6<>\"\",Table2[FPPDate]=$C$6,TRUE))/(IF($C$7<>\"\",Table2[ProposalCode]=$C$7,TRUE)),ROW(G376))),\"\")","v":""},{"$f":"IFERROR(VLOOKUP($B384,SIP!$D$5776:$P$6032,12,0),0)","v":0},{"$f":"IFERROR(H384-I384,0)","v":0},{"$f":"IFERROR(VLOOKUP($B384,SIP!$D$5776:$P$6032,8,0),0)","v":0},{"$f":"IFERROR(INDEX(Table2[OFF/ON],_xlfn.AGGREGATE(15,6,(ROW(Table2[FPPGroupCode])-2)/(Table2[DepoName]=$C$2)/(IF($C$3<>\"\",Table2[BULAN]=$C$3,TRUE))/(IF($C$4<>\"\",Table2[OFF/ON]=$C$4,TRUE))/(IF($C$5<>\"\",Table2[Status]=$C$5,TRUE))/(IF($C$6<>\"\",Table2[FPPDate]=$C$6,TRUE))/(IF($C$7<>\"\",Table2[ProposalCode]=$C$7,TRUE)),ROW(K376))),\"\")","v":""}]
[{"$f":"IF(LEN($B385),ROW(A377),\"\")","v":""},{"$f":"IFERROR(INDEX(Table2[FPPGroupCode],_xlfn.AGGREGATE(15,6,(ROW(Table2[FPPGroupCode])-2)/(Table2[DepoName]=$C$2)/(IF($C$3<>\"\",Table2[BULAN]=$C$3,TRUE))/(IF($C$4<>\"\",Table2[OFF/ON]=$C$4,TRUE))/(IF($C$5<>\"\",Table2[Status]=$C$5,TRUE))/(IF($C$6<>\"\",Table2[FPPDate]=$C$6,TRUE))/(IF($C$7<>\"\",Table2[ProposalCode]=$C$7,TRUE)),ROW(A377))),\"\")","v":""},{"$f":"IFERROR(VLOOKUP($B385,SIP!$D$3:$Q$12237,14,0),0)","v":0},{"$f":"IFERROR(INDEX(Table2[Activity],_xlfn.AGGREGATE(15,6,(ROW(Table2[FPPGroupCode])-2)/(Table2[DepoName]=$C$2)/(IF($C$3<>\"\",Table2[BULAN]=$C$3,TRUE))/(IF($C$4<>\"\",Table2[OFF/ON]=$C$4,TRUE))/(IF($C$5<>\"\",Table2[Status]=$C$5,TRUE))/(IF($C$6<>\"\",Table2[]=$C$6,TRUE))/(IF($C$7<>\"\",Table2[ProposalCode]=$C$7,TRUE)),ROW(B377))),\"\")","v":""},{"$f":"IFERROR(INDEX(Table2[Location],_xlfn.AGGREGATE(15,6,(ROW(Table2[FPPGroupCode])-2)/(Table2[DepoName]=$C$2)/(IF($C$3<>\"\",Table2[BULAN]=$C$3,TRUE))/(IF($C$4<>\"\",Table2[OFF/ON]=$C$4,TRUE))/(IF($C$5<>\"\",Table2[Status]=$C$5,TRUE))/(IF($C$6<>\"\",Table2[FPPDate]=$C$6,TRUE))/(IF($C$7<>\"\",Table2[ProposalCode]=$C$7,TRUE)),ROW(D377))),\"\")","v":""},{"$f":"IFERROR(INDEX(Table2[PeriodeStart],_xlfn.AGGREGATE(15,6,(ROW(Table2[FPPGroupCode])-2)/(Table2[DepoName]=$C$2)/(IF($C$3<>\"\",Table2[BULAN]=$C$3,TRUE))/(IF($C$4<>\"\",Table2[OFF/ON]=$C$4,TRUE))/(IF($C$5<>\"\",Table2[Status]=$C$5,TRUE))/(IF($C$6<>\"\",Table2[FPPDate]=$C$6,TRUE))/(IF($C$7<>\"\",Table2[ProposalCode]=$C$7,TRUE)),ROW(E377))),\"\")","v":""},{"$f":"IFERROR(INDEX(Table2[PeriodeEnd],_xlfn.AGGREGATE(15,6,(ROW(Table2[FPPGroupCode])-2)/(Table2[DepoName]=$C$2)/(IF($C$3<>\"\",Table2[BULAN]=$C$3,TRUE))/(IF($C$4<>\"\",Table2[OFF/ON]=$C$4,TRUE))/(IF($C$5<>\"\",Table2[Status]=$C$5,TRUE))/(IF($C$6<>\"\",Table2[FPPDate]=$C$6,TRUE))/(IF($C$7<>\"\",Table2[ProposalCode]=$C$7,TRUE)),ROW(F377))),\"\")","v":""},{"$f":"IFERROR(INDEX(Table2[Amount_FPPDepo],_xlfn.AGGREGATE(15,6,(ROW(Table2[FPPGroupCode])-2)/(Table2[DepoName]=$C$2)/(IF($C$3<>\"\",Table2[BULAN]=$C$3,TRUE))/(IF($C$4<>\"\",Table2[OFF/ON]=$C$4,TRUE))/(IF($C$5<>\"\",Table2[Status]=$C$5,TRUE))/(IF($C$6<>\"\",Table2[FPPDate]=$C$6,TRUE))/(IF($C$7<>\"\",Table2[ProposalCode]=$C$7,TRUE)),ROW(G377))),\"\")","v":""},{"$f":"IFERROR(VLOOKUP($B385,SIP!$D$5776:$P$6032,12,0),0)","v":0},{"$f":"IFERROR(H385-I385,0)","v":0},{"$f":"IFERROR(VLOOKUP($B385,SIP!$D$5776:$P$6032,8,0),0)","v":0},{"$f":"IFERROR(INDEX(Table2[OFF/ON],_xlfn.AGGREGATE(15,6,(ROW(Table2[FPPGroupCode])-2)/(Table2[DepoName]=$C$2)/(IF($C$3<>\"\",Table2[BULAN]=$C$3,TRUE))/(IF($C$4<>\"\",Table2[OFF/ON]=$C$4,TRUE))/(IF($C$5<>\"\",Table2[Status]=$C$5,TRUE))/(IF($C$6<>\"\",Table2[FPPDate]=$C$6,TRUE))/(IF($C$7<>\"\",Table2[ProposalCode]=$C$7,TRUE)),ROW(K377))),\"\")","v":""}]
[{"$f":"IF(LEN($B386),ROW(A378),\"\")","v":""},{"$f":"IFERROR(INDEX(Table2[FPPGroupCode],_xlfn.AGGREGATE(15,6,(ROW(Table2[FPPGroupCode])-2)/(Table2[DepoName]=$C$2)/(IF($C$3<>\"\",Table2[BULAN]=$C$3,TRUE))/(IF($C$4<>\"\",Table2[OFF/ON]=$C$4,TRUE))/(IF($C$5<>\"\",Table2[Status]=$C$5,TRUE))/(IF($C$6<>\"\",Table2[FPPDate]=$C$6,TRUE))/(IF($C$7<>\"\",Table2[ProposalCode]=$C$7,TRUE)),ROW(A378))),\"\")","v":""},{"$f":"IFERROR(VLOOKUP($B386,SIP!$D$3:$Q$12237,14,0),0)","v":0},{"$f":"IFERROR(INDEX(Table2[Activity],_xlfn.AGGREGATE(15,6,(ROW(Table2[FPPGroupCode])-2)/(Table2[DepoName]=$C$2)/(IF($C$3<>\"\",Table2[BULAN]=$C$3,TRUE))/(IF($C$4<>\"\",Table2[OFF/ON]=$C$4,TRUE))/(IF($C$5<>\"\",Table2[Status]=$C$5,TRUE))/(IF($C$6<>\"\",Table2[]=$C$6,TRUE))/(IF($C$7<>\"\",Table2[ProposalCode]=$C$7,TRUE)),ROW(B378))),\"\")","v":""},{"$f":"IFERROR(INDEX(Table2[Location],_xlfn.AGGREGATE(15,6,(ROW(Table2[FPPGroupCode])-2)/(Table2[DepoName]=$C$2)/(IF($C$3<>\"\",Table2[BULAN]=$C$3,TRUE))/(IF($C$4<>\"\",Table2[OFF/ON]=$C$4,TRUE))/(IF($C$5<>\"\",Table2[Status]=$C$5,TRUE))/(IF($C$6<>\"\",Table2[FPPDate]=$C$6,TRUE))/(IF($C$7<>\"\",Table2[ProposalCode]=$C$7,TRUE)),ROW(D378))),\"\")","v":""},{"$f":"IFERROR(INDEX(Table2[PeriodeStart],_xlfn.AGGREGATE(15,6,(ROW(Table2[FPPGroupCode])-2)/(Table2[DepoName]=$C$2)/(IF($C$3<>\"\",Table2[BULAN]=$C$3,TRUE))/(IF($C$4<>\"\",Table2[OFF/ON]=$C$4,TRUE))/(IF($C$5<>\"\",Table2[Status]=$C$5,TRUE))/(IF($C$6<>\"\",Table2[FPPDate]=$C$6,TRUE))/(IF($C$7<>\"\",Table2[ProposalCode]=$C$7,TRUE)),ROW(E378))),\"\")","v":""},{"$f":"IFERROR(INDEX(Table2[PeriodeEnd],_xlfn.AGGREGATE(15,6,(ROW(Table2[FPPGroupCode])-2)/(Table2[DepoName]=$C$2)/(IF($C$3<>\"\",Table2[BULAN]=$C$3,TRUE))/(IF($C$4<>\"\",Table2[OFF/ON]=$C$4,TRUE))/(IF($C$5<>\"\",Table2[Status]=$C$5,TRUE))/(IF($C$6<>\"\",Table2[FPPDate]=$C$6,TRUE))/(IF($C$7<>\"\",Table2[ProposalCode]=$C$7,TRUE)),ROW(F378))),\"\")","v":""},{"$f":"IFERROR(INDEX(Table2[Amount_FPPDepo],_xlfn.AGGREGATE(15,6,(ROW(Table2[FPPGroupCode])-2)/(Table2[DepoName]=$C$2)/(IF($C$3<>\"\",Table2[BULAN]=$C$3,TRUE))/(IF($C$4<>\"\",Table2[OFF/ON]=$C$4,TRUE))/(IF($C$5<>\"\",Table2[Status]=$C$5,TRUE))/(IF($C$6<>\"\",Table2[FPPDate]=$C$6,TRUE))/(IF($C$7<>\"\",Table2[ProposalCode]=$C$7,TRUE)),ROW(G378))),\"\")","v":""},{"$f":"IFERROR(VLOOKUP($B386,SIP!$D$5776:$P$6032,12,0),0)","v":0},{"$f":"IFERROR(H386-I386,0)","v":0},{"$f":"IFERROR(VLOOKUP($B386,SIP!$D$5776:$P$6032,8,0),0)","v":0},{"$f":"IFERROR(INDEX(Table2[OFF/ON],_xlfn.AGGREGATE(15,6,(ROW(Table2[FPPGroupCode])-2)/(Table2[DepoName]=$C$2)/(IF($C$3<>\"\",Table2[BULAN]=$C$3,TRUE))/(IF($C$4<>\"\",Table2[OFF/ON]=$C$4,TRUE))/(IF($C$5<>\"\",Table2[Status]=$C$5,TRUE))/(IF($C$6<>\"\",Table2[FPPDate]=$C$6,TRUE))/(IF($C$7<>\"\",Table2[ProposalCode]=$C$7,TRUE)),ROW(K378))),\"\")","v":""}]
[{"$f":"IF(LEN($B387),ROW(A379),\"\")","v":""},{"$f":"IFERROR(INDEX(Table2[FPPGroupCode],_xlfn.AGGREGATE(15,6,(ROW(Table2[FPPGroupCode])-2)/(Table2[DepoName]=$C$2)/(IF($C$3<>\"\",Table2[BULAN]=$C$3,TRUE))/(IF($C$4<>\"\",Table2[OFF/ON]=$C$4,TRUE))/(IF($C$5<>\"\",Table2[Status]=$C$5,TRUE))/(IF($C$6<>\"\",Table2[FPPDate]=$C$6,TRUE))/(IF($C$7<>\"\",Table2[ProposalCode]=$C$7,TRUE)),ROW(A379))),\"\")","v":""},{"$f":"IFERROR(VLOOKUP($B387,SIP!$D$3:$Q$12237,14,0),0)","v":0},{"$f":"IFERROR(INDEX(Table2[Activity],_xlfn.AGGREGATE(15,6,(ROW(Table2[FPPGroupCode])-2)/(Table2[DepoName]=$C$2)/(IF($C$3<>\"\",Table2[BULAN]=$C$3,TRUE))/(IF($C$4<>\"\",Table2[OFF/ON]=$C$4,TRUE))/(IF($C$5<>\"\",Table2[Status]=$C$5,TRUE))/(IF($C$6<>\"\",Table2[]=$C$6,TRUE))/(IF($C$7<>\"\",Table2[ProposalCode]=$C$7,TRUE)),ROW(B379))),\"\")","v":""},{"$f":"IFERROR(INDEX(Table2[Location],_xlfn.AGGREGATE(15,6,(ROW(Table2[FPPGroupCode])-2)/(Table2[DepoName]=$C$2)/(IF($C$3<>\"\",Table2[BULAN]=$C$3,TRUE))/(IF($C$4<>\"\",Table2[OFF/ON]=$C$4,TRUE))/(IF($C$5<>\"\",Table2[Status]=$C$5,TRUE))/(IF($C$6<>\"\",Table2[FPPDate]=$C$6,TRUE))/(IF($C$7<>\"\",Table2[ProposalCode]=$C$7,TRUE)),ROW(D379))),\"\")","v":""},{"$f":"IFERROR(INDEX(Table2[PeriodeStart],_xlfn.AGGREGATE(15,6,(ROW(Table2[FPPGroupCode])-2)/(Table2[DepoName]=$C$2)/(IF($C$3<>\"\",Table2[BULAN]=$C$3,TRUE))/(IF($C$4<>\"\",Table2[OFF/ON]=$C$4,TRUE))/(IF($C$5<>\"\",Table2[Status]=$C$5,TRUE))/(IF($C$6<>\"\",Table2[FPPDate]=$C$6,TRUE))/(IF($C$7<>\"\",Table2[ProposalCode]=$C$7,TRUE)),ROW(E379))),\"\")","v":""},{"$f":"IFERROR(INDEX(Table2[PeriodeEnd],_xlfn.AGGREGATE(15,6,(ROW(Table2[FPPGroupCode])-2)/(Table2[DepoName]=$C$2)/(IF($C$3<>\"\",Table2[BULAN]=$C$3,TRUE))/(IF($C$4<>\"\",Table2[OFF/ON]=$C$4,TRUE))/(IF($C$5<>\"\",Table2[Status]=$C$5,TRUE))/(IF($C$6<>\"\",Table2[FPPDate]=$C$6,TRUE))/(IF($C$7<>\"\",Table2[ProposalCode]=$C$7,TRUE)),ROW(F379))),\"\")","v":""},{"$f":"IFERROR(INDEX(Table2[Amount_FPPDepo],_xlfn.AGGREGATE(15,6,(ROW(Table2[FPPGroupCode])-2)/(Table2[DepoName]=$C$2)/(IF($C$3<>\"\",Table2[BULAN]=$C$3,TRUE))/(IF($C$4<>\"\",Table2[OFF/ON]=$C$4,TRUE))/(IF($C$5<>\"\",Table2[Status]=$C$5,TRUE))/(IF($C$6<>\"\",Table2[FPPDate]=$C$6,TRUE))/(IF($C$7<>\"\",Table2[ProposalCode]=$C$7,TRUE)),ROW(G379))),\"\")","v":""},{"$f":"IFERROR(VLOOKUP($B387,SIP!$D$5776:$P$6032,12,0),0)","v":0},{"$f":"IFERROR(H387-I387,0)","v":0},{"$f":"IFERROR(VLOOKUP($B387,SIP!$D$5776:$P$6032,8,0),0)","v":0},{"$f":"IFERROR(INDEX(Table2[OFF/ON],_xlfn.AGGREGATE(15,6,(ROW(Table2[FPPGroupCode])-2)/(Table2[DepoName]=$C$2)/(IF($C$3<>\"\",Table2[BULAN]=$C$3,TRUE))/(IF($C$4<>\"\",Table2[OFF/ON]=$C$4,TRUE))/(IF($C$5<>\"\",Table2[Status]=$C$5,TRUE))/(IF($C$6<>\"\",Table2[FPPDate]=$C$6,TRUE))/(IF($C$7<>\"\",Table2[ProposalCode]=$C$7,TRUE)),ROW(K379))),\"\")","v":""}]
[{"$f":"IF(LEN($B388),ROW(A380),\"\")","v":""},{"$f":"IFERROR(INDEX(Table2[FPPGroupCode],_xlfn.AGGREGATE(15,6,(ROW(Table2[FPPGroupCode])-2)/(Table2[DepoName]=$C$2)/(IF($C$3<>\"\",Table2[BULAN]=$C$3,TRUE))/(IF($C$4<>\"\",Table2[OFF/ON]=$C$4,TRUE))/(IF($C$5<>\"\",Table2[Status]=$C$5,TRUE))/(IF($C$6<>\"\",Table2[FPPDate]=$C$6,TRUE))/(IF($C$7<>\"\",Table2[ProposalCode]=$C$7,TRUE)),ROW(A380))),\"\")","v":""},{"$f":"IFERROR(VLOOKUP($B388,SIP!$D$3:$Q$12237,14,0),0)","v":0},{"$f":"IFERROR(INDEX(Table2[Activity],_xlfn.AGGREGATE(15,6,(ROW(Table2[FPPGroupCode])-2)/(Table2[DepoName]=$C$2)/(IF($C$3<>\"\",Table2[BULAN]=$C$3,TRUE))/(IF($C$4<>\"\",Table2[OFF/ON]=$C$4,TRUE))/(IF($C$5<>\"\",Table2[Status]=$C$5,TRUE))/(IF($C$6<>\"\",Table2[]=$C$6,TRUE))/(IF($C$7<>\"\",Table2[ProposalCode]=$C$7,TRUE)),ROW(B380))),\"\")","v":""},{"$f":"IFERROR(INDEX(Table2[Location],_xlfn.AGGREGATE(15,6,(ROW(Table2[FPPGroupCode])-2)/(Table2[DepoName]=$C$2)/(IF($C$3<>\"\",Table2[BULAN]=$C$3,TRUE))/(IF($C$4<>\"\",Table2[OFF/ON]=$C$4,TRUE))/(IF($C$5<>\"\",Table2[Status]=$C$5,TRUE))/(IF($C$6<>\"\",Table2[FPPDate]=$C$6,TRUE))/(IF($C$7<>\"\",Table2[ProposalCode]=$C$7,TRUE)),ROW(D380))),\"\")","v":""},{"$f":"IFERROR(INDEX(Table2[PeriodeStart],_xlfn.AGGREGATE(15,6,(ROW(Table2[FPPGroupCode])-2)/(Table2[DepoName]=$C$2)/(IF($C$3<>\"\",Table2[BULAN]=$C$3,TRUE))/(IF($C$4<>\"\",Table2[OFF/ON]=$C$4,TRUE))/(IF($C$5<>\"\",Table2[Status]=$C$5,TRUE))/(IF($C$6<>\"\",Table2[FPPDate]=$C$6,TRUE))/(IF($C$7<>\"\",Table2[ProposalCode]=$C$7,TRUE)),ROW(E380))),\"\")","v":""},{"$f":"IFERROR(INDEX(Table2[PeriodeEnd],_xlfn.AGGREGATE(15,6,(ROW(Table2[FPPGroupCode])-2)/(Table2[DepoName]=$C$2)/(IF($C$3<>\"\",Table2[BULAN]=$C$3,TRUE))/(IF($C$4<>\"\",Table2[OFF/ON]=$C$4,TRUE))/(IF($C$5<>\"\",Table2[Status]=$C$5,TRUE))/(IF($C$6<>\"\",Table2[FPPDate]=$C$6,TRUE))/(IF($C$7<>\"\",Table2[ProposalCode]=$C$7,TRUE)),ROW(F380))),\"\")","v":""},{"$f":"IFERROR(INDEX(Table2[Amount_FPPDepo],_xlfn.AGGREGATE(15,6,(ROW(Table2[FPPGroupCode])-2)/(Table2[DepoName]=$C$2)/(IF($C$3<>\"\",Table2[BULAN]=$C$3,TRUE))/(IF($C$4<>\"\",Table2[OFF/ON]=$C$4,TRUE))/(IF($C$5<>\"\",Table2[Status]=$C$5,TRUE))/(IF($C$6<>\"\",Table2[FPPDate]=$C$6,TRUE))/(IF($C$7<>\"\",Table2[ProposalCode]=$C$7,TRUE)),ROW(G380))),\"\")","v":""},{"$f":"IFERROR(VLOOKUP($B388,SIP!$D$5776:$P$6032,12,0),0)","v":0},{"$f":"IFERROR(H388-I388,0)","v":0},{"$f":"IFERROR(VLOOKUP($B388,SIP!$D$5776:$P$6032,8,0),0)","v":0},{"$f":"IFERROR(INDEX(Table2[OFF/ON],_xlfn.AGGREGATE(15,6,(ROW(Table2[FPPGroupCode])-2)/(Table2[DepoName]=$C$2)/(IF($C$3<>\"\",Table2[BULAN]=$C$3,TRUE))/(IF($C$4<>\"\",Table2[OFF/ON]=$C$4,TRUE))/(IF($C$5<>\"\",Table2[Status]=$C$5,TRUE))/(IF($C$6<>\"\",Table2[FPPDate]=$C$6,TRUE))/(IF($C$7<>\"\",Table2[ProposalCode]=$C$7,TRUE)),ROW(K380))),\"\")","v":""}]
[{"$f":"IF(LEN($B389),ROW(A381),\"\")","v":""},{"$f":"IFERROR(INDEX(Table2[FPPGroupCode],_xlfn.AGGREGATE(15,6,(ROW(Table2[FPPGroupCode])-2)/(Table2[DepoName]=$C$2)/(IF($C$3<>\"\",Table2[BULAN]=$C$3,TRUE))/(IF($C$4<>\"\",Table2[OFF/ON]=$C$4,TRUE))/(IF($C$5<>\"\",Table2[Status]=$C$5,TRUE))/(IF($C$6<>\"\",Table2[FPPDate]=$C$6,TRUE))/(IF($C$7<>\"\",Table2[ProposalCode]=$C$7,TRUE)),ROW(A381))),\"\")","v":""},{"$f":"IFERROR(VLOOKUP($B389,SIP!$D$3:$Q$12237,14,0),0)","v":0},{"$f":"IFERROR(INDEX(Table2[Activity],_xlfn.AGGREGATE(15,6,(ROW(Table2[FPPGroupCode])-2)/(Table2[DepoName]=$C$2)/(IF($C$3<>\"\",Table2[BULAN]=$C$3,TRUE))/(IF($C$4<>\"\",Table2[OFF/ON]=$C$4,TRUE))/(IF($C$5<>\"\",Table2[Status]=$C$5,TRUE))/(IF($C$6<>\"\",Table2[]=$C$6,TRUE))/(IF($C$7<>\"\",Table2[ProposalCode]=$C$7,TRUE)),ROW(B381))),\"\")","v":""},{"$f":"IFERROR(INDEX(Table2[Location],_xlfn.AGGREGATE(15,6,(ROW(Table2[FPPGroupCode])-2)/(Table2[DepoName]=$C$2)/(IF($C$3<>\"\",Table2[BULAN]=$C$3,TRUE))/(IF($C$4<>\"\",Table2[OFF/ON]=$C$4,TRUE))/(IF($C$5<>\"\",Table2[Status]=$C$5,TRUE))/(IF($C$6<>\"\",Table2[FPPDate]=$C$6,TRUE))/(IF($C$7<>\"\",Table2[ProposalCode]=$C$7,TRUE)),ROW(D381))),\"\")","v":""},{"$f":"IFERROR(INDEX(Table2[PeriodeStart],_xlfn.AGGREGATE(15,6,(ROW(Table2[FPPGroupCode])-2)/(Table2[DepoName]=$C$2)/(IF($C$3<>\"\",Table2[BULAN]=$C$3,TRUE))/(IF($C$4<>\"\",Table2[OFF/ON]=$C$4,TRUE))/(IF($C$5<>\"\",Table2[Status]=$C$5,TRUE))/(IF($C$6<>\"\",Table2[FPPDate]=$C$6,TRUE))/(IF($C$7<>\"\",Table2[ProposalCode]=$C$7,TRUE)),ROW(E381))),\"\")","v":""},{"$f":"IFERROR(INDEX(Table2[PeriodeEnd],_xlfn.AGGREGATE(15,6,(ROW(Table2[FPPGroupCode])-2)/(Table2[DepoName]=$C$2)/(IF($C$3<>\"\",Table2[BULAN]=$C$3,TRUE))/(IF($C$4<>\"\",Table2[OFF/ON]=$C$4,TRUE))/(IF($C$5<>\"\",Table2[Status]=$C$5,TRUE))/(IF($C$6<>\"\",Table2[FPPDate]=$C$6,TRUE))/(IF($C$7<>\"\",Table2[ProposalCode]=$C$7,TRUE)),ROW(F381))),\"\")","v":""},{"$f":"IFERROR(INDEX(Table2[Amount_FPPDepo],_xlfn.AGGREGATE(15,6,(ROW(Table2[FPPGroupCode])-2)/(Table2[DepoName]=$C$2)/(IF($C$3<>\"\",Table2[BULAN]=$C$3,TRUE))/(IF($C$4<>\"\",Table2[OFF/ON]=$C$4,TRUE))/(IF($C$5<>\"\",Table2[Status]=$C$5,TRUE))/(IF($C$6<>\"\",Table2[FPPDate]=$C$6,TRUE))/(IF($C$7<>\"\",Table2[ProposalCode]=$C$7,TRUE)),ROW(G381))),\"\")","v":""},{"$f":"IFERROR(VLOOKUP($B389,SIP!$D$5776:$P$6032,12,0),0)","v":0},{"$f":"IFERROR(H389-I389,0)","v":0},{"$f":"IFERROR(VLOOKUP($B389,SIP!$D$5776:$P$6032,8,0),0)","v":0},{"$f":"IFERROR(INDEX(Table2[OFF/ON],_xlfn.AGGREGATE(15,6,(ROW(Table2[FPPGroupCode])-2)/(Table2[DepoName]=$C$2)/(IF($C$3<>\"\",Table2[BULAN]=$C$3,TRUE))/(IF($C$4<>\"\",Table2[OFF/ON]=$C$4,TRUE))/(IF($C$5<>\"\",Table2[Status]=$C$5,TRUE))/(IF($C$6<>\"\",Table2[FPPDate]=$C$6,TRUE))/(IF($C$7<>\"\",Table2[ProposalCode]=$C$7,TRUE)),ROW(K381))),\"\")","v":""}]
[{"$f":"IF(LEN($B390),ROW(A382),\"\")","v":""},{"$f":"IFERROR(INDEX(Table2[FPPGroupCode],_xlfn.AGGREGATE(15,6,(ROW(Table2[FPPGroupCode])-2)/(Table2[DepoName]=$C$2)/(IF($C$3<>\"\",Table2[BULAN]=$C$3,TRUE))/(IF($C$4<>\"\",Table2[OFF/ON]=$C$4,TRUE))/(IF($C$5<>\"\",Table2[Status]=$C$5,TRUE))/(IF($C$6<>\"\",Table2[FPPDate]=$C$6,TRUE))/(IF($C$7<>\"\",Table2[ProposalCode]=$C$7,TRUE)),ROW(A382))),\"\")","v":""},{"$f":"IFERROR(VLOOKUP($B390,SIP!$D$3:$Q$12237,14,0),0)","v":0},{"$f":"IFERROR(INDEX(Table2[Activity],_xlfn.AGGREGATE(15,6,(ROW(Table2[FPPGroupCode])-2)/(Table2[DepoName]=$C$2)/(IF($C$3<>\"\",Table2[BULAN]=$C$3,TRUE))/(IF($C$4<>\"\",Table2[OFF/ON]=$C$4,TRUE))/(IF($C$5<>\"\",Table2[Status]=$C$5,TRUE))/(IF($C$6<>\"\",Table2[]=$C$6,TRUE))/(IF($C$7<>\"\",Table2[ProposalCode]=$C$7,TRUE)),ROW(B382))),\"\")","v":""},{"$f":"IFERROR(INDEX(Table2[Location],_xlfn.AGGREGATE(15,6,(ROW(Table2[FPPGroupCode])-2)/(Table2[DepoName]=$C$2)/(IF($C$3<>\"\",Table2[BULAN]=$C$3,TRUE))/(IF($C$4<>\"\",Table2[OFF/ON]=$C$4,TRUE))/(IF($C$5<>\"\",Table2[Status]=$C$5,TRUE))/(IF($C$6<>\"\",Table2[FPPDate]=$C$6,TRUE))/(IF($C$7<>\"\",Table2[ProposalCode]=$C$7,TRUE)),ROW(D382))),\"\")","v":""},{"$f":"IFERROR(INDEX(Table2[PeriodeStart],_xlfn.AGGREGATE(15,6,(ROW(Table2[FPPGroupCode])-2)/(Table2[DepoName]=$C$2)/(IF($C$3<>\"\",Table2[BULAN]=$C$3,TRUE))/(IF($C$4<>\"\",Table2[OFF/ON]=$C$4,TRUE))/(IF($C$5<>\"\",Table2[Status]=$C$5,TRUE))/(IF($C$6<>\"\",Table2[FPPDate]=$C$6,TRUE))/(IF($C$7<>\"\",Table2[ProposalCode]=$C$7,TRUE)),ROW(E382))),\"\")","v":""},{"$f":"IFERROR(INDEX(Table2[PeriodeEnd],_xlfn.AGGREGATE(15,6,(ROW(Table2[FPPGroupCode])-2)/(Table2[DepoName]=$C$2)/(IF($C$3<>\"\",Table2[BULAN]=$C$3,TRUE))/(IF($C$4<>\"\",Table2[OFF/ON]=$C$4,TRUE))/(IF($C$5<>\"\",Table2[Status]=$C$5,TRUE))/(IF($C$6<>\"\",Table2[FPPDate]=$C$6,TRUE))/(IF($C$7<>\"\",Table2[ProposalCode]=$C$7,TRUE)),ROW(F382))),\"\")","v":""},{"$f":"IFERROR(INDEX(Table2[Amount_FPPDepo],_xlfn.AGGREGATE(15,6,(ROW(Table2[FPPGroupCode])-2)/(Table2[DepoName]=$C$2)/(IF($C$3<>\"\",Table2[BULAN]=$C$3,TRUE))/(IF($C$4<>\"\",Table2[OFF/ON]=$C$4,TRUE))/(IF($C$5<>\"\",Table2[Status]=$C$5,TRUE))/(IF($C$6<>\"\",Table2[FPPDate]=$C$6,TRUE))/(IF($C$7<>\"\",Table2[ProposalCode]=$C$7,TRUE)),ROW(G382))),\"\")","v":""},{"$f":"IFERROR(VLOOKUP($B390,SIP!$D$5776:$P$6032,12,0),0)","v":0},{"$f":"IFERROR(H390-I390,0)","v":0},{"$f":"IFERROR(VLOOKUP($B390,SIP!$D$5776:$P$6032,8,0),0)","v":0},{"$f":"IFERROR(INDEX(Table2[OFF/ON],_xlfn.AGGREGATE(15,6,(ROW(Table2[FPPGroupCode])-2)/(Table2[DepoName]=$C$2)/(IF($C$3<>\"\",Table2[BULAN]=$C$3,TRUE))/(IF($C$4<>\"\",Table2[OFF/ON]=$C$4,TRUE))/(IF($C$5<>\"\",Table2[Status]=$C$5,TRUE))/(IF($C$6<>\"\",Table2[FPPDate]=$C$6,TRUE))/(IF($C$7<>\"\",Table2[ProposalCode]=$C$7,TRUE)),ROW(K382))),\"\")","v":""}]
[{"$f":"IF(LEN($B391),ROW(A383),\"\")","v":""},{"$f":"IFERROR(INDEX(Table2[FPPGroupCode],_xlfn.AGGREGATE(15,6,(ROW(Table2[FPPGroupCode])-2)/(Table2[DepoName]=$C$2)/(IF($C$3<>\"\",Table2[BULAN]=$C$3,TRUE))/(IF($C$4<>\"\",Table2[OFF/ON]=$C$4,TRUE))/(IF($C$5<>\"\",Table2[Status]=$C$5,TRUE))/(IF($C$6<>\"\",Table2[FPPDate]=$C$6,TRUE))/(IF($C$7<>\"\",Table2[ProposalCode]=$C$7,TRUE)),ROW(A383))),\"\")","v":""},{"$f":"IFERROR(VLOOKUP($B391,SIP!$D$3:$Q$12237,14,0),0)","v":0},{"$f":"IFERROR(INDEX(Table2[Activity],_xlfn.AGGREGATE(15,6,(ROW(Table2[FPPGroupCode])-2)/(Table2[DepoName]=$C$2)/(IF($C$3<>\"\",Table2[BULAN]=$C$3,TRUE))/(IF($C$4<>\"\",Table2[OFF/ON]=$C$4,TRUE))/(IF($C$5<>\"\",Table2[Status]=$C$5,TRUE))/(IF($C$6<>\"\",Table2[]=$C$6,TRUE))/(IF($C$7<>\"\",Table2[ProposalCode]=$C$7,TRUE)),ROW(B383))),\"\")","v":""},{"$f":"IFERROR(INDEX(Table2[Location],_xlfn.AGGREGATE(15,6,(ROW(Table2[FPPGroupCode])-2)/(Table2[DepoName]=$C$2)/(IF($C$3<>\"\",Table2[BULAN]=$C$3,TRUE))/(IF($C$4<>\"\",Table2[OFF/ON]=$C$4,TRUE))/(IF($C$5<>\"\",Table2[Status]=$C$5,TRUE))/(IF($C$6<>\"\",Table2[FPPDate]=$C$6,TRUE))/(IF($C$7<>\"\",Table2[ProposalCode]=$C$7,TRUE)),ROW(D383))),\"\")","v":""},{"$f":"IFERROR(INDEX(Table2[PeriodeStart],_xlfn.AGGREGATE(15,6,(ROW(Table2[FPPGroupCode])-2)/(Table2[DepoName]=$C$2)/(IF($C$3<>\"\",Table2[BULAN]=$C$3,TRUE))/(IF($C$4<>\"\",Table2[OFF/ON]=$C$4,TRUE))/(IF($C$5<>\"\",Table2[Status]=$C$5,TRUE))/(IF($C$6<>\"\",Table2[FPPDate]=$C$6,TRUE))/(IF($C$7<>\"\",Table2[ProposalCode]=$C$7,TRUE)),ROW(E383))),\"\")","v":""},{"$f":"IFERROR(INDEX(Table2[PeriodeEnd],_xlfn.AGGREGATE(15,6,(ROW(Table2[FPPGroupCode])-2)/(Table2[DepoName]=$C$2)/(IF($C$3<>\"\",Table2[BULAN]=$C$3,TRUE))/(IF($C$4<>\"\",Table2[OFF/ON]=$C$4,TRUE))/(IF($C$5<>\"\",Table2[Status]=$C$5,TRUE))/(IF($C$6<>\"\",Table2[FPPDate]=$C$6,TRUE))/(IF($C$7<>\"\",Table2[ProposalCode]=$C$7,TRUE)),ROW(F383))),\"\")","v":""},{"$f":"IFERROR(INDEX(Table2[Amount_FPPDepo],_xlfn.AGGREGATE(15,6,(ROW(Table2[FPPGroupCode])-2)/(Table2[DepoName]=$C$2)/(IF($C$3<>\"\",Table2[BULAN]=$C$3,TRUE))/(IF($C$4<>\"\",Table2[OFF/ON]=$C$4,TRUE))/(IF($C$5<>\"\",Table2[Status]=$C$5,TRUE))/(IF($C$6<>\"\",Table2[FPPDate]=$C$6,TRUE))/(IF($C$7<>\"\",Table2[ProposalCode]=$C$7,TRUE)),ROW(G383))),\"\")","v":""},{"$f":"IFERROR(VLOOKUP($B391,SIP!$D$5776:$P$6032,12,0),0)","v":0},{"$f":"IFERROR(H391-I391,0)","v":0},{"$f":"IFERROR(VLOOKUP($B391,SIP!$D$5776:$P$6032,8,0),0)","v":0},{"$f":"IFERROR(INDEX(Table2[OFF/ON],_xlfn.AGGREGATE(15,6,(ROW(Table2[FPPGroupCode])-2)/(Table2[DepoName]=$C$2)/(IF($C$3<>\"\",Table2[BULAN]=$C$3,TRUE))/(IF($C$4<>\"\",Table2[OFF/ON]=$C$4,TRUE))/(IF($C$5<>\"\",Table2[Status]=$C$5,TRUE))/(IF($C$6<>\"\",Table2[FPPDate]=$C$6,TRUE))/(IF($C$7<>\"\",Table2[ProposalCode]=$C$7,TRUE)),ROW(K383))),\"\")","v":""}]
[{"$f":"IF(LEN($B392),ROW(A384),\"\")","v":""},{"$f":"IFERROR(INDEX(Table2[FPPGroupCode],_xlfn.AGGREGATE(15,6,(ROW(Table2[FPPGroupCode])-2)/(Table2[DepoName]=$C$2)/(IF($C$3<>\"\",Table2[BULAN]=$C$3,TRUE))/(IF($C$4<>\"\",Table2[OFF/ON]=$C$4,TRUE))/(IF($C$5<>\"\",Table2[Status]=$C$5,TRUE))/(IF($C$6<>\"\",Table2[FPPDate]=$C$6,TRUE))/(IF($C$7<>\"\",Table2[ProposalCode]=$C$7,TRUE)),ROW(A384))),\"\")","v":""},{"$f":"IFERROR(VLOOKUP($B392,SIP!$D$3:$Q$12237,14,0),0)","v":0},{"$f":"IFERROR(INDEX(Table2[Activity],_xlfn.AGGREGATE(15,6,(ROW(Table2[FPPGroupCode])-2)/(Table2[DepoName]=$C$2)/(IF($C$3<>\"\",Table2[BULAN]=$C$3,TRUE))/(IF($C$4<>\"\",Table2[OFF/ON]=$C$4,TRUE))/(IF($C$5<>\"\",Table2[Status]=$C$5,TRUE))/(IF($C$6<>\"\",Table2[]=$C$6,TRUE))/(IF($C$7<>\"\",Table2[ProposalCode]=$C$7,TRUE)),ROW(B384))),\"\")","v":""},{"$f":"IFERROR(INDEX(Table2[Location],_xlfn.AGGREGATE(15,6,(ROW(Table2[FPPGroupCode])-2)/(Table2[DepoName]=$C$2)/(IF($C$3<>\"\",Table2[BULAN]=$C$3,TRUE))/(IF($C$4<>\"\",Table2[OFF/ON]=$C$4,TRUE))/(IF($C$5<>\"\",Table2[Status]=$C$5,TRUE))/(IF($C$6<>\"\",Table2[FPPDate]=$C$6,TRUE))/(IF($C$7<>\"\",Table2[ProposalCode]=$C$7,TRUE)),ROW(D384))),\"\")","v":""},{"$f":"IFERROR(INDEX(Table2[PeriodeStart],_xlfn.AGGREGATE(15,6,(ROW(Table2[FPPGroupCode])-2)/(Table2[DepoName]=$C$2)/(IF($C$3<>\"\",Table2[BULAN]=$C$3,TRUE))/(IF($C$4<>\"\",Table2[OFF/ON]=$C$4,TRUE))/(IF($C$5<>\"\",Table2[Status]=$C$5,TRUE))/(IF($C$6<>\"\",Table2[FPPDate]=$C$6,TRUE))/(IF($C$7<>\"\",Table2[ProposalCode]=$C$7,TRUE)),ROW(E384))),\"\")","v":""},{"$f":"IFERROR(INDEX(Table2[PeriodeEnd],_xlfn.AGGREGATE(15,6,(ROW(Table2[FPPGroupCode])-2)/(Table2[DepoName]=$C$2)/(IF($C$3<>\"\",Table2[BULAN]=$C$3,TRUE))/(IF($C$4<>\"\",Table2[OFF/ON]=$C$4,TRUE))/(IF($C$5<>\"\",Table2[Status]=$C$5,TRUE))/(IF($C$6<>\"\",Table2[FPPDate]=$C$6,TRUE))/(IF($C$7<>\"\",Table2[ProposalCode]=$C$7,TRUE)),ROW(F384))),\"\")","v":""},{"$f":"IFERROR(INDEX(Table2[Amount_FPPDepo],_xlfn.AGGREGATE(15,6,(ROW(Table2[FPPGroupCode])-2)/(Table2[DepoName]=$C$2)/(IF($C$3<>\"\",Table2[BULAN]=$C$3,TRUE))/(IF($C$4<>\"\",Table2[OFF/ON]=$C$4,TRUE))/(IF($C$5<>\"\",Table2[Status]=$C$5,TRUE))/(IF($C$6<>\"\",Table2[FPPDate]=$C$6,TRUE))/(IF($C$7<>\"\",Table2[ProposalCode]=$C$7,TRUE)),ROW(G384))),\"\")","v":""},{"$f":"IFERROR(VLOOKUP($B392,SIP!$D$5776:$P$6032,12,0),0)","v":0},{"$f":"IFERROR(H392-I392,0)","v":0},{"$f":"IFERROR(VLOOKUP($B392,SIP!$D$5776:$P$6032,8,0),0)","v":0},{"$f":"IFERROR(INDEX(Table2[OFF/ON],_xlfn.AGGREGATE(15,6,(ROW(Table2[FPPGroupCode])-2)/(Table2[DepoName]=$C$2)/(IF($C$3<>\"\",Table2[BULAN]=$C$3,TRUE))/(IF($C$4<>\"\",Table2[OFF/ON]=$C$4,TRUE))/(IF($C$5<>\"\",Table2[Status]=$C$5,TRUE))/(IF($C$6<>\"\",Table2[FPPDate]=$C$6,TRUE))/(IF($C$7<>\"\",Table2[ProposalCode]=$C$7,TRUE)),ROW(K384))),\"\")","v":""}]
[{"$f":"IF(LEN($B393),ROW(A385),\"\")","v":""},{"$f":"IFERROR(INDEX(Table2[FPPGroupCode],_xlfn.AGGREGATE(15,6,(ROW(Table2[FPPGroupCode])-2)/(Table2[DepoName]=$C$2)/(IF($C$3<>\"\",Table2[BULAN]=$C$3,TRUE))/(IF($C$4<>\"\",Table2[OFF/ON]=$C$4,TRUE))/(IF($C$5<>\"\",Table2[Status]=$C$5,TRUE))/(IF($C$6<>\"\",Table2[FPPDate]=$C$6,TRUE))/(IF($C$7<>\"\",Table2[ProposalCode]=$C$7,TRUE)),ROW(A385))),\"\")","v":""},{"$f":"IFERROR(VLOOKUP($B393,SIP!$D$3:$Q$12237,14,0),0)","v":0},{"$f":"IFERROR(INDEX(Table2[Activity],_xlfn.AGGREGATE(15,6,(ROW(Table2[FPPGroupCode])-2)/(Table2[DepoName]=$C$2)/(IF($C$3<>\"\",Table2[BULAN]=$C$3,TRUE))/(IF($C$4<>\"\",Table2[OFF/ON]=$C$4,TRUE))/(IF($C$5<>\"\",Table2[Status]=$C$5,TRUE))/(IF($C$6<>\"\",Table2[]=$C$6,TRUE))/(IF($C$7<>\"\",Table2[ProposalCode]=$C$7,TRUE)),ROW(B385))),\"\")","v":""},{"$f":"IFERROR(INDEX(Table2[Location],_xlfn.AGGREGATE(15,6,(ROW(Table2[FPPGroupCode])-2)/(Table2[DepoName]=$C$2)/(IF($C$3<>\"\",Table2[BULAN]=$C$3,TRUE))/(IF($C$4<>\"\",Table2[OFF/ON]=$C$4,TRUE))/(IF($C$5<>\"\",Table2[Status]=$C$5,TRUE))/(IF($C$6<>\"\",Table2[FPPDate]=$C$6,TRUE))/(IF($C$7<>\"\",Table2[ProposalCode]=$C$7,TRUE)),ROW(D385))),\"\")","v":""},{"$f":"IFERROR(INDEX(Table2[PeriodeStart],_xlfn.AGGREGATE(15,6,(ROW(Table2[FPPGroupCode])-2)/(Table2[DepoName]=$C$2)/(IF($C$3<>\"\",Table2[BULAN]=$C$3,TRUE))/(IF($C$4<>\"\",Table2[OFF/ON]=$C$4,TRUE))/(IF($C$5<>\"\",Table2[Status]=$C$5,TRUE))/(IF($C$6<>\"\",Table2[FPPDate]=$C$6,TRUE))/(IF($C$7<>\"\",Table2[ProposalCode]=$C$7,TRUE)),ROW(E385))),\"\")","v":""},{"$f":"IFERROR(INDEX(Table2[PeriodeEnd],_xlfn.AGGREGATE(15,6,(ROW(Table2[FPPGroupCode])-2)/(Table2[DepoName]=$C$2)/(IF($C$3<>\"\",Table2[BULAN]=$C$3,TRUE))/(IF($C$4<>\"\",Table2[OFF/ON]=$C$4,TRUE))/(IF($C$5<>\"\",Table2[Status]=$C$5,TRUE))/(IF($C$6<>\"\",Table2[FPPDate]=$C$6,TRUE))/(IF($C$7<>\"\",Table2[ProposalCode]=$C$7,TRUE)),ROW(F385))),\"\")","v":""},{"$f":"IFERROR(INDEX(Table2[Amount_FPPDepo],_xlfn.AGGREGATE(15,6,(ROW(Table2[FPPGroupCode])-2)/(Table2[DepoName]=$C$2)/(IF($C$3<>\"\",Table2[BULAN]=$C$3,TRUE))/(IF($C$4<>\"\",Table2[OFF/ON]=$C$4,TRUE))/(IF($C$5<>\"\",Table2[Status]=$C$5,TRUE))/(IF($C$6<>\"\",Table2[FPPDate]=$C$6,TRUE))/(IF($C$7<>\"\",Table2[ProposalCode]=$C$7,TRUE)),ROW(G385))),\"\")","v":""},{"$f":"IFERROR(VLOOKUP($B393,SIP!$D$5776:$P$6032,12,0),0)","v":0},{"$f":"IFERROR(H393-I393,0)","v":0},{"$f":"IFERROR(VLOOKUP($B393,SIP!$D$5776:$P$6032,8,0),0)","v":0},{"$f":"IFERROR(INDEX(Table2[OFF/ON],_xlfn.AGGREGATE(15,6,(ROW(Table2[FPPGroupCode])-2)/(Table2[DepoName]=$C$2)/(IF($C$3<>\"\",Table2[BULAN]=$C$3,TRUE))/(IF($C$4<>\"\",Table2[OFF/ON]=$C$4,TRUE))/(IF($C$5<>\"\",Table2[Status]=$C$5,TRUE))/(IF($C$6<>\"\",Table2[FPPDate]=$C$6,TRUE))/(IF($C$7<>\"\",Table2[ProposalCode]=$C$7,TRUE)),ROW(K385))),\"\")","v":""}]
[{"$f":"IF(LEN($B394),ROW(A386),\"\")","v":""},{"$f":"IFERROR(INDEX(Table2[FPPGroupCode],_xlfn.AGGREGATE(15,6,(ROW(Table2[FPPGroupCode])-2)/(Table2[DepoName]=$C$2)/(IF($C$3<>\"\",Table2[BULAN]=$C$3,TRUE))/(IF($C$4<>\"\",Table2[OFF/ON]=$C$4,TRUE))/(IF($C$5<>\"\",Table2[Status]=$C$5,TRUE))/(IF($C$6<>\"\",Table2[FPPDate]=$C$6,TRUE))/(IF($C$7<>\"\",Table2[ProposalCode]=$C$7,TRUE)),ROW(A386))),\"\")","v":""},{"$f":"IFERROR(VLOOKUP($B394,SIP!$D$3:$Q$12237,14,0),0)","v":0},{"$f":"IFERROR(INDEX(Table2[Activity],_xlfn.AGGREGATE(15,6,(ROW(Table2[FPPGroupCode])-2)/(Table2[DepoName]=$C$2)/(IF($C$3<>\"\",Table2[BULAN]=$C$3,TRUE))/(IF($C$4<>\"\",Table2[OFF/ON]=$C$4,TRUE))/(IF($C$5<>\"\",Table2[Status]=$C$5,TRUE))/(IF($C$6<>\"\",Table2[]=$C$6,TRUE))/(IF($C$7<>\"\",Table2[ProposalCode]=$C$7,TRUE)),ROW(B386))),\"\")","v":""},{"$f":"IFERROR(INDEX(Table2[Location],_xlfn.AGGREGATE(15,6,(ROW(Table2[FPPGroupCode])-2)/(Table2[DepoName]=$C$2)/(IF($C$3<>\"\",Table2[BULAN]=$C$3,TRUE))/(IF($C$4<>\"\",Table2[OFF/ON]=$C$4,TRUE))/(IF($C$5<>\"\",Table2[Status]=$C$5,TRUE))/(IF($C$6<>\"\",Table2[FPPDate]=$C$6,TRUE))/(IF($C$7<>\"\",Table2[ProposalCode]=$C$7,TRUE)),ROW(D386))),\"\")","v":""},{"$f":"IFERROR(INDEX(Table2[PeriodeStart],_xlfn.AGGREGATE(15,6,(ROW(Table2[FPPGroupCode])-2)/(Table2[DepoName]=$C$2)/(IF($C$3<>\"\",Table2[BULAN]=$C$3,TRUE))/(IF($C$4<>\"\",Table2[OFF/ON]=$C$4,TRUE))/(IF($C$5<>\"\",Table2[Status]=$C$5,TRUE))/(IF($C$6<>\"\",Table2[FPPDate]=$C$6,TRUE))/(IF($C$7<>\"\",Table2[ProposalCode]=$C$7,TRUE)),ROW(E386))),\"\")","v":""},{"$f":"IFERROR(INDEX(Table2[PeriodeEnd],_xlfn.AGGREGATE(15,6,(ROW(Table2[FPPGroupCode])-2)/(Table2[DepoName]=$C$2)/(IF($C$3<>\"\",Table2[BULAN]=$C$3,TRUE))/(IF($C$4<>\"\",Table2[OFF/ON]=$C$4,TRUE))/(IF($C$5<>\"\",Table2[Status]=$C$5,TRUE))/(IF($C$6<>\"\",Table2[FPPDate]=$C$6,TRUE))/(IF($C$7<>\"\",Table2[ProposalCode]=$C$7,TRUE)),ROW(F386))),\"\")","v":""},{"$f":"IFERROR(INDEX(Table2[Amount_FPPDepo],_xlfn.AGGREGATE(15,6,(ROW(Table2[FPPGroupCode])-2)/(Table2[DepoName]=$C$2)/(IF($C$3<>\"\",Table2[BULAN]=$C$3,TRUE))/(IF($C$4<>\"\",Table2[OFF/ON]=$C$4,TRUE))/(IF($C$5<>\"\",Table2[Status]=$C$5,TRUE))/(IF($C$6<>\"\",Table2[FPPDate]=$C$6,TRUE))/(IF($C$7<>\"\",Table2[ProposalCode]=$C$7,TRUE)),ROW(G386))),\"\")","v":""},{"$f":"IFERROR(VLOOKUP($B394,SIP!$D$5776:$P$6032,12,0),0)","v":0},{"$f":"IFERROR(H394-I394,0)","v":0},{"$f":"IFERROR(VLOOKUP($B394,SIP!$D$5776:$P$6032,8,0),0)","v":0},{"$f":"IFERROR(INDEX(Table2[OFF/ON],_xlfn.AGGREGATE(15,6,(ROW(Table2[FPPGroupCode])-2)/(Table2[DepoName]=$C$2)/(IF($C$3<>\"\",Table2[BULAN]=$C$3,TRUE))/(IF($C$4<>\"\",Table2[OFF/ON]=$C$4,TRUE))/(IF($C$5<>\"\",Table2[Status]=$C$5,TRUE))/(IF($C$6<>\"\",Table2[FPPDate]=$C$6,TRUE))/(IF($C$7<>\"\",Table2[ProposalCode]=$C$7,TRUE)),ROW(K386))),\"\")","v":""}]
[{"$f":"IF(LEN($B395),ROW(A387),\"\")","v":""},{"$f":"IFERROR(INDEX(Table2[FPPGroupCode],_xlfn.AGGREGATE(15,6,(ROW(Table2[FPPGroupCode])-2)/(Table2[DepoName]=$C$2)/(IF($C$3<>\"\",Table2[BULAN]=$C$3,TRUE))/(IF($C$4<>\"\",Table2[OFF/ON]=$C$4,TRUE))/(IF($C$5<>\"\",Table2[Status]=$C$5,TRUE))/(IF($C$6<>\"\",Table2[FPPDate]=$C$6,TRUE))/(IF($C$7<>\"\",Table2[ProposalCode]=$C$7,TRUE)),ROW(A387))),\"\")","v":""},{"$f":"IFERROR(VLOOKUP($B395,SIP!$D$3:$Q$12237,14,0),0)","v":0},{"$f":"IFERROR(INDEX(Table2[Activity],_xlfn.AGGREGATE(15,6,(ROW(Table2[FPPGroupCode])-2)/(Table2[DepoName]=$C$2)/(IF($C$3<>\"\",Table2[BULAN]=$C$3,TRUE))/(IF($C$4<>\"\",Table2[OFF/ON]=$C$4,TRUE))/(IF($C$5<>\"\",Table2[Status]=$C$5,TRUE))/(IF($C$6<>\"\",Table2[]=$C$6,TRUE))/(IF($C$7<>\"\",Table2[ProposalCode]=$C$7,TRUE)),ROW(B387))),\"\")","v":""},{"$f":"IFERROR(INDEX(Table2[Location],_xlfn.AGGREGATE(15,6,(ROW(Table2[FPPGroupCode])-2)/(Table2[DepoName]=$C$2)/(IF($C$3<>\"\",Table2[BULAN]=$C$3,TRUE))/(IF($C$4<>\"\",Table2[OFF/ON]=$C$4,TRUE))/(IF($C$5<>\"\",Table2[Status]=$C$5,TRUE))/(IF($C$6<>\"\",Table2[FPPDate]=$C$6,TRUE))/(IF($C$7<>\"\",Table2[ProposalCode]=$C$7,TRUE)),ROW(D387))),\"\")","v":""},{"$f":"IFERROR(INDEX(Table2[PeriodeStart],_xlfn.AGGREGATE(15,6,(ROW(Table2[FPPGroupCode])-2)/(Table2[DepoName]=$C$2)/(IF($C$3<>\"\",Table2[BULAN]=$C$3,TRUE))/(IF($C$4<>\"\",Table2[OFF/ON]=$C$4,TRUE))/(IF($C$5<>\"\",Table2[Status]=$C$5,TRUE))/(IF($C$6<>\"\",Table2[FPPDate]=$C$6,TRUE))/(IF($C$7<>\"\",Table2[ProposalCode]=$C$7,TRUE)),ROW(E387))),\"\")","v":""},{"$f":"IFERROR(INDEX(Table2[PeriodeEnd],_xlfn.AGGREGATE(15,6,(ROW(Table2[FPPGroupCode])-2)/(Table2[DepoName]=$C$2)/(IF($C$3<>\"\",Table2[BULAN]=$C$3,TRUE))/(IF($C$4<>\"\",Table2[OFF/ON]=$C$4,TRUE))/(IF($C$5<>\"\",Table2[Status]=$C$5,TRUE))/(IF($C$6<>\"\",Table2[FPPDate]=$C$6,TRUE))/(IF($C$7<>\"\",Table2[ProposalCode]=$C$7,TRUE)),ROW(F387))),\"\")","v":""},{"$f":"IFERROR(INDEX(Table2[Amount_FPPDepo],_xlfn.AGGREGATE(15,6,(ROW(Table2[FPPGroupCode])-2)/(Table2[DepoName]=$C$2)/(IF($C$3<>\"\",Table2[BULAN]=$C$3,TRUE))/(IF($C$4<>\"\",Table2[OFF/ON]=$C$4,TRUE))/(IF($C$5<>\"\",Table2[Status]=$C$5,TRUE))/(IF($C$6<>\"\",Table2[FPPDate]=$C$6,TRUE))/(IF($C$7<>\"\",Table2[ProposalCode]=$C$7,TRUE)),ROW(G387))),\"\")","v":""},{"$f":"IFERROR(VLOOKUP($B395,SIP!$D$5776:$P$6032,12,0),0)","v":0},{"$f":"IFERROR(H395-I395,0)","v":0},{"$f":"IFERROR(VLOOKUP($B395,SIP!$D$5776:$P$6032,8,0),0)","v":0},{"$f":"IFERROR(INDEX(Table2[OFF/ON],_xlfn.AGGREGATE(15,6,(ROW(Table2[FPPGroupCode])-2)/(Table2[DepoName]=$C$2)/(IF($C$3<>\"\",Table2[BULAN]=$C$3,TRUE))/(IF($C$4<>\"\",Table2[OFF/ON]=$C$4,TRUE))/(IF($C$5<>\"\",Table2[Status]=$C$5,TRUE))/(IF($C$6<>\"\",Table2[FPPDate]=$C$6,TRUE))/(IF($C$7<>\"\",Table2[ProposalCode]=$C$7,TRUE)),ROW(K387))),\"\")","v":""}]
[{"$f":"IF(LEN($B396),ROW(A388),\"\")","v":""},{"$f":"IFERROR(INDEX(Table2[FPPGroupCode],_xlfn.AGGREGATE(15,6,(ROW(Table2[FPPGroupCode])-2)/(Table2[DepoName]=$C$2)/(IF($C$3<>\"\",Table2[BULAN]=$C$3,TRUE))/(IF($C$4<>\"\",Table2[OFF/ON]=$C$4,TRUE))/(IF($C$5<>\"\",Table2[Status]=$C$5,TRUE))/(IF($C$6<>\"\",Table2[FPPDate]=$C$6,TRUE))/(IF($C$7<>\"\",Table2[ProposalCode]=$C$7,TRUE)),ROW(A388))),\"\")","v":""},{"$f":"IFERROR(VLOOKUP($B396,SIP!$D$3:$Q$12237,14,0),0)","v":0},{"$f":"IFERROR(INDEX(Table2[Activity],_xlfn.AGGREGATE(15,6,(ROW(Table2[FPPGroupCode])-2)/(Table2[DepoName]=$C$2)/(IF($C$3<>\"\",Table2[BULAN]=$C$3,TRUE))/(IF($C$4<>\"\",Table2[OFF/ON]=$C$4,TRUE))/(IF($C$5<>\"\",Table2[Status]=$C$5,TRUE))/(IF($C$6<>\"\",Table2[]=$C$6,TRUE))/(IF($C$7<>\"\",Table2[ProposalCode]=$C$7,TRUE)),ROW(B388))),\"\")","v":""},{"$f":"IFERROR(INDEX(Table2[Location],_xlfn.AGGREGATE(15,6,(ROW(Table2[FPPGroupCode])-2)/(Table2[DepoName]=$C$2)/(IF($C$3<>\"\",Table2[BULAN]=$C$3,TRUE))/(IF($C$4<>\"\",Table2[OFF/ON]=$C$4,TRUE))/(IF($C$5<>\"\",Table2[Status]=$C$5,TRUE))/(IF($C$6<>\"\",Table2[FPPDate]=$C$6,TRUE))/(IF($C$7<>\"\",Table2[ProposalCode]=$C$7,TRUE)),ROW(D388))),\"\")","v":""},{"$f":"IFERROR(INDEX(Table2[PeriodeStart],_xlfn.AGGREGATE(15,6,(ROW(Table2[FPPGroupCode])-2)/(Table2[DepoName]=$C$2)/(IF($C$3<>\"\",Table2[BULAN]=$C$3,TRUE))/(IF($C$4<>\"\",Table2[OFF/ON]=$C$4,TRUE))/(IF($C$5<>\"\",Table2[Status]=$C$5,TRUE))/(IF($C$6<>\"\",Table2[FPPDate]=$C$6,TRUE))/(IF($C$7<>\"\",Table2[ProposalCode]=$C$7,TRUE)),ROW(E388))),\"\")","v":""},{"$f":"IFERROR(INDEX(Table2[PeriodeEnd],_xlfn.AGGREGATE(15,6,(ROW(Table2[FPPGroupCode])-2)/(Table2[DepoName]=$C$2)/(IF($C$3<>\"\",Table2[BULAN]=$C$3,TRUE))/(IF($C$4<>\"\",Table2[OFF/ON]=$C$4,TRUE))/(IF($C$5<>\"\",Table2[Status]=$C$5,TRUE))/(IF($C$6<>\"\",Table2[FPPDate]=$C$6,TRUE))/(IF($C$7<>\"\",Table2[ProposalCode]=$C$7,TRUE)),ROW(F388))),\"\")","v":""},{"$f":"IFERROR(INDEX(Table2[Amount_FPPDepo],_xlfn.AGGREGATE(15,6,(ROW(Table2[FPPGroupCode])-2)/(Table2[DepoName]=$C$2)/(IF($C$3<>\"\",Table2[BULAN]=$C$3,TRUE))/(IF($C$4<>\"\",Table2[OFF/ON]=$C$4,TRUE))/(IF($C$5<>\"\",Table2[Status]=$C$5,TRUE))/(IF($C$6<>\"\",Table2[FPPDate]=$C$6,TRUE))/(IF($C$7<>\"\",Table2[ProposalCode]=$C$7,TRUE)),ROW(G388))),\"\")","v":""},{"$f":"IFERROR(VLOOKUP($B396,SIP!$D$5776:$P$6032,12,0),0)","v":0},{"$f":"IFERROR(H396-I396,0)","v":0},{"$f":"IFERROR(VLOOKUP($B396,SIP!$D$5776:$P$6032,8,0),0)","v":0},{"$f":"IFERROR(INDEX(Table2[OFF/ON],_xlfn.AGGREGATE(15,6,(ROW(Table2[FPPGroupCode])-2)/(Table2[DepoName]=$C$2)/(IF($C$3<>\"\",Table2[BULAN]=$C$3,TRUE))/(IF($C$4<>\"\",Table2[OFF/ON]=$C$4,TRUE))/(IF($C$5<>\"\",Table2[Status]=$C$5,TRUE))/(IF($C$6<>\"\",Table2[FPPDate]=$C$6,TRUE))/(IF($C$7<>\"\",Table2[ProposalCode]=$C$7,TRUE)),ROW(K388))),\"\")","v":""}]
[{"$f":"IF(LEN($B397),ROW(A389),\"\")","v":""},{"$f":"IFERROR(INDEX(Table2[FPPGroupCode],_xlfn.AGGREGATE(15,6,(ROW(Table2[FPPGroupCode])-2)/(Table2[DepoName]=$C$2)/(IF($C$3<>\"\",Table2[BULAN]=$C$3,TRUE))/(IF($C$4<>\"\",Table2[OFF/ON]=$C$4,TRUE))/(IF($C$5<>\"\",Table2[Status]=$C$5,TRUE))/(IF($C$6<>\"\",Table2[FPPDate]=$C$6,TRUE))/(IF($C$7<>\"\",Table2[ProposalCode]=$C$7,TRUE)),ROW(A389))),\"\")","v":""},{"$f":"IFERROR(VLOOKUP($B397,SIP!$D$3:$Q$12237,14,0),0)","v":0},{"$f":"IFERROR(INDEX(Table2[Activity],_xlfn.AGGREGATE(15,6,(ROW(Table2[FPPGroupCode])-2)/(Table2[DepoName]=$C$2)/(IF($C$3<>\"\",Table2[BULAN]=$C$3,TRUE))/(IF($C$4<>\"\",Table2[OFF/ON]=$C$4,TRUE))/(IF($C$5<>\"\",Table2[Status]=$C$5,TRUE))/(IF($C$6<>\"\",Table2[]=$C$6,TRUE))/(IF($C$7<>\"\",Table2[ProposalCode]=$C$7,TRUE)),ROW(B389))),\"\")","v":""},{"$f":"IFERROR(INDEX(Table2[Location],_xlfn.AGGREGATE(15,6,(ROW(Table2[FPPGroupCode])-2)/(Table2[DepoName]=$C$2)/(IF($C$3<>\"\",Table2[BULAN]=$C$3,TRUE))/(IF($C$4<>\"\",Table2[OFF/ON]=$C$4,TRUE))/(IF($C$5<>\"\",Table2[Status]=$C$5,TRUE))/(IF($C$6<>\"\",Table2[FPPDate]=$C$6,TRUE))/(IF($C$7<>\"\",Table2[ProposalCode]=$C$7,TRUE)),ROW(D389))),\"\")","v":""},{"$f":"IFERROR(INDEX(Table2[PeriodeStart],_xlfn.AGGREGATE(15,6,(ROW(Table2[FPPGroupCode])-2)/(Table2[DepoName]=$C$2)/(IF($C$3<>\"\",Table2[BULAN]=$C$3,TRUE))/(IF($C$4<>\"\",Table2[OFF/ON]=$C$4,TRUE))/(IF($C$5<>\"\",Table2[Status]=$C$5,TRUE))/(IF($C$6<>\"\",Table2[FPPDate]=$C$6,TRUE))/(IF($C$7<>\"\",Table2[ProposalCode]=$C$7,TRUE)),ROW(E389))),\"\")","v":""},{"$f":"IFERROR(INDEX(Table2[PeriodeEnd],_xlfn.AGGREGATE(15,6,(ROW(Table2[FPPGroupCode])-2)/(Table2[DepoName]=$C$2)/(IF($C$3<>\"\",Table2[BULAN]=$C$3,TRUE))/(IF($C$4<>\"\",Table2[OFF/ON]=$C$4,TRUE))/(IF($C$5<>\"\",Table2[Status]=$C$5,TRUE))/(IF($C$6<>\"\",Table2[FPPDate]=$C$6,TRUE))/(IF($C$7<>\"\",Table2[ProposalCode]=$C$7,TRUE)),ROW(F389))),\"\")","v":""},{"$f":"IFERROR(INDEX(Table2[Amount_FPPDepo],_xlfn.AGGREGATE(15,6,(ROW(Table2[FPPGroupCode])-2)/(Table2[DepoName]=$C$2)/(IF($C$3<>\"\",Table2[BULAN]=$C$3,TRUE))/(IF($C$4<>\"\",Table2[OFF/ON]=$C$4,TRUE))/(IF($C$5<>\"\",Table2[Status]=$C$5,TRUE))/(IF($C$6<>\"\",Table2[FPPDate]=$C$6,TRUE))/(IF($C$7<>\"\",Table2[ProposalCode]=$C$7,TRUE)),ROW(G389))),\"\")","v":""},{"$f":"IFERROR(VLOOKUP($B397,SIP!$D$5776:$P$6032,12,0),0)","v":0},{"$f":"IFERROR(H397-I397,0)","v":0},{"$f":"IFERROR(VLOOKUP($B397,SIP!$D$5776:$P$6032,8,0),0)","v":0},{"$f":"IFERROR(INDEX(Table2[OFF/ON],_xlfn.AGGREGATE(15,6,(ROW(Table2[FPPGroupCode])-2)/(Table2[DepoName]=$C$2)/(IF($C$3<>\"\",Table2[BULAN]=$C$3,TRUE))/(IF($C$4<>\"\",Table2[OFF/ON]=$C$4,TRUE))/(IF($C$5<>\"\",Table2[Status]=$C$5,TRUE))/(IF($C$6<>\"\",Table2[FPPDate]=$C$6,TRUE))/(IF($C$7<>\"\",Table2[ProposalCode]=$C$7,TRUE)),ROW(K389))),\"\")","v":""}]
[{"$f":"IF(LEN($B398),ROW(A390),\"\")","v":""},{"$f":"IFERROR(INDEX(Table2[FPPGroupCode],_xlfn.AGGREGATE(15,6,(ROW(Table2[FPPGroupCode])-2)/(Table2[DepoName]=$C$2)/(IF($C$3<>\"\",Table2[BULAN]=$C$3,TRUE))/(IF($C$4<>\"\",Table2[OFF/ON]=$C$4,TRUE))/(IF($C$5<>\"\",Table2[Status]=$C$5,TRUE))/(IF($C$6<>\"\",Table2[FPPDate]=$C$6,TRUE))/(IF($C$7<>\"\",Table2[ProposalCode]=$C$7,TRUE)),ROW(A390))),\"\")","v":""},{"$f":"IFERROR(VLOOKUP($B398,SIP!$D$3:$Q$12237,14,0),0)","v":0},{"$f":"IFERROR(INDEX(Table2[Activity],_xlfn.AGGREGATE(15,6,(ROW(Table2[FPPGroupCode])-2)/(Table2[DepoName]=$C$2)/(IF($C$3<>\"\",Table2[BULAN]=$C$3,TRUE))/(IF($C$4<>\"\",Table2[OFF/ON]=$C$4,TRUE))/(IF($C$5<>\"\",Table2[Status]=$C$5,TRUE))/(IF($C$6<>\"\",Table2[]=$C$6,TRUE))/(IF($C$7<>\"\",Table2[ProposalCode]=$C$7,TRUE)),ROW(B390))),\"\")","v":""},{"$f":"IFERROR(INDEX(Table2[Location],_xlfn.AGGREGATE(15,6,(ROW(Table2[FPPGroupCode])-2)/(Table2[DepoName]=$C$2)/(IF($C$3<>\"\",Table2[BULAN]=$C$3,TRUE))/(IF($C$4<>\"\",Table2[OFF/ON]=$C$4,TRUE))/(IF($C$5<>\"\",Table2[Status]=$C$5,TRUE))/(IF($C$6<>\"\",Table2[FPPDate]=$C$6,TRUE))/(IF($C$7<>\"\",Table2[ProposalCode]=$C$7,TRUE)),ROW(D390))),\"\")","v":""},{"$f":"IFERROR(INDEX(Table2[PeriodeStart],_xlfn.AGGREGATE(15,6,(ROW(Table2[FPPGroupCode])-2)/(Table2[DepoName]=$C$2)/(IF($C$3<>\"\",Table2[BULAN]=$C$3,TRUE))/(IF($C$4<>\"\",Table2[OFF/ON]=$C$4,TRUE))/(IF($C$5<>\"\",Table2[Status]=$C$5,TRUE))/(IF($C$6<>\"\",Table2[FPPDate]=$C$6,TRUE))/(IF($C$7<>\"\",Table2[ProposalCode]=$C$7,TRUE)),ROW(E390))),\"\")","v":""},{"$f":"IFERROR(INDEX(Table2[PeriodeEnd],_xlfn.AGGREGATE(15,6,(ROW(Table2[FPPGroupCode])-2)/(Table2[DepoName]=$C$2)/(IF($C$3<>\"\",Table2[BULAN]=$C$3,TRUE))/(IF($C$4<>\"\",Table2[OFF/ON]=$C$4,TRUE))/(IF($C$5<>\"\",Table2[Status]=$C$5,TRUE))/(IF($C$6<>\"\",Table2[FPPDate]=$C$6,TRUE))/(IF($C$7<>\"\",Table2[ProposalCode]=$C$7,TRUE)),ROW(F390))),\"\")","v":""},{"$f":"IFERROR(INDEX(Table2[Amount_FPPDepo],_xlfn.AGGREGATE(15,6,(ROW(Table2[FPPGroupCode])-2)/(Table2[DepoName]=$C$2)/(IF($C$3<>\"\",Table2[BULAN]=$C$3,TRUE))/(IF($C$4<>\"\",Table2[OFF/ON]=$C$4,TRUE))/(IF($C$5<>\"\",Table2[Status]=$C$5,TRUE))/(IF($C$6<>\"\",Table2[FPPDate]=$C$6,TRUE))/(IF($C$7<>\"\",Table2[ProposalCode]=$C$7,TRUE)),ROW(G390))),\"\")","v":""},{"$f":"IFERROR(VLOOKUP($B398,SIP!$D$5776:$P$6032,12,0),0)","v":0},{"$f":"IFERROR(H398-I398,0)","v":0},{"$f":"IFERROR(VLOOKUP($B398,SIP!$D$5776:$P$6032,8,0),0)","v":0},{"$f":"IFERROR(INDEX(Table2[OFF/ON],_xlfn.AGGREGATE(15,6,(ROW(Table2[FPPGroupCode])-2)/(Table2[DepoName]=$C$2)/(IF($C$3<>\"\",Table2[BULAN]=$C$3,TRUE))/(IF($C$4<>\"\",Table2[OFF/ON]=$C$4,TRUE))/(IF($C$5<>\"\",Table2[Status]=$C$5,TRUE))/(IF($C$6<>\"\",Table2[FPPDate]=$C$6,TRUE))/(IF($C$7<>\"\",Table2[ProposalCode]=$C$7,TRUE)),ROW(K390))),\"\")","v":""}]
[{"$f":"IF(LEN($B399),ROW(A391),\"\")","v":""},{"$f":"IFERROR(INDEX(Table2[FPPGroupCode],_xlfn.AGGREGATE(15,6,(ROW(Table2[FPPGroupCode])-2)/(Table2[DepoName]=$C$2)/(IF($C$3<>\"\",Table2[BULAN]=$C$3,TRUE))/(IF($C$4<>\"\",Table2[OFF/ON]=$C$4,TRUE))/(IF($C$5<>\"\",Table2[Status]=$C$5,TRUE))/(IF($C$6<>\"\",Table2[FPPDate]=$C$6,TRUE))/(IF($C$7<>\"\",Table2[ProposalCode]=$C$7,TRUE)),ROW(A391))),\"\")","v":""},{"$f":"IFERROR(VLOOKUP($B399,SIP!$D$3:$Q$12237,14,0),0)","v":0},{"$f":"IFERROR(INDEX(Table2[Activity],_xlfn.AGGREGATE(15,6,(ROW(Table2[FPPGroupCode])-2)/(Table2[DepoName]=$C$2)/(IF($C$3<>\"\",Table2[BULAN]=$C$3,TRUE))/(IF($C$4<>\"\",Table2[OFF/ON]=$C$4,TRUE))/(IF($C$5<>\"\",Table2[Status]=$C$5,TRUE))/(IF($C$6<>\"\",Table2[]=$C$6,TRUE))/(IF($C$7<>\"\",Table2[ProposalCode]=$C$7,TRUE)),ROW(B391))),\"\")","v":""},{"$f":"IFERROR(INDEX(Table2[Location],_xlfn.AGGREGATE(15,6,(ROW(Table2[FPPGroupCode])-2)/(Table2[DepoName]=$C$2)/(IF($C$3<>\"\",Table2[BULAN]=$C$3,TRUE))/(IF($C$4<>\"\",Table2[OFF/ON]=$C$4,TRUE))/(IF($C$5<>\"\",Table2[Status]=$C$5,TRUE))/(IF($C$6<>\"\",Table2[FPPDate]=$C$6,TRUE))/(IF($C$7<>\"\",Table2[ProposalCode]=$C$7,TRUE)),ROW(D391))),\"\")","v":""},{"$f":"IFERROR(INDEX(Table2[PeriodeStart],_xlfn.AGGREGATE(15,6,(ROW(Table2[FPPGroupCode])-2)/(Table2[DepoName]=$C$2)/(IF($C$3<>\"\",Table2[BULAN]=$C$3,TRUE))/(IF($C$4<>\"\",Table2[OFF/ON]=$C$4,TRUE))/(IF($C$5<>\"\",Table2[Status]=$C$5,TRUE))/(IF($C$6<>\"\",Table2[FPPDate]=$C$6,TRUE))/(IF($C$7<>\"\",Table2[ProposalCode]=$C$7,TRUE)),ROW(E391))),\"\")","v":""},{"$f":"IFERROR(INDEX(Table2[PeriodeEnd],_xlfn.AGGREGATE(15,6,(ROW(Table2[FPPGroupCode])-2)/(Table2[DepoName]=$C$2)/(IF($C$3<>\"\",Table2[BULAN]=$C$3,TRUE))/(IF($C$4<>\"\",Table2[OFF/ON]=$C$4,TRUE))/(IF($C$5<>\"\",Table2[Status]=$C$5,TRUE))/(IF($C$6<>\"\",Table2[FPPDate]=$C$6,TRUE))/(IF($C$7<>\"\",Table2[ProposalCode]=$C$7,TRUE)),ROW(F391))),\"\")","v":""},{"$f":"IFERROR(INDEX(Table2[Amount_FPPDepo],_xlfn.AGGREGATE(15,6,(ROW(Table2[FPPGroupCode])-2)/(Table2[DepoName]=$C$2)/(IF($C$3<>\"\",Table2[BULAN]=$C$3,TRUE))/(IF($C$4<>\"\",Table2[OFF/ON]=$C$4,TRUE))/(IF($C$5<>\"\",Table2[Status]=$C$5,TRUE))/(IF($C$6<>\"\",Table2[FPPDate]=$C$6,TRUE))/(IF($C$7<>\"\",Table2[ProposalCode]=$C$7,TRUE)),ROW(G391))),\"\")","v":""},{"$f":"IFERROR(VLOOKUP($B399,SIP!$D$5776:$P$6032,12,0),0)","v":0},{"$f":"IFERROR(H399-I399,0)","v":0},{"$f":"IFERROR(VLOOKUP($B399,SIP!$D$5776:$P$6032,8,0),0)","v":0},{"$f":"IFERROR(INDEX(Table2[OFF/ON],_xlfn.AGGREGATE(15,6,(ROW(Table2[FPPGroupCode])-2)/(Table2[DepoName]=$C$2)/(IF($C$3<>\"\",Table2[BULAN]=$C$3,TRUE))/(IF($C$4<>\"\",Table2[OFF/ON]=$C$4,TRUE))/(IF($C$5<>\"\",Table2[Status]=$C$5,TRUE))/(IF($C$6<>\"\",Table2[FPPDate]=$C$6,TRUE))/(IF($C$7<>\"\",Table2[ProposalCode]=$C$7,TRUE)),ROW(K391))),\"\")","v":""}]
[{"$f":"IF(LEN($B400),ROW(A392),\"\")","v":""},{"$f":"IFERROR(INDEX(Table2[FPPGroupCode],_xlfn.AGGREGATE(15,6,(ROW(Table2[FPPGroupCode])-2)/(Table2[DepoName]=$C$2)/(IF($C$3<>\"\",Table2[BULAN]=$C$3,TRUE))/(IF($C$4<>\"\",Table2[OFF/ON]=$C$4,TRUE))/(IF($C$5<>\"\",Table2[Status]=$C$5,TRUE))/(IF($C$6<>\"\",Table2[FPPDate]=$C$6,TRUE))/(IF($C$7<>\"\",Table2[ProposalCode]=$C$7,TRUE)),ROW(A392))),\"\")","v":""},{"$f":"IFERROR(VLOOKUP($B400,SIP!$D$3:$Q$12237,14,0),0)","v":0},{"$f":"IFERROR(INDEX(Table2[Activity],_xlfn.AGGREGATE(15,6,(ROW(Table2[FPPGroupCode])-2)/(Table2[DepoName]=$C$2)/(IF($C$3<>\"\",Table2[BULAN]=$C$3,TRUE))/(IF($C$4<>\"\",Table2[OFF/ON]=$C$4,TRUE))/(IF($C$5<>\"\",Table2[Status]=$C$5,TRUE))/(IF($C$6<>\"\",Table2[]=$C$6,TRUE))/(IF($C$7<>\"\",Table2[ProposalCode]=$C$7,TRUE)),ROW(B392))),\"\")","v":""},{"$f":"IFERROR(INDEX(Table2[Location],_xlfn.AGGREGATE(15,6,(ROW(Table2[FPPGroupCode])-2)/(Table2[DepoName]=$C$2)/(IF($C$3<>\"\",Table2[BULAN]=$C$3,TRUE))/(IF($C$4<>\"\",Table2[OFF/ON]=$C$4,TRUE))/(IF($C$5<>\"\",Table2[Status]=$C$5,TRUE))/(IF($C$6<>\"\",Table2[FPPDate]=$C$6,TRUE))/(IF($C$7<>\"\",Table2[ProposalCode]=$C$7,TRUE)),ROW(D392))),\"\")","v":""},{"$f":"IFERROR(INDEX(Table2[PeriodeStart],_xlfn.AGGREGATE(15,6,(ROW(Table2[FPPGroupCode])-2)/(Table2[DepoName]=$C$2)/(IF($C$3<>\"\",Table2[BULAN]=$C$3,TRUE))/(IF($C$4<>\"\",Table2[OFF/ON]=$C$4,TRUE))/(IF($C$5<>\"\",Table2[Status]=$C$5,TRUE))/(IF($C$6<>\"\",Table2[FPPDate]=$C$6,TRUE))/(IF($C$7<>\"\",Table2[ProposalCode]=$C$7,TRUE)),ROW(E392))),\"\")","v":""},{"$f":"IFERROR(INDEX(Table2[PeriodeEnd],_xlfn.AGGREGATE(15,6,(ROW(Table2[FPPGroupCode])-2)/(Table2[DepoName]=$C$2)/(IF($C$3<>\"\",Table2[BULAN]=$C$3,TRUE))/(IF($C$4<>\"\",Table2[OFF/ON]=$C$4,TRUE))/(IF($C$5<>\"\",Table2[Status]=$C$5,TRUE))/(IF($C$6<>\"\",Table2[FPPDate]=$C$6,TRUE))/(IF($C$7<>\"\",Table2[ProposalCode]=$C$7,TRUE)),ROW(F392))),\"\")","v":""},{"$f":"IFERROR(INDEX(Table2[Amount_FPPDepo],_xlfn.AGGREGATE(15,6,(ROW(Table2[FPPGroupCode])-2)/(Table2[DepoName]=$C$2)/(IF($C$3<>\"\",Table2[BULAN]=$C$3,TRUE))/(IF($C$4<>\"\",Table2[OFF/ON]=$C$4,TRUE))/(IF($C$5<>\"\",Table2[Status]=$C$5,TRUE))/(IF($C$6<>\"\",Table2[FPPDate]=$C$6,TRUE))/(IF($C$7<>\"\",Table2[ProposalCode]=$C$7,TRUE)),ROW(G392))),\"\")","v":""},{"$f":"IFERROR(VLOOKUP($B400,SIP!$D$5776:$P$6032,12,0),0)","v":0},{"$f":"IFERROR(H400-I400,0)","v":0},{"$f":"IFERROR(VLOOKUP($B400,SIP!$D$5776:$P$6032,8,0),0)","v":0},{"$f":"IFERROR(INDEX(Table2[OFF/ON],_xlfn.AGGREGATE(15,6,(ROW(Table2[FPPGroupCode])-2)/(Table2[DepoName]=$C$2)/(IF($C$3<>\"\",Table2[BULAN]=$C$3,TRUE))/(IF($C$4<>\"\",Table2[OFF/ON]=$C$4,TRUE))/(IF($C$5<>\"\",Table2[Status]=$C$5,TRUE))/(IF($C$6<>\"\",Table2[FPPDate]=$C$6,TRUE))/(IF($C$7<>\"\",Table2[ProposalCode]=$C$7,TRUE)),ROW(K392))),\"\")","v":""}]
[{"$f":"IF(LEN($B401),ROW(A393),\"\")","v":""},{"$f":"IFERROR(INDEX(Table2[FPPGroupCode],_xlfn.AGGREGATE(15,6,(ROW(Table2[FPPGroupCode])-2)/(Table2[DepoName]=$C$2)/(IF($C$3<>\"\",Table2[BULAN]=$C$3,TRUE))/(IF($C$4<>\"\",Table2[OFF/ON]=$C$4,TRUE))/(IF($C$5<>\"\",Table2[Status]=$C$5,TRUE))/(IF($C$6<>\"\",Table2[FPPDate]=$C$6,TRUE))/(IF($C$7<>\"\",Table2[ProposalCode]=$C$7,TRUE)),ROW(A393))),\"\")","v":""},{"$f":"IFERROR(VLOOKUP($B401,SIP!$D$3:$Q$12237,14,0),0)","v":0},{"$f":"IFERROR(INDEX(Table2[Activity],_xlfn.AGGREGATE(15,6,(ROW(Table2[FPPGroupCode])-2)/(Table2[DepoName]=$C$2)/(IF($C$3<>\"\",Table2[BULAN]=$C$3,TRUE))/(IF($C$4<>\"\",Table2[OFF/ON]=$C$4,TRUE))/(IF($C$5<>\"\",Table2[Status]=$C$5,TRUE))/(IF($C$6<>\"\",Table2[]=$C$6,TRUE))/(IF($C$7<>\"\",Table2[ProposalCode]=$C$7,TRUE)),ROW(B393))),\"\")","v":""},{"$f":"IFERROR(INDEX(Table2[Location],_xlfn.AGGREGATE(15,6,(ROW(Table2[FPPGroupCode])-2)/(Table2[DepoName]=$C$2)/(IF($C$3<>\"\",Table2[BULAN]=$C$3,TRUE))/(IF($C$4<>\"\",Table2[OFF/ON]=$C$4,TRUE))/(IF($C$5<>\"\",Table2[Status]=$C$5,TRUE))/(IF($C$6<>\"\",Table2[FPPDate]=$C$6,TRUE))/(IF($C$7<>\"\",Table2[ProposalCode]=$C$7,TRUE)),ROW(D393))),\"\")","v":""},{"$f":"IFERROR(INDEX(Table2[PeriodeStart],_xlfn.AGGREGATE(15,6,(ROW(Table2[FPPGroupCode])-2)/(Table2[DepoName]=$C$2)/(IF($C$3<>\"\",Table2[BULAN]=$C$3,TRUE))/(IF($C$4<>\"\",Table2[OFF/ON]=$C$4,TRUE))/(IF($C$5<>\"\",Table2[Status]=$C$5,TRUE))/(IF($C$6<>\"\",Table2[FPPDate]=$C$6,TRUE))/(IF($C$7<>\"\",Table2[ProposalCode]=$C$7,TRUE)),ROW(E393))),\"\")","v":""},{"$f":"IFERROR(INDEX(Table2[PeriodeEnd],_xlfn.AGGREGATE(15,6,(ROW(Table2[FPPGroupCode])-2)/(Table2[DepoName]=$C$2)/(IF($C$3<>\"\",Table2[BULAN]=$C$3,TRUE))/(IF($C$4<>\"\",Table2[OFF/ON]=$C$4,TRUE))/(IF($C$5<>\"\",Table2[Status]=$C$5,TRUE))/(IF($C$6<>\"\",Table2[FPPDate]=$C$6,TRUE))/(IF($C$7<>\"\",Table2[ProposalCode]=$C$7,TRUE)),ROW(F393))),\"\")","v":""},{"$f":"IFERROR(INDEX(Table2[Amount_FPPDepo],_xlfn.AGGREGATE(15,6,(ROW(Table2[FPPGroupCode])-2)/(Table2[DepoName]=$C$2)/(IF($C$3<>\"\",Table2[BULAN]=$C$3,TRUE))/(IF($C$4<>\"\",Table2[OFF/ON]=$C$4,TRUE))/(IF($C$5<>\"\",Table2[Status]=$C$5,TRUE))/(IF($C$6<>\"\",Table2[FPPDate]=$C$6,TRUE))/(IF($C$7<>\"\",Table2[ProposalCode]=$C$7,TRUE)),ROW(G393))),\"\")","v":""},{"$f":"IFERROR(VLOOKUP($B401,SIP!$D$5776:$P$6032,12,0),0)","v":0},{"$f":"IFERROR(H401-I401,0)","v":0},{"$f":"IFERROR(VLOOKUP($B401,SIP!$D$5776:$P$6032,8,0),0)","v":0},{"$f":"IFERROR(INDEX(Table2[OFF/ON],_xlfn.AGGREGATE(15,6,(ROW(Table2[FPPGroupCode])-2)/(Table2[DepoName]=$C$2)/(IF($C$3<>\"\",Table2[BULAN]=$C$3,TRUE))/(IF($C$4<>\"\",Table2[OFF/ON]=$C$4,TRUE))/(IF($C$5<>\"\",Table2[Status]=$C$5,TRUE))/(IF($C$6<>\"\",Table2[FPPDate]=$C$6,TRUE))/(IF($C$7<>\"\",Table2[ProposalCode]=$C$7,TRUE)),ROW(K393))),\"\")","v":""}]
[{"$f":"IF(LEN($B402),ROW(A394),\"\")","v":""},{"$f":"IFERROR(INDEX(Table2[FPPGroupCode],_xlfn.AGGREGATE(15,6,(ROW(Table2[FPPGroupCode])-2)/(Table2[DepoName]=$C$2)/(IF($C$3<>\"\",Table2[BULAN]=$C$3,TRUE))/(IF($C$4<>\"\",Table2[OFF/ON]=$C$4,TRUE))/(IF($C$5<>\"\",Table2[Status]=$C$5,TRUE))/(IF($C$6<>\"\",Table2[FPPDate]=$C$6,TRUE))/(IF($C$7<>\"\",Table2[ProposalCode]=$C$7,TRUE)),ROW(A394))),\"\")","v":""},{"$f":"IFERROR(VLOOKUP($B402,SIP!$D$3:$Q$12237,14,0),0)","v":0},{"$f":"IFERROR(INDEX(Table2[Activity],_xlfn.AGGREGATE(15,6,(ROW(Table2[FPPGroupCode])-2)/(Table2[DepoName]=$C$2)/(IF($C$3<>\"\",Table2[BULAN]=$C$3,TRUE))/(IF($C$4<>\"\",Table2[OFF/ON]=$C$4,TRUE))/(IF($C$5<>\"\",Table2[Status]=$C$5,TRUE))/(IF($C$6<>\"\",Table2[]=$C$6,TRUE))/(IF($C$7<>\"\",Table2[ProposalCode]=$C$7,TRUE)),ROW(B394))),\"\")","v":""},{"$f":"IFERROR(INDEX(Table2[Location],_xlfn.AGGREGATE(15,6,(ROW(Table2[FPPGroupCode])-2)/(Table2[DepoName]=$C$2)/(IF($C$3<>\"\",Table2[BULAN]=$C$3,TRUE))/(IF($C$4<>\"\",Table2[OFF/ON]=$C$4,TRUE))/(IF($C$5<>\"\",Table2[Status]=$C$5,TRUE))/(IF($C$6<>\"\",Table2[FPPDate]=$C$6,TRUE))/(IF($C$7<>\"\",Table2[ProposalCode]=$C$7,TRUE)),ROW(D394))),\"\")","v":""},{"$f":"IFERROR(INDEX(Table2[PeriodeStart],_xlfn.AGGREGATE(15,6,(ROW(Table2[FPPGroupCode])-2)/(Table2[DepoName]=$C$2)/(IF($C$3<>\"\",Table2[BULAN]=$C$3,TRUE))/(IF($C$4<>\"\",Table2[OFF/ON]=$C$4,TRUE))/(IF($C$5<>\"\",Table2[Status]=$C$5,TRUE))/(IF($C$6<>\"\",Table2[FPPDate]=$C$6,TRUE))/(IF($C$7<>\"\",Table2[ProposalCode]=$C$7,TRUE)),ROW(E394))),\"\")","v":""},{"$f":"IFERROR(INDEX(Table2[PeriodeEnd],_xlfn.AGGREGATE(15,6,(ROW(Table2[FPPGroupCode])-2)/(Table2[DepoName]=$C$2)/(IF($C$3<>\"\",Table2[BULAN]=$C$3,TRUE))/(IF($C$4<>\"\",Table2[OFF/ON]=$C$4,TRUE))/(IF($C$5<>\"\",Table2[Status]=$C$5,TRUE))/(IF($C$6<>\"\",Table2[FPPDate]=$C$6,TRUE))/(IF($C$7<>\"\",Table2[ProposalCode]=$C$7,TRUE)),ROW(F394))),\"\")","v":""},{"$f":"IFERROR(INDEX(Table2[Amount_FPPDepo],_xlfn.AGGREGATE(15,6,(ROW(Table2[FPPGroupCode])-2)/(Table2[DepoName]=$C$2)/(IF($C$3<>\"\",Table2[BULAN]=$C$3,TRUE))/(IF($C$4<>\"\",Table2[OFF/ON]=$C$4,TRUE))/(IF($C$5<>\"\",Table2[Status]=$C$5,TRUE))/(IF($C$6<>\"\",Table2[FPPDate]=$C$6,TRUE))/(IF($C$7<>\"\",Table2[ProposalCode]=$C$7,TRUE)),ROW(G394))),\"\")","v":""},{"$f":"IFERROR(VLOOKUP($B402,SIP!$D$5776:$P$6032,12,0),0)","v":0},{"$f":"IFERROR(H402-I402,0)","v":0},{"$f":"IFERROR(VLOOKUP($B402,SIP!$D$5776:$P$6032,8,0),0)","v":0},{"$f":"IFERROR(INDEX(Table2[OFF/ON],_xlfn.AGGREGATE(15,6,(ROW(Table2[FPPGroupCode])-2)/(Table2[DepoName]=$C$2)/(IF($C$3<>\"\",Table2[BULAN]=$C$3,TRUE))/(IF($C$4<>\"\",Table2[OFF/ON]=$C$4,TRUE))/(IF($C$5<>\"\",Table2[Status]=$C$5,TRUE))/(IF($C$6<>\"\",Table2[FPPDate]=$C$6,TRUE))/(IF($C$7<>\"\",Table2[ProposalCode]=$C$7,TRUE)),ROW(K394))),\"\")","v":""}]
[{"$f":"IF(LEN($B403),ROW(A395),\"\")","v":""},{"$f":"IFERROR(INDEX(Table2[FPPGroupCode],_xlfn.AGGREGATE(15,6,(ROW(Table2[FPPGroupCode])-2)/(Table2[DepoName]=$C$2)/(IF($C$3<>\"\",Table2[BULAN]=$C$3,TRUE))/(IF($C$4<>\"\",Table2[OFF/ON]=$C$4,TRUE))/(IF($C$5<>\"\",Table2[Status]=$C$5,TRUE))/(IF($C$6<>\"\",Table2[FPPDate]=$C$6,TRUE))/(IF($C$7<>\"\",Table2[ProposalCode]=$C$7,TRUE)),ROW(A395))),\"\")","v":""},{"$f":"IFERROR(VLOOKUP($B403,SIP!$D$3:$Q$12237,14,0),0)","v":0},{"$f":"IFERROR(INDEX(Table2[Activity],_xlfn.AGGREGATE(15,6,(ROW(Table2[FPPGroupCode])-2)/(Table2[DepoName]=$C$2)/(IF($C$3<>\"\",Table2[BULAN]=$C$3,TRUE))/(IF($C$4<>\"\",Table2[OFF/ON]=$C$4,TRUE))/(IF($C$5<>\"\",Table2[Status]=$C$5,TRUE))/(IF($C$6<>\"\",Table2[]=$C$6,TRUE))/(IF($C$7<>\"\",Table2[ProposalCode]=$C$7,TRUE)),ROW(B395))),\"\")","v":""},{"$f":"IFERROR(INDEX(Table2[Location],_xlfn.AGGREGATE(15,6,(ROW(Table2[FPPGroupCode])-2)/(Table2[DepoName]=$C$2)/(IF($C$3<>\"\",Table2[BULAN]=$C$3,TRUE))/(IF($C$4<>\"\",Table2[OFF/ON]=$C$4,TRUE))/(IF($C$5<>\"\",Table2[Status]=$C$5,TRUE))/(IF($C$6<>\"\",Table2[FPPDate]=$C$6,TRUE))/(IF($C$7<>\"\",Table2[ProposalCode]=$C$7,TRUE)),ROW(D395))),\"\")","v":""},{"$f":"IFERROR(INDEX(Table2[PeriodeStart],_xlfn.AGGREGATE(15,6,(ROW(Table2[FPPGroupCode])-2)/(Table2[DepoName]=$C$2)/(IF($C$3<>\"\",Table2[BULAN]=$C$3,TRUE))/(IF($C$4<>\"\",Table2[OFF/ON]=$C$4,TRUE))/(IF($C$5<>\"\",Table2[Status]=$C$5,TRUE))/(IF($C$6<>\"\",Table2[FPPDate]=$C$6,TRUE))/(IF($C$7<>\"\",Table2[ProposalCode]=$C$7,TRUE)),ROW(E395))),\"\")","v":""},{"$f":"IFERROR(INDEX(Table2[PeriodeEnd],_xlfn.AGGREGATE(15,6,(ROW(Table2[FPPGroupCode])-2)/(Table2[DepoName]=$C$2)/(IF($C$3<>\"\",Table2[BULAN]=$C$3,TRUE))/(IF($C$4<>\"\",Table2[OFF/ON]=$C$4,TRUE))/(IF($C$5<>\"\",Table2[Status]=$C$5,TRUE))/(IF($C$6<>\"\",Table2[FPPDate]=$C$6,TRUE))/(IF($C$7<>\"\",Table2[ProposalCode]=$C$7,TRUE)),ROW(F395))),\"\")","v":""},{"$f":"IFERROR(INDEX(Table2[Amount_FPPDepo],_xlfn.AGGREGATE(15,6,(ROW(Table2[FPPGroupCode])-2)/(Table2[DepoName]=$C$2)/(IF($C$3<>\"\",Table2[BULAN]=$C$3,TRUE))/(IF($C$4<>\"\",Table2[OFF/ON]=$C$4,TRUE))/(IF($C$5<>\"\",Table2[Status]=$C$5,TRUE))/(IF($C$6<>\"\",Table2[FPPDate]=$C$6,TRUE))/(IF($C$7<>\"\",Table2[ProposalCode]=$C$7,TRUE)),ROW(G395))),\"\")","v":""},{"$f":"IFERROR(VLOOKUP($B403,SIP!$D$5776:$P$6032,12,0),0)","v":0},{"$f":"IFERROR(H403-I403,0)","v":0},{"$f":"IFERROR(VLOOKUP($B403,SIP!$D$5776:$P$6032,8,0),0)","v":0},{"$f":"IFERROR(INDEX(Table2[OFF/ON],_xlfn.AGGREGATE(15,6,(ROW(Table2[FPPGroupCode])-2)/(Table2[DepoName]=$C$2)/(IF($C$3<>\"\",Table2[BULAN]=$C$3,TRUE))/(IF($C$4<>\"\",Table2[OFF/ON]=$C$4,TRUE))/(IF($C$5<>\"\",Table2[Status]=$C$5,TRUE))/(IF($C$6<>\"\",Table2[FPPDate]=$C$6,TRUE))/(IF($C$7<>\"\",Table2[ProposalCode]=$C$7,TRUE)),ROW(K395))),\"\")","v":""}]
[{"$f":"IF(LEN($B404),ROW(A396),\"\")","v":""},{"$f":"IFERROR(INDEX(Table2[FPPGroupCode],_xlfn.AGGREGATE(15,6,(ROW(Table2[FPPGroupCode])-2)/(Table2[DepoName]=$C$2)/(IF($C$3<>\"\",Table2[BULAN]=$C$3,TRUE))/(IF($C$4<>\"\",Table2[OFF/ON]=$C$4,TRUE))/(IF($C$5<>\"\",Table2[Status]=$C$5,TRUE))/(IF($C$6<>\"\",Table2[FPPDate]=$C$6,TRUE))/(IF($C$7<>\"\",Table2[ProposalCode]=$C$7,TRUE)),ROW(A396))),\"\")","v":""},{"$f":"IFERROR(VLOOKUP($B404,SIP!$D$3:$Q$12237,14,0),0)","v":0},{"$f":"IFERROR(INDEX(Table2[Activity],_xlfn.AGGREGATE(15,6,(ROW(Table2[FPPGroupCode])-2)/(Table2[DepoName]=$C$2)/(IF($C$3<>\"\",Table2[BULAN]=$C$3,TRUE))/(IF($C$4<>\"\",Table2[OFF/ON]=$C$4,TRUE))/(IF($C$5<>\"\",Table2[Status]=$C$5,TRUE))/(IF($C$6<>\"\",Table2[]=$C$6,TRUE))/(IF($C$7<>\"\",Table2[ProposalCode]=$C$7,TRUE)),ROW(B396))),\"\")","v":""},{"$f":"IFERROR(INDEX(Table2[Location],_xlfn.AGGREGATE(15,6,(ROW(Table2[FPPGroupCode])-2)/(Table2[DepoName]=$C$2)/(IF($C$3<>\"\",Table2[BULAN]=$C$3,TRUE))/(IF($C$4<>\"\",Table2[OFF/ON]=$C$4,TRUE))/(IF($C$5<>\"\",Table2[Status]=$C$5,TRUE))/(IF($C$6<>\"\",Table2[FPPDate]=$C$6,TRUE))/(IF($C$7<>\"\",Table2[ProposalCode]=$C$7,TRUE)),ROW(D396))),\"\")","v":""},{"$f":"IFERROR(INDEX(Table2[PeriodeStart],_xlfn.AGGREGATE(15,6,(ROW(Table2[FPPGroupCode])-2)/(Table2[DepoName]=$C$2)/(IF($C$3<>\"\",Table2[BULAN]=$C$3,TRUE))/(IF($C$4<>\"\",Table2[OFF/ON]=$C$4,TRUE))/(IF($C$5<>\"\",Table2[Status]=$C$5,TRUE))/(IF($C$6<>\"\",Table2[FPPDate]=$C$6,TRUE))/(IF($C$7<>\"\",Table2[ProposalCode]=$C$7,TRUE)),ROW(E396))),\"\")","v":""},{"$f":"IFERROR(INDEX(Table2[PeriodeEnd],_xlfn.AGGREGATE(15,6,(ROW(Table2[FPPGroupCode])-2)/(Table2[DepoName]=$C$2)/(IF($C$3<>\"\",Table2[BULAN]=$C$3,TRUE))/(IF($C$4<>\"\",Table2[OFF/ON]=$C$4,TRUE))/(IF($C$5<>\"\",Table2[Status]=$C$5,TRUE))/(IF($C$6<>\"\",Table2[FPPDate]=$C$6,TRUE))/(IF($C$7<>\"\",Table2[ProposalCode]=$C$7,TRUE)),ROW(F396))),\"\")","v":""},{"$f":"IFERROR(INDEX(Table2[Amount_FPPDepo],_xlfn.AGGREGATE(15,6,(ROW(Table2[FPPGroupCode])-2)/(Table2[DepoName]=$C$2)/(IF($C$3<>\"\",Table2[BULAN]=$C$3,TRUE))/(IF($C$4<>\"\",Table2[OFF/ON]=$C$4,TRUE))/(IF($C$5<>\"\",Table2[Status]=$C$5,TRUE))/(IF($C$6<>\"\",Table2[FPPDate]=$C$6,TRUE))/(IF($C$7<>\"\",Table2[ProposalCode]=$C$7,TRUE)),ROW(G396))),\"\")","v":""},{"$f":"IFERROR(VLOOKUP($B404,SIP!$D$5776:$P$6032,12,0),0)","v":0},{"$f":"IFERROR(H404-I404,0)","v":0},{"$f":"IFERROR(VLOOKUP($B404,SIP!$D$5776:$P$6032,8,0),0)","v":0},{"$f":"IFERROR(INDEX(Table2[OFF/ON],_xlfn.AGGREGATE(15,6,(ROW(Table2[FPPGroupCode])-2)/(Table2[DepoName]=$C$2)/(IF($C$3<>\"\",Table2[BULAN]=$C$3,TRUE))/(IF($C$4<>\"\",Table2[OFF/ON]=$C$4,TRUE))/(IF($C$5<>\"\",Table2[Status]=$C$5,TRUE))/(IF($C$6<>\"\",Table2[FPPDate]=$C$6,TRUE))/(IF($C$7<>\"\",Table2[ProposalCode]=$C$7,TRUE)),ROW(K396))),\"\")","v":""}]
[{"$f":"IF(LEN($B405),ROW(A397),\"\")","v":""},{"$f":"IFERROR(INDEX(Table2[FPPGroupCode],_xlfn.AGGREGATE(15,6,(ROW(Table2[FPPGroupCode])-2)/(Table2[DepoName]=$C$2)/(IF($C$3<>\"\",Table2[BULAN]=$C$3,TRUE))/(IF($C$4<>\"\",Table2[OFF/ON]=$C$4,TRUE))/(IF($C$5<>\"\",Table2[Status]=$C$5,TRUE))/(IF($C$6<>\"\",Table2[FPPDate]=$C$6,TRUE))/(IF($C$7<>\"\",Table2[ProposalCode]=$C$7,TRUE)),ROW(A397))),\"\")","v":""},{"$f":"IFERROR(VLOOKUP($B405,SIP!$D$3:$Q$12237,14,0),0)","v":0},{"$f":"IFERROR(INDEX(Table2[Activity],_xlfn.AGGREGATE(15,6,(ROW(Table2[FPPGroupCode])-2)/(Table2[DepoName]=$C$2)/(IF($C$3<>\"\",Table2[BULAN]=$C$3,TRUE))/(IF($C$4<>\"\",Table2[OFF/ON]=$C$4,TRUE))/(IF($C$5<>\"\",Table2[Status]=$C$5,TRUE))/(IF($C$6<>\"\",Table2[]=$C$6,TRUE))/(IF($C$7<>\"\",Table2[ProposalCode]=$C$7,TRUE)),ROW(B397))),\"\")","v":""},{"$f":"IFERROR(INDEX(Table2[Location],_xlfn.AGGREGATE(15,6,(ROW(Table2[FPPGroupCode])-2)/(Table2[DepoName]=$C$2)/(IF($C$3<>\"\",Table2[BULAN]=$C$3,TRUE))/(IF($C$4<>\"\",Table2[OFF/ON]=$C$4,TRUE))/(IF($C$5<>\"\",Table2[Status]=$C$5,TRUE))/(IF($C$6<>\"\",Table2[FPPDate]=$C$6,TRUE))/(IF($C$7<>\"\",Table2[ProposalCode]=$C$7,TRUE)),ROW(D397))),\"\")","v":""},{"$f":"IFERROR(INDEX(Table2[PeriodeStart],_xlfn.AGGREGATE(15,6,(ROW(Table2[FPPGroupCode])-2)/(Table2[DepoName]=$C$2)/(IF($C$3<>\"\",Table2[BULAN]=$C$3,TRUE))/(IF($C$4<>\"\",Table2[OFF/ON]=$C$4,TRUE))/(IF($C$5<>\"\",Table2[Status]=$C$5,TRUE))/(IF($C$6<>\"\",Table2[FPPDate]=$C$6,TRUE))/(IF($C$7<>\"\",Table2[ProposalCode]=$C$7,TRUE)),ROW(E397))),\"\")","v":""},{"$f":"IFERROR(INDEX(Table2[PeriodeEnd],_xlfn.AGGREGATE(15,6,(ROW(Table2[FPPGroupCode])-2)/(Table2[DepoName]=$C$2)/(IF($C$3<>\"\",Table2[BULAN]=$C$3,TRUE))/(IF($C$4<>\"\",Table2[OFF/ON]=$C$4,TRUE))/(IF($C$5<>\"\",Table2[Status]=$C$5,TRUE))/(IF($C$6<>\"\",Table2[FPPDate]=$C$6,TRUE))/(IF($C$7<>\"\",Table2[ProposalCode]=$C$7,TRUE)),ROW(F397))),\"\")","v":""},{"$f":"IFERROR(INDEX(Table2[Amount_FPPDepo],_xlfn.AGGREGATE(15,6,(ROW(Table2[FPPGroupCode])-2)/(Table2[DepoName]=$C$2)/(IF($C$3<>\"\",Table2[BULAN]=$C$3,TRUE))/(IF($C$4<>\"\",Table2[OFF/ON]=$C$4,TRUE))/(IF($C$5<>\"\",Table2[Status]=$C$5,TRUE))/(IF($C$6<>\"\",Table2[FPPDate]=$C$6,TRUE))/(IF($C$7<>\"\",Table2[ProposalCode]=$C$7,TRUE)),ROW(G397))),\"\")","v":""},{"$f":"IFERROR(VLOOKUP($B405,SIP!$D$5776:$P$6032,12,0),0)","v":0},{"$f":"IFERROR(H405-I405,0)","v":0},{"$f":"IFERROR(VLOOKUP($B405,SIP!$D$5776:$P$6032,8,0),0)","v":0},{"$f":"IFERROR(INDEX(Table2[OFF/ON],_xlfn.AGGREGATE(15,6,(ROW(Table2[FPPGroupCode])-2)/(Table2[DepoName]=$C$2)/(IF($C$3<>\"\",Table2[BULAN]=$C$3,TRUE))/(IF($C$4<>\"\",Table2[OFF/ON]=$C$4,TRUE))/(IF($C$5<>\"\",Table2[Status]=$C$5,TRUE))/(IF($C$6<>\"\",Table2[FPPDate]=$C$6,TRUE))/(IF($C$7<>\"\",Table2[ProposalCode]=$C$7,TRUE)),ROW(K397))),\"\")","v":""}]
[{"$f":"IF(LEN($B406),ROW(A398),\"\")","v":""},{"$f":"IFERROR(INDEX(Table2[FPPGroupCode],_xlfn.AGGREGATE(15,6,(ROW(Table2[FPPGroupCode])-2)/(Table2[DepoName]=$C$2)/(IF($C$3<>\"\",Table2[BULAN]=$C$3,TRUE))/(IF($C$4<>\"\",Table2[OFF/ON]=$C$4,TRUE))/(IF($C$5<>\"\",Table2[Status]=$C$5,TRUE))/(IF($C$6<>\"\",Table2[FPPDate]=$C$6,TRUE))/(IF($C$7<>\"\",Table2[ProposalCode]=$C$7,TRUE)),ROW(A398))),\"\")","v":""},{"$f":"IFERROR(VLOOKUP($B406,SIP!$D$3:$Q$12237,14,0),0)","v":0},{"$f":"IFERROR(INDEX(Table2[Activity],_xlfn.AGGREGATE(15,6,(ROW(Table2[FPPGroupCode])-2)/(Table2[DepoName]=$C$2)/(IF($C$3<>\"\",Table2[BULAN]=$C$3,TRUE))/(IF($C$4<>\"\",Table2[OFF/ON]=$C$4,TRUE))/(IF($C$5<>\"\",Table2[Status]=$C$5,TRUE))/(IF($C$6<>\"\",Table2[]=$C$6,TRUE))/(IF($C$7<>\"\",Table2[ProposalCode]=$C$7,TRUE)),ROW(B398))),\"\")","v":""},{"$f":"IFERROR(INDEX(Table2[Location],_xlfn.AGGREGATE(15,6,(ROW(Table2[FPPGroupCode])-2)/(Table2[DepoName]=$C$2)/(IF($C$3<>\"\",Table2[BULAN]=$C$3,TRUE))/(IF($C$4<>\"\",Table2[OFF/ON]=$C$4,TRUE))/(IF($C$5<>\"\",Table2[Status]=$C$5,TRUE))/(IF($C$6<>\"\",Table2[FPPDate]=$C$6,TRUE))/(IF($C$7<>\"\",Table2[ProposalCode]=$C$7,TRUE)),ROW(D398))),\"\")","v":""},{"$f":"IFERROR(INDEX(Table2[PeriodeStart],_xlfn.AGGREGATE(15,6,(ROW(Table2[FPPGroupCode])-2)/(Table2[DepoName]=$C$2)/(IF($C$3<>\"\",Table2[BULAN]=$C$3,TRUE))/(IF($C$4<>\"\",Table2[OFF/ON]=$C$4,TRUE))/(IF($C$5<>\"\",Table2[Status]=$C$5,TRUE))/(IF($C$6<>\"\",Table2[FPPDate]=$C$6,TRUE))/(IF($C$7<>\"\",Table2[ProposalCode]=$C$7,TRUE)),ROW(E398))),\"\")","v":""},{"$f":"IFERROR(INDEX(Table2[PeriodeEnd],_xlfn.AGGREGATE(15,6,(ROW(Table2[FPPGroupCode])-2)/(Table2[DepoName]=$C$2)/(IF($C$3<>\"\",Table2[BULAN]=$C$3,TRUE))/(IF($C$4<>\"\",Table2[OFF/ON]=$C$4,TRUE))/(IF($C$5<>\"\",Table2[Status]=$C$5,TRUE))/(IF($C$6<>\"\",Table2[FPPDate]=$C$6,TRUE))/(IF($C$7<>\"\",Table2[ProposalCode]=$C$7,TRUE)),ROW(F398))),\"\")","v":""},{"$f":"IFERROR(INDEX(Table2[Amount_FPPDepo],_xlfn.AGGREGATE(15,6,(ROW(Table2[FPPGroupCode])-2)/(Table2[DepoName]=$C$2)/(IF($C$3<>\"\",Table2[BULAN]=$C$3,TRUE))/(IF($C$4<>\"\",Table2[OFF/ON]=$C$4,TRUE))/(IF($C$5<>\"\",Table2[Status]=$C$5,TRUE))/(IF($C$6<>\"\",Table2[FPPDate]=$C$6,TRUE))/(IF($C$7<>\"\",Table2[ProposalCode]=$C$7,TRUE)),ROW(G398))),\"\")","v":""},{"$f":"IFERROR(VLOOKUP($B406,SIP!$D$5776:$P$6032,12,0),0)","v":0},{"$f":"IFERROR(H406-I406,0)","v":0},{"$f":"IFERROR(VLOOKUP($B406,SIP!$D$5776:$P$6032,8,0),0)","v":0},{"$f":"IFERROR(INDEX(Table2[OFF/ON],_xlfn.AGGREGATE(15,6,(ROW(Table2[FPPGroupCode])-2)/(Table2[DepoName]=$C$2)/(IF($C$3<>\"\",Table2[BULAN]=$C$3,TRUE))/(IF($C$4<>\"\",Table2[OFF/ON]=$C$4,TRUE))/(IF($C$5<>\"\",Table2[Status]=$C$5,TRUE))/(IF($C$6<>\"\",Table2[FPPDate]=$C$6,TRUE))/(IF($C$7<>\"\",Table2[ProposalCode]=$C$7,TRUE)),ROW(K398))),\"\")","v":""}]
[{"$f":"IF(LEN($B407),ROW(A399),\"\")","v":""},{"$f":"IFERROR(INDEX(Table2[FPPGroupCode],_xlfn.AGGREGATE(15,6,(ROW(Table2[FPPGroupCode])-2)/(Table2[DepoName]=$C$2)/(IF($C$3<>\"\",Table2[BULAN]=$C$3,TRUE))/(IF($C$4<>\"\",Table2[OFF/ON]=$C$4,TRUE))/(IF($C$5<>\"\",Table2[Status]=$C$5,TRUE))/(IF($C$6<>\"\",Table2[FPPDate]=$C$6,TRUE))/(IF($C$7<>\"\",Table2[ProposalCode]=$C$7,TRUE)),ROW(A399))),\"\")","v":""},{"$f":"IFERROR(VLOOKUP($B407,SIP!$D$3:$Q$12237,14,0),0)","v":0},{"$f":"IFERROR(INDEX(Table2[Activity],_xlfn.AGGREGATE(15,6,(ROW(Table2[FPPGroupCode])-2)/(Table2[DepoName]=$C$2)/(IF($C$3<>\"\",Table2[BULAN]=$C$3,TRUE))/(IF($C$4<>\"\",Table2[OFF/ON]=$C$4,TRUE))/(IF($C$5<>\"\",Table2[Status]=$C$5,TRUE))/(IF($C$6<>\"\",Table2[]=$C$6,TRUE))/(IF($C$7<>\"\",Table2[ProposalCode]=$C$7,TRUE)),ROW(B399))),\"\")","v":""},{"$f":"IFERROR(INDEX(Table2[Location],_xlfn.AGGREGATE(15,6,(ROW(Table2[FPPGroupCode])-2)/(Table2[DepoName]=$C$2)/(IF($C$3<>\"\",Table2[BULAN]=$C$3,TRUE))/(IF($C$4<>\"\",Table2[OFF/ON]=$C$4,TRUE))/(IF($C$5<>\"\",Table2[Status]=$C$5,TRUE))/(IF($C$6<>\"\",Table2[FPPDate]=$C$6,TRUE))/(IF($C$7<>\"\",Table2[ProposalCode]=$C$7,TRUE)),ROW(D399))),\"\")","v":""},{"$f":"IFERROR(INDEX(Table2[PeriodeStart],_xlfn.AGGREGATE(15,6,(ROW(Table2[FPPGroupCode])-2)/(Table2[DepoName]=$C$2)/(IF($C$3<>\"\",Table2[BULAN]=$C$3,TRUE))/(IF($C$4<>\"\",Table2[OFF/ON]=$C$4,TRUE))/(IF($C$5<>\"\",Table2[Status]=$C$5,TRUE))/(IF($C$6<>\"\",Table2[FPPDate]=$C$6,TRUE))/(IF($C$7<>\"\",Table2[ProposalCode]=$C$7,TRUE)),ROW(E399))),\"\")","v":""},{"$f":"IFERROR(INDEX(Table2[PeriodeEnd],_xlfn.AGGREGATE(15,6,(ROW(Table2[FPPGroupCode])-2)/(Table2[DepoName]=$C$2)/(IF($C$3<>\"\",Table2[BULAN]=$C$3,TRUE))/(IF($C$4<>\"\",Table2[OFF/ON]=$C$4,TRUE))/(IF($C$5<>\"\",Table2[Status]=$C$5,TRUE))/(IF($C$6<>\"\",Table2[FPPDate]=$C$6,TRUE))/(IF($C$7<>\"\",Table2[ProposalCode]=$C$7,TRUE)),ROW(F399))),\"\")","v":""},{"$f":"IFERROR(INDEX(Table2[Amount_FPPDepo],_xlfn.AGGREGATE(15,6,(ROW(Table2[FPPGroupCode])-2)/(Table2[DepoName]=$C$2)/(IF($C$3<>\"\",Table2[BULAN]=$C$3,TRUE))/(IF($C$4<>\"\",Table2[OFF/ON]=$C$4,TRUE))/(IF($C$5<>\"\",Table2[Status]=$C$5,TRUE))/(IF($C$6<>\"\",Table2[FPPDate]=$C$6,TRUE))/(IF($C$7<>\"\",Table2[ProposalCode]=$C$7,TRUE)),ROW(G399))),\"\")","v":""},{"$f":"IFERROR(VLOOKUP($B407,SIP!$D$5776:$P$6032,12,0),0)","v":0},{"$f":"IFERROR(H407-I407,0)","v":0},{"$f":"IFERROR(VLOOKUP($B407,SIP!$D$5776:$P$6032,8,0),0)","v":0},{"$f":"IFERROR(INDEX(Table2[OFF/ON],_xlfn.AGGREGATE(15,6,(ROW(Table2[FPPGroupCode])-2)/(Table2[DepoName]=$C$2)/(IF($C$3<>\"\",Table2[BULAN]=$C$3,TRUE))/(IF($C$4<>\"\",Table2[OFF/ON]=$C$4,TRUE))/(IF($C$5<>\"\",Table2[Status]=$C$5,TRUE))/(IF($C$6<>\"\",Table2[FPPDate]=$C$6,TRUE))/(IF($C$7<>\"\",Table2[ProposalCode]=$C$7,TRUE)),ROW(K399))),\"\")","v":""}]
[{"$f":"IF(LEN($B408),ROW(A400),\"\")","v":""},{"$f":"IFERROR(INDEX(Table2[FPPGroupCode],_xlfn.AGGREGATE(15,6,(ROW(Table2[FPPGroupCode])-2)/(Table2[DepoName]=$C$2)/(IF($C$3<>\"\",Table2[BULAN]=$C$3,TRUE))/(IF($C$4<>\"\",Table2[OFF/ON]=$C$4,TRUE))/(IF($C$5<>\"\",Table2[Status]=$C$5,TRUE))/(IF($C$6<>\"\",Table2[FPPDate]=$C$6,TRUE))/(IF($C$7<>\"\",Table2[ProposalCode]=$C$7,TRUE)),ROW(A400))),\"\")","v":""},{"$f":"IFERROR(VLOOKUP($B408,SIP!$D$3:$Q$12237,14,0),0)","v":0},{"$f":"IFERROR(INDEX(Table2[Activity],_xlfn.AGGREGATE(15,6,(ROW(Table2[FPPGroupCode])-2)/(Table2[DepoName]=$C$2)/(IF($C$3<>\"\",Table2[BULAN]=$C$3,TRUE))/(IF($C$4<>\"\",Table2[OFF/ON]=$C$4,TRUE))/(IF($C$5<>\"\",Table2[Status]=$C$5,TRUE))/(IF($C$6<>\"\",Table2[]=$C$6,TRUE))/(IF($C$7<>\"\",Table2[ProposalCode]=$C$7,TRUE)),ROW(B400))),\"\")","v":""},{"$f":"IFERROR(INDEX(Table2[Location],_xlfn.AGGREGATE(15,6,(ROW(Table2[FPPGroupCode])-2)/(Table2[DepoName]=$C$2)/(IF($C$3<>\"\",Table2[BULAN]=$C$3,TRUE))/(IF($C$4<>\"\",Table2[OFF/ON]=$C$4,TRUE))/(IF($C$5<>\"\",Table2[Status]=$C$5,TRUE))/(IF($C$6<>\"\",Table2[FPPDate]=$C$6,TRUE))/(IF($C$7<>\"\",Table2[ProposalCode]=$C$7,TRUE)),ROW(D400))),\"\")","v":""},{"$f":"IFERROR(INDEX(Table2[PeriodeStart],_xlfn.AGGREGATE(15,6,(ROW(Table2[FPPGroupCode])-2)/(Table2[DepoName]=$C$2)/(IF($C$3<>\"\",Table2[BULAN]=$C$3,TRUE))/(IF($C$4<>\"\",Table2[OFF/ON]=$C$4,TRUE))/(IF($C$5<>\"\",Table2[Status]=$C$5,TRUE))/(IF($C$6<>\"\",Table2[FPPDate]=$C$6,TRUE))/(IF($C$7<>\"\",Table2[ProposalCode]=$C$7,TRUE)),ROW(E400))),\"\")","v":""},{"$f":"IFERROR(INDEX(Table2[PeriodeEnd],_xlfn.AGGREGATE(15,6,(ROW(Table2[FPPGroupCode])-2)/(Table2[DepoName]=$C$2)/(IF($C$3<>\"\",Table2[BULAN]=$C$3,TRUE))/(IF($C$4<>\"\",Table2[OFF/ON]=$C$4,TRUE))/(IF($C$5<>\"\",Table2[Status]=$C$5,TRUE))/(IF($C$6<>\"\",Table2[FPPDate]=$C$6,TRUE))/(IF($C$7<>\"\",Table2[ProposalCode]=$C$7,TRUE)),ROW(F400))),\"\")","v":""},{"$f":"IFERROR(INDEX(Table2[Amount_FPPDepo],_xlfn.AGGREGATE(15,6,(ROW(Table2[FPPGroupCode])-2)/(Table2[DepoName]=$C$2)/(IF($C$3<>\"\",Table2[BULAN]=$C$3,TRUE))/(IF($C$4<>\"\",Table2[OFF/ON]=$C$4,TRUE))/(IF($C$5<>\"\",Table2[Status]=$C$5,TRUE))/(IF($C$6<>\"\",Table2[FPPDate]=$C$6,TRUE))/(IF($C$7<>\"\",Table2[ProposalCode]=$C$7,TRUE)),ROW(G400))),\"\")","v":""},{"$f":"IFERROR(VLOOKUP($B408,SIP!$D$5776:$P$6032,12,0),0)","v":0},{"$f":"IFERROR(H408-I408,0)","v":0},{"$f":"IFERROR(VLOOKUP($B408,SIP!$D$5776:$P$6032,8,0),0)","v":0},{"$f":"IFERROR(INDEX(Table2[OFF/ON],_xlfn.AGGREGATE(15,6,(ROW(Table2[FPPGroupCode])-2)/(Table2[DepoName]=$C$2)/(IF($C$3<>\"\",Table2[BULAN]=$C$3,TRUE))/(IF($C$4<>\"\",Table2[OFF/ON]=$C$4,TRUE))/(IF($C$5<>\"\",Table2[Status]=$C$5,TRUE))/(IF($C$6<>\"\",Table2[FPPDate]=$C$6,TRUE))/(IF($C$7<>\"\",Table2[ProposalCode]=$C$7,TRUE)),ROW(K400))),\"\")","v":""}]
[{"$f":"IF(LEN($B409),ROW(A401),\"\")","v":""},{"$f":"IFERROR(INDEX(Table2[FPPGroupCode],_xlfn.AGGREGATE(15,6,(ROW(Table2[FPPGroupCode])-2)/(Table2[DepoName]=$C$2)/(IF($C$3<>\"\",Table2[BULAN]=$C$3,TRUE))/(IF($C$4<>\"\",Table2[OFF/ON]=$C$4,TRUE))/(IF($C$5<>\"\",Table2[Status]=$C$5,TRUE))/(IF($C$6<>\"\",Table2[FPPDate]=$C$6,TRUE))/(IF($C$7<>\"\",Table2[ProposalCode]=$C$7,TRUE)),ROW(A401))),\"\")","v":""},{"$f":"IFERROR(VLOOKUP($B409,SIP!$D$3:$Q$12237,14,0),0)","v":0},{"$f":"IFERROR(INDEX(Table2[Activity],_xlfn.AGGREGATE(15,6,(ROW(Table2[FPPGroupCode])-2)/(Table2[DepoName]=$C$2)/(IF($C$3<>\"\",Table2[BULAN]=$C$3,TRUE))/(IF($C$4<>\"\",Table2[OFF/ON]=$C$4,TRUE))/(IF($C$5<>\"\",Table2[Status]=$C$5,TRUE))/(IF($C$6<>\"\",Table2[]=$C$6,TRUE))/(IF($C$7<>\"\",Table2[ProposalCode]=$C$7,TRUE)),ROW(B401))),\"\")","v":""},{"$f":"IFERROR(INDEX(Table2[Location],_xlfn.AGGREGATE(15,6,(ROW(Table2[FPPGroupCode])-2)/(Table2[DepoName]=$C$2)/(IF($C$3<>\"\",Table2[BULAN]=$C$3,TRUE))/(IF($C$4<>\"\",Table2[OFF/ON]=$C$4,TRUE))/(IF($C$5<>\"\",Table2[Status]=$C$5,TRUE))/(IF($C$6<>\"\",Table2[FPPDate]=$C$6,TRUE))/(IF($C$7<>\"\",Table2[ProposalCode]=$C$7,TRUE)),ROW(D401))),\"\")","v":""},{"$f":"IFERROR(INDEX(Table2[PeriodeStart],_xlfn.AGGREGATE(15,6,(ROW(Table2[FPPGroupCode])-2)/(Table2[DepoName]=$C$2)/(IF($C$3<>\"\",Table2[BULAN]=$C$3,TRUE))/(IF($C$4<>\"\",Table2[OFF/ON]=$C$4,TRUE))/(IF($C$5<>\"\",Table2[Status]=$C$5,TRUE))/(IF($C$6<>\"\",Table2[FPPDate]=$C$6,TRUE))/(IF($C$7<>\"\",Table2[ProposalCode]=$C$7,TRUE)),ROW(E401))),\"\")","v":""},{"$f":"IFERROR(INDEX(Table2[PeriodeEnd],_xlfn.AGGREGATE(15,6,(ROW(Table2[FPPGroupCode])-2)/(Table2[DepoName]=$C$2)/(IF($C$3<>\"\",Table2[BULAN]=$C$3,TRUE))/(IF($C$4<>\"\",Table2[OFF/ON]=$C$4,TRUE))/(IF($C$5<>\"\",Table2[Status]=$C$5,TRUE))/(IF($C$6<>\"\",Table2[FPPDate]=$C$6,TRUE))/(IF($C$7<>\"\",Table2[ProposalCode]=$C$7,TRUE)),ROW(F401))),\"\")","v":""},{"$f":"IFERROR(INDEX(Table2[Amount_FPPDepo],_xlfn.AGGREGATE(15,6,(ROW(Table2[FPPGroupCode])-2)/(Table2[DepoName]=$C$2)/(IF($C$3<>\"\",Table2[BULAN]=$C$3,TRUE))/(IF($C$4<>\"\",Table2[OFF/ON]=$C$4,TRUE))/(IF($C$5<>\"\",Table2[Status]=$C$5,TRUE))/(IF($C$6<>\"\",Table2[FPPDate]=$C$6,TRUE))/(IF($C$7<>\"\",Table2[ProposalCode]=$C$7,TRUE)),ROW(G401))),\"\")","v":""},{"$f":"IFERROR(VLOOKUP($B409,SIP!$D$5776:$P$6032,12,0),0)","v":0},{"$f":"IFERROR(H409-I409,0)","v":0},{"$f":"IFERROR(VLOOKUP($B409,SIP!$D$5776:$P$6032,8,0),0)","v":0},{"$f":"IFERROR(INDEX(Table2[OFF/ON],_xlfn.AGGREGATE(15,6,(ROW(Table2[FPPGroupCode])-2)/(Table2[DepoName]=$C$2)/(IF($C$3<>\"\",Table2[BULAN]=$C$3,TRUE))/(IF($C$4<>\"\",Table2[OFF/ON]=$C$4,TRUE))/(IF($C$5<>\"\",Table2[Status]=$C$5,TRUE))/(IF($C$6<>\"\",Table2[FPPDate]=$C$6,TRUE))/(IF($C$7<>\"\",Table2[ProposalCode]=$C$7,TRUE)),ROW(K401))),\"\")","v":""}]
[{"$f":"IF(LEN($B410),ROW(A402),\"\")","v":""},{"$f":"IFERROR(INDEX(Table2[FPPGroupCode],_xlfn.AGGREGATE(15,6,(ROW(Table2[FPPGroupCode])-2)/(Table2[DepoName]=$C$2)/(IF($C$3<>\"\",Table2[BULAN]=$C$3,TRUE))/(IF($C$4<>\"\",Table2[OFF/ON]=$C$4,TRUE))/(IF($C$5<>\"\",Table2[Status]=$C$5,TRUE))/(IF($C$6<>\"\",Table2[FPPDate]=$C$6,TRUE))/(IF($C$7<>\"\",Table2[ProposalCode]=$C$7,TRUE)),ROW(A402))),\"\")","v":""},{"$f":"IFERROR(VLOOKUP($B410,SIP!$D$3:$Q$12237,14,0),0)","v":0},{"$f":"IFERROR(INDEX(Table2[Activity],_xlfn.AGGREGATE(15,6,(ROW(Table2[FPPGroupCode])-2)/(Table2[DepoName]=$C$2)/(IF($C$3<>\"\",Table2[BULAN]=$C$3,TRUE))/(IF($C$4<>\"\",Table2[OFF/ON]=$C$4,TRUE))/(IF($C$5<>\"\",Table2[Status]=$C$5,TRUE))/(IF($C$6<>\"\",Table2[]=$C$6,TRUE))/(IF($C$7<>\"\",Table2[ProposalCode]=$C$7,TRUE)),ROW(B402))),\"\")","v":""},{"$f":"IFERROR(INDEX(Table2[Location],_xlfn.AGGREGATE(15,6,(ROW(Table2[FPPGroupCode])-2)/(Table2[DepoName]=$C$2)/(IF($C$3<>\"\",Table2[BULAN]=$C$3,TRUE))/(IF($C$4<>\"\",Table2[OFF/ON]=$C$4,TRUE))/(IF($C$5<>\"\",Table2[Status]=$C$5,TRUE))/(IF($C$6<>\"\",Table2[FPPDate]=$C$6,TRUE))/(IF($C$7<>\"\",Table2[ProposalCode]=$C$7,TRUE)),ROW(D402))),\"\")","v":""},{"$f":"IFERROR(INDEX(Table2[PeriodeStart],_xlfn.AGGREGATE(15,6,(ROW(Table2[FPPGroupCode])-2)/(Table2[DepoName]=$C$2)/(IF($C$3<>\"\",Table2[BULAN]=$C$3,TRUE))/(IF($C$4<>\"\",Table2[OFF/ON]=$C$4,TRUE))/(IF($C$5<>\"\",Table2[Status]=$C$5,TRUE))/(IF($C$6<>\"\",Table2[FPPDate]=$C$6,TRUE))/(IF($C$7<>\"\",Table2[ProposalCode]=$C$7,TRUE)),ROW(E402))),\"\")","v":""},{"$f":"IFERROR(INDEX(Table2[PeriodeEnd],_xlfn.AGGREGATE(15,6,(ROW(Table2[FPPGroupCode])-2)/(Table2[DepoName]=$C$2)/(IF($C$3<>\"\",Table2[BULAN]=$C$3,TRUE))/(IF($C$4<>\"\",Table2[OFF/ON]=$C$4,TRUE))/(IF($C$5<>\"\",Table2[Status]=$C$5,TRUE))/(IF($C$6<>\"\",Table2[FPPDate]=$C$6,TRUE))/(IF($C$7<>\"\",Table2[ProposalCode]=$C$7,TRUE)),ROW(F402))),\"\")","v":""},{"$f":"IFERROR(INDEX(Table2[Amount_FPPDepo],_xlfn.AGGREGATE(15,6,(ROW(Table2[FPPGroupCode])-2)/(Table2[DepoName]=$C$2)/(IF($C$3<>\"\",Table2[BULAN]=$C$3,TRUE))/(IF($C$4<>\"\",Table2[OFF/ON]=$C$4,TRUE))/(IF($C$5<>\"\",Table2[Status]=$C$5,TRUE))/(IF($C$6<>\"\",Table2[FPPDate]=$C$6,TRUE))/(IF($C$7<>\"\",Table2[ProposalCode]=$C$7,TRUE)),ROW(G402))),\"\")","v":""},{"$f":"IFERROR(VLOOKUP($B410,SIP!$D$5776:$P$6032,12,0),0)","v":0},{"$f":"IFERROR(H410-I410,0)","v":0},{"$f":"IFERROR(VLOOKUP($B410,SIP!$D$5776:$P$6032,8,0),0)","v":0},{"$f":"IFERROR(INDEX(Table2[OFF/ON],_xlfn.AGGREGATE(15,6,(ROW(Table2[FPPGroupCode])-2)/(Table2[DepoName]=$C$2)/(IF($C$3<>\"\",Table2[BULAN]=$C$3,TRUE))/(IF($C$4<>\"\",Table2[OFF/ON]=$C$4,TRUE))/(IF($C$5<>\"\",Table2[Status]=$C$5,TRUE))/(IF($C$6<>\"\",Table2[FPPDate]=$C$6,TRUE))/(IF($C$7<>\"\",Table2[ProposalCode]=$C$7,TRUE)),ROW(K402))),\"\")","v":""}]
[{"$f":"IF(LEN($B411),ROW(A403),\"\")","v":""},{"$f":"IFERROR(INDEX(Table2[FPPGroupCode],_xlfn.AGGREGATE(15,6,(ROW(Table2[FPPGroupCode])-2)/(Table2[DepoName]=$C$2)/(IF($C$3<>\"\",Table2[BULAN]=$C$3,TRUE))/(IF($C$4<>\"\",Table2[OFF/ON]=$C$4,TRUE))/(IF($C$5<>\"\",Table2[Status]=$C$5,TRUE))/(IF($C$6<>\"\",Table2[FPPDate]=$C$6,TRUE))/(IF($C$7<>\"\",Table2[ProposalCode]=$C$7,TRUE)),ROW(A403))),\"\")","v":""},{"$f":"IFERROR(VLOOKUP($B411,SIP!$D$3:$Q$12237,14,0),0)","v":0},{"$f":"IFERROR(INDEX(Table2[Activity],_xlfn.AGGREGATE(15,6,(ROW(Table2[FPPGroupCode])-2)/(Table2[DepoName]=$C$2)/(IF($C$3<>\"\",Table2[BULAN]=$C$3,TRUE))/(IF($C$4<>\"\",Table2[OFF/ON]=$C$4,TRUE))/(IF($C$5<>\"\",Table2[Status]=$C$5,TRUE))/(IF($C$6<>\"\",Table2[]=$C$6,TRUE))/(IF($C$7<>\"\",Table2[ProposalCode]=$C$7,TRUE)),ROW(B403))),\"\")","v":""},{"$f":"IFERROR(INDEX(Table2[Location],_xlfn.AGGREGATE(15,6,(ROW(Table2[FPPGroupCode])-2)/(Table2[DepoName]=$C$2)/(IF($C$3<>\"\",Table2[BULAN]=$C$3,TRUE))/(IF($C$4<>\"\",Table2[OFF/ON]=$C$4,TRUE))/(IF($C$5<>\"\",Table2[Status]=$C$5,TRUE))/(IF($C$6<>\"\",Table2[FPPDate]=$C$6,TRUE))/(IF($C$7<>\"\",Table2[ProposalCode]=$C$7,TRUE)),ROW(D403))),\"\")","v":""},{"$f":"IFERROR(INDEX(Table2[PeriodeStart],_xlfn.AGGREGATE(15,6,(ROW(Table2[FPPGroupCode])-2)/(Table2[DepoName]=$C$2)/(IF($C$3<>\"\",Table2[BULAN]=$C$3,TRUE))/(IF($C$4<>\"\",Table2[OFF/ON]=$C$4,TRUE))/(IF($C$5<>\"\",Table2[Status]=$C$5,TRUE))/(IF($C$6<>\"\",Table2[FPPDate]=$C$6,TRUE))/(IF($C$7<>\"\",Table2[ProposalCode]=$C$7,TRUE)),ROW(E403))),\"\")","v":""},{"$f":"IFERROR(INDEX(Table2[PeriodeEnd],_xlfn.AGGREGATE(15,6,(ROW(Table2[FPPGroupCode])-2)/(Table2[DepoName]=$C$2)/(IF($C$3<>\"\",Table2[BULAN]=$C$3,TRUE))/(IF($C$4<>\"\",Table2[OFF/ON]=$C$4,TRUE))/(IF($C$5<>\"\",Table2[Status]=$C$5,TRUE))/(IF($C$6<>\"\",Table2[FPPDate]=$C$6,TRUE))/(IF($C$7<>\"\",Table2[ProposalCode]=$C$7,TRUE)),ROW(F403))),\"\")","v":""},{"$f":"IFERROR(INDEX(Table2[Amount_FPPDepo],_xlfn.AGGREGATE(15,6,(ROW(Table2[FPPGroupCode])-2)/(Table2[DepoName]=$C$2)/(IF($C$3<>\"\",Table2[BULAN]=$C$3,TRUE))/(IF($C$4<>\"\",Table2[OFF/ON]=$C$4,TRUE))/(IF($C$5<>\"\",Table2[Status]=$C$5,TRUE))/(IF($C$6<>\"\",Table2[FPPDate]=$C$6,TRUE))/(IF($C$7<>\"\",Table2[ProposalCode]=$C$7,TRUE)),ROW(G403))),\"\")","v":""},{"$f":"IFERROR(VLOOKUP($B411,SIP!$D$5776:$P$6032,12,0),0)","v":0},{"$f":"IFERROR(H411-I411,0)","v":0},{"$f":"IFERROR(VLOOKUP($B411,SIP!$D$5776:$P$6032,8,0),0)","v":0},{"$f":"IFERROR(INDEX(Table2[OFF/ON],_xlfn.AGGREGATE(15,6,(ROW(Table2[FPPGroupCode])-2)/(Table2[DepoName]=$C$2)/(IF($C$3<>\"\",Table2[BULAN]=$C$3,TRUE))/(IF($C$4<>\"\",Table2[OFF/ON]=$C$4,TRUE))/(IF($C$5<>\"\",Table2[Status]=$C$5,TRUE))/(IF($C$6<>\"\",Table2[FPPDate]=$C$6,TRUE))/(IF($C$7<>\"\",Table2[ProposalCode]=$C$7,TRUE)),ROW(K403))),\"\")","v":""}]
[{"$f":"IF(LEN($B412),ROW(A404),\"\")","v":""},{"$f":"IFERROR(INDEX(Table2[FPPGroupCode],_xlfn.AGGREGATE(15,6,(ROW(Table2[FPPGroupCode])-2)/(Table2[DepoName]=$C$2)/(IF($C$3<>\"\",Table2[BULAN]=$C$3,TRUE))/(IF($C$4<>\"\",Table2[OFF/ON]=$C$4,TRUE))/(IF($C$5<>\"\",Table2[Status]=$C$5,TRUE))/(IF($C$6<>\"\",Table2[FPPDate]=$C$6,TRUE))/(IF($C$7<>\"\",Table2[ProposalCode]=$C$7,TRUE)),ROW(A404))),\"\")","v":""},{"$f":"IFERROR(VLOOKUP($B412,SIP!$D$3:$Q$12237,14,0),0)","v":0},{"$f":"IFERROR(INDEX(Table2[Activity],_xlfn.AGGREGATE(15,6,(ROW(Table2[FPPGroupCode])-2)/(Table2[DepoName]=$C$2)/(IF($C$3<>\"\",Table2[BULAN]=$C$3,TRUE))/(IF($C$4<>\"\",Table2[OFF/ON]=$C$4,TRUE))/(IF($C$5<>\"\",Table2[Status]=$C$5,TRUE))/(IF($C$6<>\"\",Table2[]=$C$6,TRUE))/(IF($C$7<>\"\",Table2[ProposalCode]=$C$7,TRUE)),ROW(B404))),\"\")","v":""},{"$f":"IFERROR(INDEX(Table2[Location],_xlfn.AGGREGATE(15,6,(ROW(Table2[FPPGroupCode])-2)/(Table2[DepoName]=$C$2)/(IF($C$3<>\"\",Table2[BULAN]=$C$3,TRUE))/(IF($C$4<>\"\",Table2[OFF/ON]=$C$4,TRUE))/(IF($C$5<>\"\",Table2[Status]=$C$5,TRUE))/(IF($C$6<>\"\",Table2[FPPDate]=$C$6,TRUE))/(IF($C$7<>\"\",Table2[ProposalCode]=$C$7,TRUE)),ROW(D404))),\"\")","v":""},{"$f":"IFERROR(INDEX(Table2[PeriodeStart],_xlfn.AGGREGATE(15,6,(ROW(Table2[FPPGroupCode])-2)/(Table2[DepoName]=$C$2)/(IF($C$3<>\"\",Table2[BULAN]=$C$3,TRUE))/(IF($C$4<>\"\",Table2[OFF/ON]=$C$4,TRUE))/(IF($C$5<>\"\",Table2[Status]=$C$5,TRUE))/(IF($C$6<>\"\",Table2[FPPDate]=$C$6,TRUE))/(IF($C$7<>\"\",Table2[ProposalCode]=$C$7,TRUE)),ROW(E404))),\"\")","v":""},{"$f":"IFERROR(INDEX(Table2[PeriodeEnd],_xlfn.AGGREGATE(15,6,(ROW(Table2[FPPGroupCode])-2)/(Table2[DepoName]=$C$2)/(IF($C$3<>\"\",Table2[BULAN]=$C$3,TRUE))/(IF($C$4<>\"\",Table2[OFF/ON]=$C$4,TRUE))/(IF($C$5<>\"\",Table2[Status]=$C$5,TRUE))/(IF($C$6<>\"\",Table2[FPPDate]=$C$6,TRUE))/(IF($C$7<>\"\",Table2[ProposalCode]=$C$7,TRUE)),ROW(F404))),\"\")","v":""},{"$f":"IFERROR(INDEX(Table2[Amount_FPPDepo],_xlfn.AGGREGATE(15,6,(ROW(Table2[FPPGroupCode])-2)/(Table2[DepoName]=$C$2)/(IF($C$3<>\"\",Table2[BULAN]=$C$3,TRUE))/(IF($C$4<>\"\",Table2[OFF/ON]=$C$4,TRUE))/(IF($C$5<>\"\",Table2[Status]=$C$5,TRUE))/(IF($C$6<>\"\",Table2[FPPDate]=$C$6,TRUE))/(IF($C$7<>\"\",Table2[ProposalCode]=$C$7,TRUE)),ROW(G404))),\"\")","v":""},{"$f":"IFERROR(VLOOKUP($B412,SIP!$D$5776:$P$6032,12,0),0)","v":0},{"$f":"IFERROR(H412-I412,0)","v":0},{"$f":"IFERROR(VLOOKUP($B412,SIP!$D$5776:$P$6032,8,0),0)","v":0},{"$f":"IFERROR(INDEX(Table2[OFF/ON],_xlfn.AGGREGATE(15,6,(ROW(Table2[FPPGroupCode])-2)/(Table2[DepoName]=$C$2)/(IF($C$3<>\"\",Table2[BULAN]=$C$3,TRUE))/(IF($C$4<>\"\",Table2[OFF/ON]=$C$4,TRUE))/(IF($C$5<>\"\",Table2[Status]=$C$5,TRUE))/(IF($C$6<>\"\",Table2[FPPDate]=$C$6,TRUE))/(IF($C$7<>\"\",Table2[ProposalCode]=$C$7,TRUE)),ROW(K404))),\"\")","v":""}]
[{"$f":"IF(LEN($B413),ROW(A405),\"\")","v":""},{"$f":"IFERROR(INDEX(Table2[FPPGroupCode],_xlfn.AGGREGATE(15,6,(ROW(Table2[FPPGroupCode])-2)/(Table2[DepoName]=$C$2)/(IF($C$3<>\"\",Table2[BULAN]=$C$3,TRUE))/(IF($C$4<>\"\",Table2[OFF/ON]=$C$4,TRUE))/(IF($C$5<>\"\",Table2[Status]=$C$5,TRUE))/(IF($C$6<>\"\",Table2[FPPDate]=$C$6,TRUE))/(IF($C$7<>\"\",Table2[ProposalCode]=$C$7,TRUE)),ROW(A405))),\"\")","v":""},{"$f":"IFERROR(VLOOKUP($B413,SIP!$D$3:$Q$12237,14,0),0)","v":0},{"$f":"IFERROR(INDEX(Table2[Activity],_xlfn.AGGREGATE(15,6,(ROW(Table2[FPPGroupCode])-2)/(Table2[DepoName]=$C$2)/(IF($C$3<>\"\",Table2[BULAN]=$C$3,TRUE))/(IF($C$4<>\"\",Table2[OFF/ON]=$C$4,TRUE))/(IF($C$5<>\"\",Table2[Status]=$C$5,TRUE))/(IF($C$6<>\"\",Table2[]=$C$6,TRUE))/(IF($C$7<>\"\",Table2[ProposalCode]=$C$7,TRUE)),ROW(B405))),\"\")","v":""},{"$f":"IFERROR(INDEX(Table2[Location],_xlfn.AGGREGATE(15,6,(ROW(Table2[FPPGroupCode])-2)/(Table2[DepoName]=$C$2)/(IF($C$3<>\"\",Table2[BULAN]=$C$3,TRUE))/(IF($C$4<>\"\",Table2[OFF/ON]=$C$4,TRUE))/(IF($C$5<>\"\",Table2[Status]=$C$5,TRUE))/(IF($C$6<>\"\",Table2[FPPDate]=$C$6,TRUE))/(IF($C$7<>\"\",Table2[ProposalCode]=$C$7,TRUE)),ROW(D405))),\"\")","v":""},{"$f":"IFERROR(INDEX(Table2[PeriodeStart],_xlfn.AGGREGATE(15,6,(ROW(Table2[FPPGroupCode])-2)/(Table2[DepoName]=$C$2)/(IF($C$3<>\"\",Table2[BULAN]=$C$3,TRUE))/(IF($C$4<>\"\",Table2[OFF/ON]=$C$4,TRUE))/(IF($C$5<>\"\",Table2[Status]=$C$5,TRUE))/(IF($C$6<>\"\",Table2[FPPDate]=$C$6,TRUE))/(IF($C$7<>\"\",Table2[ProposalCode]=$C$7,TRUE)),ROW(E405))),\"\")","v":""},{"$f":"IFERROR(INDEX(Table2[PeriodeEnd],_xlfn.AGGREGATE(15,6,(ROW(Table2[FPPGroupCode])-2)/(Table2[DepoName]=$C$2)/(IF($C$3<>\"\",Table2[BULAN]=$C$3,TRUE))/(IF($C$4<>\"\",Table2[OFF/ON]=$C$4,TRUE))/(IF($C$5<>\"\",Table2[Status]=$C$5,TRUE))/(IF($C$6<>\"\",Table2[FPPDate]=$C$6,TRUE))/(IF($C$7<>\"\",Table2[ProposalCode]=$C$7,TRUE)),ROW(F405))),\"\")","v":""},{"$f":"IFERROR(INDEX(Table2[Amount_FPPDepo],_xlfn.AGGREGATE(15,6,(ROW(Table2[FPPGroupCode])-2)/(Table2[DepoName]=$C$2)/(IF($C$3<>\"\",Table2[BULAN]=$C$3,TRUE))/(IF($C$4<>\"\",Table2[OFF/ON]=$C$4,TRUE))/(IF($C$5<>\"\",Table2[Status]=$C$5,TRUE))/(IF($C$6<>\"\",Table2[FPPDate]=$C$6,TRUE))/(IF($C$7<>\"\",Table2[ProposalCode]=$C$7,TRUE)),ROW(G405))),\"\")","v":""},{"$f":"IFERROR(VLOOKUP($B413,SIP!$D$5776:$P$6032,12,0),0)","v":0},{"$f":"IFERROR(H413-I413,0)","v":0},{"$f":"IFERROR(VLOOKUP($B413,SIP!$D$5776:$P$6032,8,0),0)","v":0},{"$f":"IFERROR(INDEX(Table2[OFF/ON],_xlfn.AGGREGATE(15,6,(ROW(Table2[FPPGroupCode])-2)/(Table2[DepoName]=$C$2)/(IF($C$3<>\"\",Table2[BULAN]=$C$3,TRUE))/(IF($C$4<>\"\",Table2[OFF/ON]=$C$4,TRUE))/(IF($C$5<>\"\",Table2[Status]=$C$5,TRUE))/(IF($C$6<>\"\",Table2[FPPDate]=$C$6,TRUE))/(IF($C$7<>\"\",Table2[ProposalCode]=$C$7,TRUE)),ROW(K405))),\"\")","v":""}]
[{"$f":"IF(LEN($B414),ROW(A406),\"\")","v":""},{"$f":"IFERROR(INDEX(Table2[FPPGroupCode],_xlfn.AGGREGATE(15,6,(ROW(Table2[FPPGroupCode])-2)/(Table2[DepoName]=$C$2)/(IF($C$3<>\"\",Table2[BULAN]=$C$3,TRUE))/(IF($C$4<>\"\",Table2[OFF/ON]=$C$4,TRUE))/(IF($C$5<>\"\",Table2[Status]=$C$5,TRUE))/(IF($C$6<>\"\",Table2[FPPDate]=$C$6,TRUE))/(IF($C$7<>\"\",Table2[ProposalCode]=$C$7,TRUE)),ROW(A406))),\"\")","v":""},{"$f":"IFERROR(VLOOKUP($B414,SIP!$D$3:$Q$12237,14,0),0)","v":0},{"$f":"IFERROR(INDEX(Table2[Activity],_xlfn.AGGREGATE(15,6,(ROW(Table2[FPPGroupCode])-2)/(Table2[DepoName]=$C$2)/(IF($C$3<>\"\",Table2[BULAN]=$C$3,TRUE))/(IF($C$4<>\"\",Table2[OFF/ON]=$C$4,TRUE))/(IF($C$5<>\"\",Table2[Status]=$C$5,TRUE))/(IF($C$6<>\"\",Table2[]=$C$6,TRUE))/(IF($C$7<>\"\",Table2[ProposalCode]=$C$7,TRUE)),ROW(B406))),\"\")","v":""},{"$f":"IFERROR(INDEX(Table2[Location],_xlfn.AGGREGATE(15,6,(ROW(Table2[FPPGroupCode])-2)/(Table2[DepoName]=$C$2)/(IF($C$3<>\"\",Table2[BULAN]=$C$3,TRUE))/(IF($C$4<>\"\",Table2[OFF/ON]=$C$4,TRUE))/(IF($C$5<>\"\",Table2[Status]=$C$5,TRUE))/(IF($C$6<>\"\",Table2[FPPDate]=$C$6,TRUE))/(IF($C$7<>\"\",Table2[ProposalCode]=$C$7,TRUE)),ROW(D406))),\"\")","v":""},{"$f":"IFERROR(INDEX(Table2[PeriodeStart],_xlfn.AGGREGATE(15,6,(ROW(Table2[FPPGroupCode])-2)/(Table2[DepoName]=$C$2)/(IF($C$3<>\"\",Table2[BULAN]=$C$3,TRUE))/(IF($C$4<>\"\",Table2[OFF/ON]=$C$4,TRUE))/(IF($C$5<>\"\",Table2[Status]=$C$5,TRUE))/(IF($C$6<>\"\",Table2[FPPDate]=$C$6,TRUE))/(IF($C$7<>\"\",Table2[ProposalCode]=$C$7,TRUE)),ROW(E406))),\"\")","v":""},{"$f":"IFERROR(INDEX(Table2[PeriodeEnd],_xlfn.AGGREGATE(15,6,(ROW(Table2[FPPGroupCode])-2)/(Table2[DepoName]=$C$2)/(IF($C$3<>\"\",Table2[BULAN]=$C$3,TRUE))/(IF($C$4<>\"\",Table2[OFF/ON]=$C$4,TRUE))/(IF($C$5<>\"\",Table2[Status]=$C$5,TRUE))/(IF($C$6<>\"\",Table2[FPPDate]=$C$6,TRUE))/(IF($C$7<>\"\",Table2[ProposalCode]=$C$7,TRUE)),ROW(F406))),\"\")","v":""},{"$f":"IFERROR(INDEX(Table2[Amount_FPPDepo],_xlfn.AGGREGATE(15,6,(ROW(Table2[FPPGroupCode])-2)/(Table2[DepoName]=$C$2)/(IF($C$3<>\"\",Table2[BULAN]=$C$3,TRUE))/(IF($C$4<>\"\",Table2[OFF/ON]=$C$4,TRUE))/(IF($C$5<>\"\",Table2[Status]=$C$5,TRUE))/(IF($C$6<>\"\",Table2[FPPDate]=$C$6,TRUE))/(IF($C$7<>\"\",Table2[ProposalCode]=$C$7,TRUE)),ROW(G406))),\"\")","v":""},{"$f":"IFERROR(VLOOKUP($B414,SIP!$D$5776:$P$6032,12,0),0)","v":0},{"$f":"IFERROR(H414-I414,0)","v":0},{"$f":"IFERROR(VLOOKUP($B414,SIP!$D$5776:$P$6032,8,0),0)","v":0},{"$f":"IFERROR(INDEX(Table2[OFF/ON],_xlfn.AGGREGATE(15,6,(ROW(Table2[FPPGroupCode])-2)/(Table2[DepoName]=$C$2)/(IF($C$3<>\"\",Table2[BULAN]=$C$3,TRUE))/(IF($C$4<>\"\",Table2[OFF/ON]=$C$4,TRUE))/(IF($C$5<>\"\",Table2[Status]=$C$5,TRUE))/(IF($C$6<>\"\",Table2[FPPDate]=$C$6,TRUE))/(IF($C$7<>\"\",Table2[ProposalCode]=$C$7,TRUE)),ROW(K406))),\"\")","v":""}]
[{"$f":"IF(LEN($B415),ROW(A407),\"\")","v":""},{"$f":"IFERROR(INDEX(Table2[FPPGroupCode],_xlfn.AGGREGATE(15,6,(ROW(Table2[FPPGroupCode])-2)/(Table2[DepoName]=$C$2)/(IF($C$3<>\"\",Table2[BULAN]=$C$3,TRUE))/(IF($C$4<>\"\",Table2[OFF/ON]=$C$4,TRUE))/(IF($C$5<>\"\",Table2[Status]=$C$5,TRUE))/(IF($C$6<>\"\",Table2[FPPDate]=$C$6,TRUE))/(IF($C$7<>\"\",Table2[ProposalCode]=$C$7,TRUE)),ROW(A407))),\"\")","v":""},{"$f":"IFERROR(VLOOKUP($B415,SIP!$D$3:$Q$12237,14,0),0)","v":0},{"$f":"IFERROR(INDEX(Table2[Activity],_xlfn.AGGREGATE(15,6,(ROW(Table2[FPPGroupCode])-2)/(Table2[DepoName]=$C$2)/(IF($C$3<>\"\",Table2[BULAN]=$C$3,TRUE))/(IF($C$4<>\"\",Table2[OFF/ON]=$C$4,TRUE))/(IF($C$5<>\"\",Table2[Status]=$C$5,TRUE))/(IF($C$6<>\"\",Table2[]=$C$6,TRUE))/(IF($C$7<>\"\",Table2[ProposalCode]=$C$7,TRUE)),ROW(B407))),\"\")","v":""},{"$f":"IFERROR(INDEX(Table2[Location],_xlfn.AGGREGATE(15,6,(ROW(Table2[FPPGroupCode])-2)/(Table2[DepoName]=$C$2)/(IF($C$3<>\"\",Table2[BULAN]=$C$3,TRUE))/(IF($C$4<>\"\",Table2[OFF/ON]=$C$4,TRUE))/(IF($C$5<>\"\",Table2[Status]=$C$5,TRUE))/(IF($C$6<>\"\",Table2[FPPDate]=$C$6,TRUE))/(IF($C$7<>\"\",Table2[ProposalCode]=$C$7,TRUE)),ROW(D407))),\"\")","v":""},{"$f":"IFERROR(INDEX(Table2[PeriodeStart],_xlfn.AGGREGATE(15,6,(ROW(Table2[FPPGroupCode])-2)/(Table2[DepoName]=$C$2)/(IF($C$3<>\"\",Table2[BULAN]=$C$3,TRUE))/(IF($C$4<>\"\",Table2[OFF/ON]=$C$4,TRUE))/(IF($C$5<>\"\",Table2[Status]=$C$5,TRUE))/(IF($C$6<>\"\",Table2[FPPDate]=$C$6,TRUE))/(IF($C$7<>\"\",Table2[ProposalCode]=$C$7,TRUE)),ROW(E407))),\"\")","v":""},{"$f":"IFERROR(INDEX(Table2[PeriodeEnd],_xlfn.AGGREGATE(15,6,(ROW(Table2[FPPGroupCode])-2)/(Table2[DepoName]=$C$2)/(IF($C$3<>\"\",Table2[BULAN]=$C$3,TRUE))/(IF($C$4<>\"\",Table2[OFF/ON]=$C$4,TRUE))/(IF($C$5<>\"\",Table2[Status]=$C$5,TRUE))/(IF($C$6<>\"\",Table2[FPPDate]=$C$6,TRUE))/(IF($C$7<>\"\",Table2[ProposalCode]=$C$7,TRUE)),ROW(F407))),\"\")","v":""},{"$f":"IFERROR(INDEX(Table2[Amount_FPPDepo],_xlfn.AGGREGATE(15,6,(ROW(Table2[FPPGroupCode])-2)/(Table2[DepoName]=$C$2)/(IF($C$3<>\"\",Table2[BULAN]=$C$3,TRUE))/(IF($C$4<>\"\",Table2[OFF/ON]=$C$4,TRUE))/(IF($C$5<>\"\",Table2[Status]=$C$5,TRUE))/(IF($C$6<>\"\",Table2[FPPDate]=$C$6,TRUE))/(IF($C$7<>\"\",Table2[ProposalCode]=$C$7,TRUE)),ROW(G407))),\"\")","v":""},{"$f":"IFERROR(VLOOKUP($B415,SIP!$D$5776:$P$6032,12,0),0)","v":0},{"$f":"IFERROR(H415-I415,0)","v":0},{"$f":"IFERROR(VLOOKUP($B415,SIP!$D$5776:$P$6032,8,0),0)","v":0},{"$f":"IFERROR(INDEX(Table2[OFF/ON],_xlfn.AGGREGATE(15,6,(ROW(Table2[FPPGroupCode])-2)/(Table2[DepoName]=$C$2)/(IF($C$3<>\"\",Table2[BULAN]=$C$3,TRUE))/(IF($C$4<>\"\",Table2[OFF/ON]=$C$4,TRUE))/(IF($C$5<>\"\",Table2[Status]=$C$5,TRUE))/(IF($C$6<>\"\",Table2[FPPDate]=$C$6,TRUE))/(IF($C$7<>\"\",Table2[ProposalCode]=$C$7,TRUE)),ROW(K407))),\"\")","v":""}]
[{"$f":"IF(LEN($B416),ROW(A408),\"\")","v":""},{"$f":"IFERROR(INDEX(Table2[FPPGroupCode],_xlfn.AGGREGATE(15,6,(ROW(Table2[FPPGroupCode])-2)/(Table2[DepoName]=$C$2)/(IF($C$3<>\"\",Table2[BULAN]=$C$3,TRUE))/(IF($C$4<>\"\",Table2[OFF/ON]=$C$4,TRUE))/(IF($C$5<>\"\",Table2[Status]=$C$5,TRUE))/(IF($C$6<>\"\",Table2[FPPDate]=$C$6,TRUE))/(IF($C$7<>\"\",Table2[ProposalCode]=$C$7,TRUE)),ROW(A408))),\"\")","v":""},{"$f":"IFERROR(VLOOKUP($B416,SIP!$D$3:$Q$12237,14,0),0)","v":0},{"$f":"IFERROR(INDEX(Table2[Activity],_xlfn.AGGREGATE(15,6,(ROW(Table2[FPPGroupCode])-2)/(Table2[DepoName]=$C$2)/(IF($C$3<>\"\",Table2[BULAN]=$C$3,TRUE))/(IF($C$4<>\"\",Table2[OFF/ON]=$C$4,TRUE))/(IF($C$5<>\"\",Table2[Status]=$C$5,TRUE))/(IF($C$6<>\"\",Table2[]=$C$6,TRUE))/(IF($C$7<>\"\",Table2[ProposalCode]=$C$7,TRUE)),ROW(B408))),\"\")","v":""},{"$f":"IFERROR(INDEX(Table2[Location],_xlfn.AGGREGATE(15,6,(ROW(Table2[FPPGroupCode])-2)/(Table2[DepoName]=$C$2)/(IF($C$3<>\"\",Table2[BULAN]=$C$3,TRUE))/(IF($C$4<>\"\",Table2[OFF/ON]=$C$4,TRUE))/(IF($C$5<>\"\",Table2[Status]=$C$5,TRUE))/(IF($C$6<>\"\",Table2[FPPDate]=$C$6,TRUE))/(IF($C$7<>\"\",Table2[ProposalCode]=$C$7,TRUE)),ROW(D408))),\"\")","v":""},{"$f":"IFERROR(INDEX(Table2[PeriodeStart],_xlfn.AGGREGATE(15,6,(ROW(Table2[FPPGroupCode])-2)/(Table2[DepoName]=$C$2)/(IF($C$3<>\"\",Table2[BULAN]=$C$3,TRUE))/(IF($C$4<>\"\",Table2[OFF/ON]=$C$4,TRUE))/(IF($C$5<>\"\",Table2[Status]=$C$5,TRUE))/(IF($C$6<>\"\",Table2[FPPDate]=$C$6,TRUE))/(IF($C$7<>\"\",Table2[ProposalCode]=$C$7,TRUE)),ROW(E408))),\"\")","v":""},{"$f":"IFERROR(INDEX(Table2[PeriodeEnd],_xlfn.AGGREGATE(15,6,(ROW(Table2[FPPGroupCode])-2)/(Table2[DepoName]=$C$2)/(IF($C$3<>\"\",Table2[BULAN]=$C$3,TRUE))/(IF($C$4<>\"\",Table2[OFF/ON]=$C$4,TRUE))/(IF($C$5<>\"\",Table2[Status]=$C$5,TRUE))/(IF($C$6<>\"\",Table2[FPPDate]=$C$6,TRUE))/(IF($C$7<>\"\",Table2[ProposalCode]=$C$7,TRUE)),ROW(F408))),\"\")","v":""},{"$f":"IFERROR(INDEX(Table2[Amount_FPPDepo],_xlfn.AGGREGATE(15,6,(ROW(Table2[FPPGroupCode])-2)/(Table2[DepoName]=$C$2)/(IF($C$3<>\"\",Table2[BULAN]=$C$3,TRUE))/(IF($C$4<>\"\",Table2[OFF/ON]=$C$4,TRUE))/(IF($C$5<>\"\",Table2[Status]=$C$5,TRUE))/(IF($C$6<>\"\",Table2[FPPDate]=$C$6,TRUE))/(IF($C$7<>\"\",Table2[ProposalCode]=$C$7,TRUE)),ROW(G408))),\"\")","v":""},{"$f":"IFERROR(VLOOKUP($B416,SIP!$D$5776:$P$6032,12,0),0)","v":0},{"$f":"IFERROR(H416-I416,0)","v":0},{"$f":"IFERROR(VLOOKUP($B416,SIP!$D$5776:$P$6032,8,0),0)","v":0},{"$f":"IFERROR(INDEX(Table2[OFF/ON],_xlfn.AGGREGATE(15,6,(ROW(Table2[FPPGroupCode])-2)/(Table2[DepoName]=$C$2)/(IF($C$3<>\"\",Table2[BULAN]=$C$3,TRUE))/(IF($C$4<>\"\",Table2[OFF/ON]=$C$4,TRUE))/(IF($C$5<>\"\",Table2[Status]=$C$5,TRUE))/(IF($C$6<>\"\",Table2[FPPDate]=$C$6,TRUE))/(IF($C$7<>\"\",Table2[ProposalCode]=$C$7,TRUE)),ROW(K408))),\"\")","v":""}]
[{"$f":"IF(LEN($B417),ROW(A409),\"\")","v":""},{"$f":"IFERROR(INDEX(Table2[FPPGroupCode],_xlfn.AGGREGATE(15,6,(ROW(Table2[FPPGroupCode])-2)/(Table2[DepoName]=$C$2)/(IF($C$3<>\"\",Table2[BULAN]=$C$3,TRUE))/(IF($C$4<>\"\",Table2[OFF/ON]=$C$4,TRUE))/(IF($C$5<>\"\",Table2[Status]=$C$5,TRUE))/(IF($C$6<>\"\",Table2[FPPDate]=$C$6,TRUE))/(IF($C$7<>\"\",Table2[ProposalCode]=$C$7,TRUE)),ROW(A409))),\"\")","v":""},{"$f":"IFERROR(VLOOKUP($B417,SIP!$D$3:$Q$12237,14,0),0)","v":0},{"$f":"IFERROR(INDEX(Table2[Activity],_xlfn.AGGREGATE(15,6,(ROW(Table2[FPPGroupCode])-2)/(Table2[DepoName]=$C$2)/(IF($C$3<>\"\",Table2[BULAN]=$C$3,TRUE))/(IF($C$4<>\"\",Table2[OFF/ON]=$C$4,TRUE))/(IF($C$5<>\"\",Table2[Status]=$C$5,TRUE))/(IF($C$6<>\"\",Table2[]=$C$6,TRUE))/(IF($C$7<>\"\",Table2[ProposalCode]=$C$7,TRUE)),ROW(B409))),\"\")","v":""},{"$f":"IFERROR(INDEX(Table2[Location],_xlfn.AGGREGATE(15,6,(ROW(Table2[FPPGroupCode])-2)/(Table2[DepoName]=$C$2)/(IF($C$3<>\"\",Table2[BULAN]=$C$3,TRUE))/(IF($C$4<>\"\",Table2[OFF/ON]=$C$4,TRUE))/(IF($C$5<>\"\",Table2[Status]=$C$5,TRUE))/(IF($C$6<>\"\",Table2[FPPDate]=$C$6,TRUE))/(IF($C$7<>\"\",Table2[ProposalCode]=$C$7,TRUE)),ROW(D409))),\"\")","v":""},{"$f":"IFERROR(INDEX(Table2[PeriodeStart],_xlfn.AGGREGATE(15,6,(ROW(Table2[FPPGroupCode])-2)/(Table2[DepoName]=$C$2)/(IF($C$3<>\"\",Table2[BULAN]=$C$3,TRUE))/(IF($C$4<>\"\",Table2[OFF/ON]=$C$4,TRUE))/(IF($C$5<>\"\",Table2[Status]=$C$5,TRUE))/(IF($C$6<>\"\",Table2[FPPDate]=$C$6,TRUE))/(IF($C$7<>\"\",Table2[ProposalCode]=$C$7,TRUE)),ROW(E409))),\"\")","v":""},{"$f":"IFERROR(INDEX(Table2[PeriodeEnd],_xlfn.AGGREGATE(15,6,(ROW(Table2[FPPGroupCode])-2)/(Table2[DepoName]=$C$2)/(IF($C$3<>\"\",Table2[BULAN]=$C$3,TRUE))/(IF($C$4<>\"\",Table2[OFF/ON]=$C$4,TRUE))/(IF($C$5<>\"\",Table2[Status]=$C$5,TRUE))/(IF($C$6<>\"\",Table2[FPPDate]=$C$6,TRUE))/(IF($C$7<>\"\",Table2[ProposalCode]=$C$7,TRUE)),ROW(F409))),\"\")","v":""},{"$f":"IFERROR(INDEX(Table2[Amount_FPPDepo],_xlfn.AGGREGATE(15,6,(ROW(Table2[FPPGroupCode])-2)/(Table2[DepoName]=$C$2)/(IF($C$3<>\"\",Table2[BULAN]=$C$3,TRUE))/(IF($C$4<>\"\",Table2[OFF/ON]=$C$4,TRUE))/(IF($C$5<>\"\",Table2[Status]=$C$5,TRUE))/(IF($C$6<>\"\",Table2[FPPDate]=$C$6,TRUE))/(IF($C$7<>\"\",Table2[ProposalCode]=$C$7,TRUE)),ROW(G409))),\"\")","v":""},{"$f":"IFERROR(VLOOKUP($B417,SIP!$D$5776:$P$6032,12,0),0)","v":0},{"$f":"IFERROR(H417-I417,0)","v":0},{"$f":"IFERROR(VLOOKUP($B417,SIP!$D$5776:$P$6032,8,0),0)","v":0},{"$f":"IFERROR(INDEX(Table2[OFF/ON],_xlfn.AGGREGATE(15,6,(ROW(Table2[FPPGroupCode])-2)/(Table2[DepoName]=$C$2)/(IF($C$3<>\"\",Table2[BULAN]=$C$3,TRUE))/(IF($C$4<>\"\",Table2[OFF/ON]=$C$4,TRUE))/(IF($C$5<>\"\",Table2[Status]=$C$5,TRUE))/(IF($C$6<>\"\",Table2[FPPDate]=$C$6,TRUE))/(IF($C$7<>\"\",Table2[ProposalCode]=$C$7,TRUE)),ROW(K409))),\"\")","v":""}]
[{"$f":"IF(LEN($B418),ROW(A410),\"\")","v":""},{"$f":"IFERROR(INDEX(Table2[FPPGroupCode],_xlfn.AGGREGATE(15,6,(ROW(Table2[FPPGroupCode])-2)/(Table2[DepoName]=$C$2)/(IF($C$3<>\"\",Table2[BULAN]=$C$3,TRUE))/(IF($C$4<>\"\",Table2[OFF/ON]=$C$4,TRUE))/(IF($C$5<>\"\",Table2[Status]=$C$5,TRUE))/(IF($C$6<>\"\",Table2[FPPDate]=$C$6,TRUE))/(IF($C$7<>\"\",Table2[ProposalCode]=$C$7,TRUE)),ROW(A410))),\"\")","v":""},{"$f":"IFERROR(VLOOKUP($B418,SIP!$D$3:$Q$12237,14,0),0)","v":0},{"$f":"IFERROR(INDEX(Table2[Activity],_xlfn.AGGREGATE(15,6,(ROW(Table2[FPPGroupCode])-2)/(Table2[DepoName]=$C$2)/(IF($C$3<>\"\",Table2[BULAN]=$C$3,TRUE))/(IF($C$4<>\"\",Table2[OFF/ON]=$C$4,TRUE))/(IF($C$5<>\"\",Table2[Status]=$C$5,TRUE))/(IF($C$6<>\"\",Table2[]=$C$6,TRUE))/(IF($C$7<>\"\",Table2[ProposalCode]=$C$7,TRUE)),ROW(B410))),\"\")","v":""},{"$f":"IFERROR(INDEX(Table2[Location],_xlfn.AGGREGATE(15,6,(ROW(Table2[FPPGroupCode])-2)/(Table2[DepoName]=$C$2)/(IF($C$3<>\"\",Table2[BULAN]=$C$3,TRUE))/(IF($C$4<>\"\",Table2[OFF/ON]=$C$4,TRUE))/(IF($C$5<>\"\",Table2[Status]=$C$5,TRUE))/(IF($C$6<>\"\",Table2[FPPDate]=$C$6,TRUE))/(IF($C$7<>\"\",Table2[ProposalCode]=$C$7,TRUE)),ROW(D410))),\"\")","v":""},{"$f":"IFERROR(INDEX(Table2[PeriodeStart],_xlfn.AGGREGATE(15,6,(ROW(Table2[FPPGroupCode])-2)/(Table2[DepoName]=$C$2)/(IF($C$3<>\"\",Table2[BULAN]=$C$3,TRUE))/(IF($C$4<>\"\",Table2[OFF/ON]=$C$4,TRUE))/(IF($C$5<>\"\",Table2[Status]=$C$5,TRUE))/(IF($C$6<>\"\",Table2[FPPDate]=$C$6,TRUE))/(IF($C$7<>\"\",Table2[ProposalCode]=$C$7,TRUE)),ROW(E410))),\"\")","v":""},{"$f":"IFERROR(INDEX(Table2[PeriodeEnd],_xlfn.AGGREGATE(15,6,(ROW(Table2[FPPGroupCode])-2)/(Table2[DepoName]=$C$2)/(IF($C$3<>\"\",Table2[BULAN]=$C$3,TRUE))/(IF($C$4<>\"\",Table2[OFF/ON]=$C$4,TRUE))/(IF($C$5<>\"\",Table2[Status]=$C$5,TRUE))/(IF($C$6<>\"\",Table2[FPPDate]=$C$6,TRUE))/(IF($C$7<>\"\",Table2[ProposalCode]=$C$7,TRUE)),ROW(F410))),\"\")","v":""},{"$f":"IFERROR(INDEX(Table2[Amount_FPPDepo],_xlfn.AGGREGATE(15,6,(ROW(Table2[FPPGroupCode])-2)/(Table2[DepoName]=$C$2)/(IF($C$3<>\"\",Table2[BULAN]=$C$3,TRUE))/(IF($C$4<>\"\",Table2[OFF/ON]=$C$4,TRUE))/(IF($C$5<>\"\",Table2[Status]=$C$5,TRUE))/(IF($C$6<>\"\",Table2[FPPDate]=$C$6,TRUE))/(IF($C$7<>\"\",Table2[ProposalCode]=$C$7,TRUE)),ROW(G410))),\"\")","v":""},{"$f":"IFERROR(VLOOKUP($B418,SIP!$D$5776:$P$6032,12,0),0)","v":0},{"$f":"IFERROR(H418-I418,0)","v":0},{"$f":"IFERROR(VLOOKUP($B418,SIP!$D$5776:$P$6032,8,0),0)","v":0},{"$f":"IFERROR(INDEX(Table2[OFF/ON],_xlfn.AGGREGATE(15,6,(ROW(Table2[FPPGroupCode])-2)/(Table2[DepoName]=$C$2)/(IF($C$3<>\"\",Table2[BULAN]=$C$3,TRUE))/(IF($C$4<>\"\",Table2[OFF/ON]=$C$4,TRUE))/(IF($C$5<>\"\",Table2[Status]=$C$5,TRUE))/(IF($C$6<>\"\",Table2[FPPDate]=$C$6,TRUE))/(IF($C$7<>\"\",Table2[ProposalCode]=$C$7,TRUE)),ROW(K410))),\"\")","v":""}]
[{"$f":"IF(LEN($B419),ROW(A411),\"\")","v":""},{"$f":"IFERROR(INDEX(Table2[FPPGroupCode],_xlfn.AGGREGATE(15,6,(ROW(Table2[FPPGroupCode])-2)/(Table2[DepoName]=$C$2)/(IF($C$3<>\"\",Table2[BULAN]=$C$3,TRUE))/(IF($C$4<>\"\",Table2[OFF/ON]=$C$4,TRUE))/(IF($C$5<>\"\",Table2[Status]=$C$5,TRUE))/(IF($C$6<>\"\",Table2[FPPDate]=$C$6,TRUE))/(IF($C$7<>\"\",Table2[ProposalCode]=$C$7,TRUE)),ROW(A411))),\"\")","v":""},{"$f":"IFERROR(VLOOKUP($B419,SIP!$D$3:$Q$12237,14,0),0)","v":0},{"$f":"IFERROR(INDEX(Table2[Activity],_xlfn.AGGREGATE(15,6,(ROW(Table2[FPPGroupCode])-2)/(Table2[DepoName]=$C$2)/(IF($C$3<>\"\",Table2[BULAN]=$C$3,TRUE))/(IF($C$4<>\"\",Table2[OFF/ON]=$C$4,TRUE))/(IF($C$5<>\"\",Table2[Status]=$C$5,TRUE))/(IF($C$6<>\"\",Table2[]=$C$6,TRUE))/(IF($C$7<>\"\",Table2[ProposalCode]=$C$7,TRUE)),ROW(B411))),\"\")","v":""},{"$f":"IFERROR(INDEX(Table2[Location],_xlfn.AGGREGATE(15,6,(ROW(Table2[FPPGroupCode])-2)/(Table2[DepoName]=$C$2)/(IF($C$3<>\"\",Table2[BULAN]=$C$3,TRUE))/(IF($C$4<>\"\",Table2[OFF/ON]=$C$4,TRUE))/(IF($C$5<>\"\",Table2[Status]=$C$5,TRUE))/(IF($C$6<>\"\",Table2[FPPDate]=$C$6,TRUE))/(IF($C$7<>\"\",Table2[ProposalCode]=$C$7,TRUE)),ROW(D411))),\"\")","v":""},{"$f":"IFERROR(INDEX(Table2[PeriodeStart],_xlfn.AGGREGATE(15,6,(ROW(Table2[FPPGroupCode])-2)/(Table2[DepoName]=$C$2)/(IF($C$3<>\"\",Table2[BULAN]=$C$3,TRUE))/(IF($C$4<>\"\",Table2[OFF/ON]=$C$4,TRUE))/(IF($C$5<>\"\",Table2[Status]=$C$5,TRUE))/(IF($C$6<>\"\",Table2[FPPDate]=$C$6,TRUE))/(IF($C$7<>\"\",Table2[ProposalCode]=$C$7,TRUE)),ROW(E411))),\"\")","v":""},{"$f":"IFERROR(INDEX(Table2[PeriodeEnd],_xlfn.AGGREGATE(15,6,(ROW(Table2[FPPGroupCode])-2)/(Table2[DepoName]=$C$2)/(IF($C$3<>\"\",Table2[BULAN]=$C$3,TRUE))/(IF($C$4<>\"\",Table2[OFF/ON]=$C$4,TRUE))/(IF($C$5<>\"\",Table2[Status]=$C$5,TRUE))/(IF($C$6<>\"\",Table2[FPPDate]=$C$6,TRUE))/(IF($C$7<>\"\",Table2[ProposalCode]=$C$7,TRUE)),ROW(F411))),\"\")","v":""},{"$f":"IFERROR(INDEX(Table2[Amount_FPPDepo],_xlfn.AGGREGATE(15,6,(ROW(Table2[FPPGroupCode])-2)/(Table2[DepoName]=$C$2)/(IF($C$3<>\"\",Table2[BULAN]=$C$3,TRUE))/(IF($C$4<>\"\",Table2[OFF/ON]=$C$4,TRUE))/(IF($C$5<>\"\",Table2[Status]=$C$5,TRUE))/(IF($C$6<>\"\",Table2[FPPDate]=$C$6,TRUE))/(IF($C$7<>\"\",Table2[ProposalCode]=$C$7,TRUE)),ROW(G411))),\"\")","v":""},{"$f":"IFERROR(VLOOKUP($B419,SIP!$D$5776:$P$6032,12,0),0)","v":0},{"$f":"IFERROR(H419-I419,0)","v":0},{"$f":"IFERROR(VLOOKUP($B419,SIP!$D$5776:$P$6032,8,0),0)","v":0},{"$f":"IFERROR(INDEX(Table2[OFF/ON],_xlfn.AGGREGATE(15,6,(ROW(Table2[FPPGroupCode])-2)/(Table2[DepoName]=$C$2)/(IF($C$3<>\"\",Table2[BULAN]=$C$3,TRUE))/(IF($C$4<>\"\",Table2[OFF/ON]=$C$4,TRUE))/(IF($C$5<>\"\",Table2[Status]=$C$5,TRUE))/(IF($C$6<>\"\",Table2[FPPDate]=$C$6,TRUE))/(IF($C$7<>\"\",Table2[ProposalCode]=$C$7,TRUE)),ROW(K411))),\"\")","v":""}]
[{"$f":"IF(LEN($B420),ROW(A412),\"\")","v":""},{"$f":"IFERROR(INDEX(Table2[FPPGroupCode],_xlfn.AGGREGATE(15,6,(ROW(Table2[FPPGroupCode])-2)/(Table2[DepoName]=$C$2)/(IF($C$3<>\"\",Table2[BULAN]=$C$3,TRUE))/(IF($C$4<>\"\",Table2[OFF/ON]=$C$4,TRUE))/(IF($C$5<>\"\",Table2[Status]=$C$5,TRUE))/(IF($C$6<>\"\",Table2[FPPDate]=$C$6,TRUE))/(IF($C$7<>\"\",Table2[ProposalCode]=$C$7,TRUE)),ROW(A412))),\"\")","v":""},{"$f":"IFERROR(VLOOKUP($B420,SIP!$D$3:$Q$12237,14,0),0)","v":0},{"$f":"IFERROR(INDEX(Table2[Activity],_xlfn.AGGREGATE(15,6,(ROW(Table2[FPPGroupCode])-2)/(Table2[DepoName]=$C$2)/(IF($C$3<>\"\",Table2[BULAN]=$C$3,TRUE))/(IF($C$4<>\"\",Table2[OFF/ON]=$C$4,TRUE))/(IF($C$5<>\"\",Table2[Status]=$C$5,TRUE))/(IF($C$6<>\"\",Table2[]=$C$6,TRUE))/(IF($C$7<>\"\",Table2[ProposalCode]=$C$7,TRUE)),ROW(B412))),\"\")","v":""},{"$f":"IFERROR(INDEX(Table2[Location],_xlfn.AGGREGATE(15,6,(ROW(Table2[FPPGroupCode])-2)/(Table2[DepoName]=$C$2)/(IF($C$3<>\"\",Table2[BULAN]=$C$3,TRUE))/(IF($C$4<>\"\",Table2[OFF/ON]=$C$4,TRUE))/(IF($C$5<>\"\",Table2[Status]=$C$5,TRUE))/(IF($C$6<>\"\",Table2[FPPDate]=$C$6,TRUE))/(IF($C$7<>\"\",Table2[ProposalCode]=$C$7,TRUE)),ROW(D412))),\"\")","v":""},{"$f":"IFERROR(INDEX(Table2[PeriodeStart],_xlfn.AGGREGATE(15,6,(ROW(Table2[FPPGroupCode])-2)/(Table2[DepoName]=$C$2)/(IF($C$3<>\"\",Table2[BULAN]=$C$3,TRUE))/(IF($C$4<>\"\",Table2[OFF/ON]=$C$4,TRUE))/(IF($C$5<>\"\",Table2[Status]=$C$5,TRUE))/(IF($C$6<>\"\",Table2[FPPDate]=$C$6,TRUE))/(IF($C$7<>\"\",Table2[ProposalCode]=$C$7,TRUE)),ROW(E412))),\"\")","v":""},{"$f":"IFERROR(INDEX(Table2[PeriodeEnd],_xlfn.AGGREGATE(15,6,(ROW(Table2[FPPGroupCode])-2)/(Table2[DepoName]=$C$2)/(IF($C$3<>\"\",Table2[BULAN]=$C$3,TRUE))/(IF($C$4<>\"\",Table2[OFF/ON]=$C$4,TRUE))/(IF($C$5<>\"\",Table2[Status]=$C$5,TRUE))/(IF($C$6<>\"\",Table2[FPPDate]=$C$6,TRUE))/(IF($C$7<>\"\",Table2[ProposalCode]=$C$7,TRUE)),ROW(F412))),\"\")","v":""},{"$f":"IFERROR(INDEX(Table2[Amount_FPPDepo],_xlfn.AGGREGATE(15,6,(ROW(Table2[FPPGroupCode])-2)/(Table2[DepoName]=$C$2)/(IF($C$3<>\"\",Table2[BULAN]=$C$3,TRUE))/(IF($C$4<>\"\",Table2[OFF/ON]=$C$4,TRUE))/(IF($C$5<>\"\",Table2[Status]=$C$5,TRUE))/(IF($C$6<>\"\",Table2[FPPDate]=$C$6,TRUE))/(IF($C$7<>\"\",Table2[ProposalCode]=$C$7,TRUE)),ROW(G412))),\"\")","v":""},{"$f":"IFERROR(VLOOKUP($B420,SIP!$D$5776:$P$6032,12,0),0)","v":0},{"$f":"IFERROR(H420-I420,0)","v":0},{"$f":"IFERROR(VLOOKUP($B420,SIP!$D$5776:$P$6032,8,0),0)","v":0},{"$f":"IFERROR(INDEX(Table2[OFF/ON],_xlfn.AGGREGATE(15,6,(ROW(Table2[FPPGroupCode])-2)/(Table2[DepoName]=$C$2)/(IF($C$3<>\"\",Table2[BULAN]=$C$3,TRUE))/(IF($C$4<>\"\",Table2[OFF/ON]=$C$4,TRUE))/(IF($C$5<>\"\",Table2[Status]=$C$5,TRUE))/(IF($C$6<>\"\",Table2[FPPDate]=$C$6,TRUE))/(IF($C$7<>\"\",Table2[ProposalCode]=$C$7,TRUE)),ROW(K412))),\"\")","v":""}]
[{"$f":"IF(LEN($B421),ROW(A413),\"\")","v":""},{"$f":"IFERROR(INDEX(Table2[FPPGroupCode],_xlfn.AGGREGATE(15,6,(ROW(Table2[FPPGroupCode])-2)/(Table2[DepoName]=$C$2)/(IF($C$3<>\"\",Table2[BULAN]=$C$3,TRUE))/(IF($C$4<>\"\",Table2[OFF/ON]=$C$4,TRUE))/(IF($C$5<>\"\",Table2[Status]=$C$5,TRUE))/(IF($C$6<>\"\",Table2[FPPDate]=$C$6,TRUE))/(IF($C$7<>\"\",Table2[ProposalCode]=$C$7,TRUE)),ROW(A413))),\"\")","v":""},{"$f":"IFERROR(VLOOKUP($B421,SIP!$D$3:$Q$12237,14,0),0)","v":0},{"$f":"IFERROR(INDEX(Table2[Activity],_xlfn.AGGREGATE(15,6,(ROW(Table2[FPPGroupCode])-2)/(Table2[DepoName]=$C$2)/(IF($C$3<>\"\",Table2[BULAN]=$C$3,TRUE))/(IF($C$4<>\"\",Table2[OFF/ON]=$C$4,TRUE))/(IF($C$5<>\"\",Table2[Status]=$C$5,TRUE))/(IF($C$6<>\"\",Table2[]=$C$6,TRUE))/(IF($C$7<>\"\",Table2[ProposalCode]=$C$7,TRUE)),ROW(B413))),\"\")","v":""},{"$f":"IFERROR(INDEX(Table2[Location],_xlfn.AGGREGATE(15,6,(ROW(Table2[FPPGroupCode])-2)/(Table2[DepoName]=$C$2)/(IF($C$3<>\"\",Table2[BULAN]=$C$3,TRUE))/(IF($C$4<>\"\",Table2[OFF/ON]=$C$4,TRUE))/(IF($C$5<>\"\",Table2[Status]=$C$5,TRUE))/(IF($C$6<>\"\",Table2[FPPDate]=$C$6,TRUE))/(IF($C$7<>\"\",Table2[ProposalCode]=$C$7,TRUE)),ROW(D413))),\"\")","v":""},{"$f":"IFERROR(INDEX(Table2[PeriodeStart],_xlfn.AGGREGATE(15,6,(ROW(Table2[FPPGroupCode])-2)/(Table2[DepoName]=$C$2)/(IF($C$3<>\"\",Table2[BULAN]=$C$3,TRUE))/(IF($C$4<>\"\",Table2[OFF/ON]=$C$4,TRUE))/(IF($C$5<>\"\",Table2[Status]=$C$5,TRUE))/(IF($C$6<>\"\",Table2[FPPDate]=$C$6,TRUE))/(IF($C$7<>\"\",Table2[ProposalCode]=$C$7,TRUE)),ROW(E413))),\"\")","v":""},{"$f":"IFERROR(INDEX(Table2[PeriodeEnd],_xlfn.AGGREGATE(15,6,(ROW(Table2[FPPGroupCode])-2)/(Table2[DepoName]=$C$2)/(IF($C$3<>\"\",Table2[BULAN]=$C$3,TRUE))/(IF($C$4<>\"\",Table2[OFF/ON]=$C$4,TRUE))/(IF($C$5<>\"\",Table2[Status]=$C$5,TRUE))/(IF($C$6<>\"\",Table2[FPPDate]=$C$6,TRUE))/(IF($C$7<>\"\",Table2[ProposalCode]=$C$7,TRUE)),ROW(F413))),\"\")","v":""},{"$f":"IFERROR(INDEX(Table2[Amount_FPPDepo],_xlfn.AGGREGATE(15,6,(ROW(Table2[FPPGroupCode])-2)/(Table2[DepoName]=$C$2)/(IF($C$3<>\"\",Table2[BULAN]=$C$3,TRUE))/(IF($C$4<>\"\",Table2[OFF/ON]=$C$4,TRUE))/(IF($C$5<>\"\",Table2[Status]=$C$5,TRUE))/(IF($C$6<>\"\",Table2[FPPDate]=$C$6,TRUE))/(IF($C$7<>\"\",Table2[ProposalCode]=$C$7,TRUE)),ROW(G413))),\"\")","v":""},{"$f":"IFERROR(VLOOKUP($B421,SIP!$D$5776:$P$6032,12,0),0)","v":0},{"$f":"IFERROR(H421-I421,0)","v":0},{"$f":"IFERROR(VLOOKUP($B421,SIP!$D$5776:$P$6032,8,0),0)","v":0},{"$f":"IFERROR(INDEX(Table2[OFF/ON],_xlfn.AGGREGATE(15,6,(ROW(Table2[FPPGroupCode])-2)/(Table2[DepoName]=$C$2)/(IF($C$3<>\"\",Table2[BULAN]=$C$3,TRUE))/(IF($C$4<>\"\",Table2[OFF/ON]=$C$4,TRUE))/(IF($C$5<>\"\",Table2[Status]=$C$5,TRUE))/(IF($C$6<>\"\",Table2[FPPDate]=$C$6,TRUE))/(IF($C$7<>\"\",Table2[ProposalCode]=$C$7,TRUE)),ROW(K413))),\"\")","v":""}]
[{"$f":"IF(LEN($B422),ROW(A414),\"\")","v":""},{"$f":"IFERROR(INDEX(Table2[FPPGroupCode],_xlfn.AGGREGATE(15,6,(ROW(Table2[FPPGroupCode])-2)/(Table2[DepoName]=$C$2)/(IF($C$3<>\"\",Table2[BULAN]=$C$3,TRUE))/(IF($C$4<>\"\",Table2[OFF/ON]=$C$4,TRUE))/(IF($C$5<>\"\",Table2[Status]=$C$5,TRUE))/(IF($C$6<>\"\",Table2[FPPDate]=$C$6,TRUE))/(IF($C$7<>\"\",Table2[ProposalCode]=$C$7,TRUE)),ROW(A414))),\"\")","v":""},{"$f":"IFERROR(VLOOKUP($B422,SIP!$D$3:$Q$12237,14,0),0)","v":0},{"$f":"IFERROR(INDEX(Table2[Activity],_xlfn.AGGREGATE(15,6,(ROW(Table2[FPPGroupCode])-2)/(Table2[DepoName]=$C$2)/(IF($C$3<>\"\",Table2[BULAN]=$C$3,TRUE))/(IF($C$4<>\"\",Table2[OFF/ON]=$C$4,TRUE))/(IF($C$5<>\"\",Table2[Status]=$C$5,TRUE))/(IF($C$6<>\"\",Table2[]=$C$6,TRUE))/(IF($C$7<>\"\",Table2[ProposalCode]=$C$7,TRUE)),ROW(B414))),\"\")","v":""},{"$f":"IFERROR(INDEX(Table2[Location],_xlfn.AGGREGATE(15,6,(ROW(Table2[FPPGroupCode])-2)/(Table2[DepoName]=$C$2)/(IF($C$3<>\"\",Table2[BULAN]=$C$3,TRUE))/(IF($C$4<>\"\",Table2[OFF/ON]=$C$4,TRUE))/(IF($C$5<>\"\",Table2[Status]=$C$5,TRUE))/(IF($C$6<>\"\",Table2[FPPDate]=$C$6,TRUE))/(IF($C$7<>\"\",Table2[ProposalCode]=$C$7,TRUE)),ROW(D414))),\"\")","v":""},{"$f":"IFERROR(INDEX(Table2[PeriodeStart],_xlfn.AGGREGATE(15,6,(ROW(Table2[FPPGroupCode])-2)/(Table2[DepoName]=$C$2)/(IF($C$3<>\"\",Table2[BULAN]=$C$3,TRUE))/(IF($C$4<>\"\",Table2[OFF/ON]=$C$4,TRUE))/(IF($C$5<>\"\",Table2[Status]=$C$5,TRUE))/(IF($C$6<>\"\",Table2[FPPDate]=$C$6,TRUE))/(IF($C$7<>\"\",Table2[ProposalCode]=$C$7,TRUE)),ROW(E414))),\"\")","v":""},{"$f":"IFERROR(INDEX(Table2[PeriodeEnd],_xlfn.AGGREGATE(15,6,(ROW(Table2[FPPGroupCode])-2)/(Table2[DepoName]=$C$2)/(IF($C$3<>\"\",Table2[BULAN]=$C$3,TRUE))/(IF($C$4<>\"\",Table2[OFF/ON]=$C$4,TRUE))/(IF($C$5<>\"\",Table2[Status]=$C$5,TRUE))/(IF($C$6<>\"\",Table2[FPPDate]=$C$6,TRUE))/(IF($C$7<>\"\",Table2[ProposalCode]=$C$7,TRUE)),ROW(F414))),\"\")","v":""},{"$f":"IFERROR(INDEX(Table2[Amount_FPPDepo],_xlfn.AGGREGATE(15,6,(ROW(Table2[FPPGroupCode])-2)/(Table2[DepoName]=$C$2)/(IF($C$3<>\"\",Table2[BULAN]=$C$3,TRUE))/(IF($C$4<>\"\",Table2[OFF/ON]=$C$4,TRUE))/(IF($C$5<>\"\",Table2[Status]=$C$5,TRUE))/(IF($C$6<>\"\",Table2[FPPDate]=$C$6,TRUE))/(IF($C$7<>\"\",Table2[ProposalCode]=$C$7,TRUE)),ROW(G414))),\"\")","v":""},{"$f":"IFERROR(VLOOKUP($B422,SIP!$D$5776:$P$6032,12,0),0)","v":0},{"$f":"IFERROR(H422-I422,0)","v":0},{"$f":"IFERROR(VLOOKUP($B422,SIP!$D$5776:$P$6032,8,0),0)","v":0},{"$f":"IFERROR(INDEX(Table2[OFF/ON],_xlfn.AGGREGATE(15,6,(ROW(Table2[FPPGroupCode])-2)/(Table2[DepoName]=$C$2)/(IF($C$3<>\"\",Table2[BULAN]=$C$3,TRUE))/(IF($C$4<>\"\",Table2[OFF/ON]=$C$4,TRUE))/(IF($C$5<>\"\",Table2[Status]=$C$5,TRUE))/(IF($C$6<>\"\",Table2[FPPDate]=$C$6,TRUE))/(IF($C$7<>\"\",Table2[ProposalCode]=$C$7,TRUE)),ROW(K414))),\"\")","v":""}]
[{"$f":"IF(LEN($B423),ROW(A415),\"\")","v":""},{"$f":"IFERROR(INDEX(Table2[FPPGroupCode],_xlfn.AGGREGATE(15,6,(ROW(Table2[FPPGroupCode])-2)/(Table2[DepoName]=$C$2)/(IF($C$3<>\"\",Table2[BULAN]=$C$3,TRUE))/(IF($C$4<>\"\",Table2[OFF/ON]=$C$4,TRUE))/(IF($C$5<>\"\",Table2[Status]=$C$5,TRUE))/(IF($C$6<>\"\",Table2[FPPDate]=$C$6,TRUE))/(IF($C$7<>\"\",Table2[ProposalCode]=$C$7,TRUE)),ROW(A415))),\"\")","v":""},{"$f":"IFERROR(VLOOKUP($B423,SIP!$D$3:$Q$12237,14,0),0)","v":0},{"$f":"IFERROR(INDEX(Table2[Activity],_xlfn.AGGREGATE(15,6,(ROW(Table2[FPPGroupCode])-2)/(Table2[DepoName]=$C$2)/(IF($C$3<>\"\",Table2[BULAN]=$C$3,TRUE))/(IF($C$4<>\"\",Table2[OFF/ON]=$C$4,TRUE))/(IF($C$5<>\"\",Table2[Status]=$C$5,TRUE))/(IF($C$6<>\"\",Table2[]=$C$6,TRUE))/(IF($C$7<>\"\",Table2[ProposalCode]=$C$7,TRUE)),ROW(B415))),\"\")","v":""},{"$f":"IFERROR(INDEX(Table2[Location],_xlfn.AGGREGATE(15,6,(ROW(Table2[FPPGroupCode])-2)/(Table2[DepoName]=$C$2)/(IF($C$3<>\"\",Table2[BULAN]=$C$3,TRUE))/(IF($C$4<>\"\",Table2[OFF/ON]=$C$4,TRUE))/(IF($C$5<>\"\",Table2[Status]=$C$5,TRUE))/(IF($C$6<>\"\",Table2[FPPDate]=$C$6,TRUE))/(IF($C$7<>\"\",Table2[ProposalCode]=$C$7,TRUE)),ROW(D415))),\"\")","v":""},{"$f":"IFERROR(INDEX(Table2[PeriodeStart],_xlfn.AGGREGATE(15,6,(ROW(Table2[FPPGroupCode])-2)/(Table2[DepoName]=$C$2)/(IF($C$3<>\"\",Table2[BULAN]=$C$3,TRUE))/(IF($C$4<>\"\",Table2[OFF/ON]=$C$4,TRUE))/(IF($C$5<>\"\",Table2[Status]=$C$5,TRUE))/(IF($C$6<>\"\",Table2[FPPDate]=$C$6,TRUE))/(IF($C$7<>\"\",Table2[ProposalCode]=$C$7,TRUE)),ROW(E415))),\"\")","v":""},{"$f":"IFERROR(INDEX(Table2[PeriodeEnd],_xlfn.AGGREGATE(15,6,(ROW(Table2[FPPGroupCode])-2)/(Table2[DepoName]=$C$2)/(IF($C$3<>\"\",Table2[BULAN]=$C$3,TRUE))/(IF($C$4<>\"\",Table2[OFF/ON]=$C$4,TRUE))/(IF($C$5<>\"\",Table2[Status]=$C$5,TRUE))/(IF($C$6<>\"\",Table2[FPPDate]=$C$6,TRUE))/(IF($C$7<>\"\",Table2[ProposalCode]=$C$7,TRUE)),ROW(F415))),\"\")","v":""},{"$f":"IFERROR(INDEX(Table2[Amount_FPPDepo],_xlfn.AGGREGATE(15,6,(ROW(Table2[FPPGroupCode])-2)/(Table2[DepoName]=$C$2)/(IF($C$3<>\"\",Table2[BULAN]=$C$3,TRUE))/(IF($C$4<>\"\",Table2[OFF/ON]=$C$4,TRUE))/(IF($C$5<>\"\",Table2[Status]=$C$5,TRUE))/(IF($C$6<>\"\",Table2[FPPDate]=$C$6,TRUE))/(IF($C$7<>\"\",Table2[ProposalCode]=$C$7,TRUE)),ROW(G415))),\"\")","v":""},{"$f":"IFERROR(VLOOKUP($B423,SIP!$D$5776:$P$6032,12,0),0)","v":0},{"$f":"IFERROR(H423-I423,0)","v":0},{"$f":"IFERROR(VLOOKUP($B423,SIP!$D$5776:$P$6032,8,0),0)","v":0},{"$f":"IFERROR(INDEX(Table2[OFF/ON],_xlfn.AGGREGATE(15,6,(ROW(Table2[FPPGroupCode])-2)/(Table2[DepoName]=$C$2)/(IF($C$3<>\"\",Table2[BULAN]=$C$3,TRUE))/(IF($C$4<>\"\",Table2[OFF/ON]=$C$4,TRUE))/(IF($C$5<>\"\",Table2[Status]=$C$5,TRUE))/(IF($C$6<>\"\",Table2[FPPDate]=$C$6,TRUE))/(IF($C$7<>\"\",Table2[ProposalCode]=$C$7,TRUE)),ROW(K415))),\"\")","v":""}]
[{"$f":"IF(LEN($B424),ROW(A416),\"\")","v":""},{"$f":"IFERROR(INDEX(Table2[FPPGroupCode],_xlfn.AGGREGATE(15,6,(ROW(Table2[FPPGroupCode])-2)/(Table2[DepoName]=$C$2)/(IF($C$3<>\"\",Table2[BULAN]=$C$3,TRUE))/(IF($C$4<>\"\",Table2[OFF/ON]=$C$4,TRUE))/(IF($C$5<>\"\",Table2[Status]=$C$5,TRUE))/(IF($C$6<>\"\",Table2[FPPDate]=$C$6,TRUE))/(IF($C$7<>\"\",Table2[ProposalCode]=$C$7,TRUE)),ROW(A416))),\"\")","v":""},{"$f":"IFERROR(VLOOKUP($B424,SIP!$D$3:$Q$12237,14,0),0)","v":0},{"$f":"IFERROR(INDEX(Table2[Activity],_xlfn.AGGREGATE(15,6,(ROW(Table2[FPPGroupCode])-2)/(Table2[DepoName]=$C$2)/(IF($C$3<>\"\",Table2[BULAN]=$C$3,TRUE))/(IF($C$4<>\"\",Table2[OFF/ON]=$C$4,TRUE))/(IF($C$5<>\"\",Table2[Status]=$C$5,TRUE))/(IF($C$6<>\"\",Table2[]=$C$6,TRUE))/(IF($C$7<>\"\",Table2[ProposalCode]=$C$7,TRUE)),ROW(B416))),\"\")","v":""},{"$f":"IFERROR(INDEX(Table2[Location],_xlfn.AGGREGATE(15,6,(ROW(Table2[FPPGroupCode])-2)/(Table2[DepoName]=$C$2)/(IF($C$3<>\"\",Table2[BULAN]=$C$3,TRUE))/(IF($C$4<>\"\",Table2[OFF/ON]=$C$4,TRUE))/(IF($C$5<>\"\",Table2[Status]=$C$5,TRUE))/(IF($C$6<>\"\",Table2[FPPDate]=$C$6,TRUE))/(IF($C$7<>\"\",Table2[ProposalCode]=$C$7,TRUE)),ROW(D416))),\"\")","v":""},{"$f":"IFERROR(INDEX(Table2[PeriodeStart],_xlfn.AGGREGATE(15,6,(ROW(Table2[FPPGroupCode])-2)/(Table2[DepoName]=$C$2)/(IF($C$3<>\"\",Table2[BULAN]=$C$3,TRUE))/(IF($C$4<>\"\",Table2[OFF/ON]=$C$4,TRUE))/(IF($C$5<>\"\",Table2[Status]=$C$5,TRUE))/(IF($C$6<>\"\",Table2[FPPDate]=$C$6,TRUE))/(IF($C$7<>\"\",Table2[ProposalCode]=$C$7,TRUE)),ROW(E416))),\"\")","v":""},{"$f":"IFERROR(INDEX(Table2[PeriodeEnd],_xlfn.AGGREGATE(15,6,(ROW(Table2[FPPGroupCode])-2)/(Table2[DepoName]=$C$2)/(IF($C$3<>\"\",Table2[BULAN]=$C$3,TRUE))/(IF($C$4<>\"\",Table2[OFF/ON]=$C$4,TRUE))/(IF($C$5<>\"\",Table2[Status]=$C$5,TRUE))/(IF($C$6<>\"\",Table2[FPPDate]=$C$6,TRUE))/(IF($C$7<>\"\",Table2[ProposalCode]=$C$7,TRUE)),ROW(F416))),\"\")","v":""},{"$f":"IFERROR(INDEX(Table2[Amount_FPPDepo],_xlfn.AGGREGATE(15,6,(ROW(Table2[FPPGroupCode])-2)/(Table2[DepoName]=$C$2)/(IF($C$3<>\"\",Table2[BULAN]=$C$3,TRUE))/(IF($C$4<>\"\",Table2[OFF/ON]=$C$4,TRUE))/(IF($C$5<>\"\",Table2[Status]=$C$5,TRUE))/(IF($C$6<>\"\",Table2[FPPDate]=$C$6,TRUE))/(IF($C$7<>\"\",Table2[ProposalCode]=$C$7,TRUE)),ROW(G416))),\"\")","v":""},{"$f":"IFERROR(VLOOKUP($B424,SIP!$D$5776:$P$6032,12,0),0)","v":0},{"$f":"IFERROR(H424-I424,0)","v":0},{"$f":"IFERROR(VLOOKUP($B424,SIP!$D$5776:$P$6032,8,0),0)","v":0},{"$f":"IFERROR(INDEX(Table2[OFF/ON],_xlfn.AGGREGATE(15,6,(ROW(Table2[FPPGroupCode])-2)/(Table2[DepoName]=$C$2)/(IF($C$3<>\"\",Table2[BULAN]=$C$3,TRUE))/(IF($C$4<>\"\",Table2[OFF/ON]=$C$4,TRUE))/(IF($C$5<>\"\",Table2[Status]=$C$5,TRUE))/(IF($C$6<>\"\",Table2[FPPDate]=$C$6,TRUE))/(IF($C$7<>\"\",Table2[ProposalCode]=$C$7,TRUE)),ROW(K416))),\"\")","v":""}]
[{"$f":"IF(LEN($B425),ROW(A417),\"\")","v":""},{"$f":"IFERROR(INDEX(Table2[FPPGroupCode],_xlfn.AGGREGATE(15,6,(ROW(Table2[FPPGroupCode])-2)/(Table2[DepoName]=$C$2)/(IF($C$3<>\"\",Table2[BULAN]=$C$3,TRUE))/(IF($C$4<>\"\",Table2[OFF/ON]=$C$4,TRUE))/(IF($C$5<>\"\",Table2[Status]=$C$5,TRUE))/(IF($C$6<>\"\",Table2[FPPDate]=$C$6,TRUE))/(IF($C$7<>\"\",Table2[ProposalCode]=$C$7,TRUE)),ROW(A417))),\"\")","v":""},{"$f":"IFERROR(VLOOKUP($B425,SIP!$D$3:$Q$12237,14,0),0)","v":0},{"$f":"IFERROR(INDEX(Table2[Activity],_xlfn.AGGREGATE(15,6,(ROW(Table2[FPPGroupCode])-2)/(Table2[DepoName]=$C$2)/(IF($C$3<>\"\",Table2[BULAN]=$C$3,TRUE))/(IF($C$4<>\"\",Table2[OFF/ON]=$C$4,TRUE))/(IF($C$5<>\"\",Table2[Status]=$C$5,TRUE))/(IF($C$6<>\"\",Table2[]=$C$6,TRUE))/(IF($C$7<>\"\",Table2[ProposalCode]=$C$7,TRUE)),ROW(B417))),\"\")","v":""},{"$f":"IFERROR(INDEX(Table2[Location],_xlfn.AGGREGATE(15,6,(ROW(Table2[FPPGroupCode])-2)/(Table2[DepoName]=$C$2)/(IF($C$3<>\"\",Table2[BULAN]=$C$3,TRUE))/(IF($C$4<>\"\",Table2[OFF/ON]=$C$4,TRUE))/(IF($C$5<>\"\",Table2[Status]=$C$5,TRUE))/(IF($C$6<>\"\",Table2[FPPDate]=$C$6,TRUE))/(IF($C$7<>\"\",Table2[ProposalCode]=$C$7,TRUE)),ROW(D417))),\"\")","v":""},{"$f":"IFERROR(INDEX(Table2[PeriodeStart],_xlfn.AGGREGATE(15,6,(ROW(Table2[FPPGroupCode])-2)/(Table2[DepoName]=$C$2)/(IF($C$3<>\"\",Table2[BULAN]=$C$3,TRUE))/(IF($C$4<>\"\",Table2[OFF/ON]=$C$4,TRUE))/(IF($C$5<>\"\",Table2[Status]=$C$5,TRUE))/(IF($C$6<>\"\",Table2[FPPDate]=$C$6,TRUE))/(IF($C$7<>\"\",Table2[ProposalCode]=$C$7,TRUE)),ROW(E417))),\"\")","v":""},{"$f":"IFERROR(INDEX(Table2[PeriodeEnd],_xlfn.AGGREGATE(15,6,(ROW(Table2[FPPGroupCode])-2)/(Table2[DepoName]=$C$2)/(IF($C$3<>\"\",Table2[BULAN]=$C$3,TRUE))/(IF($C$4<>\"\",Table2[OFF/ON]=$C$4,TRUE))/(IF($C$5<>\"\",Table2[Status]=$C$5,TRUE))/(IF($C$6<>\"\",Table2[FPPDate]=$C$6,TRUE))/(IF($C$7<>\"\",Table2[ProposalCode]=$C$7,TRUE)),ROW(F417))),\"\")","v":""},{"$f":"IFERROR(INDEX(Table2[Amount_FPPDepo],_xlfn.AGGREGATE(15,6,(ROW(Table2[FPPGroupCode])-2)/(Table2[DepoName]=$C$2)/(IF($C$3<>\"\",Table2[BULAN]=$C$3,TRUE))/(IF($C$4<>\"\",Table2[OFF/ON]=$C$4,TRUE))/(IF($C$5<>\"\",Table2[Status]=$C$5,TRUE))/(IF($C$6<>\"\",Table2[FPPDate]=$C$6,TRUE))/(IF($C$7<>\"\",Table2[ProposalCode]=$C$7,TRUE)),ROW(G417))),\"\")","v":""},{"$f":"IFERROR(VLOOKUP($B425,SIP!$D$5776:$P$6032,12,0),0)","v":0},{"$f":"IFERROR(H425-I425,0)","v":0},{"$f":"IFERROR(VLOOKUP($B425,SIP!$D$5776:$P$6032,8,0),0)","v":0},{"$f":"IFERROR(INDEX(Table2[OFF/ON],_xlfn.AGGREGATE(15,6,(ROW(Table2[FPPGroupCode])-2)/(Table2[DepoName]=$C$2)/(IF($C$3<>\"\",Table2[BULAN]=$C$3,TRUE))/(IF($C$4<>\"\",Table2[OFF/ON]=$C$4,TRUE))/(IF($C$5<>\"\",Table2[Status]=$C$5,TRUE))/(IF($C$6<>\"\",Table2[FPPDate]=$C$6,TRUE))/(IF($C$7<>\"\",Table2[ProposalCode]=$C$7,TRUE)),ROW(K417))),\"\")","v":""}]
[{"$f":"IF(LEN($B426),ROW(A418),\"\")","v":""},{"$f":"IFERROR(INDEX(Table2[FPPGroupCode],_xlfn.AGGREGATE(15,6,(ROW(Table2[FPPGroupCode])-2)/(Table2[DepoName]=$C$2)/(IF($C$3<>\"\",Table2[BULAN]=$C$3,TRUE))/(IF($C$4<>\"\",Table2[OFF/ON]=$C$4,TRUE))/(IF($C$5<>\"\",Table2[Status]=$C$5,TRUE))/(IF($C$6<>\"\",Table2[FPPDate]=$C$6,TRUE))/(IF($C$7<>\"\",Table2[ProposalCode]=$C$7,TRUE)),ROW(A418))),\"\")","v":""},{"$f":"IFERROR(VLOOKUP($B426,SIP!$D$3:$Q$12237,14,0),0)","v":0},{"$f":"IFERROR(INDEX(Table2[Activity],_xlfn.AGGREGATE(15,6,(ROW(Table2[FPPGroupCode])-2)/(Table2[DepoName]=$C$2)/(IF($C$3<>\"\",Table2[BULAN]=$C$3,TRUE))/(IF($C$4<>\"\",Table2[OFF/ON]=$C$4,TRUE))/(IF($C$5<>\"\",Table2[Status]=$C$5,TRUE))/(IF($C$6<>\"\",Table2[]=$C$6,TRUE))/(IF($C$7<>\"\",Table2[ProposalCode]=$C$7,TRUE)),ROW(B418))),\"\")","v":""},{"$f":"IFERROR(INDEX(Table2[Location],_xlfn.AGGREGATE(15,6,(ROW(Table2[FPPGroupCode])-2)/(Table2[DepoName]=$C$2)/(IF($C$3<>\"\",Table2[BULAN]=$C$3,TRUE))/(IF($C$4<>\"\",Table2[OFF/ON]=$C$4,TRUE))/(IF($C$5<>\"\",Table2[Status]=$C$5,TRUE))/(IF($C$6<>\"\",Table2[FPPDate]=$C$6,TRUE))/(IF($C$7<>\"\",Table2[ProposalCode]=$C$7,TRUE)),ROW(D418))),\"\")","v":""},{"$f":"IFERROR(INDEX(Table2[PeriodeStart],_xlfn.AGGREGATE(15,6,(ROW(Table2[FPPGroupCode])-2)/(Table2[DepoName]=$C$2)/(IF($C$3<>\"\",Table2[BULAN]=$C$3,TRUE))/(IF($C$4<>\"\",Table2[OFF/ON]=$C$4,TRUE))/(IF($C$5<>\"\",Table2[Status]=$C$5,TRUE))/(IF($C$6<>\"\",Table2[FPPDate]=$C$6,TRUE))/(IF($C$7<>\"\",Table2[ProposalCode]=$C$7,TRUE)),ROW(E418))),\"\")","v":""},{"$f":"IFERROR(INDEX(Table2[PeriodeEnd],_xlfn.AGGREGATE(15,6,(ROW(Table2[FPPGroupCode])-2)/(Table2[DepoName]=$C$2)/(IF($C$3<>\"\",Table2[BULAN]=$C$3,TRUE))/(IF($C$4<>\"\",Table2[OFF/ON]=$C$4,TRUE))/(IF($C$5<>\"\",Table2[Status]=$C$5,TRUE))/(IF($C$6<>\"\",Table2[FPPDate]=$C$6,TRUE))/(IF($C$7<>\"\",Table2[ProposalCode]=$C$7,TRUE)),ROW(F418))),\"\")","v":""},{"$f":"IFERROR(INDEX(Table2[Amount_FPPDepo],_xlfn.AGGREGATE(15,6,(ROW(Table2[FPPGroupCode])-2)/(Table2[DepoName]=$C$2)/(IF($C$3<>\"\",Table2[BULAN]=$C$3,TRUE))/(IF($C$4<>\"\",Table2[OFF/ON]=$C$4,TRUE))/(IF($C$5<>\"\",Table2[Status]=$C$5,TRUE))/(IF($C$6<>\"\",Table2[FPPDate]=$C$6,TRUE))/(IF($C$7<>\"\",Table2[ProposalCode]=$C$7,TRUE)),ROW(G418))),\"\")","v":""},{"$f":"IFERROR(VLOOKUP($B426,SIP!$D$5776:$P$6032,12,0),0)","v":0},{"$f":"IFERROR(H426-I426,0)","v":0},{"$f":"IFERROR(VLOOKUP($B426,SIP!$D$5776:$P$6032,8,0),0)","v":0},{"$f":"IFERROR(INDEX(Table2[OFF/ON],_xlfn.AGGREGATE(15,6,(ROW(Table2[FPPGroupCode])-2)/(Table2[DepoName]=$C$2)/(IF($C$3<>\"\",Table2[BULAN]=$C$3,TRUE))/(IF($C$4<>\"\",Table2[OFF/ON]=$C$4,TRUE))/(IF($C$5<>\"\",Table2[Status]=$C$5,TRUE))/(IF($C$6<>\"\",Table2[FPPDate]=$C$6,TRUE))/(IF($C$7<>\"\",Table2[ProposalCode]=$C$7,TRUE)),ROW(K418))),\"\")","v":""}]
[{"$f":"IF(LEN($B427),ROW(A419),\"\")","v":""},{"$f":"IFERROR(INDEX(Table2[FPPGroupCode],_xlfn.AGGREGATE(15,6,(ROW(Table2[FPPGroupCode])-2)/(Table2[DepoName]=$C$2)/(IF($C$3<>\"\",Table2[BULAN]=$C$3,TRUE))/(IF($C$4<>\"\",Table2[OFF/ON]=$C$4,TRUE))/(IF($C$5<>\"\",Table2[Status]=$C$5,TRUE))/(IF($C$6<>\"\",Table2[FPPDate]=$C$6,TRUE))/(IF($C$7<>\"\",Table2[ProposalCode]=$C$7,TRUE)),ROW(A419))),\"\")","v":""},{"$f":"IFERROR(VLOOKUP($B427,SIP!$D$3:$Q$12237,14,0),0)","v":0},{"$f":"IFERROR(INDEX(Table2[Activity],_xlfn.AGGREGATE(15,6,(ROW(Table2[FPPGroupCode])-2)/(Table2[DepoName]=$C$2)/(IF($C$3<>\"\",Table2[BULAN]=$C$3,TRUE))/(IF($C$4<>\"\",Table2[OFF/ON]=$C$4,TRUE))/(IF($C$5<>\"\",Table2[Status]=$C$5,TRUE))/(IF($C$6<>\"\",Table2[]=$C$6,TRUE))/(IF($C$7<>\"\",Table2[ProposalCode]=$C$7,TRUE)),ROW(B419))),\"\")","v":""},{"$f":"IFERROR(INDEX(Table2[Location],_xlfn.AGGREGATE(15,6,(ROW(Table2[FPPGroupCode])-2)/(Table2[DepoName]=$C$2)/(IF($C$3<>\"\",Table2[BULAN]=$C$3,TRUE))/(IF($C$4<>\"\",Table2[OFF/ON]=$C$4,TRUE))/(IF($C$5<>\"\",Table2[Status]=$C$5,TRUE))/(IF($C$6<>\"\",Table2[FPPDate]=$C$6,TRUE))/(IF($C$7<>\"\",Table2[ProposalCode]=$C$7,TRUE)),ROW(D419))),\"\")","v":""},{"$f":"IFERROR(INDEX(Table2[PeriodeStart],_xlfn.AGGREGATE(15,6,(ROW(Table2[FPPGroupCode])-2)/(Table2[DepoName]=$C$2)/(IF($C$3<>\"\",Table2[BULAN]=$C$3,TRUE))/(IF($C$4<>\"\",Table2[OFF/ON]=$C$4,TRUE))/(IF($C$5<>\"\",Table2[Status]=$C$5,TRUE))/(IF($C$6<>\"\",Table2[FPPDate]=$C$6,TRUE))/(IF($C$7<>\"\",Table2[ProposalCode]=$C$7,TRUE)),ROW(E419))),\"\")","v":""},{"$f":"IFERROR(INDEX(Table2[PeriodeEnd],_xlfn.AGGREGATE(15,6,(ROW(Table2[FPPGroupCode])-2)/(Table2[DepoName]=$C$2)/(IF($C$3<>\"\",Table2[BULAN]=$C$3,TRUE))/(IF($C$4<>\"\",Table2[OFF/ON]=$C$4,TRUE))/(IF($C$5<>\"\",Table2[Status]=$C$5,TRUE))/(IF($C$6<>\"\",Table2[FPPDate]=$C$6,TRUE))/(IF($C$7<>\"\",Table2[ProposalCode]=$C$7,TRUE)),ROW(F419))),\"\")","v":""},{"$f":"IFERROR(INDEX(Table2[Amount_FPPDepo],_xlfn.AGGREGATE(15,6,(ROW(Table2[FPPGroupCode])-2)/(Table2[DepoName]=$C$2)/(IF($C$3<>\"\",Table2[BULAN]=$C$3,TRUE))/(IF($C$4<>\"\",Table2[OFF/ON]=$C$4,TRUE))/(IF($C$5<>\"\",Table2[Status]=$C$5,TRUE))/(IF($C$6<>\"\",Table2[FPPDate]=$C$6,TRUE))/(IF($C$7<>\"\",Table2[ProposalCode]=$C$7,TRUE)),ROW(G419))),\"\")","v":""},{"$f":"IFERROR(VLOOKUP($B427,SIP!$D$5776:$P$6032,12,0),0)","v":0},{"$f":"IFERROR(H427-I427,0)","v":0},{"$f":"IFERROR(VLOOKUP($B427,SIP!$D$5776:$P$6032,8,0),0)","v":0},{"$f":"IFERROR(INDEX(Table2[OFF/ON],_xlfn.AGGREGATE(15,6,(ROW(Table2[FPPGroupCode])-2)/(Table2[DepoName]=$C$2)/(IF($C$3<>\"\",Table2[BULAN]=$C$3,TRUE))/(IF($C$4<>\"\",Table2[OFF/ON]=$C$4,TRUE))/(IF($C$5<>\"\",Table2[Status]=$C$5,TRUE))/(IF($C$6<>\"\",Table2[FPPDate]=$C$6,TRUE))/(IF($C$7<>\"\",Table2[ProposalCode]=$C$7,TRUE)),ROW(K419))),\"\")","v":""}]
[{"$f":"IF(LEN($B428),ROW(A420),\"\")","v":""},{"$f":"IFERROR(INDEX(Table2[FPPGroupCode],_xlfn.AGGREGATE(15,6,(ROW(Table2[FPPGroupCode])-2)/(Table2[DepoName]=$C$2)/(IF($C$3<>\"\",Table2[BULAN]=$C$3,TRUE))/(IF($C$4<>\"\",Table2[OFF/ON]=$C$4,TRUE))/(IF($C$5<>\"\",Table2[Status]=$C$5,TRUE))/(IF($C$6<>\"\",Table2[FPPDate]=$C$6,TRUE))/(IF($C$7<>\"\",Table2[ProposalCode]=$C$7,TRUE)),ROW(A420))),\"\")","v":""},{"$f":"IFERROR(VLOOKUP($B428,SIP!$D$3:$Q$12237,14,0),0)","v":0},{"$f":"IFERROR(INDEX(Table2[Activity],_xlfn.AGGREGATE(15,6,(ROW(Table2[FPPGroupCode])-2)/(Table2[DepoName]=$C$2)/(IF($C$3<>\"\",Table2[BULAN]=$C$3,TRUE))/(IF($C$4<>\"\",Table2[OFF/ON]=$C$4,TRUE))/(IF($C$5<>\"\",Table2[Status]=$C$5,TRUE))/(IF($C$6<>\"\",Table2[]=$C$6,TRUE))/(IF($C$7<>\"\",Table2[ProposalCode]=$C$7,TRUE)),ROW(B420))),\"\")","v":""},{"$f":"IFERROR(INDEX(Table2[Location],_xlfn.AGGREGATE(15,6,(ROW(Table2[FPPGroupCode])-2)/(Table2[DepoName]=$C$2)/(IF($C$3<>\"\",Table2[BULAN]=$C$3,TRUE))/(IF($C$4<>\"\",Table2[OFF/ON]=$C$4,TRUE))/(IF($C$5<>\"\",Table2[Status]=$C$5,TRUE))/(IF($C$6<>\"\",Table2[FPPDate]=$C$6,TRUE))/(IF($C$7<>\"\",Table2[ProposalCode]=$C$7,TRUE)),ROW(D420))),\"\")","v":""},{"$f":"IFERROR(INDEX(Table2[PeriodeStart],_xlfn.AGGREGATE(15,6,(ROW(Table2[FPPGroupCode])-2)/(Table2[DepoName]=$C$2)/(IF($C$3<>\"\",Table2[BULAN]=$C$3,TRUE))/(IF($C$4<>\"\",Table2[OFF/ON]=$C$4,TRUE))/(IF($C$5<>\"\",Table2[Status]=$C$5,TRUE))/(IF($C$6<>\"\",Table2[FPPDate]=$C$6,TRUE))/(IF($C$7<>\"\",Table2[ProposalCode]=$C$7,TRUE)),ROW(E420))),\"\")","v":""},{"$f":"IFERROR(INDEX(Table2[PeriodeEnd],_xlfn.AGGREGATE(15,6,(ROW(Table2[FPPGroupCode])-2)/(Table2[DepoName]=$C$2)/(IF($C$3<>\"\",Table2[BULAN]=$C$3,TRUE))/(IF($C$4<>\"\",Table2[OFF/ON]=$C$4,TRUE))/(IF($C$5<>\"\",Table2[Status]=$C$5,TRUE))/(IF($C$6<>\"\",Table2[FPPDate]=$C$6,TRUE))/(IF($C$7<>\"\",Table2[ProposalCode]=$C$7,TRUE)),ROW(F420))),\"\")","v":""},{"$f":"IFERROR(INDEX(Table2[Amount_FPPDepo],_xlfn.AGGREGATE(15,6,(ROW(Table2[FPPGroupCode])-2)/(Table2[DepoName]=$C$2)/(IF($C$3<>\"\",Table2[BULAN]=$C$3,TRUE))/(IF($C$4<>\"\",Table2[OFF/ON]=$C$4,TRUE))/(IF($C$5<>\"\",Table2[Status]=$C$5,TRUE))/(IF($C$6<>\"\",Table2[FPPDate]=$C$6,TRUE))/(IF($C$7<>\"\",Table2[ProposalCode]=$C$7,TRUE)),ROW(G420))),\"\")","v":""},{"$f":"IFERROR(VLOOKUP($B428,SIP!$D$5776:$P$6032,12,0),0)","v":0},{"$f":"IFERROR(H428-I428,0)","v":0},{"$f":"IFERROR(VLOOKUP($B428,SIP!$D$5776:$P$6032,8,0),0)","v":0},{"$f":"IFERROR(INDEX(Table2[OFF/ON],_xlfn.AGGREGATE(15,6,(ROW(Table2[FPPGroupCode])-2)/(Table2[DepoName]=$C$2)/(IF($C$3<>\"\",Table2[BULAN]=$C$3,TRUE))/(IF($C$4<>\"\",Table2[OFF/ON]=$C$4,TRUE))/(IF($C$5<>\"\",Table2[Status]=$C$5,TRUE))/(IF($C$6<>\"\",Table2[FPPDate]=$C$6,TRUE))/(IF($C$7<>\"\",Table2[ProposalCode]=$C$7,TRUE)),ROW(K420))),\"\")","v":""}]
[{"$f":"IF(LEN($B429),ROW(A421),\"\")","v":""},{"$f":"IFERROR(INDEX(Table2[FPPGroupCode],_xlfn.AGGREGATE(15,6,(ROW(Table2[FPPGroupCode])-2)/(Table2[DepoName]=$C$2)/(IF($C$3<>\"\",Table2[BULAN]=$C$3,TRUE))/(IF($C$4<>\"\",Table2[OFF/ON]=$C$4,TRUE))/(IF($C$5<>\"\",Table2[Status]=$C$5,TRUE))/(IF($C$6<>\"\",Table2[FPPDate]=$C$6,TRUE))/(IF($C$7<>\"\",Table2[ProposalCode]=$C$7,TRUE)),ROW(A421))),\"\")","v":""},{"$f":"IFERROR(VLOOKUP($B429,SIP!$D$3:$Q$12237,14,0),0)","v":0},{"$f":"IFERROR(INDEX(Table2[Activity],_xlfn.AGGREGATE(15,6,(ROW(Table2[FPPGroupCode])-2)/(Table2[DepoName]=$C$2)/(IF($C$3<>\"\",Table2[BULAN]=$C$3,TRUE))/(IF($C$4<>\"\",Table2[OFF/ON]=$C$4,TRUE))/(IF($C$5<>\"\",Table2[Status]=$C$5,TRUE))/(IF($C$6<>\"\",Table2[]=$C$6,TRUE))/(IF($C$7<>\"\",Table2[ProposalCode]=$C$7,TRUE)),ROW(B421))),\"\")","v":""},{"$f":"IFERROR(INDEX(Table2[Location],_xlfn.AGGREGATE(15,6,(ROW(Table2[FPPGroupCode])-2)/(Table2[DepoName]=$C$2)/(IF($C$3<>\"\",Table2[BULAN]=$C$3,TRUE))/(IF($C$4<>\"\",Table2[OFF/ON]=$C$4,TRUE))/(IF($C$5<>\"\",Table2[Status]=$C$5,TRUE))/(IF($C$6<>\"\",Table2[FPPDate]=$C$6,TRUE))/(IF($C$7<>\"\",Table2[ProposalCode]=$C$7,TRUE)),ROW(D421))),\"\")","v":""},{"$f":"IFERROR(INDEX(Table2[PeriodeStart],_xlfn.AGGREGATE(15,6,(ROW(Table2[FPPGroupCode])-2)/(Table2[DepoName]=$C$2)/(IF($C$3<>\"\",Table2[BULAN]=$C$3,TRUE))/(IF($C$4<>\"\",Table2[OFF/ON]=$C$4,TRUE))/(IF($C$5<>\"\",Table2[Status]=$C$5,TRUE))/(IF($C$6<>\"\",Table2[FPPDate]=$C$6,TRUE))/(IF($C$7<>\"\",Table2[ProposalCode]=$C$7,TRUE)),ROW(E421))),\"\")","v":""},{"$f":"IFERROR(INDEX(Table2[PeriodeEnd],_xlfn.AGGREGATE(15,6,(ROW(Table2[FPPGroupCode])-2)/(Table2[DepoName]=$C$2)/(IF($C$3<>\"\",Table2[BULAN]=$C$3,TRUE))/(IF($C$4<>\"\",Table2[OFF/ON]=$C$4,TRUE))/(IF($C$5<>\"\",Table2[Status]=$C$5,TRUE))/(IF($C$6<>\"\",Table2[FPPDate]=$C$6,TRUE))/(IF($C$7<>\"\",Table2[ProposalCode]=$C$7,TRUE)),ROW(F421))),\"\")","v":""},{"$f":"IFERROR(INDEX(Table2[Amount_FPPDepo],_xlfn.AGGREGATE(15,6,(ROW(Table2[FPPGroupCode])-2)/(Table2[DepoName]=$C$2)/(IF($C$3<>\"\",Table2[BULAN]=$C$3,TRUE))/(IF($C$4<>\"\",Table2[OFF/ON]=$C$4,TRUE))/(IF($C$5<>\"\",Table2[Status]=$C$5,TRUE))/(IF($C$6<>\"\",Table2[FPPDate]=$C$6,TRUE))/(IF($C$7<>\"\",Table2[ProposalCode]=$C$7,TRUE)),ROW(G421))),\"\")","v":""},{"$f":"IFERROR(VLOOKUP($B429,SIP!$D$5776:$P$6032,12,0),0)","v":0},{"$f":"IFERROR(H429-I429,0)","v":0},{"$f":"IFERROR(VLOOKUP($B429,SIP!$D$5776:$P$6032,8,0),0)","v":0},{"$f":"IFERROR(INDEX(Table2[OFF/ON],_xlfn.AGGREGATE(15,6,(ROW(Table2[FPPGroupCode])-2)/(Table2[DepoName]=$C$2)/(IF($C$3<>\"\",Table2[BULAN]=$C$3,TRUE))/(IF($C$4<>\"\",Table2[OFF/ON]=$C$4,TRUE))/(IF($C$5<>\"\",Table2[Status]=$C$5,TRUE))/(IF($C$6<>\"\",Table2[FPPDate]=$C$6,TRUE))/(IF($C$7<>\"\",Table2[ProposalCode]=$C$7,TRUE)),ROW(K421))),\"\")","v":""}]
[{"$f":"IF(LEN($B430),ROW(A422),\"\")","v":""},{"$f":"IFERROR(INDEX(Table2[FPPGroupCode],_xlfn.AGGREGATE(15,6,(ROW(Table2[FPPGroupCode])-2)/(Table2[DepoName]=$C$2)/(IF($C$3<>\"\",Table2[BULAN]=$C$3,TRUE))/(IF($C$4<>\"\",Table2[OFF/ON]=$C$4,TRUE))/(IF($C$5<>\"\",Table2[Status]=$C$5,TRUE))/(IF($C$6<>\"\",Table2[FPPDate]=$C$6,TRUE))/(IF($C$7<>\"\",Table2[ProposalCode]=$C$7,TRUE)),ROW(A422))),\"\")","v":""},{"$f":"IFERROR(VLOOKUP($B430,SIP!$D$3:$Q$12237,14,0),0)","v":0},{"$f":"IFERROR(INDEX(Table2[Activity],_xlfn.AGGREGATE(15,6,(ROW(Table2[FPPGroupCode])-2)/(Table2[DepoName]=$C$2)/(IF($C$3<>\"\",Table2[BULAN]=$C$3,TRUE))/(IF($C$4<>\"\",Table2[OFF/ON]=$C$4,TRUE))/(IF($C$5<>\"\",Table2[Status]=$C$5,TRUE))/(IF($C$6<>\"\",Table2[]=$C$6,TRUE))/(IF($C$7<>\"\",Table2[ProposalCode]=$C$7,TRUE)),ROW(B422))),\"\")","v":""},{"$f":"IFERROR(INDEX(Table2[Location],_xlfn.AGGREGATE(15,6,(ROW(Table2[FPPGroupCode])-2)/(Table2[DepoName]=$C$2)/(IF($C$3<>\"\",Table2[BULAN]=$C$3,TRUE))/(IF($C$4<>\"\",Table2[OFF/ON]=$C$4,TRUE))/(IF($C$5<>\"\",Table2[Status]=$C$5,TRUE))/(IF($C$6<>\"\",Table2[FPPDate]=$C$6,TRUE))/(IF($C$7<>\"\",Table2[ProposalCode]=$C$7,TRUE)),ROW(D422))),\"\")","v":""},{"$f":"IFERROR(INDEX(Table2[PeriodeStart],_xlfn.AGGREGATE(15,6,(ROW(Table2[FPPGroupCode])-2)/(Table2[DepoName]=$C$2)/(IF($C$3<>\"\",Table2[BULAN]=$C$3,TRUE))/(IF($C$4<>\"\",Table2[OFF/ON]=$C$4,TRUE))/(IF($C$5<>\"\",Table2[Status]=$C$5,TRUE))/(IF($C$6<>\"\",Table2[FPPDate]=$C$6,TRUE))/(IF($C$7<>\"\",Table2[ProposalCode]=$C$7,TRUE)),ROW(E422))),\"\")","v":""},{"$f":"IFERROR(INDEX(Table2[PeriodeEnd],_xlfn.AGGREGATE(15,6,(ROW(Table2[FPPGroupCode])-2)/(Table2[DepoName]=$C$2)/(IF($C$3<>\"\",Table2[BULAN]=$C$3,TRUE))/(IF($C$4<>\"\",Table2[OFF/ON]=$C$4,TRUE))/(IF($C$5<>\"\",Table2[Status]=$C$5,TRUE))/(IF($C$6<>\"\",Table2[FPPDate]=$C$6,TRUE))/(IF($C$7<>\"\",Table2[ProposalCode]=$C$7,TRUE)),ROW(F422))),\"\")","v":""},{"$f":"IFERROR(INDEX(Table2[Amount_FPPDepo],_xlfn.AGGREGATE(15,6,(ROW(Table2[FPPGroupCode])-2)/(Table2[DepoName]=$C$2)/(IF($C$3<>\"\",Table2[BULAN]=$C$3,TRUE))/(IF($C$4<>\"\",Table2[OFF/ON]=$C$4,TRUE))/(IF($C$5<>\"\",Table2[Status]=$C$5,TRUE))/(IF($C$6<>\"\",Table2[FPPDate]=$C$6,TRUE))/(IF($C$7<>\"\",Table2[ProposalCode]=$C$7,TRUE)),ROW(G422))),\"\")","v":""},{"$f":"IFERROR(VLOOKUP($B430,SIP!$D$5776:$P$6032,12,0),0)","v":0},{"$f":"IFERROR(H430-I430,0)","v":0},{"$f":"IFERROR(VLOOKUP($B430,SIP!$D$5776:$P$6032,8,0),0)","v":0},{"$f":"IFERROR(INDEX(Table2[OFF/ON],_xlfn.AGGREGATE(15,6,(ROW(Table2[FPPGroupCode])-2)/(Table2[DepoName]=$C$2)/(IF($C$3<>\"\",Table2[BULAN]=$C$3,TRUE))/(IF($C$4<>\"\",Table2[OFF/ON]=$C$4,TRUE))/(IF($C$5<>\"\",Table2[Status]=$C$5,TRUE))/(IF($C$6<>\"\",Table2[FPPDate]=$C$6,TRUE))/(IF($C$7<>\"\",Table2[ProposalCode]=$C$7,TRUE)),ROW(K422))),\"\")","v":""}]
[{"$f":"IF(LEN($B431),ROW(A423),\"\")","v":""},{"$f":"IFERROR(INDEX(Table2[FPPGroupCode],_xlfn.AGGREGATE(15,6,(ROW(Table2[FPPGroupCode])-2)/(Table2[DepoName]=$C$2)/(IF($C$3<>\"\",Table2[BULAN]=$C$3,TRUE))/(IF($C$4<>\"\",Table2[OFF/ON]=$C$4,TRUE))/(IF($C$5<>\"\",Table2[Status]=$C$5,TRUE))/(IF($C$6<>\"\",Table2[FPPDate]=$C$6,TRUE))/(IF($C$7<>\"\",Table2[ProposalCode]=$C$7,TRUE)),ROW(A423))),\"\")","v":""},{"$f":"IFERROR(VLOOKUP($B431,SIP!$D$3:$Q$12237,14,0),0)","v":0},{"$f":"IFERROR(INDEX(Table2[Activity],_xlfn.AGGREGATE(15,6,(ROW(Table2[FPPGroupCode])-2)/(Table2[DepoName]=$C$2)/(IF($C$3<>\"\",Table2[BULAN]=$C$3,TRUE))/(IF($C$4<>\"\",Table2[OFF/ON]=$C$4,TRUE))/(IF($C$5<>\"\",Table2[Status]=$C$5,TRUE))/(IF($C$6<>\"\",Table2[]=$C$6,TRUE))/(IF($C$7<>\"\",Table2[ProposalCode]=$C$7,TRUE)),ROW(B423))),\"\")","v":""},{"$f":"IFERROR(INDEX(Table2[Location],_xlfn.AGGREGATE(15,6,(ROW(Table2[FPPGroupCode])-2)/(Table2[DepoName]=$C$2)/(IF($C$3<>\"\",Table2[BULAN]=$C$3,TRUE))/(IF($C$4<>\"\",Table2[OFF/ON]=$C$4,TRUE))/(IF($C$5<>\"\",Table2[Status]=$C$5,TRUE))/(IF($C$6<>\"\",Table2[FPPDate]=$C$6,TRUE))/(IF($C$7<>\"\",Table2[ProposalCode]=$C$7,TRUE)),ROW(D423))),\"\")","v":""},{"$f":"IFERROR(INDEX(Table2[PeriodeStart],_xlfn.AGGREGATE(15,6,(ROW(Table2[FPPGroupCode])-2)/(Table2[DepoName]=$C$2)/(IF($C$3<>\"\",Table2[BULAN]=$C$3,TRUE))/(IF($C$4<>\"\",Table2[OFF/ON]=$C$4,TRUE))/(IF($C$5<>\"\",Table2[Status]=$C$5,TRUE))/(IF($C$6<>\"\",Table2[FPPDate]=$C$6,TRUE))/(IF($C$7<>\"\",Table2[ProposalCode]=$C$7,TRUE)),ROW(E423))),\"\")","v":""},{"$f":"IFERROR(INDEX(Table2[PeriodeEnd],_xlfn.AGGREGATE(15,6,(ROW(Table2[FPPGroupCode])-2)/(Table2[DepoName]=$C$2)/(IF($C$3<>\"\",Table2[BULAN]=$C$3,TRUE))/(IF($C$4<>\"\",Table2[OFF/ON]=$C$4,TRUE))/(IF($C$5<>\"\",Table2[Status]=$C$5,TRUE))/(IF($C$6<>\"\",Table2[FPPDate]=$C$6,TRUE))/(IF($C$7<>\"\",Table2[ProposalCode]=$C$7,TRUE)),ROW(F423))),\"\")","v":""},{"$f":"IFERROR(INDEX(Table2[Amount_FPPDepo],_xlfn.AGGREGATE(15,6,(ROW(Table2[FPPGroupCode])-2)/(Table2[DepoName]=$C$2)/(IF($C$3<>\"\",Table2[BULAN]=$C$3,TRUE))/(IF($C$4<>\"\",Table2[OFF/ON]=$C$4,TRUE))/(IF($C$5<>\"\",Table2[Status]=$C$5,TRUE))/(IF($C$6<>\"\",Table2[FPPDate]=$C$6,TRUE))/(IF($C$7<>\"\",Table2[ProposalCode]=$C$7,TRUE)),ROW(G423))),\"\")","v":""},{"$f":"IFERROR(VLOOKUP($B431,SIP!$D$5776:$P$6032,12,0),0)","v":0},{"$f":"IFERROR(H431-I431,0)","v":0},{"$f":"IFERROR(VLOOKUP($B431,SIP!$D$5776:$P$6032,8,0),0)","v":0},{"$f":"IFERROR(INDEX(Table2[OFF/ON],_xlfn.AGGREGATE(15,6,(ROW(Table2[FPPGroupCode])-2)/(Table2[DepoName]=$C$2)/(IF($C$3<>\"\",Table2[BULAN]=$C$3,TRUE))/(IF($C$4<>\"\",Table2[OFF/ON]=$C$4,TRUE))/(IF($C$5<>\"\",Table2[Status]=$C$5,TRUE))/(IF($C$6<>\"\",Table2[FPPDate]=$C$6,TRUE))/(IF($C$7<>\"\",Table2[ProposalCode]=$C$7,TRUE)),ROW(K423))),\"\")","v":""}]
[{"$f":"IF(LEN($B432),ROW(A424),\"\")","v":""},{"$f":"IFERROR(INDEX(Table2[FPPGroupCode],_xlfn.AGGREGATE(15,6,(ROW(Table2[FPPGroupCode])-2)/(Table2[DepoName]=$C$2)/(IF($C$3<>\"\",Table2[BULAN]=$C$3,TRUE))/(IF($C$4<>\"\",Table2[OFF/ON]=$C$4,TRUE))/(IF($C$5<>\"\",Table2[Status]=$C$5,TRUE))/(IF($C$6<>\"\",Table2[FPPDate]=$C$6,TRUE))/(IF($C$7<>\"\",Table2[ProposalCode]=$C$7,TRUE)),ROW(A424))),\"\")","v":""},{"$f":"IFERROR(VLOOKUP($B432,SIP!$D$3:$Q$12237,14,0),0)","v":0},{"$f":"IFERROR(INDEX(Table2[Activity],_xlfn.AGGREGATE(15,6,(ROW(Table2[FPPGroupCode])-2)/(Table2[DepoName]=$C$2)/(IF($C$3<>\"\",Table2[BULAN]=$C$3,TRUE))/(IF($C$4<>\"\",Table2[OFF/ON]=$C$4,TRUE))/(IF($C$5<>\"\",Table2[Status]=$C$5,TRUE))/(IF($C$6<>\"\",Table2[]=$C$6,TRUE))/(IF($C$7<>\"\",Table2[ProposalCode]=$C$7,TRUE)),ROW(B424))),\"\")","v":""},{"$f":"IFERROR(INDEX(Table2[Location],_xlfn.AGGREGATE(15,6,(ROW(Table2[FPPGroupCode])-2)/(Table2[DepoName]=$C$2)/(IF($C$3<>\"\",Table2[BULAN]=$C$3,TRUE))/(IF($C$4<>\"\",Table2[OFF/ON]=$C$4,TRUE))/(IF($C$5<>\"\",Table2[Status]=$C$5,TRUE))/(IF($C$6<>\"\",Table2[FPPDate]=$C$6,TRUE))/(IF($C$7<>\"\",Table2[ProposalCode]=$C$7,TRUE)),ROW(D424))),\"\")","v":""},{"$f":"IFERROR(INDEX(Table2[PeriodeStart],_xlfn.AGGREGATE(15,6,(ROW(Table2[FPPGroupCode])-2)/(Table2[DepoName]=$C$2)/(IF($C$3<>\"\",Table2[BULAN]=$C$3,TRUE))/(IF($C$4<>\"\",Table2[OFF/ON]=$C$4,TRUE))/(IF($C$5<>\"\",Table2[Status]=$C$5,TRUE))/(IF($C$6<>\"\",Table2[FPPDate]=$C$6,TRUE))/(IF($C$7<>\"\",Table2[ProposalCode]=$C$7,TRUE)),ROW(E424))),\"\")","v":""},{"$f":"IFERROR(INDEX(Table2[PeriodeEnd],_xlfn.AGGREGATE(15,6,(ROW(Table2[FPPGroupCode])-2)/(Table2[DepoName]=$C$2)/(IF($C$3<>\"\",Table2[BULAN]=$C$3,TRUE))/(IF($C$4<>\"\",Table2[OFF/ON]=$C$4,TRUE))/(IF($C$5<>\"\",Table2[Status]=$C$5,TRUE))/(IF($C$6<>\"\",Table2[FPPDate]=$C$6,TRUE))/(IF($C$7<>\"\",Table2[ProposalCode]=$C$7,TRUE)),ROW(F424))),\"\")","v":""},{"$f":"IFERROR(INDEX(Table2[Amount_FPPDepo],_xlfn.AGGREGATE(15,6,(ROW(Table2[FPPGroupCode])-2)/(Table2[DepoName]=$C$2)/(IF($C$3<>\"\",Table2[BULAN]=$C$3,TRUE))/(IF($C$4<>\"\",Table2[OFF/ON]=$C$4,TRUE))/(IF($C$5<>\"\",Table2[Status]=$C$5,TRUE))/(IF($C$6<>\"\",Table2[FPPDate]=$C$6,TRUE))/(IF($C$7<>\"\",Table2[ProposalCode]=$C$7,TRUE)),ROW(G424))),\"\")","v":""},{"$f":"IFERROR(VLOOKUP($B432,SIP!$D$5776:$P$6032,12,0),0)","v":0},{"$f":"IFERROR(H432-I432,0)","v":0},{"$f":"IFERROR(VLOOKUP($B432,SIP!$D$5776:$P$6032,8,0),0)","v":0},{"$f":"IFERROR(INDEX(Table2[OFF/ON],_xlfn.AGGREGATE(15,6,(ROW(Table2[FPPGroupCode])-2)/(Table2[DepoName]=$C$2)/(IF($C$3<>\"\",Table2[BULAN]=$C$3,TRUE))/(IF($C$4<>\"\",Table2[OFF/ON]=$C$4,TRUE))/(IF($C$5<>\"\",Table2[Status]=$C$5,TRUE))/(IF($C$6<>\"\",Table2[FPPDate]=$C$6,TRUE))/(IF($C$7<>\"\",Table2[ProposalCode]=$C$7,TRUE)),ROW(K424))),\"\")","v":""}]
[{"$f":"IF(LEN($B433),ROW(A425),\"\")","v":""},{"$f":"IFERROR(INDEX(Table2[FPPGroupCode],_xlfn.AGGREGATE(15,6,(ROW(Table2[FPPGroupCode])-2)/(Table2[DepoName]=$C$2)/(IF($C$3<>\"\",Table2[BULAN]=$C$3,TRUE))/(IF($C$4<>\"\",Table2[OFF/ON]=$C$4,TRUE))/(IF($C$5<>\"\",Table2[Status]=$C$5,TRUE))/(IF($C$6<>\"\",Table2[FPPDate]=$C$6,TRUE))/(IF($C$7<>\"\",Table2[ProposalCode]=$C$7,TRUE)),ROW(A425))),\"\")","v":""},{"$f":"IFERROR(VLOOKUP($B433,SIP!$D$3:$Q$12237,14,0),0)","v":0},{"$f":"IFERROR(INDEX(Table2[Activity],_xlfn.AGGREGATE(15,6,(ROW(Table2[FPPGroupCode])-2)/(Table2[DepoName]=$C$2)/(IF($C$3<>\"\",Table2[BULAN]=$C$3,TRUE))/(IF($C$4<>\"\",Table2[OFF/ON]=$C$4,TRUE))/(IF($C$5<>\"\",Table2[Status]=$C$5,TRUE))/(IF($C$6<>\"\",Table2[]=$C$6,TRUE))/(IF($C$7<>\"\",Table2[ProposalCode]=$C$7,TRUE)),ROW(B425))),\"\")","v":""},{"$f":"IFERROR(INDEX(Table2[Location],_xlfn.AGGREGATE(15,6,(ROW(Table2[FPPGroupCode])-2)/(Table2[DepoName]=$C$2)/(IF($C$3<>\"\",Table2[BULAN]=$C$3,TRUE))/(IF($C$4<>\"\",Table2[OFF/ON]=$C$4,TRUE))/(IF($C$5<>\"\",Table2[Status]=$C$5,TRUE))/(IF($C$6<>\"\",Table2[FPPDate]=$C$6,TRUE))/(IF($C$7<>\"\",Table2[ProposalCode]=$C$7,TRUE)),ROW(D425))),\"\")","v":""},{"$f":"IFERROR(INDEX(Table2[PeriodeStart],_xlfn.AGGREGATE(15,6,(ROW(Table2[FPPGroupCode])-2)/(Table2[DepoName]=$C$2)/(IF($C$3<>\"\",Table2[BULAN]=$C$3,TRUE))/(IF($C$4<>\"\",Table2[OFF/ON]=$C$4,TRUE))/(IF($C$5<>\"\",Table2[Status]=$C$5,TRUE))/(IF($C$6<>\"\",Table2[FPPDate]=$C$6,TRUE))/(IF($C$7<>\"\",Table2[ProposalCode]=$C$7,TRUE)),ROW(E425))),\"\")","v":""},{"$f":"IFERROR(INDEX(Table2[PeriodeEnd],_xlfn.AGGREGATE(15,6,(ROW(Table2[FPPGroupCode])-2)/(Table2[DepoName]=$C$2)/(IF($C$3<>\"\",Table2[BULAN]=$C$3,TRUE))/(IF($C$4<>\"\",Table2[OFF/ON]=$C$4,TRUE))/(IF($C$5<>\"\",Table2[Status]=$C$5,TRUE))/(IF($C$6<>\"\",Table2[FPPDate]=$C$6,TRUE))/(IF($C$7<>\"\",Table2[ProposalCode]=$C$7,TRUE)),ROW(F425))),\"\")","v":""},{"$f":"IFERROR(INDEX(Table2[Amount_FPPDepo],_xlfn.AGGREGATE(15,6,(ROW(Table2[FPPGroupCode])-2)/(Table2[DepoName]=$C$2)/(IF($C$3<>\"\",Table2[BULAN]=$C$3,TRUE))/(IF($C$4<>\"\",Table2[OFF/ON]=$C$4,TRUE))/(IF($C$5<>\"\",Table2[Status]=$C$5,TRUE))/(IF($C$6<>\"\",Table2[FPPDate]=$C$6,TRUE))/(IF($C$7<>\"\",Table2[ProposalCode]=$C$7,TRUE)),ROW(G425))),\"\")","v":""},{"$f":"IFERROR(VLOOKUP($B433,SIP!$D$5776:$P$6032,12,0),0)","v":0},{"$f":"IFERROR(H433-I433,0)","v":0},{"$f":"IFERROR(VLOOKUP($B433,SIP!$D$5776:$P$6032,8,0),0)","v":0},{"$f":"IFERROR(INDEX(Table2[OFF/ON],_xlfn.AGGREGATE(15,6,(ROW(Table2[FPPGroupCode])-2)/(Table2[DepoName]=$C$2)/(IF($C$3<>\"\",Table2[BULAN]=$C$3,TRUE))/(IF($C$4<>\"\",Table2[OFF/ON]=$C$4,TRUE))/(IF($C$5<>\"\",Table2[Status]=$C$5,TRUE))/(IF($C$6<>\"\",Table2[FPPDate]=$C$6,TRUE))/(IF($C$7<>\"\",Table2[ProposalCode]=$C$7,TRUE)),ROW(K425))),\"\")","v":""}]
[{"$f":"IF(LEN($B434),ROW(A426),\"\")","v":""},{"$f":"IFERROR(INDEX(Table2[FPPGroupCode],_xlfn.AGGREGATE(15,6,(ROW(Table2[FPPGroupCode])-2)/(Table2[DepoName]=$C$2)/(IF($C$3<>\"\",Table2[BULAN]=$C$3,TRUE))/(IF($C$4<>\"\",Table2[OFF/ON]=$C$4,TRUE))/(IF($C$5<>\"\",Table2[Status]=$C$5,TRUE))/(IF($C$6<>\"\",Table2[FPPDate]=$C$6,TRUE))/(IF($C$7<>\"\",Table2[ProposalCode]=$C$7,TRUE)),ROW(A426))),\"\")","v":""},{"$f":"IFERROR(VLOOKUP($B434,SIP!$D$3:$Q$12237,14,0),0)","v":0},{"$f":"IFERROR(INDEX(Table2[Activity],_xlfn.AGGREGATE(15,6,(ROW(Table2[FPPGroupCode])-2)/(Table2[DepoName]=$C$2)/(IF($C$3<>\"\",Table2[BULAN]=$C$3,TRUE))/(IF($C$4<>\"\",Table2[OFF/ON]=$C$4,TRUE))/(IF($C$5<>\"\",Table2[Status]=$C$5,TRUE))/(IF($C$6<>\"\",Table2[]=$C$6,TRUE))/(IF($C$7<>\"\",Table2[ProposalCode]=$C$7,TRUE)),ROW(B426))),\"\")","v":""},{"$f":"IFERROR(INDEX(Table2[Location],_xlfn.AGGREGATE(15,6,(ROW(Table2[FPPGroupCode])-2)/(Table2[DepoName]=$C$2)/(IF($C$3<>\"\",Table2[BULAN]=$C$3,TRUE))/(IF($C$4<>\"\",Table2[OFF/ON]=$C$4,TRUE))/(IF($C$5<>\"\",Table2[Status]=$C$5,TRUE))/(IF($C$6<>\"\",Table2[FPPDate]=$C$6,TRUE))/(IF($C$7<>\"\",Table2[ProposalCode]=$C$7,TRUE)),ROW(D426))),\"\")","v":""},{"$f":"IFERROR(INDEX(Table2[PeriodeStart],_xlfn.AGGREGATE(15,6,(ROW(Table2[FPPGroupCode])-2)/(Table2[DepoName]=$C$2)/(IF($C$3<>\"\",Table2[BULAN]=$C$3,TRUE))/(IF($C$4<>\"\",Table2[OFF/ON]=$C$4,TRUE))/(IF($C$5<>\"\",Table2[Status]=$C$5,TRUE))/(IF($C$6<>\"\",Table2[FPPDate]=$C$6,TRUE))/(IF($C$7<>\"\",Table2[ProposalCode]=$C$7,TRUE)),ROW(E426))),\"\")","v":""},{"$f":"IFERROR(INDEX(Table2[PeriodeEnd],_xlfn.AGGREGATE(15,6,(ROW(Table2[FPPGroupCode])-2)/(Table2[DepoName]=$C$2)/(IF($C$3<>\"\",Table2[BULAN]=$C$3,TRUE))/(IF($C$4<>\"\",Table2[OFF/ON]=$C$4,TRUE))/(IF($C$5<>\"\",Table2[Status]=$C$5,TRUE))/(IF($C$6<>\"\",Table2[FPPDate]=$C$6,TRUE))/(IF($C$7<>\"\",Table2[ProposalCode]=$C$7,TRUE)),ROW(F426))),\"\")","v":""},{"$f":"IFERROR(INDEX(Table2[Amount_FPPDepo],_xlfn.AGGREGATE(15,6,(ROW(Table2[FPPGroupCode])-2)/(Table2[DepoName]=$C$2)/(IF($C$3<>\"\",Table2[BULAN]=$C$3,TRUE))/(IF($C$4<>\"\",Table2[OFF/ON]=$C$4,TRUE))/(IF($C$5<>\"\",Table2[Status]=$C$5,TRUE))/(IF($C$6<>\"\",Table2[FPPDate]=$C$6,TRUE))/(IF($C$7<>\"\",Table2[ProposalCode]=$C$7,TRUE)),ROW(G426))),\"\")","v":""},{"$f":"IFERROR(VLOOKUP($B434,SIP!$D$5776:$P$6032,12,0),0)","v":0},{"$f":"IFERROR(H434-I434,0)","v":0},{"$f":"IFERROR(VLOOKUP($B434,SIP!$D$5776:$P$6032,8,0),0)","v":0},{"$f":"IFERROR(INDEX(Table2[OFF/ON],_xlfn.AGGREGATE(15,6,(ROW(Table2[FPPGroupCode])-2)/(Table2[DepoName]=$C$2)/(IF($C$3<>\"\",Table2[BULAN]=$C$3,TRUE))/(IF($C$4<>\"\",Table2[OFF/ON]=$C$4,TRUE))/(IF($C$5<>\"\",Table2[Status]=$C$5,TRUE))/(IF($C$6<>\"\",Table2[FPPDate]=$C$6,TRUE))/(IF($C$7<>\"\",Table2[ProposalCode]=$C$7,TRUE)),ROW(K426))),\"\")","v":""}]
[{"$f":"IF(LEN($B435),ROW(A427),\"\")","v":""},{"$f":"IFERROR(INDEX(Table2[FPPGroupCode],_xlfn.AGGREGATE(15,6,(ROW(Table2[FPPGroupCode])-2)/(Table2[DepoName]=$C$2)/(IF($C$3<>\"\",Table2[BULAN]=$C$3,TRUE))/(IF($C$4<>\"\",Table2[OFF/ON]=$C$4,TRUE))/(IF($C$5<>\"\",Table2[Status]=$C$5,TRUE))/(IF($C$6<>\"\",Table2[FPPDate]=$C$6,TRUE))/(IF($C$7<>\"\",Table2[ProposalCode]=$C$7,TRUE)),ROW(A427))),\"\")","v":""},{"$f":"IFERROR(VLOOKUP($B435,SIP!$D$3:$Q$12237,14,0),0)","v":0},{"$f":"IFERROR(INDEX(Table2[Activity],_xlfn.AGGREGATE(15,6,(ROW(Table2[FPPGroupCode])-2)/(Table2[DepoName]=$C$2)/(IF($C$3<>\"\",Table2[BULAN]=$C$3,TRUE))/(IF($C$4<>\"\",Table2[OFF/ON]=$C$4,TRUE))/(IF($C$5<>\"\",Table2[Status]=$C$5,TRUE))/(IF($C$6<>\"\",Table2[]=$C$6,TRUE))/(IF($C$7<>\"\",Table2[ProposalCode]=$C$7,TRUE)),ROW(B427))),\"\")","v":""},{"$f":"IFERROR(INDEX(Table2[Location],_xlfn.AGGREGATE(15,6,(ROW(Table2[FPPGroupCode])-2)/(Table2[DepoName]=$C$2)/(IF($C$3<>\"\",Table2[BULAN]=$C$3,TRUE))/(IF($C$4<>\"\",Table2[OFF/ON]=$C$4,TRUE))/(IF($C$5<>\"\",Table2[Status]=$C$5,TRUE))/(IF($C$6<>\"\",Table2[FPPDate]=$C$6,TRUE))/(IF($C$7<>\"\",Table2[ProposalCode]=$C$7,TRUE)),ROW(D427))),\"\")","v":""},{"$f":"IFERROR(INDEX(Table2[PeriodeStart],_xlfn.AGGREGATE(15,6,(ROW(Table2[FPPGroupCode])-2)/(Table2[DepoName]=$C$2)/(IF($C$3<>\"\",Table2[BULAN]=$C$3,TRUE))/(IF($C$4<>\"\",Table2[OFF/ON]=$C$4,TRUE))/(IF($C$5<>\"\",Table2[Status]=$C$5,TRUE))/(IF($C$6<>\"\",Table2[FPPDate]=$C$6,TRUE))/(IF($C$7<>\"\",Table2[ProposalCode]=$C$7,TRUE)),ROW(E427))),\"\")","v":""},{"$f":"IFERROR(INDEX(Table2[PeriodeEnd],_xlfn.AGGREGATE(15,6,(ROW(Table2[FPPGroupCode])-2)/(Table2[DepoName]=$C$2)/(IF($C$3<>\"\",Table2[BULAN]=$C$3,TRUE))/(IF($C$4<>\"\",Table2[OFF/ON]=$C$4,TRUE))/(IF($C$5<>\"\",Table2[Status]=$C$5,TRUE))/(IF($C$6<>\"\",Table2[FPPDate]=$C$6,TRUE))/(IF($C$7<>\"\",Table2[ProposalCode]=$C$7,TRUE)),ROW(F427))),\"\")","v":""},{"$f":"IFERROR(INDEX(Table2[Amount_FPPDepo],_xlfn.AGGREGATE(15,6,(ROW(Table2[FPPGroupCode])-2)/(Table2[DepoName]=$C$2)/(IF($C$3<>\"\",Table2[BULAN]=$C$3,TRUE))/(IF($C$4<>\"\",Table2[OFF/ON]=$C$4,TRUE))/(IF($C$5<>\"\",Table2[Status]=$C$5,TRUE))/(IF($C$6<>\"\",Table2[FPPDate]=$C$6,TRUE))/(IF($C$7<>\"\",Table2[ProposalCode]=$C$7,TRUE)),ROW(G427))),\"\")","v":""},{"$f":"IFERROR(VLOOKUP($B435,SIP!$D$5776:$P$6032,12,0),0)","v":0},{"$f":"IFERROR(H435-I435,0)","v":0},{"$f":"IFERROR(VLOOKUP($B435,SIP!$D$5776:$P$6032,8,0),0)","v":0},{"$f":"IFERROR(INDEX(Table2[OFF/ON],_xlfn.AGGREGATE(15,6,(ROW(Table2[FPPGroupCode])-2)/(Table2[DepoName]=$C$2)/(IF($C$3<>\"\",Table2[BULAN]=$C$3,TRUE))/(IF($C$4<>\"\",Table2[OFF/ON]=$C$4,TRUE))/(IF($C$5<>\"\",Table2[Status]=$C$5,TRUE))/(IF($C$6<>\"\",Table2[FPPDate]=$C$6,TRUE))/(IF($C$7<>\"\",Table2[ProposalCode]=$C$7,TRUE)),ROW(K427))),\"\")","v":""}]
[{"$f":"IF(LEN($B436),ROW(A428),\"\")","v":""},{"$f":"IFERROR(INDEX(Table2[FPPGroupCode],_xlfn.AGGREGATE(15,6,(ROW(Table2[FPPGroupCode])-2)/(Table2[DepoName]=$C$2)/(IF($C$3<>\"\",Table2[BULAN]=$C$3,TRUE))/(IF($C$4<>\"\",Table2[OFF/ON]=$C$4,TRUE))/(IF($C$5<>\"\",Table2[Status]=$C$5,TRUE))/(IF($C$6<>\"\",Table2[FPPDate]=$C$6,TRUE))/(IF($C$7<>\"\",Table2[ProposalCode]=$C$7,TRUE)),ROW(A428))),\"\")","v":""},{"$f":"IFERROR(VLOOKUP($B436,SIP!$D$3:$Q$12237,14,0),0)","v":0},{"$f":"IFERROR(INDEX(Table2[Activity],_xlfn.AGGREGATE(15,6,(ROW(Table2[FPPGroupCode])-2)/(Table2[DepoName]=$C$2)/(IF($C$3<>\"\",Table2[BULAN]=$C$3,TRUE))/(IF($C$4<>\"\",Table2[OFF/ON]=$C$4,TRUE))/(IF($C$5<>\"\",Table2[Status]=$C$5,TRUE))/(IF($C$6<>\"\",Table2[]=$C$6,TRUE))/(IF($C$7<>\"\",Table2[ProposalCode]=$C$7,TRUE)),ROW(B428))),\"\")","v":""},{"$f":"IFERROR(INDEX(Table2[Location],_xlfn.AGGREGATE(15,6,(ROW(Table2[FPPGroupCode])-2)/(Table2[DepoName]=$C$2)/(IF($C$3<>\"\",Table2[BULAN]=$C$3,TRUE))/(IF($C$4<>\"\",Table2[OFF/ON]=$C$4,TRUE))/(IF($C$5<>\"\",Table2[Status]=$C$5,TRUE))/(IF($C$6<>\"\",Table2[FPPDate]=$C$6,TRUE))/(IF($C$7<>\"\",Table2[ProposalCode]=$C$7,TRUE)),ROW(D428))),\"\")","v":""},{"$f":"IFERROR(INDEX(Table2[PeriodeStart],_xlfn.AGGREGATE(15,6,(ROW(Table2[FPPGroupCode])-2)/(Table2[DepoName]=$C$2)/(IF($C$3<>\"\",Table2[BULAN]=$C$3,TRUE))/(IF($C$4<>\"\",Table2[OFF/ON]=$C$4,TRUE))/(IF($C$5<>\"\",Table2[Status]=$C$5,TRUE))/(IF($C$6<>\"\",Table2[FPPDate]=$C$6,TRUE))/(IF($C$7<>\"\",Table2[ProposalCode]=$C$7,TRUE)),ROW(E428))),\"\")","v":""},{"$f":"IFERROR(INDEX(Table2[PeriodeEnd],_xlfn.AGGREGATE(15,6,(ROW(Table2[FPPGroupCode])-2)/(Table2[DepoName]=$C$2)/(IF($C$3<>\"\",Table2[BULAN]=$C$3,TRUE))/(IF($C$4<>\"\",Table2[OFF/ON]=$C$4,TRUE))/(IF($C$5<>\"\",Table2[Status]=$C$5,TRUE))/(IF($C$6<>\"\",Table2[FPPDate]=$C$6,TRUE))/(IF($C$7<>\"\",Table2[ProposalCode]=$C$7,TRUE)),ROW(F428))),\"\")","v":""},{"$f":"IFERROR(INDEX(Table2[Amount_FPPDepo],_xlfn.AGGREGATE(15,6,(ROW(Table2[FPPGroupCode])-2)/(Table2[DepoName]=$C$2)/(IF($C$3<>\"\",Table2[BULAN]=$C$3,TRUE))/(IF($C$4<>\"\",Table2[OFF/ON]=$C$4,TRUE))/(IF($C$5<>\"\",Table2[Status]=$C$5,TRUE))/(IF($C$6<>\"\",Table2[FPPDate]=$C$6,TRUE))/(IF($C$7<>\"\",Table2[ProposalCode]=$C$7,TRUE)),ROW(G428))),\"\")","v":""},{"$f":"IFERROR(VLOOKUP($B436,SIP!$D$5776:$P$6032,12,0),0)","v":0},{"$f":"IFERROR(H436-I436,0)","v":0},{"$f":"IFERROR(VLOOKUP($B436,SIP!$D$5776:$P$6032,8,0),0)","v":0},{"$f":"IFERROR(INDEX(Table2[OFF/ON],_xlfn.AGGREGATE(15,6,(ROW(Table2[FPPGroupCode])-2)/(Table2[DepoName]=$C$2)/(IF($C$3<>\"\",Table2[BULAN]=$C$3,TRUE))/(IF($C$4<>\"\",Table2[OFF/ON]=$C$4,TRUE))/(IF($C$5<>\"\",Table2[Status]=$C$5,TRUE))/(IF($C$6<>\"\",Table2[FPPDate]=$C$6,TRUE))/(IF($C$7<>\"\",Table2[ProposalCode]=$C$7,TRUE)),ROW(K428))),\"\")","v":""}]
[{"$f":"IF(LEN($B437),ROW(A429),\"\")","v":""},{"$f":"IFERROR(INDEX(Table2[FPPGroupCode],_xlfn.AGGREGATE(15,6,(ROW(Table2[FPPGroupCode])-2)/(Table2[DepoName]=$C$2)/(IF($C$3<>\"\",Table2[BULAN]=$C$3,TRUE))/(IF($C$4<>\"\",Table2[OFF/ON]=$C$4,TRUE))/(IF($C$5<>\"\",Table2[Status]=$C$5,TRUE))/(IF($C$6<>\"\",Table2[FPPDate]=$C$6,TRUE))/(IF($C$7<>\"\",Table2[ProposalCode]=$C$7,TRUE)),ROW(A429))),\"\")","v":""},{"$f":"IFERROR(VLOOKUP($B437,SIP!$D$3:$Q$12237,14,0),0)","v":0},{"$f":"IFERROR(INDEX(Table2[Activity],_xlfn.AGGREGATE(15,6,(ROW(Table2[FPPGroupCode])-2)/(Table2[DepoName]=$C$2)/(IF($C$3<>\"\",Table2[BULAN]=$C$3,TRUE))/(IF($C$4<>\"\",Table2[OFF/ON]=$C$4,TRUE))/(IF($C$5<>\"\",Table2[Status]=$C$5,TRUE))/(IF($C$6<>\"\",Table2[]=$C$6,TRUE))/(IF($C$7<>\"\",Table2[ProposalCode]=$C$7,TRUE)),ROW(B429))),\"\")","v":""},{"$f":"IFERROR(INDEX(Table2[Location],_xlfn.AGGREGATE(15,6,(ROW(Table2[FPPGroupCode])-2)/(Table2[DepoName]=$C$2)/(IF($C$3<>\"\",Table2[BULAN]=$C$3,TRUE))/(IF($C$4<>\"\",Table2[OFF/ON]=$C$4,TRUE))/(IF($C$5<>\"\",Table2[Status]=$C$5,TRUE))/(IF($C$6<>\"\",Table2[FPPDate]=$C$6,TRUE))/(IF($C$7<>\"\",Table2[ProposalCode]=$C$7,TRUE)),ROW(D429))),\"\")","v":""},{"$f":"IFERROR(INDEX(Table2[PeriodeStart],_xlfn.AGGREGATE(15,6,(ROW(Table2[FPPGroupCode])-2)/(Table2[DepoName]=$C$2)/(IF($C$3<>\"\",Table2[BULAN]=$C$3,TRUE))/(IF($C$4<>\"\",Table2[OFF/ON]=$C$4,TRUE))/(IF($C$5<>\"\",Table2[Status]=$C$5,TRUE))/(IF($C$6<>\"\",Table2[FPPDate]=$C$6,TRUE))/(IF($C$7<>\"\",Table2[ProposalCode]=$C$7,TRUE)),ROW(E429))),\"\")","v":""},{"$f":"IFERROR(INDEX(Table2[PeriodeEnd],_xlfn.AGGREGATE(15,6,(ROW(Table2[FPPGroupCode])-2)/(Table2[DepoName]=$C$2)/(IF($C$3<>\"\",Table2[BULAN]=$C$3,TRUE))/(IF($C$4<>\"\",Table2[OFF/ON]=$C$4,TRUE))/(IF($C$5<>\"\",Table2[Status]=$C$5,TRUE))/(IF($C$6<>\"\",Table2[FPPDate]=$C$6,TRUE))/(IF($C$7<>\"\",Table2[ProposalCode]=$C$7,TRUE)),ROW(F429))),\"\")","v":""},{"$f":"IFERROR(INDEX(Table2[Amount_FPPDepo],_xlfn.AGGREGATE(15,6,(ROW(Table2[FPPGroupCode])-2)/(Table2[DepoName]=$C$2)/(IF($C$3<>\"\",Table2[BULAN]=$C$3,TRUE))/(IF($C$4<>\"\",Table2[OFF/ON]=$C$4,TRUE))/(IF($C$5<>\"\",Table2[Status]=$C$5,TRUE))/(IF($C$6<>\"\",Table2[FPPDate]=$C$6,TRUE))/(IF($C$7<>\"\",Table2[ProposalCode]=$C$7,TRUE)),ROW(G429))),\"\")","v":""},{"$f":"IFERROR(VLOOKUP($B437,SIP!$D$5776:$P$6032,12,0),0)","v":0},{"$f":"IFERROR(H437-I437,0)","v":0},{"$f":"IFERROR(VLOOKUP($B437,SIP!$D$5776:$P$6032,8,0),0)","v":0},{"$f":"IFERROR(INDEX(Table2[OFF/ON],_xlfn.AGGREGATE(15,6,(ROW(Table2[FPPGroupCode])-2)/(Table2[DepoName]=$C$2)/(IF($C$3<>\"\",Table2[BULAN]=$C$3,TRUE))/(IF($C$4<>\"\",Table2[OFF/ON]=$C$4,TRUE))/(IF($C$5<>\"\",Table2[Status]=$C$5,TRUE))/(IF($C$6<>\"\",Table2[FPPDate]=$C$6,TRUE))/(IF($C$7<>\"\",Table2[ProposalCode]=$C$7,TRUE)),ROW(K429))),\"\")","v":""}]
[{"$f":"IF(LEN($B438),ROW(A430),\"\")","v":""},{"$f":"IFERROR(INDEX(Table2[FPPGroupCode],_xlfn.AGGREGATE(15,6,(ROW(Table2[FPPGroupCode])-2)/(Table2[DepoName]=$C$2)/(IF($C$3<>\"\",Table2[BULAN]=$C$3,TRUE))/(IF($C$4<>\"\",Table2[OFF/ON]=$C$4,TRUE))/(IF($C$5<>\"\",Table2[Status]=$C$5,TRUE))/(IF($C$6<>\"\",Table2[FPPDate]=$C$6,TRUE))/(IF($C$7<>\"\",Table2[ProposalCode]=$C$7,TRUE)),ROW(A430))),\"\")","v":""},{"$f":"IFERROR(VLOOKUP($B438,SIP!$D$3:$Q$12237,14,0),0)","v":0},{"$f":"IFERROR(INDEX(Table2[Activity],_xlfn.AGGREGATE(15,6,(ROW(Table2[FPPGroupCode])-2)/(Table2[DepoName]=$C$2)/(IF($C$3<>\"\",Table2[BULAN]=$C$3,TRUE))/(IF($C$4<>\"\",Table2[OFF/ON]=$C$4,TRUE))/(IF($C$5<>\"\",Table2[Status]=$C$5,TRUE))/(IF($C$6<>\"\",Table2[]=$C$6,TRUE))/(IF($C$7<>\"\",Table2[ProposalCode]=$C$7,TRUE)),ROW(B430))),\"\")","v":""},{"$f":"IFERROR(INDEX(Table2[Location],_xlfn.AGGREGATE(15,6,(ROW(Table2[FPPGroupCode])-2)/(Table2[DepoName]=$C$2)/(IF($C$3<>\"\",Table2[BULAN]=$C$3,TRUE))/(IF($C$4<>\"\",Table2[OFF/ON]=$C$4,TRUE))/(IF($C$5<>\"\",Table2[Status]=$C$5,TRUE))/(IF($C$6<>\"\",Table2[FPPDate]=$C$6,TRUE))/(IF($C$7<>\"\",Table2[ProposalCode]=$C$7,TRUE)),ROW(D430))),\"\")","v":""},{"$f":"IFERROR(INDEX(Table2[PeriodeStart],_xlfn.AGGREGATE(15,6,(ROW(Table2[FPPGroupCode])-2)/(Table2[DepoName]=$C$2)/(IF($C$3<>\"\",Table2[BULAN]=$C$3,TRUE))/(IF($C$4<>\"\",Table2[OFF/ON]=$C$4,TRUE))/(IF($C$5<>\"\",Table2[Status]=$C$5,TRUE))/(IF($C$6<>\"\",Table2[FPPDate]=$C$6,TRUE))/(IF($C$7<>\"\",Table2[ProposalCode]=$C$7,TRUE)),ROW(E430))),\"\")","v":""},{"$f":"IFERROR(INDEX(Table2[PeriodeEnd],_xlfn.AGGREGATE(15,6,(ROW(Table2[FPPGroupCode])-2)/(Table2[DepoName]=$C$2)/(IF($C$3<>\"\",Table2[BULAN]=$C$3,TRUE))/(IF($C$4<>\"\",Table2[OFF/ON]=$C$4,TRUE))/(IF($C$5<>\"\",Table2[Status]=$C$5,TRUE))/(IF($C$6<>\"\",Table2[FPPDate]=$C$6,TRUE))/(IF($C$7<>\"\",Table2[ProposalCode]=$C$7,TRUE)),ROW(F430))),\"\")","v":""},{"$f":"IFERROR(INDEX(Table2[Amount_FPPDepo],_xlfn.AGGREGATE(15,6,(ROW(Table2[FPPGroupCode])-2)/(Table2[DepoName]=$C$2)/(IF($C$3<>\"\",Table2[BULAN]=$C$3,TRUE))/(IF($C$4<>\"\",Table2[OFF/ON]=$C$4,TRUE))/(IF($C$5<>\"\",Table2[Status]=$C$5,TRUE))/(IF($C$6<>\"\",Table2[FPPDate]=$C$6,TRUE))/(IF($C$7<>\"\",Table2[ProposalCode]=$C$7,TRUE)),ROW(G430))),\"\")","v":""},{"$f":"IFERROR(VLOOKUP($B438,SIP!$D$5776:$P$6032,12,0),0)","v":0},{"$f":"IFERROR(H438-I438,0)","v":0},{"$f":"IFERROR(VLOOKUP($B438,SIP!$D$5776:$P$6032,8,0),0)","v":0},{"$f":"IFERROR(INDEX(Table2[OFF/ON],_xlfn.AGGREGATE(15,6,(ROW(Table2[FPPGroupCode])-2)/(Table2[DepoName]=$C$2)/(IF($C$3<>\"\",Table2[BULAN]=$C$3,TRUE))/(IF($C$4<>\"\",Table2[OFF/ON]=$C$4,TRUE))/(IF($C$5<>\"\",Table2[Status]=$C$5,TRUE))/(IF($C$6<>\"\",Table2[FPPDate]=$C$6,TRUE))/(IF($C$7<>\"\",Table2[ProposalCode]=$C$7,TRUE)),ROW(K430))),\"\")","v":""}]
[{"$f":"IF(LEN($B439),ROW(A431),\"\")","v":""},{"$f":"IFERROR(INDEX(Table2[FPPGroupCode],_xlfn.AGGREGATE(15,6,(ROW(Table2[FPPGroupCode])-2)/(Table2[DepoName]=$C$2)/(IF($C$3<>\"\",Table2[BULAN]=$C$3,TRUE))/(IF($C$4<>\"\",Table2[OFF/ON]=$C$4,TRUE))/(IF($C$5<>\"\",Table2[Status]=$C$5,TRUE))/(IF($C$6<>\"\",Table2[FPPDate]=$C$6,TRUE))/(IF($C$7<>\"\",Table2[ProposalCode]=$C$7,TRUE)),ROW(A431))),\"\")","v":""},{"$f":"IFERROR(VLOOKUP($B439,SIP!$D$3:$Q$12237,14,0),0)","v":0},{"$f":"IFERROR(INDEX(Table2[Activity],_xlfn.AGGREGATE(15,6,(ROW(Table2[FPPGroupCode])-2)/(Table2[DepoName]=$C$2)/(IF($C$3<>\"\",Table2[BULAN]=$C$3,TRUE))/(IF($C$4<>\"\",Table2[OFF/ON]=$C$4,TRUE))/(IF($C$5<>\"\",Table2[Status]=$C$5,TRUE))/(IF($C$6<>\"\",Table2[]=$C$6,TRUE))/(IF($C$7<>\"\",Table2[ProposalCode]=$C$7,TRUE)),ROW(B431))),\"\")","v":""},{"$f":"IFERROR(INDEX(Table2[Location],_xlfn.AGGREGATE(15,6,(ROW(Table2[FPPGroupCode])-2)/(Table2[DepoName]=$C$2)/(IF($C$3<>\"\",Table2[BULAN]=$C$3,TRUE))/(IF($C$4<>\"\",Table2[OFF/ON]=$C$4,TRUE))/(IF($C$5<>\"\",Table2[Status]=$C$5,TRUE))/(IF($C$6<>\"\",Table2[FPPDate]=$C$6,TRUE))/(IF($C$7<>\"\",Table2[ProposalCode]=$C$7,TRUE)),ROW(D431))),\"\")","v":""},{"$f":"IFERROR(INDEX(Table2[PeriodeStart],_xlfn.AGGREGATE(15,6,(ROW(Table2[FPPGroupCode])-2)/(Table2[DepoName]=$C$2)/(IF($C$3<>\"\",Table2[BULAN]=$C$3,TRUE))/(IF($C$4<>\"\",Table2[OFF/ON]=$C$4,TRUE))/(IF($C$5<>\"\",Table2[Status]=$C$5,TRUE))/(IF($C$6<>\"\",Table2[FPPDate]=$C$6,TRUE))/(IF($C$7<>\"\",Table2[ProposalCode]=$C$7,TRUE)),ROW(E431))),\"\")","v":""},{"$f":"IFERROR(INDEX(Table2[PeriodeEnd],_xlfn.AGGREGATE(15,6,(ROW(Table2[FPPGroupCode])-2)/(Table2[DepoName]=$C$2)/(IF($C$3<>\"\",Table2[BULAN]=$C$3,TRUE))/(IF($C$4<>\"\",Table2[OFF/ON]=$C$4,TRUE))/(IF($C$5<>\"\",Table2[Status]=$C$5,TRUE))/(IF($C$6<>\"\",Table2[FPPDate]=$C$6,TRUE))/(IF($C$7<>\"\",Table2[ProposalCode]=$C$7,TRUE)),ROW(F431))),\"\")","v":""},{"$f":"IFERROR(INDEX(Table2[Amount_FPPDepo],_xlfn.AGGREGATE(15,6,(ROW(Table2[FPPGroupCode])-2)/(Table2[DepoName]=$C$2)/(IF($C$3<>\"\",Table2[BULAN]=$C$3,TRUE))/(IF($C$4<>\"\",Table2[OFF/ON]=$C$4,TRUE))/(IF($C$5<>\"\",Table2[Status]=$C$5,TRUE))/(IF($C$6<>\"\",Table2[FPPDate]=$C$6,TRUE))/(IF($C$7<>\"\",Table2[ProposalCode]=$C$7,TRUE)),ROW(G431))),\"\")","v":""},{"$f":"IFERROR(VLOOKUP($B439,SIP!$D$5776:$P$6032,12,0),0)","v":0},{"$f":"IFERROR(H439-I439,0)","v":0},{"$f":"IFERROR(VLOOKUP($B439,SIP!$D$5776:$P$6032,8,0),0)","v":0},{"$f":"IFERROR(INDEX(Table2[OFF/ON],_xlfn.AGGREGATE(15,6,(ROW(Table2[FPPGroupCode])-2)/(Table2[DepoName]=$C$2)/(IF($C$3<>\"\",Table2[BULAN]=$C$3,TRUE))/(IF($C$4<>\"\",Table2[OFF/ON]=$C$4,TRUE))/(IF($C$5<>\"\",Table2[Status]=$C$5,TRUE))/(IF($C$6<>\"\",Table2[FPPDate]=$C$6,TRUE))/(IF($C$7<>\"\",Table2[ProposalCode]=$C$7,TRUE)),ROW(K431))),\"\")","v":""}]
[{"$f":"IF(LEN($B440),ROW(A432),\"\")","v":""},{"$f":"IFERROR(INDEX(Table2[FPPGroupCode],_xlfn.AGGREGATE(15,6,(ROW(Table2[FPPGroupCode])-2)/(Table2[DepoName]=$C$2)/(IF($C$3<>\"\",Table2[BULAN]=$C$3,TRUE))/(IF($C$4<>\"\",Table2[OFF/ON]=$C$4,TRUE))/(IF($C$5<>\"\",Table2[Status]=$C$5,TRUE))/(IF($C$6<>\"\",Table2[FPPDate]=$C$6,TRUE))/(IF($C$7<>\"\",Table2[ProposalCode]=$C$7,TRUE)),ROW(A432))),\"\")","v":""},{"$f":"IFERROR(VLOOKUP($B440,SIP!$D$3:$Q$12237,14,0),0)","v":0},{"$f":"IFERROR(INDEX(Table2[Activity],_xlfn.AGGREGATE(15,6,(ROW(Table2[FPPGroupCode])-2)/(Table2[DepoName]=$C$2)/(IF($C$3<>\"\",Table2[BULAN]=$C$3,TRUE))/(IF($C$4<>\"\",Table2[OFF/ON]=$C$4,TRUE))/(IF($C$5<>\"\",Table2[Status]=$C$5,TRUE))/(IF($C$6<>\"\",Table2[]=$C$6,TRUE))/(IF($C$7<>\"\",Table2[ProposalCode]=$C$7,TRUE)),ROW(B432))),\"\")","v":""},{"$f":"IFERROR(INDEX(Table2[Location],_xlfn.AGGREGATE(15,6,(ROW(Table2[FPPGroupCode])-2)/(Table2[DepoName]=$C$2)/(IF($C$3<>\"\",Table2[BULAN]=$C$3,TRUE))/(IF($C$4<>\"\",Table2[OFF/ON]=$C$4,TRUE))/(IF($C$5<>\"\",Table2[Status]=$C$5,TRUE))/(IF($C$6<>\"\",Table2[FPPDate]=$C$6,TRUE))/(IF($C$7<>\"\",Table2[ProposalCode]=$C$7,TRUE)),ROW(D432))),\"\")","v":""},{"$f":"IFERROR(INDEX(Table2[PeriodeStart],_xlfn.AGGREGATE(15,6,(ROW(Table2[FPPGroupCode])-2)/(Table2[DepoName]=$C$2)/(IF($C$3<>\"\",Table2[BULAN]=$C$3,TRUE))/(IF($C$4<>\"\",Table2[OFF/ON]=$C$4,TRUE))/(IF($C$5<>\"\",Table2[Status]=$C$5,TRUE))/(IF($C$6<>\"\",Table2[FPPDate]=$C$6,TRUE))/(IF($C$7<>\"\",Table2[ProposalCode]=$C$7,TRUE)),ROW(E432))),\"\")","v":""},{"$f":"IFERROR(INDEX(Table2[PeriodeEnd],_xlfn.AGGREGATE(15,6,(ROW(Table2[FPPGroupCode])-2)/(Table2[DepoName]=$C$2)/(IF($C$3<>\"\",Table2[BULAN]=$C$3,TRUE))/(IF($C$4<>\"\",Table2[OFF/ON]=$C$4,TRUE))/(IF($C$5<>\"\",Table2[Status]=$C$5,TRUE))/(IF($C$6<>\"\",Table2[FPPDate]=$C$6,TRUE))/(IF($C$7<>\"\",Table2[ProposalCode]=$C$7,TRUE)),ROW(F432))),\"\")","v":""},{"$f":"IFERROR(INDEX(Table2[Amount_FPPDepo],_xlfn.AGGREGATE(15,6,(ROW(Table2[FPPGroupCode])-2)/(Table2[DepoName]=$C$2)/(IF($C$3<>\"\",Table2[BULAN]=$C$3,TRUE))/(IF($C$4<>\"\",Table2[OFF/ON]=$C$4,TRUE))/(IF($C$5<>\"\",Table2[Status]=$C$5,TRUE))/(IF($C$6<>\"\",Table2[FPPDate]=$C$6,TRUE))/(IF($C$7<>\"\",Table2[ProposalCode]=$C$7,TRUE)),ROW(G432))),\"\")","v":""},{"$f":"IFERROR(VLOOKUP($B440,SIP!$D$5776:$P$6032,12,0),0)","v":0},{"$f":"IFERROR(H440-I440,0)","v":0},{"$f":"IFERROR(VLOOKUP($B440,SIP!$D$5776:$P$6032,8,0),0)","v":0},{"$f":"IFERROR(INDEX(Table2[OFF/ON],_xlfn.AGGREGATE(15,6,(ROW(Table2[FPPGroupCode])-2)/(Table2[DepoName]=$C$2)/(IF($C$3<>\"\",Table2[BULAN]=$C$3,TRUE))/(IF($C$4<>\"\",Table2[OFF/ON]=$C$4,TRUE))/(IF($C$5<>\"\",Table2[Status]=$C$5,TRUE))/(IF($C$6<>\"\",Table2[FPPDate]=$C$6,TRUE))/(IF($C$7<>\"\",Table2[ProposalCode]=$C$7,TRUE)),ROW(K432))),\"\")","v":""}]
[{"$f":"IF(LEN($B441),ROW(A433),\"\")","v":""},{"$f":"IFERROR(INDEX(Table2[FPPGroupCode],_xlfn.AGGREGATE(15,6,(ROW(Table2[FPPGroupCode])-2)/(Table2[DepoName]=$C$2)/(IF($C$3<>\"\",Table2[BULAN]=$C$3,TRUE))/(IF($C$4<>\"\",Table2[OFF/ON]=$C$4,TRUE))/(IF($C$5<>\"\",Table2[Status]=$C$5,TRUE))/(IF($C$6<>\"\",Table2[FPPDate]=$C$6,TRUE))/(IF($C$7<>\"\",Table2[ProposalCode]=$C$7,TRUE)),ROW(A433))),\"\")","v":""},{"$f":"IFERROR(VLOOKUP($B441,SIP!$D$3:$Q$12237,14,0),0)","v":0},{"$f":"IFERROR(INDEX(Table2[Activity],_xlfn.AGGREGATE(15,6,(ROW(Table2[FPPGroupCode])-2)/(Table2[DepoName]=$C$2)/(IF($C$3<>\"\",Table2[BULAN]=$C$3,TRUE))/(IF($C$4<>\"\",Table2[OFF/ON]=$C$4,TRUE))/(IF($C$5<>\"\",Table2[Status]=$C$5,TRUE))/(IF($C$6<>\"\",Table2[]=$C$6,TRUE))/(IF($C$7<>\"\",Table2[ProposalCode]=$C$7,TRUE)),ROW(B433))),\"\")","v":""},{"$f":"IFERROR(INDEX(Table2[Location],_xlfn.AGGREGATE(15,6,(ROW(Table2[FPPGroupCode])-2)/(Table2[DepoName]=$C$2)/(IF($C$3<>\"\",Table2[BULAN]=$C$3,TRUE))/(IF($C$4<>\"\",Table2[OFF/ON]=$C$4,TRUE))/(IF($C$5<>\"\",Table2[Status]=$C$5,TRUE))/(IF($C$6<>\"\",Table2[FPPDate]=$C$6,TRUE))/(IF($C$7<>\"\",Table2[ProposalCode]=$C$7,TRUE)),ROW(D433))),\"\")","v":""},{"$f":"IFERROR(INDEX(Table2[PeriodeStart],_xlfn.AGGREGATE(15,6,(ROW(Table2[FPPGroupCode])-2)/(Table2[DepoName]=$C$2)/(IF($C$3<>\"\",Table2[BULAN]=$C$3,TRUE))/(IF($C$4<>\"\",Table2[OFF/ON]=$C$4,TRUE))/(IF($C$5<>\"\",Table2[Status]=$C$5,TRUE))/(IF($C$6<>\"\",Table2[FPPDate]=$C$6,TRUE))/(IF($C$7<>\"\",Table2[ProposalCode]=$C$7,TRUE)),ROW(E433))),\"\")","v":""},{"$f":"IFERROR(INDEX(Table2[PeriodeEnd],_xlfn.AGGREGATE(15,6,(ROW(Table2[FPPGroupCode])-2)/(Table2[DepoName]=$C$2)/(IF($C$3<>\"\",Table2[BULAN]=$C$3,TRUE))/(IF($C$4<>\"\",Table2[OFF/ON]=$C$4,TRUE))/(IF($C$5<>\"\",Table2[Status]=$C$5,TRUE))/(IF($C$6<>\"\",Table2[FPPDate]=$C$6,TRUE))/(IF($C$7<>\"\",Table2[ProposalCode]=$C$7,TRUE)),ROW(F433))),\"\")","v":""},{"$f":"IFERROR(INDEX(Table2[Amount_FPPDepo],_xlfn.AGGREGATE(15,6,(ROW(Table2[FPPGroupCode])-2)/(Table2[DepoName]=$C$2)/(IF($C$3<>\"\",Table2[BULAN]=$C$3,TRUE))/(IF($C$4<>\"\",Table2[OFF/ON]=$C$4,TRUE))/(IF($C$5<>\"\",Table2[Status]=$C$5,TRUE))/(IF($C$6<>\"\",Table2[FPPDate]=$C$6,TRUE))/(IF($C$7<>\"\",Table2[ProposalCode]=$C$7,TRUE)),ROW(G433))),\"\")","v":""},{"$f":"IFERROR(VLOOKUP($B441,SIP!$D$5776:$P$6032,12,0),0)","v":0},{"$f":"IFERROR(H441-I441,0)","v":0},{"$f":"IFERROR(VLOOKUP($B441,SIP!$D$5776:$P$6032,8,0),0)","v":0},{"$f":"IFERROR(INDEX(Table2[OFF/ON],_xlfn.AGGREGATE(15,6,(ROW(Table2[FPPGroupCode])-2)/(Table2[DepoName]=$C$2)/(IF($C$3<>\"\",Table2[BULAN]=$C$3,TRUE))/(IF($C$4<>\"\",Table2[OFF/ON]=$C$4,TRUE))/(IF($C$5<>\"\",Table2[Status]=$C$5,TRUE))/(IF($C$6<>\"\",Table2[FPPDate]=$C$6,TRUE))/(IF($C$7<>\"\",Table2[ProposalCode]=$C$7,TRUE)),ROW(K433))),\"\")","v":""}]
[{"$f":"IF(LEN($B442),ROW(A434),\"\")","v":""},{"$f":"IFERROR(INDEX(Table2[FPPGroupCode],_xlfn.AGGREGATE(15,6,(ROW(Table2[FPPGroupCode])-2)/(Table2[DepoName]=$C$2)/(IF($C$3<>\"\",Table2[BULAN]=$C$3,TRUE))/(IF($C$4<>\"\",Table2[OFF/ON]=$C$4,TRUE))/(IF($C$5<>\"\",Table2[Status]=$C$5,TRUE))/(IF($C$6<>\"\",Table2[FPPDate]=$C$6,TRUE))/(IF($C$7<>\"\",Table2[ProposalCode]=$C$7,TRUE)),ROW(A434))),\"\")","v":""},{"$f":"IFERROR(VLOOKUP($B442,SIP!$D$3:$Q$12237,14,0),0)","v":0},{"$f":"IFERROR(INDEX(Table2[Activity],_xlfn.AGGREGATE(15,6,(ROW(Table2[FPPGroupCode])-2)/(Table2[DepoName]=$C$2)/(IF($C$3<>\"\",Table2[BULAN]=$C$3,TRUE))/(IF($C$4<>\"\",Table2[OFF/ON]=$C$4,TRUE))/(IF($C$5<>\"\",Table2[Status]=$C$5,TRUE))/(IF($C$6<>\"\",Table2[]=$C$6,TRUE))/(IF($C$7<>\"\",Table2[ProposalCode]=$C$7,TRUE)),ROW(B434))),\"\")","v":""},{"$f":"IFERROR(INDEX(Table2[Location],_xlfn.AGGREGATE(15,6,(ROW(Table2[FPPGroupCode])-2)/(Table2[DepoName]=$C$2)/(IF($C$3<>\"\",Table2[BULAN]=$C$3,TRUE))/(IF($C$4<>\"\",Table2[OFF/ON]=$C$4,TRUE))/(IF($C$5<>\"\",Table2[Status]=$C$5,TRUE))/(IF($C$6<>\"\",Table2[FPPDate]=$C$6,TRUE))/(IF($C$7<>\"\",Table2[ProposalCode]=$C$7,TRUE)),ROW(D434))),\"\")","v":""},{"$f":"IFERROR(INDEX(Table2[PeriodeStart],_xlfn.AGGREGATE(15,6,(ROW(Table2[FPPGroupCode])-2)/(Table2[DepoName]=$C$2)/(IF($C$3<>\"\",Table2[BULAN]=$C$3,TRUE))/(IF($C$4<>\"\",Table2[OFF/ON]=$C$4,TRUE))/(IF($C$5<>\"\",Table2[Status]=$C$5,TRUE))/(IF($C$6<>\"\",Table2[FPPDate]=$C$6,TRUE))/(IF($C$7<>\"\",Table2[ProposalCode]=$C$7,TRUE)),ROW(E434))),\"\")","v":""},{"$f":"IFERROR(INDEX(Table2[PeriodeEnd],_xlfn.AGGREGATE(15,6,(ROW(Table2[FPPGroupCode])-2)/(Table2[DepoName]=$C$2)/(IF($C$3<>\"\",Table2[BULAN]=$C$3,TRUE))/(IF($C$4<>\"\",Table2[OFF/ON]=$C$4,TRUE))/(IF($C$5<>\"\",Table2[Status]=$C$5,TRUE))/(IF($C$6<>\"\",Table2[FPPDate]=$C$6,TRUE))/(IF($C$7<>\"\",Table2[ProposalCode]=$C$7,TRUE)),ROW(F434))),\"\")","v":""},{"$f":"IFERROR(INDEX(Table2[Amount_FPPDepo],_xlfn.AGGREGATE(15,6,(ROW(Table2[FPPGroupCode])-2)/(Table2[DepoName]=$C$2)/(IF($C$3<>\"\",Table2[BULAN]=$C$3,TRUE))/(IF($C$4<>\"\",Table2[OFF/ON]=$C$4,TRUE))/(IF($C$5<>\"\",Table2[Status]=$C$5,TRUE))/(IF($C$6<>\"\",Table2[FPPDate]=$C$6,TRUE))/(IF($C$7<>\"\",Table2[ProposalCode]=$C$7,TRUE)),ROW(G434))),\"\")","v":""},{"$f":"IFERROR(VLOOKUP($B442,SIP!$D$5776:$P$6032,12,0),0)","v":0},{"$f":"IFERROR(H442-I442,0)","v":0},{"$f":"IFERROR(VLOOKUP($B442,SIP!$D$5776:$P$6032,8,0),0)","v":0},{"$f":"IFERROR(INDEX(Table2[OFF/ON],_xlfn.AGGREGATE(15,6,(ROW(Table2[FPPGroupCode])-2)/(Table2[DepoName]=$C$2)/(IF($C$3<>\"\",Table2[BULAN]=$C$3,TRUE))/(IF($C$4<>\"\",Table2[OFF/ON]=$C$4,TRUE))/(IF($C$5<>\"\",Table2[Status]=$C$5,TRUE))/(IF($C$6<>\"\",Table2[FPPDate]=$C$6,TRUE))/(IF($C$7<>\"\",Table2[ProposalCode]=$C$7,TRUE)),ROW(K434))),\"\")","v":""}]
[{"$f":"IF(LEN($B443),ROW(A435),\"\")","v":""},{"$f":"IFERROR(INDEX(Table2[FPPGroupCode],_xlfn.AGGREGATE(15,6,(ROW(Table2[FPPGroupCode])-2)/(Table2[DepoName]=$C$2)/(IF($C$3<>\"\",Table2[BULAN]=$C$3,TRUE))/(IF($C$4<>\"\",Table2[OFF/ON]=$C$4,TRUE))/(IF($C$5<>\"\",Table2[Status]=$C$5,TRUE))/(IF($C$6<>\"\",Table2[FPPDate]=$C$6,TRUE))/(IF($C$7<>\"\",Table2[ProposalCode]=$C$7,TRUE)),ROW(A435))),\"\")","v":""},{"$f":"IFERROR(VLOOKUP($B443,SIP!$D$3:$Q$12237,14,0),0)","v":0},{"$f":"IFERROR(INDEX(Table2[Activity],_xlfn.AGGREGATE(15,6,(ROW(Table2[FPPGroupCode])-2)/(Table2[DepoName]=$C$2)/(IF($C$3<>\"\",Table2[BULAN]=$C$3,TRUE))/(IF($C$4<>\"\",Table2[OFF/ON]=$C$4,TRUE))/(IF($C$5<>\"\",Table2[Status]=$C$5,TRUE))/(IF($C$6<>\"\",Table2[]=$C$6,TRUE))/(IF($C$7<>\"\",Table2[ProposalCode]=$C$7,TRUE)),ROW(B435))),\"\")","v":""},{"$f":"IFERROR(INDEX(Table2[Location],_xlfn.AGGREGATE(15,6,(ROW(Table2[FPPGroupCode])-2)/(Table2[DepoName]=$C$2)/(IF($C$3<>\"\",Table2[BULAN]=$C$3,TRUE))/(IF($C$4<>\"\",Table2[OFF/ON]=$C$4,TRUE))/(IF($C$5<>\"\",Table2[Status]=$C$5,TRUE))/(IF($C$6<>\"\",Table2[FPPDate]=$C$6,TRUE))/(IF($C$7<>\"\",Table2[ProposalCode]=$C$7,TRUE)),ROW(D435))),\"\")","v":""},{"$f":"IFERROR(INDEX(Table2[PeriodeStart],_xlfn.AGGREGATE(15,6,(ROW(Table2[FPPGroupCode])-2)/(Table2[DepoName]=$C$2)/(IF($C$3<>\"\",Table2[BULAN]=$C$3,TRUE))/(IF($C$4<>\"\",Table2[OFF/ON]=$C$4,TRUE))/(IF($C$5<>\"\",Table2[Status]=$C$5,TRUE))/(IF($C$6<>\"\",Table2[FPPDate]=$C$6,TRUE))/(IF($C$7<>\"\",Table2[ProposalCode]=$C$7,TRUE)),ROW(E435))),\"\")","v":""},{"$f":"IFERROR(INDEX(Table2[PeriodeEnd],_xlfn.AGGREGATE(15,6,(ROW(Table2[FPPGroupCode])-2)/(Table2[DepoName]=$C$2)/(IF($C$3<>\"\",Table2[BULAN]=$C$3,TRUE))/(IF($C$4<>\"\",Table2[OFF/ON]=$C$4,TRUE))/(IF($C$5<>\"\",Table2[Status]=$C$5,TRUE))/(IF($C$6<>\"\",Table2[FPPDate]=$C$6,TRUE))/(IF($C$7<>\"\",Table2[ProposalCode]=$C$7,TRUE)),ROW(F435))),\"\")","v":""},{"$f":"IFERROR(INDEX(Table2[Amount_FPPDepo],_xlfn.AGGREGATE(15,6,(ROW(Table2[FPPGroupCode])-2)/(Table2[DepoName]=$C$2)/(IF($C$3<>\"\",Table2[BULAN]=$C$3,TRUE))/(IF($C$4<>\"\",Table2[OFF/ON]=$C$4,TRUE))/(IF($C$5<>\"\",Table2[Status]=$C$5,TRUE))/(IF($C$6<>\"\",Table2[FPPDate]=$C$6,TRUE))/(IF($C$7<>\"\",Table2[ProposalCode]=$C$7,TRUE)),ROW(G435))),\"\")","v":""},{"$f":"IFERROR(VLOOKUP($B443,SIP!$D$5776:$P$6032,12,0),0)","v":0},{"$f":"IFERROR(H443-I443,0)","v":0},{"$f":"IFERROR(VLOOKUP($B443,SIP!$D$5776:$P$6032,8,0),0)","v":0},{"$f":"IFERROR(INDEX(Table2[OFF/ON],_xlfn.AGGREGATE(15,6,(ROW(Table2[FPPGroupCode])-2)/(Table2[DepoName]=$C$2)/(IF($C$3<>\"\",Table2[BULAN]=$C$3,TRUE))/(IF($C$4<>\"\",Table2[OFF/ON]=$C$4,TRUE))/(IF($C$5<>\"\",Table2[Status]=$C$5,TRUE))/(IF($C$6<>\"\",Table2[FPPDate]=$C$6,TRUE))/(IF($C$7<>\"\",Table2[ProposalCode]=$C$7,TRUE)),ROW(K435))),\"\")","v":""}]
[{"$f":"IF(LEN($B444),ROW(A436),\"\")","v":""},{"$f":"IFERROR(INDEX(Table2[FPPGroupCode],_xlfn.AGGREGATE(15,6,(ROW(Table2[FPPGroupCode])-2)/(Table2[DepoName]=$C$2)/(IF($C$3<>\"\",Table2[BULAN]=$C$3,TRUE))/(IF($C$4<>\"\",Table2[OFF/ON]=$C$4,TRUE))/(IF($C$5<>\"\",Table2[Status]=$C$5,TRUE))/(IF($C$6<>\"\",Table2[FPPDate]=$C$6,TRUE))/(IF($C$7<>\"\",Table2[ProposalCode]=$C$7,TRUE)),ROW(A436))),\"\")","v":""},{"$f":"IFERROR(VLOOKUP($B444,SIP!$D$3:$Q$12237,14,0),0)","v":0},{"$f":"IFERROR(INDEX(Table2[Activity],_xlfn.AGGREGATE(15,6,(ROW(Table2[FPPGroupCode])-2)/(Table2[DepoName]=$C$2)/(IF($C$3<>\"\",Table2[BULAN]=$C$3,TRUE))/(IF($C$4<>\"\",Table2[OFF/ON]=$C$4,TRUE))/(IF($C$5<>\"\",Table2[Status]=$C$5,TRUE))/(IF($C$6<>\"\",Table2[]=$C$6,TRUE))/(IF($C$7<>\"\",Table2[ProposalCode]=$C$7,TRUE)),ROW(B436))),\"\")","v":""},{"$f":"IFERROR(INDEX(Table2[Location],_xlfn.AGGREGATE(15,6,(ROW(Table2[FPPGroupCode])-2)/(Table2[DepoName]=$C$2)/(IF($C$3<>\"\",Table2[BULAN]=$C$3,TRUE))/(IF($C$4<>\"\",Table2[OFF/ON]=$C$4,TRUE))/(IF($C$5<>\"\",Table2[Status]=$C$5,TRUE))/(IF($C$6<>\"\",Table2[FPPDate]=$C$6,TRUE))/(IF($C$7<>\"\",Table2[ProposalCode]=$C$7,TRUE)),ROW(D436))),\"\")","v":""},{"$f":"IFERROR(INDEX(Table2[PeriodeStart],_xlfn.AGGREGATE(15,6,(ROW(Table2[FPPGroupCode])-2)/(Table2[DepoName]=$C$2)/(IF($C$3<>\"\",Table2[BULAN]=$C$3,TRUE))/(IF($C$4<>\"\",Table2[OFF/ON]=$C$4,TRUE))/(IF($C$5<>\"\",Table2[Status]=$C$5,TRUE))/(IF($C$6<>\"\",Table2[FPPDate]=$C$6,TRUE))/(IF($C$7<>\"\",Table2[ProposalCode]=$C$7,TRUE)),ROW(E436))),\"\")","v":""},{"$f":"IFERROR(INDEX(Table2[PeriodeEnd],_xlfn.AGGREGATE(15,6,(ROW(Table2[FPPGroupCode])-2)/(Table2[DepoName]=$C$2)/(IF($C$3<>\"\",Table2[BULAN]=$C$3,TRUE))/(IF($C$4<>\"\",Table2[OFF/ON]=$C$4,TRUE))/(IF($C$5<>\"\",Table2[Status]=$C$5,TRUE))/(IF($C$6<>\"\",Table2[FPPDate]=$C$6,TRUE))/(IF($C$7<>\"\",Table2[ProposalCode]=$C$7,TRUE)),ROW(F436))),\"\")","v":""},{"$f":"IFERROR(INDEX(Table2[Amount_FPPDepo],_xlfn.AGGREGATE(15,6,(ROW(Table2[FPPGroupCode])-2)/(Table2[DepoName]=$C$2)/(IF($C$3<>\"\",Table2[BULAN]=$C$3,TRUE))/(IF($C$4<>\"\",Table2[OFF/ON]=$C$4,TRUE))/(IF($C$5<>\"\",Table2[Status]=$C$5,TRUE))/(IF($C$6<>\"\",Table2[FPPDate]=$C$6,TRUE))/(IF($C$7<>\"\",Table2[ProposalCode]=$C$7,TRUE)),ROW(G436))),\"\")","v":""},{"$f":"IFERROR(VLOOKUP($B444,SIP!$D$5776:$P$6032,12,0),0)","v":0},{"$f":"IFERROR(H444-I444,0)","v":0},{"$f":"IFERROR(VLOOKUP($B444,SIP!$D$5776:$P$6032,8,0),0)","v":0},{"$f":"IFERROR(INDEX(Table2[OFF/ON],_xlfn.AGGREGATE(15,6,(ROW(Table2[FPPGroupCode])-2)/(Table2[DepoName]=$C$2)/(IF($C$3<>\"\",Table2[BULAN]=$C$3,TRUE))/(IF($C$4<>\"\",Table2[OFF/ON]=$C$4,TRUE))/(IF($C$5<>\"\",Table2[Status]=$C$5,TRUE))/(IF($C$6<>\"\",Table2[FPPDate]=$C$6,TRUE))/(IF($C$7<>\"\",Table2[ProposalCode]=$C$7,TRUE)),ROW(K436))),\"\")","v":""}]
[{"$f":"IF(LEN($B445),ROW(A437),\"\")","v":""},{"$f":"IFERROR(INDEX(Table2[FPPGroupCode],_xlfn.AGGREGATE(15,6,(ROW(Table2[FPPGroupCode])-2)/(Table2[DepoName]=$C$2)/(IF($C$3<>\"\",Table2[BULAN]=$C$3,TRUE))/(IF($C$4<>\"\",Table2[OFF/ON]=$C$4,TRUE))/(IF($C$5<>\"\",Table2[Status]=$C$5,TRUE))/(IF($C$6<>\"\",Table2[FPPDate]=$C$6,TRUE))/(IF($C$7<>\"\",Table2[ProposalCode]=$C$7,TRUE)),ROW(A437))),\"\")","v":""},{"$f":"IFERROR(VLOOKUP($B445,SIP!$D$3:$Q$12237,14,0),0)","v":0},{"$f":"IFERROR(INDEX(Table2[Activity],_xlfn.AGGREGATE(15,6,(ROW(Table2[FPPGroupCode])-2)/(Table2[DepoName]=$C$2)/(IF($C$3<>\"\",Table2[BULAN]=$C$3,TRUE))/(IF($C$4<>\"\",Table2[OFF/ON]=$C$4,TRUE))/(IF($C$5<>\"\",Table2[Status]=$C$5,TRUE))/(IF($C$6<>\"\",Table2[]=$C$6,TRUE))/(IF($C$7<>\"\",Table2[ProposalCode]=$C$7,TRUE)),ROW(B437))),\"\")","v":""},{"$f":"IFERROR(INDEX(Table2[Location],_xlfn.AGGREGATE(15,6,(ROW(Table2[FPPGroupCode])-2)/(Table2[DepoName]=$C$2)/(IF($C$3<>\"\",Table2[BULAN]=$C$3,TRUE))/(IF($C$4<>\"\",Table2[OFF/ON]=$C$4,TRUE))/(IF($C$5<>\"\",Table2[Status]=$C$5,TRUE))/(IF($C$6<>\"\",Table2[FPPDate]=$C$6,TRUE))/(IF($C$7<>\"\",Table2[ProposalCode]=$C$7,TRUE)),ROW(D437))),\"\")","v":""},{"$f":"IFERROR(INDEX(Table2[PeriodeStart],_xlfn.AGGREGATE(15,6,(ROW(Table2[FPPGroupCode])-2)/(Table2[DepoName]=$C$2)/(IF($C$3<>\"\",Table2[BULAN]=$C$3,TRUE))/(IF($C$4<>\"\",Table2[OFF/ON]=$C$4,TRUE))/(IF($C$5<>\"\",Table2[Status]=$C$5,TRUE))/(IF($C$6<>\"\",Table2[FPPDate]=$C$6,TRUE))/(IF($C$7<>\"\",Table2[ProposalCode]=$C$7,TRUE)),ROW(E437))),\"\")","v":""},{"$f":"IFERROR(INDEX(Table2[PeriodeEnd],_xlfn.AGGREGATE(15,6,(ROW(Table2[FPPGroupCode])-2)/(Table2[DepoName]=$C$2)/(IF($C$3<>\"\",Table2[BULAN]=$C$3,TRUE))/(IF($C$4<>\"\",Table2[OFF/ON]=$C$4,TRUE))/(IF($C$5<>\"\",Table2[Status]=$C$5,TRUE))/(IF($C$6<>\"\",Table2[FPPDate]=$C$6,TRUE))/(IF($C$7<>\"\",Table2[ProposalCode]=$C$7,TRUE)),ROW(F437))),\"\")","v":""},{"$f":"IFERROR(INDEX(Table2[Amount_FPPDepo],_xlfn.AGGREGATE(15,6,(ROW(Table2[FPPGroupCode])-2)/(Table2[DepoName]=$C$2)/(IF($C$3<>\"\",Table2[BULAN]=$C$3,TRUE))/(IF($C$4<>\"\",Table2[OFF/ON]=$C$4,TRUE))/(IF($C$5<>\"\",Table2[Status]=$C$5,TRUE))/(IF($C$6<>\"\",Table2[FPPDate]=$C$6,TRUE))/(IF($C$7<>\"\",Table2[ProposalCode]=$C$7,TRUE)),ROW(G437))),\"\")","v":""},{"$f":"IFERROR(VLOOKUP($B445,SIP!$D$5776:$P$6032,12,0),0)","v":0},{"$f":"IFERROR(H445-I445,0)","v":0},{"$f":"IFERROR(VLOOKUP($B445,SIP!$D$5776:$P$6032,8,0),0)","v":0},{"$f":"IFERROR(INDEX(Table2[OFF/ON],_xlfn.AGGREGATE(15,6,(ROW(Table2[FPPGroupCode])-2)/(Table2[DepoName]=$C$2)/(IF($C$3<>\"\",Table2[BULAN]=$C$3,TRUE))/(IF($C$4<>\"\",Table2[OFF/ON]=$C$4,TRUE))/(IF($C$5<>\"\",Table2[Status]=$C$5,TRUE))/(IF($C$6<>\"\",Table2[FPPDate]=$C$6,TRUE))/(IF($C$7<>\"\",Table2[ProposalCode]=$C$7,TRUE)),ROW(K437))),\"\")","v":""}]
[{"$f":"IF(LEN($B446),ROW(A438),\"\")","v":""},{"$f":"IFERROR(INDEX(Table2[FPPGroupCode],_xlfn.AGGREGATE(15,6,(ROW(Table2[FPPGroupCode])-2)/(Table2[DepoName]=$C$2)/(IF($C$3<>\"\",Table2[BULAN]=$C$3,TRUE))/(IF($C$4<>\"\",Table2[OFF/ON]=$C$4,TRUE))/(IF($C$5<>\"\",Table2[Status]=$C$5,TRUE))/(IF($C$6<>\"\",Table2[FPPDate]=$C$6,TRUE))/(IF($C$7<>\"\",Table2[ProposalCode]=$C$7,TRUE)),ROW(A438))),\"\")","v":""},{"$f":"IFERROR(VLOOKUP($B446,SIP!$D$3:$Q$12237,14,0),0)","v":0},{"$f":"IFERROR(INDEX(Table2[Activity],_xlfn.AGGREGATE(15,6,(ROW(Table2[FPPGroupCode])-2)/(Table2[DepoName]=$C$2)/(IF($C$3<>\"\",Table2[BULAN]=$C$3,TRUE))/(IF($C$4<>\"\",Table2[OFF/ON]=$C$4,TRUE))/(IF($C$5<>\"\",Table2[Status]=$C$5,TRUE))/(IF($C$6<>\"\",Table2[]=$C$6,TRUE))/(IF($C$7<>\"\",Table2[ProposalCode]=$C$7,TRUE)),ROW(B438))),\"\")","v":""},{"$f":"IFERROR(INDEX(Table2[Location],_xlfn.AGGREGATE(15,6,(ROW(Table2[FPPGroupCode])-2)/(Table2[DepoName]=$C$2)/(IF($C$3<>\"\",Table2[BULAN]=$C$3,TRUE))/(IF($C$4<>\"\",Table2[OFF/ON]=$C$4,TRUE))/(IF($C$5<>\"\",Table2[Status]=$C$5,TRUE))/(IF($C$6<>\"\",Table2[FPPDate]=$C$6,TRUE))/(IF($C$7<>\"\",Table2[ProposalCode]=$C$7,TRUE)),ROW(D438))),\"\")","v":""},{"$f":"IFERROR(INDEX(Table2[PeriodeStart],_xlfn.AGGREGATE(15,6,(ROW(Table2[FPPGroupCode])-2)/(Table2[DepoName]=$C$2)/(IF($C$3<>\"\",Table2[BULAN]=$C$3,TRUE))/(IF($C$4<>\"\",Table2[OFF/ON]=$C$4,TRUE))/(IF($C$5<>\"\",Table2[Status]=$C$5,TRUE))/(IF($C$6<>\"\",Table2[FPPDate]=$C$6,TRUE))/(IF($C$7<>\"\",Table2[ProposalCode]=$C$7,TRUE)),ROW(E438))),\"\")","v":""},{"$f":"IFERROR(INDEX(Table2[PeriodeEnd],_xlfn.AGGREGATE(15,6,(ROW(Table2[FPPGroupCode])-2)/(Table2[DepoName]=$C$2)/(IF($C$3<>\"\",Table2[BULAN]=$C$3,TRUE))/(IF($C$4<>\"\",Table2[OFF/ON]=$C$4,TRUE))/(IF($C$5<>\"\",Table2[Status]=$C$5,TRUE))/(IF($C$6<>\"\",Table2[FPPDate]=$C$6,TRUE))/(IF($C$7<>\"\",Table2[ProposalCode]=$C$7,TRUE)),ROW(F438))),\"\")","v":""},{"$f":"IFERROR(INDEX(Table2[Amount_FPPDepo],_xlfn.AGGREGATE(15,6,(ROW(Table2[FPPGroupCode])-2)/(Table2[DepoName]=$C$2)/(IF($C$3<>\"\",Table2[BULAN]=$C$3,TRUE))/(IF($C$4<>\"\",Table2[OFF/ON]=$C$4,TRUE))/(IF($C$5<>\"\",Table2[Status]=$C$5,TRUE))/(IF($C$6<>\"\",Table2[FPPDate]=$C$6,TRUE))/(IF($C$7<>\"\",Table2[ProposalCode]=$C$7,TRUE)),ROW(G438))),\"\")","v":""},{"$f":"IFERROR(VLOOKUP($B446,SIP!$D$5776:$P$6032,12,0),0)","v":0},{"$f":"IFERROR(H446-I446,0)","v":0},{"$f":"IFERROR(VLOOKUP($B446,SIP!$D$5776:$P$6032,8,0),0)","v":0},{"$f":"IFERROR(INDEX(Table2[OFF/ON],_xlfn.AGGREGATE(15,6,(ROW(Table2[FPPGroupCode])-2)/(Table2[DepoName]=$C$2)/(IF($C$3<>\"\",Table2[BULAN]=$C$3,TRUE))/(IF($C$4<>\"\",Table2[OFF/ON]=$C$4,TRUE))/(IF($C$5<>\"\",Table2[Status]=$C$5,TRUE))/(IF($C$6<>\"\",Table2[FPPDate]=$C$6,TRUE))/(IF($C$7<>\"\",Table2[ProposalCode]=$C$7,TRUE)),ROW(K438))),\"\")","v":""}]
[{"$f":"IF(LEN($B447),ROW(A439),\"\")","v":""},{"$f":"IFERROR(INDEX(Table2[FPPGroupCode],_xlfn.AGGREGATE(15,6,(ROW(Table2[FPPGroupCode])-2)/(Table2[DepoName]=$C$2)/(IF($C$3<>\"\",Table2[BULAN]=$C$3,TRUE))/(IF($C$4<>\"\",Table2[OFF/ON]=$C$4,TRUE))/(IF($C$5<>\"\",Table2[Status]=$C$5,TRUE))/(IF($C$6<>\"\",Table2[FPPDate]=$C$6,TRUE))/(IF($C$7<>\"\",Table2[ProposalCode]=$C$7,TRUE)),ROW(A439))),\"\")","v":""},{"$f":"IFERROR(VLOOKUP($B447,SIP!$D$3:$Q$12237,14,0),0)","v":0},{"$f":"IFERROR(INDEX(Table2[Activity],_xlfn.AGGREGATE(15,6,(ROW(Table2[FPPGroupCode])-2)/(Table2[DepoName]=$C$2)/(IF($C$3<>\"\",Table2[BULAN]=$C$3,TRUE))/(IF($C$4<>\"\",Table2[OFF/ON]=$C$4,TRUE))/(IF($C$5<>\"\",Table2[Status]=$C$5,TRUE))/(IF($C$6<>\"\",Table2[]=$C$6,TRUE))/(IF($C$7<>\"\",Table2[ProposalCode]=$C$7,TRUE)),ROW(B439))),\"\")","v":""},{"$f":"IFERROR(INDEX(Table2[Location],_xlfn.AGGREGATE(15,6,(ROW(Table2[FPPGroupCode])-2)/(Table2[DepoName]=$C$2)/(IF($C$3<>\"\",Table2[BULAN]=$C$3,TRUE))/(IF($C$4<>\"\",Table2[OFF/ON]=$C$4,TRUE))/(IF($C$5<>\"\",Table2[Status]=$C$5,TRUE))/(IF($C$6<>\"\",Table2[FPPDate]=$C$6,TRUE))/(IF($C$7<>\"\",Table2[ProposalCode]=$C$7,TRUE)),ROW(D439))),\"\")","v":""},{"$f":"IFERROR(INDEX(Table2[PeriodeStart],_xlfn.AGGREGATE(15,6,(ROW(Table2[FPPGroupCode])-2)/(Table2[DepoName]=$C$2)/(IF($C$3<>\"\",Table2[BULAN]=$C$3,TRUE))/(IF($C$4<>\"\",Table2[OFF/ON]=$C$4,TRUE))/(IF($C$5<>\"\",Table2[Status]=$C$5,TRUE))/(IF($C$6<>\"\",Table2[FPPDate]=$C$6,TRUE))/(IF($C$7<>\"\",Table2[ProposalCode]=$C$7,TRUE)),ROW(E439))),\"\")","v":""},{"$f":"IFERROR(INDEX(Table2[PeriodeEnd],_xlfn.AGGREGATE(15,6,(ROW(Table2[FPPGroupCode])-2)/(Table2[DepoName]=$C$2)/(IF($C$3<>\"\",Table2[BULAN]=$C$3,TRUE))/(IF($C$4<>\"\",Table2[OFF/ON]=$C$4,TRUE))/(IF($C$5<>\"\",Table2[Status]=$C$5,TRUE))/(IF($C$6<>\"\",Table2[FPPDate]=$C$6,TRUE))/(IF($C$7<>\"\",Table2[ProposalCode]=$C$7,TRUE)),ROW(F439))),\"\")","v":""},{"$f":"IFERROR(INDEX(Table2[Amount_FPPDepo],_xlfn.AGGREGATE(15,6,(ROW(Table2[FPPGroupCode])-2)/(Table2[DepoName]=$C$2)/(IF($C$3<>\"\",Table2[BULAN]=$C$3,TRUE))/(IF($C$4<>\"\",Table2[OFF/ON]=$C$4,TRUE))/(IF($C$5<>\"\",Table2[Status]=$C$5,TRUE))/(IF($C$6<>\"\",Table2[FPPDate]=$C$6,TRUE))/(IF($C$7<>\"\",Table2[ProposalCode]=$C$7,TRUE)),ROW(G439))),\"\")","v":""},{"$f":"IFERROR(VLOOKUP($B447,SIP!$D$5776:$P$6032,12,0),0)","v":0},{"$f":"IFERROR(H447-I447,0)","v":0},{"$f":"IFERROR(VLOOKUP($B447,SIP!$D$5776:$P$6032,8,0),0)","v":0},{"$f":"IFERROR(INDEX(Table2[OFF/ON],_xlfn.AGGREGATE(15,6,(ROW(Table2[FPPGroupCode])-2)/(Table2[DepoName]=$C$2)/(IF($C$3<>\"\",Table2[BULAN]=$C$3,TRUE))/(IF($C$4<>\"\",Table2[OFF/ON]=$C$4,TRUE))/(IF($C$5<>\"\",Table2[Status]=$C$5,TRUE))/(IF($C$6<>\"\",Table2[FPPDate]=$C$6,TRUE))/(IF($C$7<>\"\",Table2[ProposalCode]=$C$7,TRUE)),ROW(K439))),\"\")","v":""}]
[{"$f":"IF(LEN($B448),ROW(A440),\"\")","v":""},{"$f":"IFERROR(INDEX(Table2[FPPGroupCode],_xlfn.AGGREGATE(15,6,(ROW(Table2[FPPGroupCode])-2)/(Table2[DepoName]=$C$2)/(IF($C$3<>\"\",Table2[BULAN]=$C$3,TRUE))/(IF($C$4<>\"\",Table2[OFF/ON]=$C$4,TRUE))/(IF($C$5<>\"\",Table2[Status]=$C$5,TRUE))/(IF($C$6<>\"\",Table2[FPPDate]=$C$6,TRUE))/(IF($C$7<>\"\",Table2[ProposalCode]=$C$7,TRUE)),ROW(A440))),\"\")","v":""},{"$f":"IFERROR(VLOOKUP($B448,SIP!$D$3:$Q$12237,14,0),0)","v":0},{"$f":"IFERROR(INDEX(Table2[Activity],_xlfn.AGGREGATE(15,6,(ROW(Table2[FPPGroupCode])-2)/(Table2[DepoName]=$C$2)/(IF($C$3<>\"\",Table2[BULAN]=$C$3,TRUE))/(IF($C$4<>\"\",Table2[OFF/ON]=$C$4,TRUE))/(IF($C$5<>\"\",Table2[Status]=$C$5,TRUE))/(IF($C$6<>\"\",Table2[]=$C$6,TRUE))/(IF($C$7<>\"\",Table2[ProposalCode]=$C$7,TRUE)),ROW(B440))),\"\")","v":""},{"$f":"IFERROR(INDEX(Table2[Location],_xlfn.AGGREGATE(15,6,(ROW(Table2[FPPGroupCode])-2)/(Table2[DepoName]=$C$2)/(IF($C$3<>\"\",Table2[BULAN]=$C$3,TRUE))/(IF($C$4<>\"\",Table2[OFF/ON]=$C$4,TRUE))/(IF($C$5<>\"\",Table2[Status]=$C$5,TRUE))/(IF($C$6<>\"\",Table2[FPPDate]=$C$6,TRUE))/(IF($C$7<>\"\",Table2[ProposalCode]=$C$7,TRUE)),ROW(D440))),\"\")","v":""},{"$f":"IFERROR(INDEX(Table2[PeriodeStart],_xlfn.AGGREGATE(15,6,(ROW(Table2[FPPGroupCode])-2)/(Table2[DepoName]=$C$2)/(IF($C$3<>\"\",Table2[BULAN]=$C$3,TRUE))/(IF($C$4<>\"\",Table2[OFF/ON]=$C$4,TRUE))/(IF($C$5<>\"\",Table2[Status]=$C$5,TRUE))/(IF($C$6<>\"\",Table2[FPPDate]=$C$6,TRUE))/(IF($C$7<>\"\",Table2[ProposalCode]=$C$7,TRUE)),ROW(E440))),\"\")","v":""},{"$f":"IFERROR(INDEX(Table2[PeriodeEnd],_xlfn.AGGREGATE(15,6,(ROW(Table2[FPPGroupCode])-2)/(Table2[DepoName]=$C$2)/(IF($C$3<>\"\",Table2[BULAN]=$C$3,TRUE))/(IF($C$4<>\"\",Table2[OFF/ON]=$C$4,TRUE))/(IF($C$5<>\"\",Table2[Status]=$C$5,TRUE))/(IF($C$6<>\"\",Table2[FPPDate]=$C$6,TRUE))/(IF($C$7<>\"\",Table2[ProposalCode]=$C$7,TRUE)),ROW(F440))),\"\")","v":""},{"$f":"IFERROR(INDEX(Table2[Amount_FPPDepo],_xlfn.AGGREGATE(15,6,(ROW(Table2[FPPGroupCode])-2)/(Table2[DepoName]=$C$2)/(IF($C$3<>\"\",Table2[BULAN]=$C$3,TRUE))/(IF($C$4<>\"\",Table2[OFF/ON]=$C$4,TRUE))/(IF($C$5<>\"\",Table2[Status]=$C$5,TRUE))/(IF($C$6<>\"\",Table2[FPPDate]=$C$6,TRUE))/(IF($C$7<>\"\",Table2[ProposalCode]=$C$7,TRUE)),ROW(G440))),\"\")","v":""},{"$f":"IFERROR(VLOOKUP($B448,SIP!$D$5776:$P$6032,12,0),0)","v":0},{"$f":"IFERROR(H448-I448,0)","v":0},{"$f":"IFERROR(VLOOKUP($B448,SIP!$D$5776:$P$6032,8,0),0)","v":0},{"$f":"IFERROR(INDEX(Table2[OFF/ON],_xlfn.AGGREGATE(15,6,(ROW(Table2[FPPGroupCode])-2)/(Table2[DepoName]=$C$2)/(IF($C$3<>\"\",Table2[BULAN]=$C$3,TRUE))/(IF($C$4<>\"\",Table2[OFF/ON]=$C$4,TRUE))/(IF($C$5<>\"\",Table2[Status]=$C$5,TRUE))/(IF($C$6<>\"\",Table2[FPPDate]=$C$6,TRUE))/(IF($C$7<>\"\",Table2[ProposalCode]=$C$7,TRUE)),ROW(K440))),\"\")","v":""}]
[{"$f":"IF(LEN($B449),ROW(A441),\"\")","v":""},{"$f":"IFERROR(INDEX(Table2[FPPGroupCode],_xlfn.AGGREGATE(15,6,(ROW(Table2[FPPGroupCode])-2)/(Table2[DepoName]=$C$2)/(IF($C$3<>\"\",Table2[BULAN]=$C$3,TRUE))/(IF($C$4<>\"\",Table2[OFF/ON]=$C$4,TRUE))/(IF($C$5<>\"\",Table2[Status]=$C$5,TRUE))/(IF($C$6<>\"\",Table2[FPPDate]=$C$6,TRUE))/(IF($C$7<>\"\",Table2[ProposalCode]=$C$7,TRUE)),ROW(A441))),\"\")","v":""},{"$f":"IFERROR(VLOOKUP($B449,SIP!$D$3:$Q$12237,14,0),0)","v":0},{"$f":"IFERROR(INDEX(Table2[Activity],_xlfn.AGGREGATE(15,6,(ROW(Table2[FPPGroupCode])-2)/(Table2[DepoName]=$C$2)/(IF($C$3<>\"\",Table2[BULAN]=$C$3,TRUE))/(IF($C$4<>\"\",Table2[OFF/ON]=$C$4,TRUE))/(IF($C$5<>\"\",Table2[Status]=$C$5,TRUE))/(IF($C$6<>\"\",Table2[]=$C$6,TRUE))/(IF($C$7<>\"\",Table2[ProposalCode]=$C$7,TRUE)),ROW(B441))),\"\")","v":""},{"$f":"IFERROR(INDEX(Table2[Location],_xlfn.AGGREGATE(15,6,(ROW(Table2[FPPGroupCode])-2)/(Table2[DepoName]=$C$2)/(IF($C$3<>\"\",Table2[BULAN]=$C$3,TRUE))/(IF($C$4<>\"\",Table2[OFF/ON]=$C$4,TRUE))/(IF($C$5<>\"\",Table2[Status]=$C$5,TRUE))/(IF($C$6<>\"\",Table2[FPPDate]=$C$6,TRUE))/(IF($C$7<>\"\",Table2[ProposalCode]=$C$7,TRUE)),ROW(D441))),\"\")","v":""},{"$f":"IFERROR(INDEX(Table2[PeriodeStart],_xlfn.AGGREGATE(15,6,(ROW(Table2[FPPGroupCode])-2)/(Table2[DepoName]=$C$2)/(IF($C$3<>\"\",Table2[BULAN]=$C$3,TRUE))/(IF($C$4<>\"\",Table2[OFF/ON]=$C$4,TRUE))/(IF($C$5<>\"\",Table2[Status]=$C$5,TRUE))/(IF($C$6<>\"\",Table2[FPPDate]=$C$6,TRUE))/(IF($C$7<>\"\",Table2[ProposalCode]=$C$7,TRUE)),ROW(E441))),\"\")","v":""},{"$f":"IFERROR(INDEX(Table2[PeriodeEnd],_xlfn.AGGREGATE(15,6,(ROW(Table2[FPPGroupCode])-2)/(Table2[DepoName]=$C$2)/(IF($C$3<>\"\",Table2[BULAN]=$C$3,TRUE))/(IF($C$4<>\"\",Table2[OFF/ON]=$C$4,TRUE))/(IF($C$5<>\"\",Table2[Status]=$C$5,TRUE))/(IF($C$6<>\"\",Table2[FPPDate]=$C$6,TRUE))/(IF($C$7<>\"\",Table2[ProposalCode]=$C$7,TRUE)),ROW(F441))),\"\")","v":""},{"$f":"IFERROR(INDEX(Table2[Amount_FPPDepo],_xlfn.AGGREGATE(15,6,(ROW(Table2[FPPGroupCode])-2)/(Table2[DepoName]=$C$2)/(IF($C$3<>\"\",Table2[BULAN]=$C$3,TRUE))/(IF($C$4<>\"\",Table2[OFF/ON]=$C$4,TRUE))/(IF($C$5<>\"\",Table2[Status]=$C$5,TRUE))/(IF($C$6<>\"\",Table2[FPPDate]=$C$6,TRUE))/(IF($C$7<>\"\",Table2[ProposalCode]=$C$7,TRUE)),ROW(G441))),\"\")","v":""},{"$f":"IFERROR(VLOOKUP($B449,SIP!$D$5776:$P$6032,12,0),0)","v":0},{"$f":"IFERROR(H449-I449,0)","v":0},{"$f":"IFERROR(VLOOKUP($B449,SIP!$D$5776:$P$6032,8,0),0)","v":0},{"$f":"IFERROR(INDEX(Table2[OFF/ON],_xlfn.AGGREGATE(15,6,(ROW(Table2[FPPGroupCode])-2)/(Table2[DepoName]=$C$2)/(IF($C$3<>\"\",Table2[BULAN]=$C$3,TRUE))/(IF($C$4<>\"\",Table2[OFF/ON]=$C$4,TRUE))/(IF($C$5<>\"\",Table2[Status]=$C$5,TRUE))/(IF($C$6<>\"\",Table2[FPPDate]=$C$6,TRUE))/(IF($C$7<>\"\",Table2[ProposalCode]=$C$7,TRUE)),ROW(K441))),\"\")","v":""}]
[{"$f":"IF(LEN($B450),ROW(A442),\"\")","v":""},{"$f":"IFERROR(INDEX(Table2[FPPGroupCode],_xlfn.AGGREGATE(15,6,(ROW(Table2[FPPGroupCode])-2)/(Table2[DepoName]=$C$2)/(IF($C$3<>\"\",Table2[BULAN]=$C$3,TRUE))/(IF($C$4<>\"\",Table2[OFF/ON]=$C$4,TRUE))/(IF($C$5<>\"\",Table2[Status]=$C$5,TRUE))/(IF($C$6<>\"\",Table2[FPPDate]=$C$6,TRUE))/(IF($C$7<>\"\",Table2[ProposalCode]=$C$7,TRUE)),ROW(A442))),\"\")","v":""},{"$f":"IFERROR(VLOOKUP($B450,SIP!$D$3:$Q$12237,14,0),0)","v":0},{"$f":"IFERROR(INDEX(Table2[Activity],_xlfn.AGGREGATE(15,6,(ROW(Table2[FPPGroupCode])-2)/(Table2[DepoName]=$C$2)/(IF($C$3<>\"\",Table2[BULAN]=$C$3,TRUE))/(IF($C$4<>\"\",Table2[OFF/ON]=$C$4,TRUE))/(IF($C$5<>\"\",Table2[Status]=$C$5,TRUE))/(IF($C$6<>\"\",Table2[]=$C$6,TRUE))/(IF($C$7<>\"\",Table2[ProposalCode]=$C$7,TRUE)),ROW(B442))),\"\")","v":""},{"$f":"IFERROR(INDEX(Table2[Location],_xlfn.AGGREGATE(15,6,(ROW(Table2[FPPGroupCode])-2)/(Table2[DepoName]=$C$2)/(IF($C$3<>\"\",Table2[BULAN]=$C$3,TRUE))/(IF($C$4<>\"\",Table2[OFF/ON]=$C$4,TRUE))/(IF($C$5<>\"\",Table2[Status]=$C$5,TRUE))/(IF($C$6<>\"\",Table2[FPPDate]=$C$6,TRUE))/(IF($C$7<>\"\",Table2[ProposalCode]=$C$7,TRUE)),ROW(D442))),\"\")","v":""},{"$f":"IFERROR(INDEX(Table2[PeriodeStart],_xlfn.AGGREGATE(15,6,(ROW(Table2[FPPGroupCode])-2)/(Table2[DepoName]=$C$2)/(IF($C$3<>\"\",Table2[BULAN]=$C$3,TRUE))/(IF($C$4<>\"\",Table2[OFF/ON]=$C$4,TRUE))/(IF($C$5<>\"\",Table2[Status]=$C$5,TRUE))/(IF($C$6<>\"\",Table2[FPPDate]=$C$6,TRUE))/(IF($C$7<>\"\",Table2[ProposalCode]=$C$7,TRUE)),ROW(E442))),\"\")","v":""},{"$f":"IFERROR(INDEX(Table2[PeriodeEnd],_xlfn.AGGREGATE(15,6,(ROW(Table2[FPPGroupCode])-2)/(Table2[DepoName]=$C$2)/(IF($C$3<>\"\",Table2[BULAN]=$C$3,TRUE))/(IF($C$4<>\"\",Table2[OFF/ON]=$C$4,TRUE))/(IF($C$5<>\"\",Table2[Status]=$C$5,TRUE))/(IF($C$6<>\"\",Table2[FPPDate]=$C$6,TRUE))/(IF($C$7<>\"\",Table2[ProposalCode]=$C$7,TRUE)),ROW(F442))),\"\")","v":""},{"$f":"IFERROR(INDEX(Table2[Amount_FPPDepo],_xlfn.AGGREGATE(15,6,(ROW(Table2[FPPGroupCode])-2)/(Table2[DepoName]=$C$2)/(IF($C$3<>\"\",Table2[BULAN]=$C$3,TRUE))/(IF($C$4<>\"\",Table2[OFF/ON]=$C$4,TRUE))/(IF($C$5<>\"\",Table2[Status]=$C$5,TRUE))/(IF($C$6<>\"\",Table2[FPPDate]=$C$6,TRUE))/(IF($C$7<>\"\",Table2[ProposalCode]=$C$7,TRUE)),ROW(G442))),\"\")","v":""},{"$f":"IFERROR(VLOOKUP($B450,SIP!$D$5776:$P$6032,12,0),0)","v":0},{"$f":"IFERROR(H450-I450,0)","v":0},{"$f":"IFERROR(VLOOKUP($B450,SIP!$D$5776:$P$6032,8,0),0)","v":0},{"$f":"IFERROR(INDEX(Table2[OFF/ON],_xlfn.AGGREGATE(15,6,(ROW(Table2[FPPGroupCode])-2)/(Table2[DepoName]=$C$2)/(IF($C$3<>\"\",Table2[BULAN]=$C$3,TRUE))/(IF($C$4<>\"\",Table2[OFF/ON]=$C$4,TRUE))/(IF($C$5<>\"\",Table2[Status]=$C$5,TRUE))/(IF($C$6<>\"\",Table2[FPPDate]=$C$6,TRUE))/(IF($C$7<>\"\",Table2[ProposalCode]=$C$7,TRUE)),ROW(K442))),\"\")","v":""}]
[{"$f":"IF(LEN($B451),ROW(A443),\"\")","v":""},{"$f":"IFERROR(INDEX(Table2[FPPGroupCode],_xlfn.AGGREGATE(15,6,(ROW(Table2[FPPGroupCode])-2)/(Table2[DepoName]=$C$2)/(IF($C$3<>\"\",Table2[BULAN]=$C$3,TRUE))/(IF($C$4<>\"\",Table2[OFF/ON]=$C$4,TRUE))/(IF($C$5<>\"\",Table2[Status]=$C$5,TRUE))/(IF($C$6<>\"\",Table2[FPPDate]=$C$6,TRUE))/(IF($C$7<>\"\",Table2[ProposalCode]=$C$7,TRUE)),ROW(A443))),\"\")","v":""},{"$f":"IFERROR(VLOOKUP($B451,SIP!$D$3:$Q$12237,14,0),0)","v":0},{"$f":"IFERROR(INDEX(Table2[Activity],_xlfn.AGGREGATE(15,6,(ROW(Table2[FPPGroupCode])-2)/(Table2[DepoName]=$C$2)/(IF($C$3<>\"\",Table2[BULAN]=$C$3,TRUE))/(IF($C$4<>\"\",Table2[OFF/ON]=$C$4,TRUE))/(IF($C$5<>\"\",Table2[Status]=$C$5,TRUE))/(IF($C$6<>\"\",Table2[]=$C$6,TRUE))/(IF($C$7<>\"\",Table2[ProposalCode]=$C$7,TRUE)),ROW(B443))),\"\")","v":""},{"$f":"IFERROR(INDEX(Table2[Location],_xlfn.AGGREGATE(15,6,(ROW(Table2[FPPGroupCode])-2)/(Table2[DepoName]=$C$2)/(IF($C$3<>\"\",Table2[BULAN]=$C$3,TRUE))/(IF($C$4<>\"\",Table2[OFF/ON]=$C$4,TRUE))/(IF($C$5<>\"\",Table2[Status]=$C$5,TRUE))/(IF($C$6<>\"\",Table2[FPPDate]=$C$6,TRUE))/(IF($C$7<>\"\",Table2[ProposalCode]=$C$7,TRUE)),ROW(D443))),\"\")","v":""},{"$f":"IFERROR(INDEX(Table2[PeriodeStart],_xlfn.AGGREGATE(15,6,(ROW(Table2[FPPGroupCode])-2)/(Table2[DepoName]=$C$2)/(IF($C$3<>\"\",Table2[BULAN]=$C$3,TRUE))/(IF($C$4<>\"\",Table2[OFF/ON]=$C$4,TRUE))/(IF($C$5<>\"\",Table2[Status]=$C$5,TRUE))/(IF($C$6<>\"\",Table2[FPPDate]=$C$6,TRUE))/(IF($C$7<>\"\",Table2[ProposalCode]=$C$7,TRUE)),ROW(E443))),\"\")","v":""},{"$f":"IFERROR(INDEX(Table2[PeriodeEnd],_xlfn.AGGREGATE(15,6,(ROW(Table2[FPPGroupCode])-2)/(Table2[DepoName]=$C$2)/(IF($C$3<>\"\",Table2[BULAN]=$C$3,TRUE))/(IF($C$4<>\"\",Table2[OFF/ON]=$C$4,TRUE))/(IF($C$5<>\"\",Table2[Status]=$C$5,TRUE))/(IF($C$6<>\"\",Table2[FPPDate]=$C$6,TRUE))/(IF($C$7<>\"\",Table2[ProposalCode]=$C$7,TRUE)),ROW(F443))),\"\")","v":""},{"$f":"IFERROR(INDEX(Table2[Amount_FPPDepo],_xlfn.AGGREGATE(15,6,(ROW(Table2[FPPGroupCode])-2)/(Table2[DepoName]=$C$2)/(IF($C$3<>\"\",Table2[BULAN]=$C$3,TRUE))/(IF($C$4<>\"\",Table2[OFF/ON]=$C$4,TRUE))/(IF($C$5<>\"\",Table2[Status]=$C$5,TRUE))/(IF($C$6<>\"\",Table2[FPPDate]=$C$6,TRUE))/(IF($C$7<>\"\",Table2[ProposalCode]=$C$7,TRUE)),ROW(G443))),\"\")","v":""},{"$f":"IFERROR(VLOOKUP($B451,SIP!$D$5776:$P$6032,12,0),0)","v":0},{"$f":"IFERROR(H451-I451,0)","v":0},{"$f":"IFERROR(VLOOKUP($B451,SIP!$D$5776:$P$6032,8,0),0)","v":0},{"$f":"IFERROR(INDEX(Table2[OFF/ON],_xlfn.AGGREGATE(15,6,(ROW(Table2[FPPGroupCode])-2)/(Table2[DepoName]=$C$2)/(IF($C$3<>\"\",Table2[BULAN]=$C$3,TRUE))/(IF($C$4<>\"\",Table2[OFF/ON]=$C$4,TRUE))/(IF($C$5<>\"\",Table2[Status]=$C$5,TRUE))/(IF($C$6<>\"\",Table2[FPPDate]=$C$6,TRUE))/(IF($C$7<>\"\",Table2[ProposalCode]=$C$7,TRUE)),ROW(K443))),\"\")","v":""}]
[{"$f":"IF(LEN($B452),ROW(A444),\"\")","v":""},{"$f":"IFERROR(INDEX(Table2[FPPGroupCode],_xlfn.AGGREGATE(15,6,(ROW(Table2[FPPGroupCode])-2)/(Table2[DepoName]=$C$2)/(IF($C$3<>\"\",Table2[BULAN]=$C$3,TRUE))/(IF($C$4<>\"\",Table2[OFF/ON]=$C$4,TRUE))/(IF($C$5<>\"\",Table2[Status]=$C$5,TRUE))/(IF($C$6<>\"\",Table2[FPPDate]=$C$6,TRUE))/(IF($C$7<>\"\",Table2[ProposalCode]=$C$7,TRUE)),ROW(A444))),\"\")","v":""},{"$f":"IFERROR(VLOOKUP($B452,SIP!$D$3:$Q$12237,14,0),0)","v":0},{"$f":"IFERROR(INDEX(Table2[Activity],_xlfn.AGGREGATE(15,6,(ROW(Table2[FPPGroupCode])-2)/(Table2[DepoName]=$C$2)/(IF($C$3<>\"\",Table2[BULAN]=$C$3,TRUE))/(IF($C$4<>\"\",Table2[OFF/ON]=$C$4,TRUE))/(IF($C$5<>\"\",Table2[Status]=$C$5,TRUE))/(IF($C$6<>\"\",Table2[]=$C$6,TRUE))/(IF($C$7<>\"\",Table2[ProposalCode]=$C$7,TRUE)),ROW(B444))),\"\")","v":""},{"$f":"IFERROR(INDEX(Table2[Location],_xlfn.AGGREGATE(15,6,(ROW(Table2[FPPGroupCode])-2)/(Table2[DepoName]=$C$2)/(IF($C$3<>\"\",Table2[BULAN]=$C$3,TRUE))/(IF($C$4<>\"\",Table2[OFF/ON]=$C$4,TRUE))/(IF($C$5<>\"\",Table2[Status]=$C$5,TRUE))/(IF($C$6<>\"\",Table2[FPPDate]=$C$6,TRUE))/(IF($C$7<>\"\",Table2[ProposalCode]=$C$7,TRUE)),ROW(D444))),\"\")","v":""},{"$f":"IFERROR(INDEX(Table2[PeriodeStart],_xlfn.AGGREGATE(15,6,(ROW(Table2[FPPGroupCode])-2)/(Table2[DepoName]=$C$2)/(IF($C$3<>\"\",Table2[BULAN]=$C$3,TRUE))/(IF($C$4<>\"\",Table2[OFF/ON]=$C$4,TRUE))/(IF($C$5<>\"\",Table2[Status]=$C$5,TRUE))/(IF($C$6<>\"\",Table2[FPPDate]=$C$6,TRUE))/(IF($C$7<>\"\",Table2[ProposalCode]=$C$7,TRUE)),ROW(E444))),\"\")","v":""},{"$f":"IFERROR(INDEX(Table2[PeriodeEnd],_xlfn.AGGREGATE(15,6,(ROW(Table2[FPPGroupCode])-2)/(Table2[DepoName]=$C$2)/(IF($C$3<>\"\",Table2[BULAN]=$C$3,TRUE))/(IF($C$4<>\"\",Table2[OFF/ON]=$C$4,TRUE))/(IF($C$5<>\"\",Table2[Status]=$C$5,TRUE))/(IF($C$6<>\"\",Table2[FPPDate]=$C$6,TRUE))/(IF($C$7<>\"\",Table2[ProposalCode]=$C$7,TRUE)),ROW(F444))),\"\")","v":""},{"$f":"IFERROR(INDEX(Table2[Amount_FPPDepo],_xlfn.AGGREGATE(15,6,(ROW(Table2[FPPGroupCode])-2)/(Table2[DepoName]=$C$2)/(IF($C$3<>\"\",Table2[BULAN]=$C$3,TRUE))/(IF($C$4<>\"\",Table2[OFF/ON]=$C$4,TRUE))/(IF($C$5<>\"\",Table2[Status]=$C$5,TRUE))/(IF($C$6<>\"\",Table2[FPPDate]=$C$6,TRUE))/(IF($C$7<>\"\",Table2[ProposalCode]=$C$7,TRUE)),ROW(G444))),\"\")","v":""},{"$f":"IFERROR(VLOOKUP($B452,SIP!$D$5776:$P$6032,12,0),0)","v":0},{"$f":"IFERROR(H452-I452,0)","v":0},{"$f":"IFERROR(VLOOKUP($B452,SIP!$D$5776:$P$6032,8,0),0)","v":0},{"$f":"IFERROR(INDEX(Table2[OFF/ON],_xlfn.AGGREGATE(15,6,(ROW(Table2[FPPGroupCode])-2)/(Table2[DepoName]=$C$2)/(IF($C$3<>\"\",Table2[BULAN]=$C$3,TRUE))/(IF($C$4<>\"\",Table2[OFF/ON]=$C$4,TRUE))/(IF($C$5<>\"\",Table2[Status]=$C$5,TRUE))/(IF($C$6<>\"\",Table2[FPPDate]=$C$6,TRUE))/(IF($C$7<>\"\",Table2[ProposalCode]=$C$7,TRUE)),ROW(K444))),\"\")","v":""}]
[{"$f":"IF(LEN($B453),ROW(A445),\"\")","v":""},{"$f":"IFERROR(INDEX(Table2[FPPGroupCode],_xlfn.AGGREGATE(15,6,(ROW(Table2[FPPGroupCode])-2)/(Table2[DepoName]=$C$2)/(IF($C$3<>\"\",Table2[BULAN]=$C$3,TRUE))/(IF($C$4<>\"\",Table2[OFF/ON]=$C$4,TRUE))/(IF($C$5<>\"\",Table2[Status]=$C$5,TRUE))/(IF($C$6<>\"\",Table2[FPPDate]=$C$6,TRUE))/(IF($C$7<>\"\",Table2[ProposalCode]=$C$7,TRUE)),ROW(A445))),\"\")","v":""},{"$f":"IFERROR(VLOOKUP($B453,SIP!$D$3:$Q$12237,14,0),0)","v":0},{"$f":"IFERROR(INDEX(Table2[Activity],_xlfn.AGGREGATE(15,6,(ROW(Table2[FPPGroupCode])-2)/(Table2[DepoName]=$C$2)/(IF($C$3<>\"\",Table2[BULAN]=$C$3,TRUE))/(IF($C$4<>\"\",Table2[OFF/ON]=$C$4,TRUE))/(IF($C$5<>\"\",Table2[Status]=$C$5,TRUE))/(IF($C$6<>\"\",Table2[]=$C$6,TRUE))/(IF($C$7<>\"\",Table2[ProposalCode]=$C$7,TRUE)),ROW(B445))),\"\")","v":""},{"$f":"IFERROR(INDEX(Table2[Location],_xlfn.AGGREGATE(15,6,(ROW(Table2[FPPGroupCode])-2)/(Table2[DepoName]=$C$2)/(IF($C$3<>\"\",Table2[BULAN]=$C$3,TRUE))/(IF($C$4<>\"\",Table2[OFF/ON]=$C$4,TRUE))/(IF($C$5<>\"\",Table2[Status]=$C$5,TRUE))/(IF($C$6<>\"\",Table2[FPPDate]=$C$6,TRUE))/(IF($C$7<>\"\",Table2[ProposalCode]=$C$7,TRUE)),ROW(D445))),\"\")","v":""},{"$f":"IFERROR(INDEX(Table2[PeriodeStart],_xlfn.AGGREGATE(15,6,(ROW(Table2[FPPGroupCode])-2)/(Table2[DepoName]=$C$2)/(IF($C$3<>\"\",Table2[BULAN]=$C$3,TRUE))/(IF($C$4<>\"\",Table2[OFF/ON]=$C$4,TRUE))/(IF($C$5<>\"\",Table2[Status]=$C$5,TRUE))/(IF($C$6<>\"\",Table2[FPPDate]=$C$6,TRUE))/(IF($C$7<>\"\",Table2[ProposalCode]=$C$7,TRUE)),ROW(E445))),\"\")","v":""},{"$f":"IFERROR(INDEX(Table2[PeriodeEnd],_xlfn.AGGREGATE(15,6,(ROW(Table2[FPPGroupCode])-2)/(Table2[DepoName]=$C$2)/(IF($C$3<>\"\",Table2[BULAN]=$C$3,TRUE))/(IF($C$4<>\"\",Table2[OFF/ON]=$C$4,TRUE))/(IF($C$5<>\"\",Table2[Status]=$C$5,TRUE))/(IF($C$6<>\"\",Table2[FPPDate]=$C$6,TRUE))/(IF($C$7<>\"\",Table2[ProposalCode]=$C$7,TRUE)),ROW(F445))),\"\")","v":""},{"$f":"IFERROR(INDEX(Table2[Amount_FPPDepo],_xlfn.AGGREGATE(15,6,(ROW(Table2[FPPGroupCode])-2)/(Table2[DepoName]=$C$2)/(IF($C$3<>\"\",Table2[BULAN]=$C$3,TRUE))/(IF($C$4<>\"\",Table2[OFF/ON]=$C$4,TRUE))/(IF($C$5<>\"\",Table2[Status]=$C$5,TRUE))/(IF($C$6<>\"\",Table2[FPPDate]=$C$6,TRUE))/(IF($C$7<>\"\",Table2[ProposalCode]=$C$7,TRUE)),ROW(G445))),\"\")","v":""},{"$f":"IFERROR(VLOOKUP($B453,SIP!$D$5776:$P$6032,12,0),0)","v":0},{"$f":"IFERROR(H453-I453,0)","v":0},{"$f":"IFERROR(VLOOKUP($B453,SIP!$D$5776:$P$6032,8,0),0)","v":0},{"$f":"IFERROR(INDEX(Table2[OFF/ON],_xlfn.AGGREGATE(15,6,(ROW(Table2[FPPGroupCode])-2)/(Table2[DepoName]=$C$2)/(IF($C$3<>\"\",Table2[BULAN]=$C$3,TRUE))/(IF($C$4<>\"\",Table2[OFF/ON]=$C$4,TRUE))/(IF($C$5<>\"\",Table2[Status]=$C$5,TRUE))/(IF($C$6<>\"\",Table2[FPPDate]=$C$6,TRUE))/(IF($C$7<>\"\",Table2[ProposalCode]=$C$7,TRUE)),ROW(K445))),\"\")","v":""}]
[{"$f":"IF(LEN($B454),ROW(A446),\"\")","v":""},{"$f":"IFERROR(INDEX(Table2[FPPGroupCode],_xlfn.AGGREGATE(15,6,(ROW(Table2[FPPGroupCode])-2)/(Table2[DepoName]=$C$2)/(IF($C$3<>\"\",Table2[BULAN]=$C$3,TRUE))/(IF($C$4<>\"\",Table2[OFF/ON]=$C$4,TRUE))/(IF($C$5<>\"\",Table2[Status]=$C$5,TRUE))/(IF($C$6<>\"\",Table2[FPPDate]=$C$6,TRUE))/(IF($C$7<>\"\",Table2[ProposalCode]=$C$7,TRUE)),ROW(A446))),\"\")","v":""},{"$f":"IFERROR(VLOOKUP($B454,SIP!$D$3:$Q$12237,14,0),0)","v":0},{"$f":"IFERROR(INDEX(Table2[Activity],_xlfn.AGGREGATE(15,6,(ROW(Table2[FPPGroupCode])-2)/(Table2[DepoName]=$C$2)/(IF($C$3<>\"\",Table2[BULAN]=$C$3,TRUE))/(IF($C$4<>\"\",Table2[OFF/ON]=$C$4,TRUE))/(IF($C$5<>\"\",Table2[Status]=$C$5,TRUE))/(IF($C$6<>\"\",Table2[]=$C$6,TRUE))/(IF($C$7<>\"\",Table2[ProposalCode]=$C$7,TRUE)),ROW(B446))),\"\")","v":""},{"$f":"IFERROR(INDEX(Table2[Location],_xlfn.AGGREGATE(15,6,(ROW(Table2[FPPGroupCode])-2)/(Table2[DepoName]=$C$2)/(IF($C$3<>\"\",Table2[BULAN]=$C$3,TRUE))/(IF($C$4<>\"\",Table2[OFF/ON]=$C$4,TRUE))/(IF($C$5<>\"\",Table2[Status]=$C$5,TRUE))/(IF($C$6<>\"\",Table2[FPPDate]=$C$6,TRUE))/(IF($C$7<>\"\",Table2[ProposalCode]=$C$7,TRUE)),ROW(D446))),\"\")","v":""},{"$f":"IFERROR(INDEX(Table2[PeriodeStart],_xlfn.AGGREGATE(15,6,(ROW(Table2[FPPGroupCode])-2)/(Table2[DepoName]=$C$2)/(IF($C$3<>\"\",Table2[BULAN]=$C$3,TRUE))/(IF($C$4<>\"\",Table2[OFF/ON]=$C$4,TRUE))/(IF($C$5<>\"\",Table2[Status]=$C$5,TRUE))/(IF($C$6<>\"\",Table2[FPPDate]=$C$6,TRUE))/(IF($C$7<>\"\",Table2[ProposalCode]=$C$7,TRUE)),ROW(E446))),\"\")","v":""},{"$f":"IFERROR(INDEX(Table2[PeriodeEnd],_xlfn.AGGREGATE(15,6,(ROW(Table2[FPPGroupCode])-2)/(Table2[DepoName]=$C$2)/(IF($C$3<>\"\",Table2[BULAN]=$C$3,TRUE))/(IF($C$4<>\"\",Table2[OFF/ON]=$C$4,TRUE))/(IF($C$5<>\"\",Table2[Status]=$C$5,TRUE))/(IF($C$6<>\"\",Table2[FPPDate]=$C$6,TRUE))/(IF($C$7<>\"\",Table2[ProposalCode]=$C$7,TRUE)),ROW(F446))),\"\")","v":""},{"$f":"IFERROR(INDEX(Table2[Amount_FPPDepo],_xlfn.AGGREGATE(15,6,(ROW(Table2[FPPGroupCode])-2)/(Table2[DepoName]=$C$2)/(IF($C$3<>\"\",Table2[BULAN]=$C$3,TRUE))/(IF($C$4<>\"\",Table2[OFF/ON]=$C$4,TRUE))/(IF($C$5<>\"\",Table2[Status]=$C$5,TRUE))/(IF($C$6<>\"\",Table2[FPPDate]=$C$6,TRUE))/(IF($C$7<>\"\",Table2[ProposalCode]=$C$7,TRUE)),ROW(G446))),\"\")","v":""},{"$f":"IFERROR(VLOOKUP($B454,SIP!$D$5776:$P$6032,12,0),0)","v":0},{"$f":"IFERROR(H454-I454,0)","v":0},{"$f":"IFERROR(VLOOKUP($B454,SIP!$D$5776:$P$6032,8,0),0)","v":0},{"$f":"IFERROR(INDEX(Table2[OFF/ON],_xlfn.AGGREGATE(15,6,(ROW(Table2[FPPGroupCode])-2)/(Table2[DepoName]=$C$2)/(IF($C$3<>\"\",Table2[BULAN]=$C$3,TRUE))/(IF($C$4<>\"\",Table2[OFF/ON]=$C$4,TRUE))/(IF($C$5<>\"\",Table2[Status]=$C$5,TRUE))/(IF($C$6<>\"\",Table2[FPPDate]=$C$6,TRUE))/(IF($C$7<>\"\",Table2[ProposalCode]=$C$7,TRUE)),ROW(K446))),\"\")","v":""}]
[{"$f":"IF(LEN($B455),ROW(A447),\"\")","v":""},{"$f":"IFERROR(INDEX(Table2[FPPGroupCode],_xlfn.AGGREGATE(15,6,(ROW(Table2[FPPGroupCode])-2)/(Table2[DepoName]=$C$2)/(IF($C$3<>\"\",Table2[BULAN]=$C$3,TRUE))/(IF($C$4<>\"\",Table2[OFF/ON]=$C$4,TRUE))/(IF($C$5<>\"\",Table2[Status]=$C$5,TRUE))/(IF($C$6<>\"\",Table2[FPPDate]=$C$6,TRUE))/(IF($C$7<>\"\",Table2[ProposalCode]=$C$7,TRUE)),ROW(A447))),\"\")","v":""},{"$f":"IFERROR(VLOOKUP($B455,SIP!$D$3:$Q$12237,14,0),0)","v":0},{"$f":"IFERROR(INDEX(Table2[Activity],_xlfn.AGGREGATE(15,6,(ROW(Table2[FPPGroupCode])-2)/(Table2[DepoName]=$C$2)/(IF($C$3<>\"\",Table2[BULAN]=$C$3,TRUE))/(IF($C$4<>\"\",Table2[OFF/ON]=$C$4,TRUE))/(IF($C$5<>\"\",Table2[Status]=$C$5,TRUE))/(IF($C$6<>\"\",Table2[]=$C$6,TRUE))/(IF($C$7<>\"\",Table2[ProposalCode]=$C$7,TRUE)),ROW(B447))),\"\")","v":""},{"$f":"IFERROR(INDEX(Table2[Location],_xlfn.AGGREGATE(15,6,(ROW(Table2[FPPGroupCode])-2)/(Table2[DepoName]=$C$2)/(IF($C$3<>\"\",Table2[BULAN]=$C$3,TRUE))/(IF($C$4<>\"\",Table2[OFF/ON]=$C$4,TRUE))/(IF($C$5<>\"\",Table2[Status]=$C$5,TRUE))/(IF($C$6<>\"\",Table2[FPPDate]=$C$6,TRUE))/(IF($C$7<>\"\",Table2[ProposalCode]=$C$7,TRUE)),ROW(D447))),\"\")","v":""},{"$f":"IFERROR(INDEX(Table2[PeriodeStart],_xlfn.AGGREGATE(15,6,(ROW(Table2[FPPGroupCode])-2)/(Table2[DepoName]=$C$2)/(IF($C$3<>\"\",Table2[BULAN]=$C$3,TRUE))/(IF($C$4<>\"\",Table2[OFF/ON]=$C$4,TRUE))/(IF($C$5<>\"\",Table2[Status]=$C$5,TRUE))/(IF($C$6<>\"\",Table2[FPPDate]=$C$6,TRUE))/(IF($C$7<>\"\",Table2[ProposalCode]=$C$7,TRUE)),ROW(E447))),\"\")","v":""},{"$f":"IFERROR(INDEX(Table2[PeriodeEnd],_xlfn.AGGREGATE(15,6,(ROW(Table2[FPPGroupCode])-2)/(Table2[DepoName]=$C$2)/(IF($C$3<>\"\",Table2[BULAN]=$C$3,TRUE))/(IF($C$4<>\"\",Table2[OFF/ON]=$C$4,TRUE))/(IF($C$5<>\"\",Table2[Status]=$C$5,TRUE))/(IF($C$6<>\"\",Table2[FPPDate]=$C$6,TRUE))/(IF($C$7<>\"\",Table2[ProposalCode]=$C$7,TRUE)),ROW(F447))),\"\")","v":""},{"$f":"IFERROR(INDEX(Table2[Amount_FPPDepo],_xlfn.AGGREGATE(15,6,(ROW(Table2[FPPGroupCode])-2)/(Table2[DepoName]=$C$2)/(IF($C$3<>\"\",Table2[BULAN]=$C$3,TRUE))/(IF($C$4<>\"\",Table2[OFF/ON]=$C$4,TRUE))/(IF($C$5<>\"\",Table2[Status]=$C$5,TRUE))/(IF($C$6<>\"\",Table2[FPPDate]=$C$6,TRUE))/(IF($C$7<>\"\",Table2[ProposalCode]=$C$7,TRUE)),ROW(G447))),\"\")","v":""},{"$f":"IFERROR(VLOOKUP($B455,SIP!$D$5776:$P$6032,12,0),0)","v":0},{"$f":"IFERROR(H455-I455,0)","v":0},{"$f":"IFERROR(VLOOKUP($B455,SIP!$D$5776:$P$6032,8,0),0)","v":0},{"$f":"IFERROR(INDEX(Table2[OFF/ON],_xlfn.AGGREGATE(15,6,(ROW(Table2[FPPGroupCode])-2)/(Table2[DepoName]=$C$2)/(IF($C$3<>\"\",Table2[BULAN]=$C$3,TRUE))/(IF($C$4<>\"\",Table2[OFF/ON]=$C$4,TRUE))/(IF($C$5<>\"\",Table2[Status]=$C$5,TRUE))/(IF($C$6<>\"\",Table2[FPPDate]=$C$6,TRUE))/(IF($C$7<>\"\",Table2[ProposalCode]=$C$7,TRUE)),ROW(K447))),\"\")","v":""}]
[{"$f":"IF(LEN($B456),ROW(A448),\"\")","v":""},{"$f":"IFERROR(INDEX(Table2[FPPGroupCode],_xlfn.AGGREGATE(15,6,(ROW(Table2[FPPGroupCode])-2)/(Table2[DepoName]=$C$2)/(IF($C$3<>\"\",Table2[BULAN]=$C$3,TRUE))/(IF($C$4<>\"\",Table2[OFF/ON]=$C$4,TRUE))/(IF($C$5<>\"\",Table2[Status]=$C$5,TRUE))/(IF($C$6<>\"\",Table2[FPPDate]=$C$6,TRUE))/(IF($C$7<>\"\",Table2[ProposalCode]=$C$7,TRUE)),ROW(A448))),\"\")","v":""},{"$f":"IFERROR(VLOOKUP($B456,SIP!$D$3:$Q$12237,14,0),0)","v":0},{"$f":"IFERROR(INDEX(Table2[Activity],_xlfn.AGGREGATE(15,6,(ROW(Table2[FPPGroupCode])-2)/(Table2[DepoName]=$C$2)/(IF($C$3<>\"\",Table2[BULAN]=$C$3,TRUE))/(IF($C$4<>\"\",Table2[OFF/ON]=$C$4,TRUE))/(IF($C$5<>\"\",Table2[Status]=$C$5,TRUE))/(IF($C$6<>\"\",Table2[]=$C$6,TRUE))/(IF($C$7<>\"\",Table2[ProposalCode]=$C$7,TRUE)),ROW(B448))),\"\")","v":""},{"$f":"IFERROR(INDEX(Table2[Location],_xlfn.AGGREGATE(15,6,(ROW(Table2[FPPGroupCode])-2)/(Table2[DepoName]=$C$2)/(IF($C$3<>\"\",Table2[BULAN]=$C$3,TRUE))/(IF($C$4<>\"\",Table2[OFF/ON]=$C$4,TRUE))/(IF($C$5<>\"\",Table2[Status]=$C$5,TRUE))/(IF($C$6<>\"\",Table2[FPPDate]=$C$6,TRUE))/(IF($C$7<>\"\",Table2[ProposalCode]=$C$7,TRUE)),ROW(D448))),\"\")","v":""},{"$f":"IFERROR(INDEX(Table2[PeriodeStart],_xlfn.AGGREGATE(15,6,(ROW(Table2[FPPGroupCode])-2)/(Table2[DepoName]=$C$2)/(IF($C$3<>\"\",Table2[BULAN]=$C$3,TRUE))/(IF($C$4<>\"\",Table2[OFF/ON]=$C$4,TRUE))/(IF($C$5<>\"\",Table2[Status]=$C$5,TRUE))/(IF($C$6<>\"\",Table2[FPPDate]=$C$6,TRUE))/(IF($C$7<>\"\",Table2[ProposalCode]=$C$7,TRUE)),ROW(E448))),\"\")","v":""},{"$f":"IFERROR(INDEX(Table2[PeriodeEnd],_xlfn.AGGREGATE(15,6,(ROW(Table2[FPPGroupCode])-2)/(Table2[DepoName]=$C$2)/(IF($C$3<>\"\",Table2[BULAN]=$C$3,TRUE))/(IF($C$4<>\"\",Table2[OFF/ON]=$C$4,TRUE))/(IF($C$5<>\"\",Table2[Status]=$C$5,TRUE))/(IF($C$6<>\"\",Table2[FPPDate]=$C$6,TRUE))/(IF($C$7<>\"\",Table2[ProposalCode]=$C$7,TRUE)),ROW(F448))),\"\")","v":""},{"$f":"IFERROR(INDEX(Table2[Amount_FPPDepo],_xlfn.AGGREGATE(15,6,(ROW(Table2[FPPGroupCode])-2)/(Table2[DepoName]=$C$2)/(IF($C$3<>\"\",Table2[BULAN]=$C$3,TRUE))/(IF($C$4<>\"\",Table2[OFF/ON]=$C$4,TRUE))/(IF($C$5<>\"\",Table2[Status]=$C$5,TRUE))/(IF($C$6<>\"\",Table2[FPPDate]=$C$6,TRUE))/(IF($C$7<>\"\",Table2[ProposalCode]=$C$7,TRUE)),ROW(G448))),\"\")","v":""},{"$f":"IFERROR(VLOOKUP($B456,SIP!$D$5776:$P$6032,12,0),0)","v":0},{"$f":"IFERROR(H456-I456,0)","v":0},{"$f":"IFERROR(VLOOKUP($B456,SIP!$D$5776:$P$6032,8,0),0)","v":0},{"$f":"IFERROR(INDEX(Table2[OFF/ON],_xlfn.AGGREGATE(15,6,(ROW(Table2[FPPGroupCode])-2)/(Table2[DepoName]=$C$2)/(IF($C$3<>\"\",Table2[BULAN]=$C$3,TRUE))/(IF($C$4<>\"\",Table2[OFF/ON]=$C$4,TRUE))/(IF($C$5<>\"\",Table2[Status]=$C$5,TRUE))/(IF($C$6<>\"\",Table2[FPPDate]=$C$6,TRUE))/(IF($C$7<>\"\",Table2[ProposalCode]=$C$7,TRUE)),ROW(K448))),\"\")","v":""}]
[{"$f":"IF(LEN($B457),ROW(A449),\"\")","v":""},{"$f":"IFERROR(INDEX(Table2[FPPGroupCode],_xlfn.AGGREGATE(15,6,(ROW(Table2[FPPGroupCode])-2)/(Table2[DepoName]=$C$2)/(IF($C$3<>\"\",Table2[BULAN]=$C$3,TRUE))/(IF($C$4<>\"\",Table2[OFF/ON]=$C$4,TRUE))/(IF($C$5<>\"\",Table2[Status]=$C$5,TRUE))/(IF($C$6<>\"\",Table2[FPPDate]=$C$6,TRUE))/(IF($C$7<>\"\",Table2[ProposalCode]=$C$7,TRUE)),ROW(A449))),\"\")","v":""},{"$f":"IFERROR(VLOOKUP($B457,SIP!$D$3:$Q$12237,14,0),0)","v":0},{"$f":"IFERROR(INDEX(Table2[Activity],_xlfn.AGGREGATE(15,6,(ROW(Table2[FPPGroupCode])-2)/(Table2[DepoName]=$C$2)/(IF($C$3<>\"\",Table2[BULAN]=$C$3,TRUE))/(IF($C$4<>\"\",Table2[OFF/ON]=$C$4,TRUE))/(IF($C$5<>\"\",Table2[Status]=$C$5,TRUE))/(IF($C$6<>\"\",Table2[]=$C$6,TRUE))/(IF($C$7<>\"\",Table2[ProposalCode]=$C$7,TRUE)),ROW(B449))),\"\")","v":""},{"$f":"IFERROR(INDEX(Table2[Location],_xlfn.AGGREGATE(15,6,(ROW(Table2[FPPGroupCode])-2)/(Table2[DepoName]=$C$2)/(IF($C$3<>\"\",Table2[BULAN]=$C$3,TRUE))/(IF($C$4<>\"\",Table2[OFF/ON]=$C$4,TRUE))/(IF($C$5<>\"\",Table2[Status]=$C$5,TRUE))/(IF($C$6<>\"\",Table2[FPPDate]=$C$6,TRUE))/(IF($C$7<>\"\",Table2[ProposalCode]=$C$7,TRUE)),ROW(D449))),\"\")","v":""},{"$f":"IFERROR(INDEX(Table2[PeriodeStart],_xlfn.AGGREGATE(15,6,(ROW(Table2[FPPGroupCode])-2)/(Table2[DepoName]=$C$2)/(IF($C$3<>\"\",Table2[BULAN]=$C$3,TRUE))/(IF($C$4<>\"\",Table2[OFF/ON]=$C$4,TRUE))/(IF($C$5<>\"\",Table2[Status]=$C$5,TRUE))/(IF($C$6<>\"\",Table2[FPPDate]=$C$6,TRUE))/(IF($C$7<>\"\",Table2[ProposalCode]=$C$7,TRUE)),ROW(E449))),\"\")","v":""},{"$f":"IFERROR(INDEX(Table2[PeriodeEnd],_xlfn.AGGREGATE(15,6,(ROW(Table2[FPPGroupCode])-2)/(Table2[DepoName]=$C$2)/(IF($C$3<>\"\",Table2[BULAN]=$C$3,TRUE))/(IF($C$4<>\"\",Table2[OFF/ON]=$C$4,TRUE))/(IF($C$5<>\"\",Table2[Status]=$C$5,TRUE))/(IF($C$6<>\"\",Table2[FPPDate]=$C$6,TRUE))/(IF($C$7<>\"\",Table2[ProposalCode]=$C$7,TRUE)),ROW(F449))),\"\")","v":""},{"$f":"IFERROR(INDEX(Table2[Amount_FPPDepo],_xlfn.AGGREGATE(15,6,(ROW(Table2[FPPGroupCode])-2)/(Table2[DepoName]=$C$2)/(IF($C$3<>\"\",Table2[BULAN]=$C$3,TRUE))/(IF($C$4<>\"\",Table2[OFF/ON]=$C$4,TRUE))/(IF($C$5<>\"\",Table2[Status]=$C$5,TRUE))/(IF($C$6<>\"\",Table2[FPPDate]=$C$6,TRUE))/(IF($C$7<>\"\",Table2[ProposalCode]=$C$7,TRUE)),ROW(G449))),\"\")","v":""},{"$f":"IFERROR(VLOOKUP($B457,SIP!$D$5776:$P$6032,12,0),0)","v":0},{"$f":"IFERROR(H457-I457,0)","v":0},{"$f":"IFERROR(VLOOKUP($B457,SIP!$D$5776:$P$6032,8,0),0)","v":0},{"$f":"IFERROR(INDEX(Table2[OFF/ON],_xlfn.AGGREGATE(15,6,(ROW(Table2[FPPGroupCode])-2)/(Table2[DepoName]=$C$2)/(IF($C$3<>\"\",Table2[BULAN]=$C$3,TRUE))/(IF($C$4<>\"\",Table2[OFF/ON]=$C$4,TRUE))/(IF($C$5<>\"\",Table2[Status]=$C$5,TRUE))/(IF($C$6<>\"\",Table2[FPPDate]=$C$6,TRUE))/(IF($C$7<>\"\",Table2[ProposalCode]=$C$7,TRUE)),ROW(K449))),\"\")","v":""}]
[{"$f":"IF(LEN($B458),ROW(A450),\"\")","v":""},{"$f":"IFERROR(INDEX(Table2[FPPGroupCode],_xlfn.AGGREGATE(15,6,(ROW(Table2[FPPGroupCode])-2)/(Table2[DepoName]=$C$2)/(IF($C$3<>\"\",Table2[BULAN]=$C$3,TRUE))/(IF($C$4<>\"\",Table2[OFF/ON]=$C$4,TRUE))/(IF($C$5<>\"\",Table2[Status]=$C$5,TRUE))/(IF($C$6<>\"\",Table2[FPPDate]=$C$6,TRUE))/(IF($C$7<>\"\",Table2[ProposalCode]=$C$7,TRUE)),ROW(A450))),\"\")","v":""},{"$f":"IFERROR(VLOOKUP($B458,SIP!$D$3:$Q$12237,14,0),0)","v":0},{"$f":"IFERROR(INDEX(Table2[Activity],_xlfn.AGGREGATE(15,6,(ROW(Table2[FPPGroupCode])-2)/(Table2[DepoName]=$C$2)/(IF($C$3<>\"\",Table2[BULAN]=$C$3,TRUE))/(IF($C$4<>\"\",Table2[OFF/ON]=$C$4,TRUE))/(IF($C$5<>\"\",Table2[Status]=$C$5,TRUE))/(IF($C$6<>\"\",Table2[]=$C$6,TRUE))/(IF($C$7<>\"\",Table2[ProposalCode]=$C$7,TRUE)),ROW(B450))),\"\")","v":""},{"$f":"IFERROR(INDEX(Table2[Location],_xlfn.AGGREGATE(15,6,(ROW(Table2[FPPGroupCode])-2)/(Table2[DepoName]=$C$2)/(IF($C$3<>\"\",Table2[BULAN]=$C$3,TRUE))/(IF($C$4<>\"\",Table2[OFF/ON]=$C$4,TRUE))/(IF($C$5<>\"\",Table2[Status]=$C$5,TRUE))/(IF($C$6<>\"\",Table2[FPPDate]=$C$6,TRUE))/(IF($C$7<>\"\",Table2[ProposalCode]=$C$7,TRUE)),ROW(D450))),\"\")","v":""},{"$f":"IFERROR(INDEX(Table2[PeriodeStart],_xlfn.AGGREGATE(15,6,(ROW(Table2[FPPGroupCode])-2)/(Table2[DepoName]=$C$2)/(IF($C$3<>\"\",Table2[BULAN]=$C$3,TRUE))/(IF($C$4<>\"\",Table2[OFF/ON]=$C$4,TRUE))/(IF($C$5<>\"\",Table2[Status]=$C$5,TRUE))/(IF($C$6<>\"\",Table2[FPPDate]=$C$6,TRUE))/(IF($C$7<>\"\",Table2[ProposalCode]=$C$7,TRUE)),ROW(E450))),\"\")","v":""},{"$f":"IFERROR(INDEX(Table2[PeriodeEnd],_xlfn.AGGREGATE(15,6,(ROW(Table2[FPPGroupCode])-2)/(Table2[DepoName]=$C$2)/(IF($C$3<>\"\",Table2[BULAN]=$C$3,TRUE))/(IF($C$4<>\"\",Table2[OFF/ON]=$C$4,TRUE))/(IF($C$5<>\"\",Table2[Status]=$C$5,TRUE))/(IF($C$6<>\"\",Table2[FPPDate]=$C$6,TRUE))/(IF($C$7<>\"\",Table2[ProposalCode]=$C$7,TRUE)),ROW(F450))),\"\")","v":""},{"$f":"IFERROR(INDEX(Table2[Amount_FPPDepo],_xlfn.AGGREGATE(15,6,(ROW(Table2[FPPGroupCode])-2)/(Table2[DepoName]=$C$2)/(IF($C$3<>\"\",Table2[BULAN]=$C$3,TRUE))/(IF($C$4<>\"\",Table2[OFF/ON]=$C$4,TRUE))/(IF($C$5<>\"\",Table2[Status]=$C$5,TRUE))/(IF($C$6<>\"\",Table2[FPPDate]=$C$6,TRUE))/(IF($C$7<>\"\",Table2[ProposalCode]=$C$7,TRUE)),ROW(G450))),\"\")","v":""},{"$f":"IFERROR(VLOOKUP($B458,SIP!$D$5776:$P$6032,12,0),0)","v":0},{"$f":"IFERROR(H458-I458,0)","v":0},{"$f":"IFERROR(VLOOKUP($B458,SIP!$D$5776:$P$6032,8,0),0)","v":0},{"$f":"IFERROR(INDEX(Table2[OFF/ON],_xlfn.AGGREGATE(15,6,(ROW(Table2[FPPGroupCode])-2)/(Table2[DepoName]=$C$2)/(IF($C$3<>\"\",Table2[BULAN]=$C$3,TRUE))/(IF($C$4<>\"\",Table2[OFF/ON]=$C$4,TRUE))/(IF($C$5<>\"\",Table2[Status]=$C$5,TRUE))/(IF($C$6<>\"\",Table2[FPPDate]=$C$6,TRUE))/(IF($C$7<>\"\",Table2[ProposalCode]=$C$7,TRUE)),ROW(K450))),\"\")","v":""}]
[{"$f":"IF(LEN($B459),ROW(A451),\"\")","v":""},{"$f":"IFERROR(INDEX(Table2[FPPGroupCode],_xlfn.AGGREGATE(15,6,(ROW(Table2[FPPGroupCode])-2)/(Table2[DepoName]=$C$2)/(IF($C$3<>\"\",Table2[BULAN]=$C$3,TRUE))/(IF($C$4<>\"\",Table2[OFF/ON]=$C$4,TRUE))/(IF($C$5<>\"\",Table2[Status]=$C$5,TRUE))/(IF($C$6<>\"\",Table2[FPPDate]=$C$6,TRUE))/(IF($C$7<>\"\",Table2[ProposalCode]=$C$7,TRUE)),ROW(A451))),\"\")","v":""},{"$f":"IFERROR(VLOOKUP($B459,SIP!$D$3:$Q$12237,14,0),0)","v":0},{"$f":"IFERROR(INDEX(Table2[Activity],_xlfn.AGGREGATE(15,6,(ROW(Table2[FPPGroupCode])-2)/(Table2[DepoName]=$C$2)/(IF($C$3<>\"\",Table2[BULAN]=$C$3,TRUE))/(IF($C$4<>\"\",Table2[OFF/ON]=$C$4,TRUE))/(IF($C$5<>\"\",Table2[Status]=$C$5,TRUE))/(IF($C$6<>\"\",Table2[]=$C$6,TRUE))/(IF($C$7<>\"\",Table2[ProposalCode]=$C$7,TRUE)),ROW(B451))),\"\")","v":""},{"$f":"IFERROR(INDEX(Table2[Location],_xlfn.AGGREGATE(15,6,(ROW(Table2[FPPGroupCode])-2)/(Table2[DepoName]=$C$2)/(IF($C$3<>\"\",Table2[BULAN]=$C$3,TRUE))/(IF($C$4<>\"\",Table2[OFF/ON]=$C$4,TRUE))/(IF($C$5<>\"\",Table2[Status]=$C$5,TRUE))/(IF($C$6<>\"\",Table2[FPPDate]=$C$6,TRUE))/(IF($C$7<>\"\",Table2[ProposalCode]=$C$7,TRUE)),ROW(D451))),\"\")","v":""},{"$f":"IFERROR(INDEX(Table2[PeriodeStart],_xlfn.AGGREGATE(15,6,(ROW(Table2[FPPGroupCode])-2)/(Table2[DepoName]=$C$2)/(IF($C$3<>\"\",Table2[BULAN]=$C$3,TRUE))/(IF($C$4<>\"\",Table2[OFF/ON]=$C$4,TRUE))/(IF($C$5<>\"\",Table2[Status]=$C$5,TRUE))/(IF($C$6<>\"\",Table2[FPPDate]=$C$6,TRUE))/(IF($C$7<>\"\",Table2[ProposalCode]=$C$7,TRUE)),ROW(E451))),\"\")","v":""},{"$f":"IFERROR(INDEX(Table2[PeriodeEnd],_xlfn.AGGREGATE(15,6,(ROW(Table2[FPPGroupCode])-2)/(Table2[DepoName]=$C$2)/(IF($C$3<>\"\",Table2[BULAN]=$C$3,TRUE))/(IF($C$4<>\"\",Table2[OFF/ON]=$C$4,TRUE))/(IF($C$5<>\"\",Table2[Status]=$C$5,TRUE))/(IF($C$6<>\"\",Table2[FPPDate]=$C$6,TRUE))/(IF($C$7<>\"\",Table2[ProposalCode]=$C$7,TRUE)),ROW(F451))),\"\")","v":""},{"$f":"IFERROR(INDEX(Table2[Amount_FPPDepo],_xlfn.AGGREGATE(15,6,(ROW(Table2[FPPGroupCode])-2)/(Table2[DepoName]=$C$2)/(IF($C$3<>\"\",Table2[BULAN]=$C$3,TRUE))/(IF($C$4<>\"\",Table2[OFF/ON]=$C$4,TRUE))/(IF($C$5<>\"\",Table2[Status]=$C$5,TRUE))/(IF($C$6<>\"\",Table2[FPPDate]=$C$6,TRUE))/(IF($C$7<>\"\",Table2[ProposalCode]=$C$7,TRUE)),ROW(G451))),\"\")","v":""},{"$f":"IFERROR(VLOOKUP($B459,SIP!$D$5776:$P$6032,12,0),0)","v":0},{"$f":"IFERROR(H459-I459,0)","v":0},{"$f":"IFERROR(VLOOKUP($B459,SIP!$D$5776:$P$6032,8,0),0)","v":0},{"$f":"IFERROR(INDEX(Table2[OFF/ON],_xlfn.AGGREGATE(15,6,(ROW(Table2[FPPGroupCode])-2)/(Table2[DepoName]=$C$2)/(IF($C$3<>\"\",Table2[BULAN]=$C$3,TRUE))/(IF($C$4<>\"\",Table2[OFF/ON]=$C$4,TRUE))/(IF($C$5<>\"\",Table2[Status]=$C$5,TRUE))/(IF($C$6<>\"\",Table2[FPPDate]=$C$6,TRUE))/(IF($C$7<>\"\",Table2[ProposalCode]=$C$7,TRUE)),ROW(K451))),\"\")","v":""}]
[{"$f":"IF(LEN($B460),ROW(A452),\"\")","v":""},{"$f":"IFERROR(INDEX(Table2[FPPGroupCode],_xlfn.AGGREGATE(15,6,(ROW(Table2[FPPGroupCode])-2)/(Table2[DepoName]=$C$2)/(IF($C$3<>\"\",Table2[BULAN]=$C$3,TRUE))/(IF($C$4<>\"\",Table2[OFF/ON]=$C$4,TRUE))/(IF($C$5<>\"\",Table2[Status]=$C$5,TRUE))/(IF($C$6<>\"\",Table2[FPPDate]=$C$6,TRUE))/(IF($C$7<>\"\",Table2[ProposalCode]=$C$7,TRUE)),ROW(A452))),\"\")","v":""},{"$f":"IFERROR(VLOOKUP($B460,SIP!$D$3:$Q$12237,14,0),0)","v":0},{"$f":"IFERROR(INDEX(Table2[Activity],_xlfn.AGGREGATE(15,6,(ROW(Table2[FPPGroupCode])-2)/(Table2[DepoName]=$C$2)/(IF($C$3<>\"\",Table2[BULAN]=$C$3,TRUE))/(IF($C$4<>\"\",Table2[OFF/ON]=$C$4,TRUE))/(IF($C$5<>\"\",Table2[Status]=$C$5,TRUE))/(IF($C$6<>\"\",Table2[]=$C$6,TRUE))/(IF($C$7<>\"\",Table2[ProposalCode]=$C$7,TRUE)),ROW(B452))),\"\")","v":""},{"$f":"IFERROR(INDEX(Table2[Location],_xlfn.AGGREGATE(15,6,(ROW(Table2[FPPGroupCode])-2)/(Table2[DepoName]=$C$2)/(IF($C$3<>\"\",Table2[BULAN]=$C$3,TRUE))/(IF($C$4<>\"\",Table2[OFF/ON]=$C$4,TRUE))/(IF($C$5<>\"\",Table2[Status]=$C$5,TRUE))/(IF($C$6<>\"\",Table2[FPPDate]=$C$6,TRUE))/(IF($C$7<>\"\",Table2[ProposalCode]=$C$7,TRUE)),ROW(D452))),\"\")","v":""},{"$f":"IFERROR(INDEX(Table2[PeriodeStart],_xlfn.AGGREGATE(15,6,(ROW(Table2[FPPGroupCode])-2)/(Table2[DepoName]=$C$2)/(IF($C$3<>\"\",Table2[BULAN]=$C$3,TRUE))/(IF($C$4<>\"\",Table2[OFF/ON]=$C$4,TRUE))/(IF($C$5<>\"\",Table2[Status]=$C$5,TRUE))/(IF($C$6<>\"\",Table2[FPPDate]=$C$6,TRUE))/(IF($C$7<>\"\",Table2[ProposalCode]=$C$7,TRUE)),ROW(E452))),\"\")","v":""},{"$f":"IFERROR(INDEX(Table2[PeriodeEnd],_xlfn.AGGREGATE(15,6,(ROW(Table2[FPPGroupCode])-2)/(Table2[DepoName]=$C$2)/(IF($C$3<>\"\",Table2[BULAN]=$C$3,TRUE))/(IF($C$4<>\"\",Table2[OFF/ON]=$C$4,TRUE))/(IF($C$5<>\"\",Table2[Status]=$C$5,TRUE))/(IF($C$6<>\"\",Table2[FPPDate]=$C$6,TRUE))/(IF($C$7<>\"\",Table2[ProposalCode]=$C$7,TRUE)),ROW(F452))),\"\")","v":""},{"$f":"IFERROR(INDEX(Table2[Amount_FPPDepo],_xlfn.AGGREGATE(15,6,(ROW(Table2[FPPGroupCode])-2)/(Table2[DepoName]=$C$2)/(IF($C$3<>\"\",Table2[BULAN]=$C$3,TRUE))/(IF($C$4<>\"\",Table2[OFF/ON]=$C$4,TRUE))/(IF($C$5<>\"\",Table2[Status]=$C$5,TRUE))/(IF($C$6<>\"\",Table2[FPPDate]=$C$6,TRUE))/(IF($C$7<>\"\",Table2[ProposalCode]=$C$7,TRUE)),ROW(G452))),\"\")","v":""},{"$f":"IFERROR(VLOOKUP($B460,SIP!$D$5776:$P$6032,12,0),0)","v":0},{"$f":"IFERROR(H460-I460,0)","v":0},{"$f":"IFERROR(VLOOKUP($B460,SIP!$D$5776:$P$6032,8,0),0)","v":0},{"$f":"IFERROR(INDEX(Table2[OFF/ON],_xlfn.AGGREGATE(15,6,(ROW(Table2[FPPGroupCode])-2)/(Table2[DepoName]=$C$2)/(IF($C$3<>\"\",Table2[BULAN]=$C$3,TRUE))/(IF($C$4<>\"\",Table2[OFF/ON]=$C$4,TRUE))/(IF($C$5<>\"\",Table2[Status]=$C$5,TRUE))/(IF($C$6<>\"\",Table2[FPPDate]=$C$6,TRUE))/(IF($C$7<>\"\",Table2[ProposalCode]=$C$7,TRUE)),ROW(K452))),\"\")","v":""}]
[{"$f":"IF(LEN($B461),ROW(A453),\"\")","v":""},{"$f":"IFERROR(INDEX(Table2[FPPGroupCode],_xlfn.AGGREGATE(15,6,(ROW(Table2[FPPGroupCode])-2)/(Table2[DepoName]=$C$2)/(IF($C$3<>\"\",Table2[BULAN]=$C$3,TRUE))/(IF($C$4<>\"\",Table2[OFF/ON]=$C$4,TRUE))/(IF($C$5<>\"\",Table2[Status]=$C$5,TRUE))/(IF($C$6<>\"\",Table2[FPPDate]=$C$6,TRUE))/(IF($C$7<>\"\",Table2[ProposalCode]=$C$7,TRUE)),ROW(A453))),\"\")","v":""},{"$f":"IFERROR(VLOOKUP($B461,SIP!$D$3:$Q$12237,14,0),0)","v":0},{"$f":"IFERROR(INDEX(Table2[Activity],_xlfn.AGGREGATE(15,6,(ROW(Table2[FPPGroupCode])-2)/(Table2[DepoName]=$C$2)/(IF($C$3<>\"\",Table2[BULAN]=$C$3,TRUE))/(IF($C$4<>\"\",Table2[OFF/ON]=$C$4,TRUE))/(IF($C$5<>\"\",Table2[Status]=$C$5,TRUE))/(IF($C$6<>\"\",Table2[]=$C$6,TRUE))/(IF($C$7<>\"\",Table2[ProposalCode]=$C$7,TRUE)),ROW(B453))),\"\")","v":""},{"$f":"IFERROR(INDEX(Table2[Location],_xlfn.AGGREGATE(15,6,(ROW(Table2[FPPGroupCode])-2)/(Table2[DepoName]=$C$2)/(IF($C$3<>\"\",Table2[BULAN]=$C$3,TRUE))/(IF($C$4<>\"\",Table2[OFF/ON]=$C$4,TRUE))/(IF($C$5<>\"\",Table2[Status]=$C$5,TRUE))/(IF($C$6<>\"\",Table2[FPPDate]=$C$6,TRUE))/(IF($C$7<>\"\",Table2[ProposalCode]=$C$7,TRUE)),ROW(D453))),\"\")","v":""},{"$f":"IFERROR(INDEX(Table2[PeriodeStart],_xlfn.AGGREGATE(15,6,(ROW(Table2[FPPGroupCode])-2)/(Table2[DepoName]=$C$2)/(IF($C$3<>\"\",Table2[BULAN]=$C$3,TRUE))/(IF($C$4<>\"\",Table2[OFF/ON]=$C$4,TRUE))/(IF($C$5<>\"\",Table2[Status]=$C$5,TRUE))/(IF($C$6<>\"\",Table2[FPPDate]=$C$6,TRUE))/(IF($C$7<>\"\",Table2[ProposalCode]=$C$7,TRUE)),ROW(E453))),\"\")","v":""},{"$f":"IFERROR(INDEX(Table2[PeriodeEnd],_xlfn.AGGREGATE(15,6,(ROW(Table2[FPPGroupCode])-2)/(Table2[DepoName]=$C$2)/(IF($C$3<>\"\",Table2[BULAN]=$C$3,TRUE))/(IF($C$4<>\"\",Table2[OFF/ON]=$C$4,TRUE))/(IF($C$5<>\"\",Table2[Status]=$C$5,TRUE))/(IF($C$6<>\"\",Table2[FPPDate]=$C$6,TRUE))/(IF($C$7<>\"\",Table2[ProposalCode]=$C$7,TRUE)),ROW(F453))),\"\")","v":""},{"$f":"IFERROR(INDEX(Table2[Amount_FPPDepo],_xlfn.AGGREGATE(15,6,(ROW(Table2[FPPGroupCode])-2)/(Table2[DepoName]=$C$2)/(IF($C$3<>\"\",Table2[BULAN]=$C$3,TRUE))/(IF($C$4<>\"\",Table2[OFF/ON]=$C$4,TRUE))/(IF($C$5<>\"\",Table2[Status]=$C$5,TRUE))/(IF($C$6<>\"\",Table2[FPPDate]=$C$6,TRUE))/(IF($C$7<>\"\",Table2[ProposalCode]=$C$7,TRUE)),ROW(G453))),\"\")","v":""},{"$f":"IFERROR(VLOOKUP($B461,SIP!$D$5776:$P$6032,12,0),0)","v":0},{"$f":"IFERROR(H461-I461,0)","v":0},{"$f":"IFERROR(VLOOKUP($B461,SIP!$D$5776:$P$6032,8,0),0)","v":0},{"$f":"IFERROR(INDEX(Table2[OFF/ON],_xlfn.AGGREGATE(15,6,(ROW(Table2[FPPGroupCode])-2)/(Table2[DepoName]=$C$2)/(IF($C$3<>\"\",Table2[BULAN]=$C$3,TRUE))/(IF($C$4<>\"\",Table2[OFF/ON]=$C$4,TRUE))/(IF($C$5<>\"\",Table2[Status]=$C$5,TRUE))/(IF($C$6<>\"\",Table2[FPPDate]=$C$6,TRUE))/(IF($C$7<>\"\",Table2[ProposalCode]=$C$7,TRUE)),ROW(K453))),\"\")","v":""}]
[{"$f":"IF(LEN($B462),ROW(A454),\"\")","v":""},{"$f":"IFERROR(INDEX(Table2[FPPGroupCode],_xlfn.AGGREGATE(15,6,(ROW(Table2[FPPGroupCode])-2)/(Table2[DepoName]=$C$2)/(IF($C$3<>\"\",Table2[BULAN]=$C$3,TRUE))/(IF($C$4<>\"\",Table2[OFF/ON]=$C$4,TRUE))/(IF($C$5<>\"\",Table2[Status]=$C$5,TRUE))/(IF($C$6<>\"\",Table2[FPPDate]=$C$6,TRUE))/(IF($C$7<>\"\",Table2[ProposalCode]=$C$7,TRUE)),ROW(A454))),\"\")","v":""},{"$f":"IFERROR(VLOOKUP($B462,SIP!$D$3:$Q$12237,14,0),0)","v":0},{"$f":"IFERROR(INDEX(Table2[Activity],_xlfn.AGGREGATE(15,6,(ROW(Table2[FPPGroupCode])-2)/(Table2[DepoName]=$C$2)/(IF($C$3<>\"\",Table2[BULAN]=$C$3,TRUE))/(IF($C$4<>\"\",Table2[OFF/ON]=$C$4,TRUE))/(IF($C$5<>\"\",Table2[Status]=$C$5,TRUE))/(IF($C$6<>\"\",Table2[]=$C$6,TRUE))/(IF($C$7<>\"\",Table2[ProposalCode]=$C$7,TRUE)),ROW(B454))),\"\")","v":""},{"$f":"IFERROR(INDEX(Table2[Location],_xlfn.AGGREGATE(15,6,(ROW(Table2[FPPGroupCode])-2)/(Table2[DepoName]=$C$2)/(IF($C$3<>\"\",Table2[BULAN]=$C$3,TRUE))/(IF($C$4<>\"\",Table2[OFF/ON]=$C$4,TRUE))/(IF($C$5<>\"\",Table2[Status]=$C$5,TRUE))/(IF($C$6<>\"\",Table2[FPPDate]=$C$6,TRUE))/(IF($C$7<>\"\",Table2[ProposalCode]=$C$7,TRUE)),ROW(D454))),\"\")","v":""},{"$f":"IFERROR(INDEX(Table2[PeriodeStart],_xlfn.AGGREGATE(15,6,(ROW(Table2[FPPGroupCode])-2)/(Table2[DepoName]=$C$2)/(IF($C$3<>\"\",Table2[BULAN]=$C$3,TRUE))/(IF($C$4<>\"\",Table2[OFF/ON]=$C$4,TRUE))/(IF($C$5<>\"\",Table2[Status]=$C$5,TRUE))/(IF($C$6<>\"\",Table2[FPPDate]=$C$6,TRUE))/(IF($C$7<>\"\",Table2[ProposalCode]=$C$7,TRUE)),ROW(E454))),\"\")","v":""},{"$f":"IFERROR(INDEX(Table2[PeriodeEnd],_xlfn.AGGREGATE(15,6,(ROW(Table2[FPPGroupCode])-2)/(Table2[DepoName]=$C$2)/(IF($C$3<>\"\",Table2[BULAN]=$C$3,TRUE))/(IF($C$4<>\"\",Table2[OFF/ON]=$C$4,TRUE))/(IF($C$5<>\"\",Table2[Status]=$C$5,TRUE))/(IF($C$6<>\"\",Table2[FPPDate]=$C$6,TRUE))/(IF($C$7<>\"\",Table2[ProposalCode]=$C$7,TRUE)),ROW(F454))),\"\")","v":""},{"$f":"IFERROR(INDEX(Table2[Amount_FPPDepo],_xlfn.AGGREGATE(15,6,(ROW(Table2[FPPGroupCode])-2)/(Table2[DepoName]=$C$2)/(IF($C$3<>\"\",Table2[BULAN]=$C$3,TRUE))/(IF($C$4<>\"\",Table2[OFF/ON]=$C$4,TRUE))/(IF($C$5<>\"\",Table2[Status]=$C$5,TRUE))/(IF($C$6<>\"\",Table2[FPPDate]=$C$6,TRUE))/(IF($C$7<>\"\",Table2[ProposalCode]=$C$7,TRUE)),ROW(G454))),\"\")","v":""},{"$f":"IFERROR(VLOOKUP($B462,SIP!$D$5776:$P$6032,12,0),0)","v":0},{"$f":"IFERROR(H462-I462,0)","v":0},{"$f":"IFERROR(VLOOKUP($B462,SIP!$D$5776:$P$6032,8,0),0)","v":0},{"$f":"IFERROR(INDEX(Table2[OFF/ON],_xlfn.AGGREGATE(15,6,(ROW(Table2[FPPGroupCode])-2)/(Table2[DepoName]=$C$2)/(IF($C$3<>\"\",Table2[BULAN]=$C$3,TRUE))/(IF($C$4<>\"\",Table2[OFF/ON]=$C$4,TRUE))/(IF($C$5<>\"\",Table2[Status]=$C$5,TRUE))/(IF($C$6<>\"\",Table2[FPPDate]=$C$6,TRUE))/(IF($C$7<>\"\",Table2[ProposalCode]=$C$7,TRUE)),ROW(K454))),\"\")","v":""}]
[{"$f":"IF(LEN($B463),ROW(A455),\"\")","v":""},{"$f":"IFERROR(INDEX(Table2[FPPGroupCode],_xlfn.AGGREGATE(15,6,(ROW(Table2[FPPGroupCode])-2)/(Table2[DepoName]=$C$2)/(IF($C$3<>\"\",Table2[BULAN]=$C$3,TRUE))/(IF($C$4<>\"\",Table2[OFF/ON]=$C$4,TRUE))/(IF($C$5<>\"\",Table2[Status]=$C$5,TRUE))/(IF($C$6<>\"\",Table2[FPPDate]=$C$6,TRUE))/(IF($C$7<>\"\",Table2[ProposalCode]=$C$7,TRUE)),ROW(A455))),\"\")","v":""},{"$f":"IFERROR(VLOOKUP($B463,SIP!$D$3:$Q$12237,14,0),0)","v":0},{"$f":"IFERROR(INDEX(Table2[Activity],_xlfn.AGGREGATE(15,6,(ROW(Table2[FPPGroupCode])-2)/(Table2[DepoName]=$C$2)/(IF($C$3<>\"\",Table2[BULAN]=$C$3,TRUE))/(IF($C$4<>\"\",Table2[OFF/ON]=$C$4,TRUE))/(IF($C$5<>\"\",Table2[Status]=$C$5,TRUE))/(IF($C$6<>\"\",Table2[]=$C$6,TRUE))/(IF($C$7<>\"\",Table2[ProposalCode]=$C$7,TRUE)),ROW(B455))),\"\")","v":""},{"$f":"IFERROR(INDEX(Table2[Location],_xlfn.AGGREGATE(15,6,(ROW(Table2[FPPGroupCode])-2)/(Table2[DepoName]=$C$2)/(IF($C$3<>\"\",Table2[BULAN]=$C$3,TRUE))/(IF($C$4<>\"\",Table2[OFF/ON]=$C$4,TRUE))/(IF($C$5<>\"\",Table2[Status]=$C$5,TRUE))/(IF($C$6<>\"\",Table2[FPPDate]=$C$6,TRUE))/(IF($C$7<>\"\",Table2[ProposalCode]=$C$7,TRUE)),ROW(D455))),\"\")","v":""},{"$f":"IFERROR(INDEX(Table2[PeriodeStart],_xlfn.AGGREGATE(15,6,(ROW(Table2[FPPGroupCode])-2)/(Table2[DepoName]=$C$2)/(IF($C$3<>\"\",Table2[BULAN]=$C$3,TRUE))/(IF($C$4<>\"\",Table2[OFF/ON]=$C$4,TRUE))/(IF($C$5<>\"\",Table2[Status]=$C$5,TRUE))/(IF($C$6<>\"\",Table2[FPPDate]=$C$6,TRUE))/(IF($C$7<>\"\",Table2[ProposalCode]=$C$7,TRUE)),ROW(E455))),\"\")","v":""},{"$f":"IFERROR(INDEX(Table2[PeriodeEnd],_xlfn.AGGREGATE(15,6,(ROW(Table2[FPPGroupCode])-2)/(Table2[DepoName]=$C$2)/(IF($C$3<>\"\",Table2[BULAN]=$C$3,TRUE))/(IF($C$4<>\"\",Table2[OFF/ON]=$C$4,TRUE))/(IF($C$5<>\"\",Table2[Status]=$C$5,TRUE))/(IF($C$6<>\"\",Table2[FPPDate]=$C$6,TRUE))/(IF($C$7<>\"\",Table2[ProposalCode]=$C$7,TRUE)),ROW(F455))),\"\")","v":""},{"$f":"IFERROR(INDEX(Table2[Amount_FPPDepo],_xlfn.AGGREGATE(15,6,(ROW(Table2[FPPGroupCode])-2)/(Table2[DepoName]=$C$2)/(IF($C$3<>\"\",Table2[BULAN]=$C$3,TRUE))/(IF($C$4<>\"\",Table2[OFF/ON]=$C$4,TRUE))/(IF($C$5<>\"\",Table2[Status]=$C$5,TRUE))/(IF($C$6<>\"\",Table2[FPPDate]=$C$6,TRUE))/(IF($C$7<>\"\",Table2[ProposalCode]=$C$7,TRUE)),ROW(G455))),\"\")","v":""},{"$f":"IFERROR(VLOOKUP($B463,SIP!$D$5776:$P$6032,12,0),0)","v":0},{"$f":"IFERROR(H463-I463,0)","v":0},{"$f":"IFERROR(VLOOKUP($B463,SIP!$D$5776:$P$6032,8,0),0)","v":0},{"$f":"IFERROR(INDEX(Table2[OFF/ON],_xlfn.AGGREGATE(15,6,(ROW(Table2[FPPGroupCode])-2)/(Table2[DepoName]=$C$2)/(IF($C$3<>\"\",Table2[BULAN]=$C$3,TRUE))/(IF($C$4<>\"\",Table2[OFF/ON]=$C$4,TRUE))/(IF($C$5<>\"\",Table2[Status]=$C$5,TRUE))/(IF($C$6<>\"\",Table2[FPPDate]=$C$6,TRUE))/(IF($C$7<>\"\",Table2[ProposalCode]=$C$7,TRUE)),ROW(K455))),\"\")","v":""}]
[{"$f":"IF(LEN($B464),ROW(A456),\"\")","v":""},{"$f":"IFERROR(INDEX(Table2[FPPGroupCode],_xlfn.AGGREGATE(15,6,(ROW(Table2[FPPGroupCode])-2)/(Table2[DepoName]=$C$2)/(IF($C$3<>\"\",Table2[BULAN]=$C$3,TRUE))/(IF($C$4<>\"\",Table2[OFF/ON]=$C$4,TRUE))/(IF($C$5<>\"\",Table2[Status]=$C$5,TRUE))/(IF($C$6<>\"\",Table2[FPPDate]=$C$6,TRUE))/(IF($C$7<>\"\",Table2[ProposalCode]=$C$7,TRUE)),ROW(A456))),\"\")","v":""},{"$f":"IFERROR(VLOOKUP($B464,SIP!$D$3:$Q$12237,14,0),0)","v":0},{"$f":"IFERROR(INDEX(Table2[Activity],_xlfn.AGGREGATE(15,6,(ROW(Table2[FPPGroupCode])-2)/(Table2[DepoName]=$C$2)/(IF($C$3<>\"\",Table2[BULAN]=$C$3,TRUE))/(IF($C$4<>\"\",Table2[OFF/ON]=$C$4,TRUE))/(IF($C$5<>\"\",Table2[Status]=$C$5,TRUE))/(IF($C$6<>\"\",Table2[]=$C$6,TRUE))/(IF($C$7<>\"\",Table2[ProposalCode]=$C$7,TRUE)),ROW(B456))),\"\")","v":""},{"$f":"IFERROR(INDEX(Table2[Location],_xlfn.AGGREGATE(15,6,(ROW(Table2[FPPGroupCode])-2)/(Table2[DepoName]=$C$2)/(IF($C$3<>\"\",Table2[BULAN]=$C$3,TRUE))/(IF($C$4<>\"\",Table2[OFF/ON]=$C$4,TRUE))/(IF($C$5<>\"\",Table2[Status]=$C$5,TRUE))/(IF($C$6<>\"\",Table2[FPPDate]=$C$6,TRUE))/(IF($C$7<>\"\",Table2[ProposalCode]=$C$7,TRUE)),ROW(D456))),\"\")","v":""},{"$f":"IFERROR(INDEX(Table2[PeriodeStart],_xlfn.AGGREGATE(15,6,(ROW(Table2[FPPGroupCode])-2)/(Table2[DepoName]=$C$2)/(IF($C$3<>\"\",Table2[BULAN]=$C$3,TRUE))/(IF($C$4<>\"\",Table2[OFF/ON]=$C$4,TRUE))/(IF($C$5<>\"\",Table2[Status]=$C$5,TRUE))/(IF($C$6<>\"\",Table2[FPPDate]=$C$6,TRUE))/(IF($C$7<>\"\",Table2[ProposalCode]=$C$7,TRUE)),ROW(E456))),\"\")","v":""},{"$f":"IFERROR(INDEX(Table2[PeriodeEnd],_xlfn.AGGREGATE(15,6,(ROW(Table2[FPPGroupCode])-2)/(Table2[DepoName]=$C$2)/(IF($C$3<>\"\",Table2[BULAN]=$C$3,TRUE))/(IF($C$4<>\"\",Table2[OFF/ON]=$C$4,TRUE))/(IF($C$5<>\"\",Table2[Status]=$C$5,TRUE))/(IF($C$6<>\"\",Table2[FPPDate]=$C$6,TRUE))/(IF($C$7<>\"\",Table2[ProposalCode]=$C$7,TRUE)),ROW(F456))),\"\")","v":""},{"$f":"IFERROR(INDEX(Table2[Amount_FPPDepo],_xlfn.AGGREGATE(15,6,(ROW(Table2[FPPGroupCode])-2)/(Table2[DepoName]=$C$2)/(IF($C$3<>\"\",Table2[BULAN]=$C$3,TRUE))/(IF($C$4<>\"\",Table2[OFF/ON]=$C$4,TRUE))/(IF($C$5<>\"\",Table2[Status]=$C$5,TRUE))/(IF($C$6<>\"\",Table2[FPPDate]=$C$6,TRUE))/(IF($C$7<>\"\",Table2[ProposalCode]=$C$7,TRUE)),ROW(G456))),\"\")","v":""},{"$f":"IFERROR(VLOOKUP($B464,SIP!$D$5776:$P$6032,12,0),0)","v":0},{"$f":"IFERROR(H464-I464,0)","v":0},{"$f":"IFERROR(VLOOKUP($B464,SIP!$D$5776:$P$6032,8,0),0)","v":0},{"$f":"IFERROR(INDEX(Table2[OFF/ON],_xlfn.AGGREGATE(15,6,(ROW(Table2[FPPGroupCode])-2)/(Table2[DepoName]=$C$2)/(IF($C$3<>\"\",Table2[BULAN]=$C$3,TRUE))/(IF($C$4<>\"\",Table2[OFF/ON]=$C$4,TRUE))/(IF($C$5<>\"\",Table2[Status]=$C$5,TRUE))/(IF($C$6<>\"\",Table2[FPPDate]=$C$6,TRUE))/(IF($C$7<>\"\",Table2[ProposalCode]=$C$7,TRUE)),ROW(K456))),\"\")","v":""}]
[{"$f":"IF(LEN($B465),ROW(A457),\"\")","v":""},{"$f":"IFERROR(INDEX(Table2[FPPGroupCode],_xlfn.AGGREGATE(15,6,(ROW(Table2[FPPGroupCode])-2)/(Table2[DepoName]=$C$2)/(IF($C$3<>\"\",Table2[BULAN]=$C$3,TRUE))/(IF($C$4<>\"\",Table2[OFF/ON]=$C$4,TRUE))/(IF($C$5<>\"\",Table2[Status]=$C$5,TRUE))/(IF($C$6<>\"\",Table2[FPPDate]=$C$6,TRUE))/(IF($C$7<>\"\",Table2[ProposalCode]=$C$7,TRUE)),ROW(A457))),\"\")","v":""},{"$f":"IFERROR(VLOOKUP($B465,SIP!$D$3:$Q$12237,14,0),0)","v":0},{"$f":"IFERROR(INDEX(Table2[Activity],_xlfn.AGGREGATE(15,6,(ROW(Table2[FPPGroupCode])-2)/(Table2[DepoName]=$C$2)/(IF($C$3<>\"\",Table2[BULAN]=$C$3,TRUE))/(IF($C$4<>\"\",Table2[OFF/ON]=$C$4,TRUE))/(IF($C$5<>\"\",Table2[Status]=$C$5,TRUE))/(IF($C$6<>\"\",Table2[]=$C$6,TRUE))/(IF($C$7<>\"\",Table2[ProposalCode]=$C$7,TRUE)),ROW(B457))),\"\")","v":""},{"$f":"IFERROR(INDEX(Table2[Location],_xlfn.AGGREGATE(15,6,(ROW(Table2[FPPGroupCode])-2)/(Table2[DepoName]=$C$2)/(IF($C$3<>\"\",Table2[BULAN]=$C$3,TRUE))/(IF($C$4<>\"\",Table2[OFF/ON]=$C$4,TRUE))/(IF($C$5<>\"\",Table2[Status]=$C$5,TRUE))/(IF($C$6<>\"\",Table2[FPPDate]=$C$6,TRUE))/(IF($C$7<>\"\",Table2[ProposalCode]=$C$7,TRUE)),ROW(D457))),\"\")","v":""},{"$f":"IFERROR(INDEX(Table2[PeriodeStart],_xlfn.AGGREGATE(15,6,(ROW(Table2[FPPGroupCode])-2)/(Table2[DepoName]=$C$2)/(IF($C$3<>\"\",Table2[BULAN]=$C$3,TRUE))/(IF($C$4<>\"\",Table2[OFF/ON]=$C$4,TRUE))/(IF($C$5<>\"\",Table2[Status]=$C$5,TRUE))/(IF($C$6<>\"\",Table2[FPPDate]=$C$6,TRUE))/(IF($C$7<>\"\",Table2[ProposalCode]=$C$7,TRUE)),ROW(E457))),\"\")","v":""},{"$f":"IFERROR(INDEX(Table2[PeriodeEnd],_xlfn.AGGREGATE(15,6,(ROW(Table2[FPPGroupCode])-2)/(Table2[DepoName]=$C$2)/(IF($C$3<>\"\",Table2[BULAN]=$C$3,TRUE))/(IF($C$4<>\"\",Table2[OFF/ON]=$C$4,TRUE))/(IF($C$5<>\"\",Table2[Status]=$C$5,TRUE))/(IF($C$6<>\"\",Table2[FPPDate]=$C$6,TRUE))/(IF($C$7<>\"\",Table2[ProposalCode]=$C$7,TRUE)),ROW(F457))),\"\")","v":""},{"$f":"IFERROR(INDEX(Table2[Amount_FPPDepo],_xlfn.AGGREGATE(15,6,(ROW(Table2[FPPGroupCode])-2)/(Table2[DepoName]=$C$2)/(IF($C$3<>\"\",Table2[BULAN]=$C$3,TRUE))/(IF($C$4<>\"\",Table2[OFF/ON]=$C$4,TRUE))/(IF($C$5<>\"\",Table2[Status]=$C$5,TRUE))/(IF($C$6<>\"\",Table2[FPPDate]=$C$6,TRUE))/(IF($C$7<>\"\",Table2[ProposalCode]=$C$7,TRUE)),ROW(G457))),\"\")","v":""},{"$f":"IFERROR(VLOOKUP($B465,SIP!$D$5776:$P$6032,12,0),0)","v":0},{"$f":"IFERROR(H465-I465,0)","v":0},{"$f":"IFERROR(VLOOKUP($B465,SIP!$D$5776:$P$6032,8,0),0)","v":0},{"$f":"IFERROR(INDEX(Table2[OFF/ON],_xlfn.AGGREGATE(15,6,(ROW(Table2[FPPGroupCode])-2)/(Table2[DepoName]=$C$2)/(IF($C$3<>\"\",Table2[BULAN]=$C$3,TRUE))/(IF($C$4<>\"\",Table2[OFF/ON]=$C$4,TRUE))/(IF($C$5<>\"\",Table2[Status]=$C$5,TRUE))/(IF($C$6<>\"\",Table2[FPPDate]=$C$6,TRUE))/(IF($C$7<>\"\",Table2[ProposalCode]=$C$7,TRUE)),ROW(K457))),\"\")","v":""}]

{"sheet":"DB FPP","index":1,"n_rows":6,"n_cols":49,"rows_kept":6,"cut":false,"hidden":false,"merged":[]}
[]
[null,"FPPGroupCode","FPPDate","ProposalCode","Region","FPPDepoCode","DepoID","DepoName","PeriodeStart","PeriodeEnd","Activity","Location","EstimateCost","TargetInValue","Mechanism","Remark","Unit","UOM","Ratio","PercentageAmountDepo","Amount_FPPDepo","AmountClaim","SisaFPP","FPPReffNumber","ReasonAdditionalFPP","NoteAdditional","Desc1","Desc2","Desc3","DetailActivity","IsOnFaktur","IsFPPNational","PromoType","Status","IsFPP_ByRegion","Company","EmployeeID","CreateBy","CreateDate","LastApproval","LastApprovalName","LastApproveDate","szFilter_Cat2","StatusClaim","Principal2","Umur FPP","Aging FPP","BULAN","OFF/ON"]
[null,null,null,null,null,null,null,null,null,null,null,null,null,null,null,null,null,null,null,null,null,null,null,null,null,null,null,null,null,null,null,null,null,null,null,null,null,null,null,null,null,null,null,null,null,null,null,{"$f":"TEXT(J3,\"MMMM\")","v":"January"},{"$f":"IFERROR(VLOOKUP($AE3,Sheet2!$E$2:$F$3,2,0),0)","v":0}]
[null,null,null,null,null,null,null,null,null,null,null,null,null,null,null,null,null,null,null,null,null,null,null,null,null,null,null,null,null,null,null,null,null,null,null,null,null,null,null,null,null,null,null,null,null,null,null,{"$f":"TEXT(J4,\"MMMM\")","v":"January"},{"$f":"IFERROR(VLOOKUP($AE4,Sheet2!$E$2:$F$3,2,0),0)","v":0}]
[null,null,null,null,null,null,null,null,null,null,null,null,null,null,null,null,null,null,null,null,null,null,null,null,null,null,null,null,null,null,null,null,null,null,null,null,null,null,null,null,null,null,null,null,null,null,null,"January",{"$f":"IFERROR(VLOOKUP($AE5,Sheet2!$E$2:$F$3,2,0),0)","v":0}]
[null,null,null,null,null,null,null,null,null,null,null,null,null,null,null,null,null,null,null,null,null,null,null,null,null,null,null,null,null,null,null,null,null,null,null,null,null,null,null,null,null,null,null,null,null,null,null,"January",{"$f":"IFERROR(VLOOKUP($AE6,Sheet2!$E$2:$F$3,2,0),0)","v":0}]

{"sheet":"SIP","index":2,"n_rows":12236,"n_cols":17,"rows_kept":12236,"cut":false,"hidden":false,"merged":[]}
[]
[null,"Region Fix","Principle","FPPGroupCode","FPPDepoCode","ClaimCode","ClaimCode2","DO","DODate","Cek Pembayaran ","Status Klaim ","Nilai Klaim ","Nilai PPn","Nilai Pph","Total Klaim","Code Depo","0128"]
[{"$f":"P3","v":""},null,null,null,null,null,null,null,null,null,null,null,null,null,null,{"$f":"MID(F3,12,4)","v":""},{"$f":"IF(P3=$Q$2,F3,\"\")","v":""}]
[{"$f":"P4","v":""},null,null,null,null,null,null,null,null,null,null,null,null,null,null,"",{"$f":"IF(P4=$Q$2,F4,\"\")","v":""}]
["",null,null,null,null,null,null,null,null,null,null,null,null,null,null,"",{"$f":"IF(P5=$Q$2,F5,\"\")","v":""}]
["",null,null,null,null,null,null,null,null,null,null,null,null,null,null,"",{"$f":"IF(P6=$Q$2,F6,\"\")","v":""}]
[0]
[0]
[0]
[0]
[0]
[0]
[0]
[0]
[0]
[0]
[0]
[0]
[0]
[0]
[0]
[0]
[0]
[0]
[0]
[0]
[0]
[0]
[0]
[0]
[0]
[0]
[0]
[0]
[0]
[0]
[0]
[0]
[0]
[0]
[0]
[0]
[0]
[0]
[0]
[0]
[0]
[0]
[0]
[0]
[0]
[0]
[0]
[0]
[0]
[0]
[0]
[0]
[0]
[0]
[0]
[0]
[0]
[0]
[0]
[0]
[0]
[{"$f":"P68","v":0}]
[0]
[0]
[0]
[0]
[0]
[0]
[0]
[0]
[0]
[0]
[0]
[0]
[0]
[0]
[0]
[0]
[0]
[0]
[0]
[0]
[0]
[0]
[0]
[0]
[0]
[0]
[0]
[0]
[0]
[0]
[0]
[0]
[0]
[0]
[0]
[0]
[0]
[0]
[0]
[0]
[0]
[0]
[0]
[0]
[0]
[0]
[0]
[0]
[0]
[0]
[0]
[0]
[0]
[0]
[0]
[0]
[0]
[0]
[0]
[0]
[0]
[0]
[0]
[{"$f":"P132","v":0}]
[0]
[0]
[0]
[0]
[0]
[0]
[0]
[0]
[0]
[0]
[0]
[0]
[0]
[0]
[0]
[0]
[0]
[0]
[0]
[0]
[0]
[0]
[0]
[0]
[0]
[0]
[0]
[0]
[0]
[0]
[0]
[0]
[0]
[0]
[0]
[0]
[0]
[0]
[0]
[0]
[0]
[0]
[0]
[0]
[0]
[0]
[0]
[0]
[0]
[0]
[0]
[0]
[0]
[0]
[0]
[0]
[0]
[0]
[0]
[0]
[0]
[0]
[0]
[{"$f":"P196","v":0}]
[0]
[0]
[0]
[0]
[0]
[0]
[0]
[0]
[0]
[0]
[0]
[0]
[0]
[0]
[0]
[0]
[0]
[0]
[0]
[0]
[0]
[0]
[0]
[0]
[0]
[0]
[0]
[0]
[0]
[0]
[0]
[0]
[0]
[0]
[0]
[0]
[0]
[0]
[0]
[0]
[0]
[0]
[0]
[0]
[0]
[0]
[0]
[0]
[0]
[0]
[0]
[0]
[0]
[0]
[0]
[0]
[0]
[0]
[0]
[0]
[0]
[0]
[0]
[{"$f":"P260","v":0}]
[0]
[0]
[0]
[0]
[0]
[0]
[0]
[0]
[0]
[0]
[0]
[0]
[0]
[0]
[0]
[0]
[0]
[0]
[0]
[0]
[0]
[0]
[0]
[0]
[0]
[0]
[0]
[0]
[0]
[0]
[0]
[0]
[0]
[0]
[0]
[0]
[0]
[0]
[0]
[0]
[0]
[0]
[0]
[0]
[0]
[0]
[0]
[0]
[0]
[0]
[0]
[0]
[0]
[0]
[0]
[0]
[0]
[0]
[0]
[0]
[0]
[0]
[0]
[{"$f":"P324","v":0}]
[0]
[0]
[0]
[0]
[0]
[0]
[0]
[0]
[0]
[0]
[0]
[0]
[0]
[0]
[0]
[0]
[0]
[0]
[0]
[0]
[0]
[0]
[0]
[0]
[0]
[0]
[0]
[0]
[0]
[0]
[0]
[0]
[0]
[0]
[0]
[0]
[0]
[0]
[0]
[0]
[0]
[0]
[0]
[0]
[0]
[0]
[0]
[0]
[0]
[0]
[0]
[0]
[0]
[0]
[0]
[0]
[0]
[0]
[0]
[0]
[0]
[0]
[0]
[{"$f":"P388","v":0}]
[0]
[0]
[0]
[0]
[0]
[0]
[0]
[0]
[0]
[0]
[0]
[0]
[0]
[0]
[0]
[0]
[0]
[0]
[0]
[0]
[0]
[0]
[0]
[0]
[0]
[0]
[0]
[0]
[0]
[0]
[0]
[0]
[0]
[0]
[0]
[0]
[0]
[0]
[0]
[0]
[0]
[0]
[0]
[0]
[0]
[0]
[0]
[0]
[0]
[0]
[0]
[0]
[0]
[0]
[0]
[0]
[0]
[0]
[0]
[0]
[0]
[0]
[0]
[{"$f":"P452","v":0}]
[0]
[0]
[0]
[0]
[0]
[0]
[0]
[0]
[0]
[0]
[0]
[0]
[0]
[0]
[0]
[0]
[0]
[0]
[0]
[0]
[0]
[0]
[0]
[0]
[0]
[0]
[0]
[0]
[0]
[0]
[0]
[0]
[0]
[0]
[0]
[0]
[0]
[0]
[0]
[0]
[0]
[0]
[0]
[0]
[0]
[0]
[0]
[0]
[0]
[0]
[0]
[0]
[0]
[0]
[0]
[0]
[0]
[0]
[0]
[0]
[0]
[0]
[0]
[{"$f":"P516","v":0}]
[0]
[0]
[0]
[0]
[0]
[0]
[0]
[0]
[0]
[0]
[0]
[0]
[0]
[0]
[0]
[0]
[0]
[0]
[0]
[0]
[0]
[0]
[0]
[0]
[0]
[0]
[0]
[0]
[0]
[0]
[0]
[0]
[0]
[0]
[0]
[0]
[0]
[0]
[0]
[0]
[0]
[0]
[0]
[0]
[0]
[0]
[0]
[0]
[0]
[0]
[0]
[0]
[0]
[0]
[0]
[0]
[0]
[0]
[0]
[0]
[0]
[0]
[0]
[{"$f":"P580","v":0}]
[0]
[0]
[0]
[0]
[0]
[0]
[0]
[0]
[0]
[0]
[0]
[0]
[0]
[0]
[0]
[0]
[0]
[0]
[0]
[0]
[0]
[0]
[0]
[0]
[0]
[0]
[0]
[0]
[0]
[0]
[0]
[0]
[0]
[0]
[0]
[0]
[0]
[0]
[0]
[0]
[0]
[0]
[0]
[0]
[0]
[0]
[0]
[0]
[0]
[0]
[0]
[0]
[0]
[0]
[0]
[0]
[0]
[0]
[0]
[0]
[0]
[0]
[0]
[{"$f":"P644","v":0}]
[0]
[0]
[0]
[0]
[0]
[0]
[0]
[0]
[0]
[0]
[0]
[0]
[0]
[0]
[0]
[0]
[0]
[0]
[0]
[0]
[0]
[0]
[0]
[0]
[0]
[0]
[0]
[0]
[0]
[0]
[0]
[0]
[0]
[0]
[0]
[0]
[0]
[0]
[0]
[0]
[0]
[0]
[0]
[0]
[0]
[0]
[0]
[0]
[0]
[0]
[0]
[0]
[0]
[0]
[0]
[0]
[0]
[0]
[0]
[0]
[0]
[0]
[0]
[{"$f":"P708","v":0}]
[0]
[0]
[0]
[0]
[0]
[0]
[0]
[0]
[0]
[0]
[0]
[0]
[0]
[0]
[0]
[0]
[0]
[0]
[0]
[0]
[0]
[0]
[0]
[0]
[0]
[0]
[0]
[0]
[0]
[0]
[0]
[0]
[0]
[0]
[0]
[0]
[0]
[0]
[0]
[0]
[0]
[0]
[0]
[0]
[0]
[0]
[0]
[0]
[0]
[0]
[0]
[0]
[0]
[0]
[0]
[0]
[0]
[0]
[0]
[0]
[0]
[0]
[0]
[{"$f":"P772","v":0}]
[0]
[0]
[0]
[0]
[0]
[0]
[0]
[0]
[0]
[0]
[0]
[0]
[0]
[0]
[0]
[0]
[0]
[0]
[0]
[0]
[0]
[0]
[0]
[0]
[0]
[0]
[0]
[0]
[0]
[0]
[0]
[0]
[0]
[0]
[0]
[0]
[0]
[0]
[0]
[0]
[0]
[0]
[0]
[0]
[0]
[0]
[0]
[0]
[0]
[0]
[0]
[0]
[0]
[0]
[0]
[0]
[0]
[0]
[0]
[0]
[0]
[0]
[0]
[{"$f":"P836","v":0}]
[0]
[0]
[0]
[0]
[0]
[0]
[0]
[0]
[0]
[0]
[0]
[0]
[0]
[0]
[0]
[0]
[0]
[0]
[0]
[0]
[0]
[0]
[0]
[0]
[0]
[0]
[0]
[0]
[0]
[0]
[0]
[0]
[0]
[0]
[0]
[0]
[0]
[0]
[0]
[0]
[0]
[0]
[0]
[0]
[0]
[0]
[0]
[0]
[0]
[0]
[0]
[0]
[0]
[0]
[0]
[0]
[0]
[0]
[0]
[0]
[0]
[0]
[0]
[{"$f":"P900","v":0}]
[0]
[0]
[0]
[0]
[0]
[0]
[0]
[0]
[0]
[0]
[0]
[0]
[0]
[0]
[0]
[0]
[0]
[0]
[0]
[0]
[0]
[0]
[0]
[0]
[0]
[0]
[0]
[0]
[0]
[0]
[0]
[0]
[0]
[0]
[0]
[0]
[0]
[0]
[0]
[0]
[0]
[0]
[0]
[0]
[0]
[0]
[0]
[0]
[0]
[0]
[0]
[0]
[0]
[0]
[0]
[0]
[0]
[0]
[0]
[0]
[0]
[0]
[0]
[{"$f":"P964","v":0}]
[0]
[0]
[0]
[0]
[0]
[0]
[0]
[0]
[0]
[0]
[0]
[0]
[0]
[0]
[0]
[0]
[0]
[0]
[0]
[0]
[0]
[0]
[0]
[0]
[0]
[0]
[0]
[0]
[0]
[0]
[0]
[0]
[0]
[0]
[0]
[0]
[0]
[0]
[0]
[0]
[0]
[0]
[0]
[0]
[0]
[0]
[0]
[0]
[0]
[0]
[0]
[0]
[0]
[0]
[0]
[0]
[0]
[0]
[0]
[0]
[0]
[0]
[0]
[{"$f":"P1028","v":0}]
[0]
[0]
[0]
[0]
[0]
[0]
[0]
[0]
[0]
[0]
[0]
[0]
[0]
[0]
[0]
[0]
[0]
[0]
[0]
[0]
[0]
[0]
[0]
[0]
[0]
[0]
[0]
[0]
[0]
[0]
[0]
[0]
[0]
[0]
[0]
[0]
[0]
[0]
[0]
[0]
[0]
[0]
[0]
[0]
[0]
[0]
[0]
[0]
[0]
[0]
[0]
[0]
[0]
[0]
[0]
[0]
[0]
[0]
[0]
[0]
[0]
[0]
[0]
[{"$f":"P1092","v":0}]
[0]
[0]
[0]
[0]
[0]
[0]
[0]
[0]
[0]
[0]
[0]
[0]
[0]
[0]
[0]
[0]
[0]
[0]
[0]
[0]
[0]
[0]
[0]
[0]
[0]
[0]
[0]
[0]
[0]
[0]
[0]
[0]
[0]
[0]
[0]
[0]
[0]
[0]
[0]
[0]
[0]
[0]
[0]
[0]
[0]
[0]
[0]
[0]
[0]
[0]
[0]
[0]
[0]
[0]
[0]
[0]
[0]
[0]
[0]
[0]
[0]
[0]
[0]
[{"$f":"P1156","v":0}]
[0]
[0]
[0]
[0]
[0]
[0]
[0]
[0]
[0]
[0]
[0]
[0]
[0]
[0]
[0]
[0]
[0]
[0]
[0]
[0]
[0]
[0]
[0]
[0]
[0]
[0]
[0]
[0]
[0]
[0]
[0]
[0]
[0]
[0]
[0]
[0]
[0]
[0]
[0]
[0]
[0]
[0]
[0]
[0]
[0]
[0]
[0]
[0]
[0]
[0]
[0]
[0]
[0]
[0]
[0]
[0]
[0]
[0]
[0]
[0]
[0]
[0]
[0]
[{"$f":"P1220","v":0}]
[0]
[0]
[0]
[0]
[0]
[0]
[0]
[0]
[0]
[0]
[0]
[0]
[0]
[0]
[0]
[0]
[0]
[0]
[0]
[0]
[0]
[0]
[0]
[0]
[0]
[0]
[0]
[0]
[0]
[0]
[0]
[0]
[0]
[0]
[0]
[0]
[0]
[0]
[0]
[0]
[0]
[0]
[0]
[0]
[0]
[0]
[0]
[0]
[0]
[0]
[0]
[0]
[0]
[0]
[0]
[0]
[0]
[0]
[0]
[0]
[0]
[0]
[0]
[{"$f":"P1284","v":0}]
[0]
[0]
[0]
[0]
[0]
[0]
[0]
[0]
[0]
[0]
[0]
[0]
[0]
[0]
[0]
[0]
[0]
[0]
[0]
[0]
[0]
[0]
[0]
[0]
[0]
[0]
[0]
[0]
[0]
[0]
[0]
[0]
[0]
[0]
[0]
[0]
[0]
[0]
[0]
[0]
[0]
[0]
[0]
[0]
[0]
[0]
[0]
[0]
[0]
[0]
[0]
[0]
[0]
[0]
[0]
[0]
[0]
[0]
[0]
[0]
[0]
[0]
[0]
[{"$f":"P1348","v":0}]
[0]
[0]
[0]
[0]
[0]
[0]
[0]
[0]
[0]
[0]
[0]
[0]
[0]
[0]
[0]
[0]
[0]
[0]
[0]
[0]
[0]
[0]
[0]
[0]
[0]
[0]
[0]
[0]
[0]
[0]
[0]
[0]
[0]
[0]
[0]
[0]
[0]
[0]
[0]
[0]
[0]
[0]
[0]
[0]
[0]
[0]
[0]
[0]
[0]
[0]
[0]
[0]
[0]
[0]
[0]
[0]
[0]
[0]
[0]
[0]
[0]
[0]
[0]
[{"$f":"P1412","v":0}]
[0]
[0]
[0]
[0]
[0]
[0]
[0]
[0]
[0]
[0]
[0]
[0]
[0]
[0]
[0]
[0]
[0]
[0]
[0]
[0]
[0]
[0]
[0]
[0]
[0]
[0]
[0]
[0]
[0]
[0]
[0]
[0]
[0]
[0]
[0]
[0]
[0]
[0]
[0]
[0]
[0]
[0]
[0]
[0]
[0]
[0]
[0]
[0]
[0]
[0]
[0]
[0]
[0]
[0]
[0]
[0]
[0]
[0]
[0]
[0]
[0]
[0]
[0]
[{"$f":"P1476","v":0}]
[0]
[0]
[0]
[0]
[0]
[0]
[0]
[0]
[0]
[0]
[0]
[0]
[0]
[0]
[0]
[0]
[0]
[0]
[0]
[0]
[0]
[0]
[0]
[0]
[0]
[0]
[0]
[0]
[0]
[0]
[0]
[0]
[0]
[0]
[0]
[0]
[0]
[0]
[0]
[0]
[0]
[0]
[0]
[0]
[0]
[0]
[0]
[0]
[0]
[0]
[0]
[0]
[0]
[0]
[0]
[0]
[0]
[0]
[0]
[0]
[0]
[0]
[0]
[{"$f":"P1540","v":0}]
[0]
[0]
[0]
[0]
[0]
[0]
[0]
[0]
[0]
[0]
[0]
[0]
[0]
[0]
[0]
[0]
[0]
[0]
[0]
[0]
[0]
[0]
[0]
[0]
[0]
[0]
[0]
[0]
[0]
[0]
[0]
[0]
[0]
[0]
[0]
[0]
[0]
[0]
[0]
[0]
[0]
[0]
[0]
[0]
[0]
[0]
[0]
[0]
[0]
[0]
[0]
[0]
[0]
[0]
[0]
[0]
[0]
[0]
[0]
[0]
[0]
[0]
[0]
[{"$f":"P1604","v":0}]
[0]
[0]
[0]
[0]
[0]
[0]
[0]
[0]
[0]
[0]
[0]
[0]
[0]
[0]
[0]
[0]
[0]
[0]
[0]
[0]
[0]
[0]
[0]
[0]
[0]
[0]
[0]
[0]
[0]
[0]
[0]
[0]
[0]
[0]
[0]
[0]
[0]
[0]
[0]
[0]
[0]
[0]
[0]
[0]
[0]
[0]
[0]
[0]
[0]
[0]
[0]
[0]
[0]
[0]
[0]
[0]
[0]
[0]
[0]
[0]
[0]
[0]
[0]
[{"$f":"P1668","v":0}]
[0]
[0]
[0]
[0]
[0]
[0]
[0]
[0]
[0]
[0]
[0]
[0]
[0]
[0]
[0]
[0]
[0]
[0]
[0]
[0]
[0]
[0]
[0]
[0]
[0]
[0]
[0]
[0]
[0]
[0]
[0]
[0]
[0]
[0]
[0]
[0]
[0]
[0]
[0]
[0]
[0]
[0]
[0]
[0]
[0]
[0]
[0]
[0]
[0]
[0]
[0]
[0]
[0]
[0]
[0]
[0]
[0]
[0]
[0]
[0]
[0]
[0]
[0]
[{"$f":"P1732","v":0}]
[0]
[0]
[0]
[0]
[0]
[0]
[0]
[0]
[0]
[0]
[0]
[0]
[0]
[0]
[0]
[0]
[0]
[0]
[0]
[0]
[0]
[0]
[0]
[0]
[0]
[0]
[0]
[0]
[0]
[0]
[0]
[0]
[0]
[0]
[0]
[0]
[0]
[0]
[0]
[0]
[0]
[0]
[0]
[0]
[0]
[0]
[0]
[0]
[0]
[0]
[0]
[0]
[0]
[0]
[0]
[0]
[0]
[0]
[0]
[0]
[0]
[0]
[0]
[{"$f":"P1796","v":0}]
[0]
[0]
[0]
[0]
[0]
[0]
[0]
[0]
[0]
[0]
[0]
[0]
[0]
[0]
[0]
[0]
[0]
[0]
[0]
[0]
[0]
[0]
[0]
[0]
[0]
[0]
[0]
[0]
[0]
[0]
[0]
[0]
[0]
[0]
[0]
[0]
[0]
[0]
[0]
[0]
[0]
[0]
[0]
[0]
[0]
[0]
[0]
[0]
[0]
[0]
[0]
[0]
[0]
[0]
[0]
[0]
[0]
[0]
[0]
[0]
[0]
[0]
[0]
[{"$f":"P1860","v":0}]
[0]
[0]
[0]
[0]
[0]
[0]
[0]
[0]
[0]
[0]
[0]
[0]
[0]
[0]
[0]
[0]
[0]
[0]
[0]
[0]
[0]
[0]
[0]
[0]
[0]
[0]
[0]
[0]
[0]
[0]
[0]
[0]
[0]
[0]
[0]
[0]
[0]
[0]
[0]
[0]
[0]
[0]
[0]
[0]
[0]
[0]
[0]
[0]
[0]
[0]
[0]
[0]
[0]
[0]
[0]
[0]
[0]
[0]
[0]
[0]
[0]
[0]
[0]
[{"$f":"P1924","v":0}]
[0]
[0]
[0]
[0]
[0]
[0]
[0]
[0]
[0]
[0]
[0]
[0]
[0]
[0]
[0]
[0]
[0]
[0]
[0]
[0]
[0]
[0]
[0]
[0]
[0]
[0]
[0]
[0]
[0]
[0]
[0]
[0]
[0]
[0]
[0]
[0]
[0]
[0]
[0]
[0]
[0]
[0]
[0]
[0]
[0]
[0]
[0]
[0]
[0]
[0]
[0]
[0]
[0]
[0]
[0]
[0]
[0]
[0]
[0]
[0]
[0]
[0]
[0]
[{"$f":"P1988","v":0}]
[0]
[0]
[0]
[0]
[0]
[0]
[0]
[0]
[0]
[0]
[0]
[0]
[0]
[0]
[0]
[0]
[0]
[0]
[0]
[0]
[0]
[0]
[0]
[0]
[0]
[0]
[0]
[0]
[0]
[0]
[0]
[0]
[0]
[0]
[0]
[0]
[0]
[0]
[0]
[0]
[0]
[0]
[0]
[0]
[0]
[0]
[0]
[0]
[0]
[0]
[0]
[0]
[0]
[0]
[0]
[0]
[0]
[0]
[0]
[0]
[0]
[0]
[0]
[{"$f":"P2052","v":0}]
[0]
[0]
[0]
[0]
[0]
[0]
[0]
[0]
[0]
[0]
[0]
[0]
[0]
[0]
[0]
[0]
[0]
[0]
[0]
[0]
[0]
[0]
[0]
[0]
[0]
[0]
[0]
[0]
[0]
[0]
[0]
[0]
[0]
[0]
[0]
[0]
[0]
[0]
[0]
[0]
[0]
[0]
[0]
[0]
[0]
[0]
[0]
[0]
[0]
[0]
[0]
[0]
[0]
[0]
[0]
[0]
[0]
[0]
[0]
[0]
[0]
[0]
[0]
[{"$f":"P2116","v":0}]
[0]
[0]
[0]
[0]
[0]
[0]
[0]
[0]
[0]
[0]
[0]
[0]
[0]
[0]
[0]
[0]
[0]
[0]
[0]
[0]
[0]
[0]
[0]
[0]
[0]
[0]
[0]
[0]
[0]
[0]
[0]
[0]
[0]
[0]
[0]
[0]
[0]
[0]
[0]
[0]
[0]
[0]
[0]
[0]
[0]
[0]
[0]
[0]
[0]
[0]
[0]
[0]
[0]
[0]
[0]
[0]
[0]
[0]
[0]
[0]
[0]
[0]
[0]
[{"$f":"P2180","v":0}]
[0]
[0]
[0]
[0]
[0]
[0]
[0]
[0]
[0]
[0]
[0]
[0]
[0]
[0]
[0]
[0]
[0]
[0]
[0]
[0]
[0]
[0]
[0]
[0]
[0]
[0]
[0]
[0]
[0]
[0]
[0]
[0]
[0]
[0]
[0]
[0]
[0]
[0]
[0]
[0]
[0]
[0]
[0]
[0]
[0]
[0]
[0]
[0]
[0]
[0]
[0]
[0]
[0]
[0]
[0]
[0]
[0]
[0]
[0]
[0]
[0]
[0]
[0]
[{"$f":"P2244","v":0}]
[0]
[0]
[0]
[0]
[0]
[0]
[0]
[0]
[0]
[0]
[0]
[0]
[0]
[0]
[0]
[0]
[0]
[0]
[0]
[0]
[0]
[0]
[0]
[0]
[0]
[0]
[0]
[0]
[0]
[0]
[0]
[0]
[0]
[0]
[0]
[0]
[0]
[0]
[0]
[0]
[0]
[0]
[0]
[0]
[0]
[0]
[0]
[0]
[0]
[0]
[0]
[0]
[0]
[0]
[0]
[0]
[0]
[0]
[0]
[0]
[0]
[0]
[0]
[{"$f":"P2308","v":0}]
[0]
[0]
[0]
[0]
[0]
[0]
[0]
[0]
[0]
[0]
[0]
[0]
[0]
[0]
[0]
[0]
[0]
[0]
[0]
[0]
[0]
[0]
[0]
[0]
[0]
[0]
[0]
[0]
[0]
[0]
[0]
[0]
[0]
[0]
[0]
[0]
[0]
[0]
[0]
[0]
[0]
[0]
[0]
[0]
[0]
[0]
[0]
[0]
[0]
[0]
[0]
[0]
[0]
[0]
[0]
[0]
[0]
[0]
[0]
[0]
[0]
[0]
[0]
[{"$f":"P2372","v":0}]
[0]
[0]
[0]
[0]
[0]
[0]
[0]
[0]
[0]
[0]
[0]
[0]
[0]
[0]
[0]
[0]
[0]
[0]
[0]
[0]
[0]
[0]
[0]
[0]
[0]
[0]
[0]
[0]
[0]
[0]
[0]
[0]
[0]
[0]
[0]
[0]
[0]
[0]
[0]
[0]
[0]
[0]
[0]
[0]
[0]
[0]
[0]
[0]
[0]
[0]
[0]
[0]
[0]
[0]
[0]
[0]
[0]
[0]
[0]
[0]
[0]
[0]
[0]
[{"$f":"P2436","v":0}]
[0]
[0]
[0]
[0]
[0]
[0]
[0]
[0]
[0]
[0]
[0]
[0]
[0]
[0]
[0]
[0]
[0]
[0]
[0]
[0]
[0]
[0]
[0]
[0]
[0]
[0]
[0]
[0]
[0]
[0]
[0]
[0]
[0]
[0]
[0]
[0]
[0]
[0]
[0]
[0]
[0]
[0]
[0]
[0]
[0]
[0]
[0]
[0]
[0]
[0]
[0]
[0]
[0]
[0]
[0]
[0]
[0]
[0]
[0]
[0]
[0]
[0]
[0]
[{"$f":"P2500","v":0}]
[0]
[0]
[0]
[0]
[0]
[0]
[0]
[0]
[0]
[0]
[0]
[0]
[0]
[0]
[0]
[0]
[0]
[0]
[0]
[0]
[0]
[0]
[0]
[0]
[0]
[0]
[0]
[0]
[0]
[0]
[0]
[0]
[0]
[0]
[0]
[0]
[0]
[0]
[0]
[0]
[0]
[0]
[0]
[0]
[0]
[0]
[0]
[0]
[0]
[0]
[0]
[0]
[0]
[0]
[0]
[0]
[0]
[0]
[0]
[0]
[0]
[0]
[0]
[{"$f":"P2564","v":0}]
[0]
[0]
[0]
[0]
[0]
[0]
[0]
[0]
[0]
[0]
[0]
[0]
[0]
[0]
[0]
[0]
[0]
[0]
[0]
[0]
[0]
[0]
[0]
[0]
[0]
[0]
[0]
[0]
[0]
[0]
[0]
[0]
[0]
[0]
[0]
[0]
[0]
[0]
[0]
[0]
[0]
[0]
[0]
[0]
[0]
[0]
[0]
[0]
[0]
[0]
[0]
[0]
[0]
[0]
[0]
[0]
[0]
[0]
[0]
[0]
[0]
[0]
[0]
[{"$f":"P2628","v":0}]
[0]
[0]
[0]
[0]
[0]
[0]
[0]
[0]
[0]
[0]
[0]
[0]
[0]
[0]
[0]
[0]
[0]
[0]
[0]
[0]
[0]
[0]
[0]
[0]
[0]
[0]
[0]
[0]
[0]
[0]
[0]
[0]
[0]
[0]
[0]
[0]
[0]
[0]
[0]
[0]
[0]
[0]
[0]
[0]
[0]
[0]
[0]
[0]
[0]
[0]
[0]
[0]
[0]
[0]
[0]
[0]
[0]
[0]
[0]
[0]
[0]
[0]
[0]
[{"$f":"P2692","v":0}]
[0]
[0]
[0]
[0]
[0]
[0]
[0]
[0]
[0]
[0]
[0]
[0]
[0]
[0]
[0]
[0]
[0]
[0]
[0]
[0]
[0]
[0]
[0]
[0]
[0]
[0]
[0]
[0]
[0]
[0]
[0]
[0]
[0]
[0]
[0]
[0]
[0]
[0]
[0]
[0]
[0]
[0]
[0]
[0]
[0]
[0]
[0]
[0]
[0]
[0]
[0]
[0]
[0]
[0]
[0]
[0]
[0]
[0]
[0]
[0]
[0]
[0]
[0]
[{"$f":"P2756","v":0}]
[0]
[0]
[0]
[0]
[0]
[0]
[0]
[0]
[0]
[0]
[0]
[0]
[0]
[0]
[0]
[0]
[0]
[0]
[0]
[0]
[0]
[0]
[0]
[0]
[0]
[0]
[0]
[0]
[0]
[0]
[0]
[0]
[0]
[0]
[0]
[0]
[0]
[0]
[0]
[0]
[0]
[0]
[0]
[0]
[0]
[0]
[0]
[0]
[0]
[0]
[0]
[0]
[0]
[0]
[0]
[0]
[0]
[0]
[0]
[0]
[0]
[0]
[0]
[{"$f":"P2820","v":0}]
[0]
[0]
[0]
[0]
[0]
[0]
[0]
[0]
[0]
[0]
[0]
[0]
[0]
[0]
[0]
[0]
[0]
[0]
[0]
[0]
[0]
[0]
[0]
[0]
[0]
[0]
[0]
[0]
[0]
[0]
[0]
[0]
[0]
[0]
[0]
[0]
[0]
[0]
[0]
[0]
[0]
[0]
[0]
[0]
[0]
[0]
[0]
[0]
[0]
[0]
[0]
[0]
[0]
[0]
[0]
[0]
[0]
[0]
[0]
[0]
[0]
[0]
[0]
[{"$f":"P2884","v":0}]
[0]
[0]
[0]
[0]
[0]
[0]
[0]
[0]
[0]
[0]
[0]
[0]
[0]
[0]
[0]
[0]
[0]
[0]
[0]
[0]
[0]
[0]
[0]
[0]
[0]
[0]
[0]
[0]
[0]
[0]
[0]
[0]
[0]
[0]
[0]
[0]
[0]
[0]
[0]
[0]
[0]
[0]
[0]
[0]
[0]
[0]
[0]
[0]
[0]
[0]
[0]
[0]
[0]
[0]
[0]
[0]
[0]
[0]
[0]
[0]
[0]
[0]
[0]
[{"$f":"P2948","v":0}]
[0]
[0]
[0]
[0]
[0]
[0]
[0]
[0]
[0]
[0]
[0]
[0]
[0]
[0]
[0]
[0]
[0]
[0]
[0]
[0]
[0]
[0]
[0]
[0]
[0]
[0]
[0]
[0]
[0]
[0]
[0]
[0]
[0]
[0]
[0]
[0]
[0]
[0]
[0]
[0]
[0]
[0]
[0]
[0]
[0]
[0]
[0]
[0]
[0]
[0]
[0]
[0]
[0]
[0]
[0]
[0]
[0]
[0]
[0]
[0]
[0]
[0]
[0]
[{"$f":"P3012","v":0}]
[0]
[0]
[0]
[0]
[0]
[0]
[0]
[0]
[0]
[0]
[0]
[0]
[0]
[0]
[0]
[0]
[0]
[0]
[0]
[0]
[0]
[0]
[0]
[0]
[0]
[0]
[0]
[0]
[0]
[0]
[0]
[0]
[0]
[0]
[0]
[0]
[0]
[0]
[0]
[0]
[0]
[0]
[0]
[0]
[0]
[0]
[0]
[0]
[0]
[0]
[0]
[0]
[0]
[0]
[0]
[0]
[0]
[0]
[0]
[0]
[0]
[0]
[0]
[{"$f":"P3076","v":0}]
[0]
[0]
[0]
[0]
[0]
[0]
[0]
[0]
[0]
[0]
[0]
[0]
[0]
[0]
[0]
[0]
[0]
[0]
[0]
[0]
[0]
[0]
[0]
[0]
[0]
[0]
[0]
[0]
[0]
[0]
[0]
[0]
[0]
[0]
[0]
[0]
[0]
[0]
[0]
[0]
[0]
[0]
[0]
[0]
[0]
[0]
[0]
[0]
[0]
[0]
[0]
[0]
[0]
[0]
[0]
[0]
[0]
[0]
[0]
[0]
[0]
[0]
[0]
[{"$f":"P3140","v":0}]
[0]
[0]
[0]
[0]
[0]
[0]
[0]
[0]
[0]
[0]
[0]
[0]
[0]
[0]
[0]
[0]
[0]
[0]
[0]
[0]
[0]
[0]
[0]
[0]
[0]
[0]
[0]
[0]
[0]
[0]
[0]
[0]
[0]
[0]
[0]
[0]
[0]
[0]
[0]
[0]
[0]
[0]
[0]
[0]
[0]
[0]
[0]
[0]
[0]
[0]
[0]
[0]
[0]
[0]
[0]
[0]
[0]
[0]
[0]
[0]
[0]
[0]
[0]
[{"$f":"P3204","v":0}]
[0]
[0]
[0]
[0]
[0]
[0]
[0]
[0]
[0]
[0]
[0]
[0]
[0]
[0]
[0]
[0]
[0]
[0]
[0]
[0]
[0]
[0]
[0]
[0]
[0]
[0]
[0]
[0]
[0]
[0]
[0]
[0]
[0]
[0]
[0]
[0]
[0]
[0]
[0]
[0]
[0]
[0]
[0]
[0]
[0]
[0]
[0]
[0]
[0]
[0]
[0]
[0]
[0]
[0]
[0]
[0]
[0]
[0]
[0]
[0]
[0]
[0]
[0]
[{"$f":"P3268","v":0}]
[0]
[0]
[0]
[0]
[0]
[0]
[0]
[0]
[0]
[0]
[0]
[0]
[0]
[0]
[0]
[0]
[0]
[0]
[0]
[0]
[0]
[0]
[0]
[0]
[0]
[0]
[0]
[0]
[0]
[0]
[0]
[0]
[0]
[0]
[0]
[0]
[0]
[0]
[0]
[0]
[0]
[0]
[0]
[0]
[0]
[0]
[0]
[0]
[0]
[0]
[0]
[0]
[0]
[0]
[0]
[0]
[0]
[0]
[0]
[0]
[0]
[0]
[0]
[{"$f":"P3332","v":0}]
[0]
[0]
[0]
[0]
[0]
[0]
[0]
[0]
[0]
[0]
[0]
[0]
[0]
[0]
[0]
[0]
[0]
[0]
[0]
[0]
[0]
[0]
[0]
[0]
[0]
[0]
[0]
[0]
[0]
[0]
[0]
[0]
[0]
[0]
[0]
[0]
[0]
[0]
[0]
[0]
[0]
[0]
[0]
[0]
[0]
[0]
[0]
[0]
[0]
[0]
[0]
[0]
[0]
[0]
[0]
[0]
[0]
[0]
[0]
[0]
[0]
[0]
[0]
[{"$f":"P3396","v":0}]
[0]
[0]
[0]
[0]
[0]
[0]
[0]
[0]
[0]
[0]
[0]
[0]
[0]
[0]
[0]
[0]
[0]
[0]
[0]
[0]
[0]
[0]
[0]
[0]
[0]
[0]
[0]
[0]
[0]
[0]
[0]
[0]
[0]
[0]
[0]
[0]
[0]
[0]
[0]
[0]
[0]
[0]
[0]
[0]
[0]
[0]
[0]
[0]
[0]
[0]
[0]
[0]
[0]
[0]
[0]
[0]
[0]
[0]
[0]
[0]
[0]
[0]
[0]
[{"$f":"P3460","v":0}]
[0]
[0]
[0]
[0]
[0]
[0]
[0]
[0]
[0]
[0]
[0]
[0]
[0]
[0]
[0]
[0]
[0]
[0]
[0]
[0]
[0]
[0]
[0]
[0]
[0]
[0]
[0]
[0]
[0]
[0]
[0]
[0]
[0]
[0]
[0]
[0]
[0]
[0]
[0]
[0]
[0]
[0]
[0]
[0]
[0]
[0]
[0]
[0]
[0]
[0]
[0]
[0]
[0]
[0]
[0]
[0]
[0]
[0]
[0]
[0]
[0]
[0]
[0]
[{"$f":"P3524","v":0}]
[0]
[0]
[0]
[0]
[0]
[0]
[0]
[0]
[0]
[0]
[0]
[0]
[0]
[0]
[0]
[0]
[0]
[0]
[0]
[0]
[0]
[0]
[0]
[0]
[0]
[0]
[0]
[0]
[0]
[0]
[0]
[0]
[0]
[0]
[0]
[0]
[0]
[0]
[0]
[0]
[0]
[0]
[0]
[0]
[0]
[0]
[0]
[0]
[0]
[0]
[0]
[0]
[0]
[0]
[0]
[0]
[0]
[0]
[0]
[0]
[0]
[0]
[0]
[{"$f":"P3588","v":0}]
[0]
[0]
[0]
[0]
[0]
[0]
[0]
[0]
[0]
[0]
[0]
[0]
[0]
[0]
[0]
[0]
[0]
[0]
[0]
[0]
[0]
[0]
[0]
[0]
[0]
[0]
[0]
[0]
[0]
[0]
[0]
[0]
[0]
[0]
[0]
[0]
[0]
[0]
[0]
[0]
[0]
[0]
[0]
[0]
[0]
[0]
[0]
[0]
[0]
[0]
[0]
[0]
[0]
[0]
[0]
[0]
[0]
[0]
[0]
[0]
[0]
[0]
[0]
[{"$f":"P3652","v":0}]
[0]
[0]
[0]
[0]
[0]
[0]
[0]
[0]
[0]
[0]
[0]
[0]
[0]
[0]
[0]
[0]
[0]
[0]
[0]
[0]
[0]
[0]
[0]
[0]
[0]
[0]
[0]
[0]
[0]
[0]
[0]
[0]
[0]
[0]
[0]
[0]
[0]
[0]
[0]
[0]
[0]
[0]
[0]
[0]
[0]
[0]
[0]
[0]
[0]
[0]
[0]
[0]
[0]
[0]
[0]
[0]
[0]
[0]
[0]
[0]
[0]
[0]
[0]
[{"$f":"P3716","v":0}]
[0]
[0]
[0]
[0]
[0]
[0]
[0]
[0]
[0]
[0]
[0]
[0]
[0]
[0]
[0]
[0]
[0]
[0]
[0]
[0]
[0]
[0]
[0]
[0]
[0]
[0]
[0]
[0]
[0]
[0]
[0]
[0]
[0]
[0]
[0]
[0]
[0]
[0]
[0]
[0]
[0]
[0]
[0]
[0]
[0]
[0]
[0]
[0]
[0]
[0]
[0]
[0]
[0]
[0]
[0]
[0]
[0]
[0]
[0]
[0]
[0]
[0]
[0]
[{"$f":"P3780","v":0}]
[0]
[0]
[0]
[0]
[0]
[0]
[0]
[0]
[0]
[0]
[0]
[0]
[0]
[0]
[0]
[0]
[0]
[0]
[0]
[0]
[0]
[0]
[0]
[0]
[0]
[0]
[0]
[0]
[0]
[0]
[0]
[0]
[0]
[0]
[0]
[0]
[0]
[0]
[0]
[0]
[0]
[0]
[0]
[0]
[0]
[0]
[0]
[0]
[0]
[0]
[0]
[0]
[0]
[0]
[0]
[0]
[0]
[0]
[0]
[0]
[0]
[0]
[0]
[{"$f":"P3844","v":0}]
[0]
[0]
[0]
[0]
[0]
[0]
[0]
[0]
[0]
[0]
[0]
[0]
[0]
[0]
[0]
[0]
[0]
[0]
[0]
[0]
[0]
[0]
[0]
[0]
[0]
[0]
[0]
[0]
[0]
[0]
[0]
[0]
[0]
[0]
[0]
[0]
[0]
[0]
[0]
[0]
[0]
[0]
[0]
[0]
[0]
[0]
[0]
[0]
[0]
[0]
[0]
[0]
[0]
[0]
[0]
[0]
[0]
[0]
[0]
[0]
[0]
[0]
[0]
[{"$f":"P3908","v":0}]
[0]
[0]
[0]
[0]
[0]
[0]
[0]
[0]
[0]
[0]
[0]
[0]
[0]
[0]
[0]
[0]
[0]
[0]
[0]
[0]
[0]
[0]
[0]
[0]
[0]
[0]
[0]
[0]
[0]
[0]
[0]
[0]
[0]
[0]
[0]
[0]
[0]
[0]
[0]
[0]
[0]
[0]
[0]
[0]
[0]
[0]
[0]
[0]
[0]
[0]
[0]
[0]
[0]
[0]
[0]
[0]
[0]
[0]
[0]
[0]
[0]
[0]
[0]
[{"$f":"P3972","v":0}]
[0]
[0]
[0]
[0]
[0]
[0]
[0]
[0]
[0]
[0]
[0]
[0]
[0]
[0]
[0]
[0]
[0]
[0]
[0]
[0]
[0]
[0]
[0]
[0]
[0]
[0]
[0]
[0]
[0]
[0]
[0]
[0]
[0]
[0]
[0]
[0]
[0]
[0]
[0]
[0]
[0]
[0]
[0]
[0]
[0]
[0]
[0]
[0]
[0]
[0]
[0]
[0]
[0]
[0]
[0]
[0]
[0]
[0]
[0]
[0]
[0]
[0]
[0]
[{"$f":"P4036","v":0}]
[0]
[0]
[0]
[0]
[0]
[0]
[0]
[0]
[0]
[0]
[0]
[0]
[0]
[0]
[0]
[0]
[0]
[0]
[0]
[0]
[0]
[0]
[0]
[0]
[0]
[0]
[0]
[0]
[0]
[0]
[0]
[0]
[0]
[0]
[0]
[0]
[0]
[0]
[0]
[0]
[0]
[0]
[0]
[0]
[0]
[0]
[0]
[0]
[0]
[0]
[0]
[0]
[0]
[0]
[0]
[0]
[0]
[0]
[0]
[0]
[0]
[0]
[0]
[{"$f":"P4100","v":0}]
[0]
[0]
[0]
[0]
[0]
[0]
[0]
[0]
[0]
[0]
[0]
[0]
[0]
[0]
[0]
[0]
[0]
[0]
[0]
[0]
[0]
[0]
[0]
[0]
[0]
[0]
[0]
[0]
[0]
[0]
[0]
[0]
[0]
[0]
[0]
[0]
[0]
[0]
[0]
[0]
[0]
[0]
[0]
[0]
[0]
[0]
[0]
[0]
[0]
[0]
[0]
[0]
[0]
[0]
[0]
[0]
[0]
[0]
[0]
[0]
[0]
[0]
[0]
[{"$f":"P4164","v":0}]
[0]
[0]
[0]
[0]
[0]
[0]
[0]
[0]
[0]
[0]
[0]
[0]
[0]
[0]
[0]
[0]
[0]
[0]
[0]
[0]
[0]
[0]
[0]
[0]
[0]
[0]
[0]
[0]
[0]
[0]
[0]
[0]
[0]
[0]
[0]
[0]
[0]
[0]
[0]
[0]
[0]
[0]
[0]
[0]
[0]
[0]
[0]
[0]
[0]
[0]
[0]
[0]
[0]
[0]
[0]
[0]
[0]
[0]
[0]
[0]
[0]
[0]
[0]
[{"$f":"P4228","v":0}]
[0]
[0]
[0]
[0]
[0]
[0]
[0]
[0]
[0]
[0]
[0]
[0]
[0]
[0]
[0]
[0]
[0]
[0]
[0]
[0]
[0]
[0]
[0]
[0]
[0]
[0]
[0]
[0]
[0]
[0]
[0]
[0]
[0]
[0]
[0]
[0]
[0]
[0]
[0]
[0]
[0]
[0]
[0]
[0]
[0]
[0]
[0]
[0]
[0]
[0]
[0]
[0]
[0]
[0]
[0]
[0]
[0]
[0]
[0]
[0]
[0]
[0]
[0]
[{"$f":"P4292","v":0}]
[0]
[0]
[0]
[0]
[0]
[0]
[0]
[0]
[0]
[0]
[0]
[0]
[0]
[0]
[0]
[0]
[0]
[0]
[0]
[0]
[0]
[0]
[0]
[0]
[0]
[0]
[0]
[0]
[0]
[0]
[0]
[0]
[0]
[0]
[0]
[0]
[0]
[0]
[0]
[0]
[0]
[0]
[0]
[0]
[0]
[0]
[0]
[0]
[0]
[0]
[0]
[0]
[0]
[0]
[0]
[0]
[0]
[0]
[0]
[0]
[0]
[0]
[0]
[{"$f":"P4356","v":0}]
[0]
[0]
[0]
[0]
[0]
[0]
[0]
[0]
[0]
[0]
[0]
[0]
[0]
[0]
[0]
[0]
[0]
[0]
[0]
[0]
[0]
[0]
[0]
[0]
[0]
[0]
[0]
[0]
[0]
[0]
[0]
[0]
[0]
[0]
[0]
[0]
[0]
[0]
[0]
[0]
[0]
[0]
[0]
[0]
[0]
[0]
[0]
[0]
[0]
[0]
[0]
[0]
[0]
[0]
[0]
[0]
[0]
[0]
[0]
[0]
[0]
[0]
[0]
[{"$f":"P4420","v":0}]
[0]
[0]
[0]
[0]
[0]
[0]
[0]
[0]
[0]
[0]
[0]
[0]
[0]
[0]
[0]
[0]
[0]
[0]
[0]
[0]
[0]
[0]
[0]
[0]
[0]
[0]
[0]
[0]
[0]
[0]
[0]
[0]
[0]
[0]
[0]
[0]
[0]
[0]
[0]
[0]
[0]
[0]
[0]
[0]
[0]
[0]
[0]
[0]
[0]
[0]
[0]
[0]
[0]
[0]
[0]
[0]
[0]
[0]
[0]
[0]
[0]
[0]
[0]
[{"$f":"P4484","v":0}]
[0]
[0]
[0]
[0]
[0]
[0]
[0]
[0]
[0]
[0]
[0]
[0]
[0]
[0]
[0]
[0]
[0]
[0]
[0]
[0]
[0]
[0]
[0]
[0]
[0]
[0]
[0]
[0]
[0]
[0]
[0]
[0]
[0]
[0]
[0]
[0]
[0]
[0]
[0]
[0]
[0]
[0]
[0]
[0]
[0]
[0]
[0]
[0]
[0]
[0]
[0]
[0]
[0]
[0]
[0]
[0]
[0]
[0]
[0]
[0]
[0]
[0]
[0]
[{"$f":"P4548","v":0}]
[0]
[0]
[0]
[0]
[0]
[0]
[0]
[0]
[0]
[0]
[0]
[0]
[0]
[0]
[0]
[0]
[0]
[0]
[0]
[0]
[0]
[0]
[0]
[0]
[0]
[0]
[0]
[0]
[0]
[0]
[0]
[0]
[0]
[0]
[0]
[0]
[0]
[0]
[0]
[0]
[0]
[0]
[0]
[0]
[0]
[0]
[0]
[0]
[0]
[0]
[0]
[0]
[0]
[0]
[0]
[0]
[0]
[0]
[0]
[0]
[0]
[0]
[0]
[{"$f":"P4612","v":0}]
[0]
[0]
[0]
[0]
[0]
[0]
[0]
[0]
[0]
[0]
[0]
[0]
[0]
[0]
[0]
[0]
[0]
[0]
[0]
[0]
[0]
[0]
[0]
[0]
[0]
[0]
[0]
[0]
[0]
[0]
[0]
[0]
[0]
[0]
[0]
[0]
[0]
[0]
[0]
[0]
[0]
[0]
[0]
[0]
[0]
[0]
[0]
[0]
[0]
[0]
[0]
[0]
[0]
[0]
[0]
[0]
[0]
[0]
[0]
[0]
[0]
[0]
[0]
[{"$f":"P4676","v":0}]
[0]
[0]
[0]
[0]
[0]
[0]
[0]
[0]
[0]
[0]
[0]
[0]
[0]
[0]
[0]
[0]
[0]
[0]
[0]
[0]
[0]
[0]
[0]
[0]
[0]
[0]
[0]
[0]
[0]
[0]
[0]
[0]
[0]
[0]
[0]
[0]
[0]
[0]
[0]
[0]
[0]
[0]
[0]
[0]
[0]
[0]
[0]
[0]
[0]
[0]
[0]
[0]
[0]
[0]
[0]
[0]
[0]
[0]
[0]
[0]
[0]
[0]
[0]
[{"$f":"P4740","v":0}]
[0]
[0]
[0]
[0]
[0]
[0]
[0]
[0]
[0]
[0]
[0]
[0]
[0]
[0]
[0]
[0]
[0]
[0]
[0]
[0]
[0]
[0]
[0]
[0]
[0]
[0]
[0]
[0]
[0]
[0]
[0]
[0]
[0]
[0]
[0]
[0]
[0]
[0]
[0]
[0]
[0]
[0]
[0]
[0]
[0]
[0]
[0]
[0]
[0]
[0]
[0]
[0]
[0]
[0]
[0]
[0]
[0]
[0]
[0]
[0]
[0]
[0]
[0]
[{"$f":"P4804","v":0}]
[0]
[0]
[0]
[0]
[0]
[0]
[0]
[0]
[0]
[0]
[0]
[0]
[0]
[0]
[0]
[0]
[0]
[0]
[0]
[0]
[0]
[0]
[0]
[0]
[0]
[0]
[0]
[0]
[0]
[0]
[0]
[0]
[0]
[0]
[0]
[0]
[0]
[0]
[0]
[0]
[0]
[0]
[0]
[0]
[0]
[0]
[0]
[0]
[0]
[0]
[0]
[0]
[0]
[0]
[0]
[0]
[0]
[0]
[0]
[0]
[0]
[0]
[0]
[{"$f":"P4868","v":0}]
[0]
[0]
[0]
[0]
[0]
[0]
[0]
[0]
[0]
[0]
[0]
[0]
[0]
[0]
[0]
[0]
[0]
[0]
[0]
[0]
[0]
[0]
[0]
[0]
[0]
[0]
[0]
[0]
[0]
[0]
[0]
[0]
[0]
[0]
[0]
[0]
[0]
[0]
[0]
[0]
[0]
[0]
[0]
[0]
[0]
[0]
[0]
[0]
[0]
[0]
[0]
[0]
[0]
[0]
[0]
[0]
[0]
[0]
[0]
[0]
[0]
[0]
[0]
[{"$f":"P4932","v":0}]
[0]
[0]
[0]
[0]
[0]
[0]
[0]
[0]
[0]
[0]
[0]
[0]
[0]
[0]
[0]
[0]
[0]
[0]
[0]
[0]
[0]
[0]
[0]
[0]
[0]
[0]
[0]
[0]
[0]
[0]
[0]
[0]
[0]
[0]
[0]
[0]
[0]
[0]
[0]
[0]
[0]
[0]
[0]
[0]
[0]
[0]
[0]
[0]
[0]
[0]
[0]
[0]
[0]
[0]
[0]
[0]
[0]
[0]
[0]
[0]
[0]
[0]
[0]
[{"$f":"P4996","v":0}]
[0]
[0]
[0]
[0]
[0]
[0]
[0]
[0]
[0]
[0]
[0]
[0]
[0]
[0]
[0]
[0]
[0]
[0]
[0]
[0]
[0]
[0]
[0]
[0]
[0]
[0]
[0]
[0]
[0]
[0]
[0]
[0]
[0]
[0]
[0]
[0]
[0]
[0]
[0]
[0]
[0]
[0]
[0]
[0]
[0]
[0]
[0]
[0]
[0]
[0]
[0]
[0]
[0]
[0]
[0]
[0]
[0]
[0]
[0]
[0]
[0]
[0]
[0]
[{"$f":"P5060","v":0}]
[0]
[0]
[0]
[0]
[0]
[0]
[0]
[0]
[0]
[0]
[0]
[0]
[0]
[0]
[0]
[0]
[0]
[0]
[0]
[0]
[0]
[0]
[0]
[0]
[0]
[0]
[0]
[0]
[0]
[0]
[0]
[0]
[0]
[0]
[0]
[0]
[0]
[0]
[0]
[0]
[0]
[0]
[0]
[0]
[0]
[0]
[0]
[0]
[0]
[0]
[0]
[0]
[0]
[0]
[0]
[0]
[0]
[0]
[0]
[0]
[0]
[0]
[0]
[{"$f":"P5124","v":0}]
[0]
[0]
[0]
[0]
[0]
[0]
[0]
[0]
[0]
[0]
[0]
[0]
[0]
[0]
[0]
[0]
[0]
[0]
[0]
[0]
[0]
[0]
[0]
[0]
[0]
[0]
[0]
[0]
[0]
[0]
[0]
[0]
[0]
[0]
[0]
[0]
[0]
[0]
[0]
[0]
[0]
[0]
[0]
[0]
[0]
[0]
[0]
[0]
[0]
[0]
[0]
[0]
[0]
[0]
[0]
[0]
[0]
[0]
[0]
[0]
[0]
[0]
[0]
[{"$f":"P5188","v":0}]
[0]
[0]
[0]
[0]
[0]
[0]
[0]
[0]
[0]
[0]
[0]
[0]
[0]
[0]
[0]
[0]
[0]
[0]
[0]
[0]
[0]
[0]
[0]
[0]
[0]
[0]
[0]
[0]
[0]
[0]
[0]
[0]
[0]
[0]
[0]
[0]
[0]
[0]
[0]
[0]
[0]
[0]
[0]
[0]
[0]
[0]
[0]
[0]
[0]
[0]
[0]
[0]
[0]
[0]
[0]
[0]
[0]
[0]
[0]
[0]
[0]
[0]
[0]
[{"$f":"P5252","v":0}]
[0]
[0]
[0]
[0]
[0]
[0]
[0]
[0]
[0]
[0]
[0]
[0]
[0]
[0]
[0]
[0]
[0]
[0]
[0]
[0]
[0]
[0]
[0]
[0]
[0]
[0]
[0]
[0]
[0]
[0]
[0]
[0]
[0]
[0]
[0]
[0]
[0]
[0]
[0]
[0]
[0]
[0]
[0]
[0]
[0]
[0]
[0]
[0]
[0]
[0]
[0]
[0]
[0]
[0]
[0]
[0]
[0]
[0]
[0]
[0]
[0]
[0]
[0]
[{"$f":"P5316","v":0}]
[0]
[0]
[0]
[0]
[0]
[0]
[0]
[0]
[0]
[0]
[0]
[0]
[0]
[0]
[0]
[0]
[0]
[0]
[0]
[0]
[0]
[0]
[0]
[0]
[0]
[0]
[0]
[0]
[0]
[0]
[0]
[0]
[0]
[0]
[0]
[0]
[0]
[0]
[0]
[0]
[0]
[0]
[0]
[0]
[0]
[0]
[0]
[0]
[0]
[0]
[0]
[0]
[0]
[0]
[0]
[0]
[0]
[0]
[0]
[0]
[0]
[0]
[0]
[{"$f":"P5380","v":0}]
[0]
[0]
[0]
[0]
[0]
[0]
[0]
[0]
[0]
[0]
[0]
[0]
[0]
[0]
[0]
[0]
[0]
[0]
[0]
[0]
[0]
[0]
[0]
[0]
[0]
[0]
[0]
[0]
[0]
[0]
[0]
[0]
[0]
[0]
[0]
[0]
[0]
[0]
[0]
[0]
[0]
[0]
[0]
[0]
[0]
[0]
[0]
[0]
[0]
[0]
[0]
[0]
[0]
[0]
[0]
[0]
[0]
[0]
[0]
[0]
[0]
[0]
[0]
[{"$f":"P5444","v":0}]
[0]
[0]
[0]
[0]
[0]
[0]
[0]
[0]
[0]
[0]
[0]
[0]
[0]
[0]
[0]
[0]
[0]
[0]
[0]
[0]
[0]
[0]
[0]
[0]
[0]
[0]
[0]
[0]
[0]
[0]
[0]
[0]
[0]
[0]
[0]
[0]
[0]
[0]
[0]
[0]
[0]
[0]
[0]
[0]
[0]
[0]
[0]
[0]
[0]
[0]
[0]
[0]
[0]
[0]
[0]
[0]
[0]
[0]
[0]
[0]
[0]
[0]
[0]
[{"$f":"P5508","v":0}]
[0]
[0]
[0]
[0]
[0]
[0]
[0]
[0]
[0]
[0]
[0]
[0]
[0]
[0]
[0]
[0]
[0]
[0]
[0]
[0]
[0]
[0]
[0]
[0]
[0]
[0]
[0]
[0]
[0]
[0]
[0]
[0]
[0]
[0]
[0]
[0]
[0]
[0]
[0]
[0]
[0]
[0]
[0]
[0]
[0]
[0]
[0]
[0]
[0]
[0]
[0]
[0]
[0]
[0]
[0]
[0]
[0]
[0]
[0]
[0]
[0]
[0]
[0]
[{"$f":"P5572","v":0}]
[0]
[0]
[0]
[0]
[0]
[0]
[0]
[0]
[0]
[0]
[0]
[0]
[0]
[0]
[0]
[0]
[0]
[0]
[0]
[0]
[0]
[0]
[0]
[0]
[0]
[0]
[0]
[0]
[0]
[0]
[0]
[0]
[0]
[0]
[0]
[0]
[0]
[0]
[0]
[0]
[0]
[0]
[0]
[0]
[0]
[0]
[0]
[0]
[0]
[0]
[0]
[0]
[0]
[0]
[0]
[0]
[0]
[0]
[0]
[0]
[0]
[0]
[0]
[{"$f":"P5636","v":0}]
[0]
[0]
[0]
[0]
[0]
[0]
[0]
[0]
[0]
[0]
[0]
[0]
[0]
[0]
[0]
[0]
[0]
[0]
[0]
[0]
[0]
[0]
[0]
[0]
[0]
[0]
[0]
[0]
[0]
[0]
[0]
[0]
[0]
[0]
[0]
[0]
[0]
[0]
[0]
[0]
[0]
[0]
[0]
[0]
[0]
[0]
[0]
[0]
[0]
[0]
[0]
[0]
[0]
[0]
[0]
[0]
[0]
[0]
[0]
[0]
[0]
[0]
[0]
[{"$f":"P5700","v":0}]
[0]
[0]
[0]
[0]
[0]
[0]
[0]
[0]
[0]
[0]
[0]
[0]
[0]
[0]
[0]
[0]
[0]
[0]
[0]
[0]
[0]
[0]
[0]
[0]
[0]
[0]
[0]
[0]
[0]
[0]
[0]
[0]
[0]
[0]
[0]
[0]
[0]
[0]
[0]
[0]
[0]
[0]
[0]
[0]
[0]
[0]
[0]
[0]
[0]
[0]
[0]
[0]
[0]
[0]
[0]
[0]
[0]
[0]
[0]
[0]
[0]
[0]
[0]
[{"$f":"P5764","v":0}]
[0]
[0]
[0]
[0]
[0]
[0]
[0]
[0]
[0]
[0]
[0]
[0]
[0]
[0]
[0]
[0]
[0]
[0]
[0]
[0]
[0]
[0]
[0]
[0]
[0]
[0]
[0]
[0]
[0]
[0]
[0]
[0]
[0]
[0]
[0]
[0]
[0]
[0]
[0]
[0]
[0]
[0]
[0]
[0]
[0]
[0]
[0]
[0]
[0]
[0]
[0]
[0]
[0]
[0]
[0]
[0]
[0]
[0]
[0]
[0]
[0]
[0]
[0]
[{"$f":"P5828","v":0}]
[0]
[0]
[0]
[0]
[0]
[0]
[0]
[0]
[0]
[0]
[0]
[0]
[0]
[0]
[0]
[0]
[0]
[0]
[0]
[0]
[0]
[0]
[0]
[0]
[0]
[0]
[0]
[0]
[0]
[0]
[0]
[0]
[0]
[0]
[0]
[0]
[0]
[0]
[0]
[0]
[0]
[0]
[0]
[0]
[0]
[0]
[0]
[0]
[0]
[0]
[0]
[0]
[0]
[0]
[0]
[0]
[0]
[0]
[0]
[0]
[0]
[0]
[0]
[{"$f":"P5892","v":0}]
[0]
[0]
[0]
[0]
[0]
[0]
[0]
[0]
[0]
[0]
[0]
[0]
[0]
[0]
[0]
[0]
[0]
[0]
[0]
[0]
[0]
[0]
[0]
[0]
[0]
[0]
[0]
[0]
[0]
[0]
[0]
[0]
[0]
[0]
[0]
[0]
[0]
[0]
[0]
[0]
[0]
[0]
[0]
[0]
[0]
[0]
[0]
[0]
[0]
[0]
[0]
[0]
[0]
[0]
[0]
[0]
[0]
[0]
[0]
[0]
[0]
[0]
[0]
[{"$f":"P5956","v":0}]
[0]
[0]
[0]
[0]
[0]
[0]
[0]
[0]
[0]
[0]
[0]
[0]
[0]
[0]
[0]
[0]
[0]
[0]
[0]
[0]
[0]
[0]
[0]
[0]
[0]
[0]
[0]
[0]
[0]
[0]
[0]
[0]
[0]
[0]
[0]
[0]
[0]
[0]
[0]
[0]
[0]
[0]
[0]
[0]
[0]
[0]
[0]
[0]
[0]
[0]
[0]
[0]
[0]
[0]
[0]
[0]
[0]
[0]
[0]
[0]
[0]
[0]
[0]
[{"$f":"P6020","v":0}]
[0]
[0]
[0]
[0]
[0]
[0]
[0]
[0]
[0]
[0]
[0]
[0]
[0]
[0]
[0]
[0]
[0]
[0]
[0]
[0]
[0]
[0]
[0]
[0]
[0]
[0]
[0]
[0]
[0]
[0]
[0]
[0]
[0]
[0]
[0]
[0]
[0]
[0]
[0]
[0]
[0]
[0]
[0]
[0]
[0]
[0]
[0]
[0]
[0]
[0]
[0]
[0]
[0]
[0]
[0]
[0]
[0]
[0]
[0]
[0]
[0]
[0]
[0]
[{"$f":"P6084","v":0}]
[0]
[0]
[0]
[0]
[0]
[0]
[0]
[0]
[0]
[0]
[0]
[0]
[0]
[0]
[0]
[0]
[0]
[0]
[0]
[0]
[0]
[0]
[0]
[0]
[0]
[0]
[0]
[0]
[0]
[0]
[0]
[0]
[0]
[0]
[0]
[0]
[0]
[0]
[0]
[0]
[0]
[0]
[0]
[0]
[0]
[0]
[0]
[0]
[0]
[0]
[0]
[0]
[0]
[0]
[0]
[0]
[0]
[0]
[0]
[0]
[0]
[0]
[0]
[{"$f":"P6148","v":0}]
[0]
[0]
[0]
[0]
[0]
[0]
[0]
[0]
[0]
[0]
[0]
[0]
[0]
[0]
[0]
[0]
[0]
[0]
[0]
[0]
[0]
[0]
[0]
[0]
[0]
[0]
[0]
[0]
[0]
[0]
[0]
[0]
[0]
[0]
[0]
[0]
[0]
[0]
[0]
[0]
[0]
[0]
[0]
[0]
[0]
[0]
[0]
[0]
[0]
[0]
[0]
[0]
[0]
[0]
[0]
[0]
[0]
[0]
[0]
[0]
[0]
[0]
[0]
[{"$f":"P6212","v":0}]
[0]
[0]
[0]
[0]
[0]
[0]
[0]
[0]
[0]
[0]
[0]
[0]
[0]
[0]
[0]
[0]
[0]
[0]
[0]
[0]
[0]
[0]
[0]
[0]
[0]
[0]
[0]
[0]
[0]
[0]
[0]
[0]
[0]
[0]
[0]
[0]
[0]
[0]
[0]
[0]
[0]
[0]
[0]
[0]
[0]
[0]
[0]
[0]
[0]
[0]
[0]
[0]
[0]
[0]
[0]
[0]
[0]
[0]
[0]
[0]
[0]
[0]
[0]
[{"$f":"P6276","v":0}]
[0]
[0]
[0]
[0]
[0]
[0]
[0]
[0]
[0]
[0]
[0]
[0]
[0]
[0]
[0]
[0]
[0]
[0]
[0]
[0]
[0]
[0]
[0]
[0]
[0]
[0]
[0]
[0]
[0]
[0]
[0]
[0]
[0]
[0]
[0]
[0]
[0]
[0]
[0]
[0]
[0]
[0]
[0]
[0]
[0]
[0]
[0]
[0]
[0]
[0]
[0]
[0]
[0]
[0]
[0]
[0]
[0]
[0]
[0]
[0]
[0]
[0]
[0]
[{"$f":"P6340","v":0}]
[0]
[0]
[0]
[0]
[0]
[0]
[0]
[0]
[0]
[0]
[0]
[0]
[0]
[0]
[0]
[0]
[0]
[0]
[0]
[0]
[0]
[0]
[0]
[0]
[0]
[0]
[0]
[0]
[0]
[0]
[0]
[0]
[0]
[0]
[0]
[0]
[0]
[0]
[0]
[0]
[0]
[0]
[0]
[0]
[0]
[0]
[0]
[0]
[0]
[0]
[0]
[0]
[0]
[0]
[0]
[0]
[0]
[0]
[0]
[0]
[0]
[0]
[0]
[{"$f":"P6404","v":0}]
[0]
[0]
[0]
[0]
[0]
[0]
[0]
[0]
[0]
[0]
[0]
[0]
[0]
[0]
[0]
[0]
[0]
[0]
[0]
[0]
[0]
[0]
[0]
[0]
[0]
[0]
[0]
[0]
[0]
[0]
[0]
[0]
[0]
[0]
[0]
[0]
[0]
[0]
[0]
[0]
[0]
[0]
[0]
[0]
[0]
[0]
[0]
[0]
[0]
[0]
[0]
[0]
[0]
[0]
[0]
[0]
[0]
[0]
[0]
[0]
[0]
[0]
[0]
[{"$f":"P6468","v":0}]
[0]
[0]
[0]
[0]
[0]
[0]
[0]
[0]
[0]
[0]
[0]
[0]
[0]
[0]
[0]
[0]
[0]
[0]
[0]
[0]
[0]
[0]
[0]
[0]
[0]
[0]
[0]
[0]
[0]
[0]
[0]
[0]
[0]
[0]
[0]
[0]
[0]
[0]
[0]
[0]
[0]
[0]
[0]
[0]
[0]
[0]
[0]
[0]
[0]
[0]
[0]
[0]
[0]
[0]
[0]
[0]
[0]
[0]
[0]
[0]
[0]
[0]
[0]
[{"$f":"P6532","v":0}]
[0]
[0]
[0]
[0]
[0]
[0]
[0]
[0]
[0]
[0]
[0]
[0]
[0]
[0]
[0]
[0]
[0]
[0]
[0]
[0]
[0]
[0]
[0]
[0]
[0]
[0]
[0]
[0]
[0]
[0]
[0]
[0]
[0]
[0]
[0]
[0]
[0]
[0]
[0]
[0]
[0]
[0]
[0]
[0]
[0]
[0]
[0]
[0]
[0]
[0]
[0]
[0]
[0]
[0]
[0]
[0]
[0]
[0]
[0]
[0]
[0]
[0]
[0]
[{"$f":"P6596","v":0}]
[0]
[0]
[0]
[0]
[0]
[0]
[0]
[0]
[0]
[0]
[0]
[0]
[0]
[0]
[0]
[0]
[0]
[0]
[0]
[0]
[0]
[0]
[0]
[0]
[0]
[0]
[0]
[0]
[0]
[0]
[0]
[0]
[0]
[0]
[0]
[0]
[0]
[0]
[0]
[0]
[0]
[0]
[0]
[0]
[0]
[0]
[0]
[0]
[0]
[0]
[0]
[0]
[0]
[0]
[0]
[0]
[0]
[0]
[0]
[0]
[0]
[0]
[0]
[{"$f":"P6660","v":0}]
[0]
[0]
[0]
[0]
[0]
[0]
[0]
[0]
[0]
[0]
[0]
[0]
[0]
[0]
[0]
[0]
[0]
[0]
[0]
[0]
[0]
[0]
[0]
[0]
[0]
[0]
[0]
[0]
[0]
[0]
[0]
[0]
[0]
[0]
[0]
[0]
[0]
[0]
[0]
[0]
[0]
[0]
[0]
[0]
[0]
[0]
[0]
[0]
[0]
[0]
[0]
[0]
[0]
[0]
[0]
[0]
[0]
[0]
[0]
[0]
[0]
[0]
[0]
[{"$f":"P6724","v":0}]
[0]
[0]
[0]
[0]
[0]
[0]
[0]
[0]
[0]
[0]
[0]
[0]
[0]
[0]
[0]
[0]
[0]
[0]
[0]
[0]
[0]
[0]
[0]
[0]
[0]
[0]
[0]
[0]
[0]
[0]
[0]
[0]
[0]
[0]
[0]
[0]
[0]
[0]
[0]
[0]
[0]
[0]
[0]
[0]
[0]
[0]
[0]
[0]
[0]
[0]
[0]
[0]
[0]
[0]
[0]
[0]
[0]
[0]
[0]
[0]
[0]
[0]
[0]
[{"$f":"P6788","v":0}]
[0]
[0]
[0]
[0]
[0]
[0]
[0]
[0]
[0]
[0]
[0]
[0]
[0]
[0]
[0]
[0]
[0]
[0]
[0]
[0]
[0]
[0]
[0]
[0]
[0]
[0]
[0]
[0]
[0]
[0]
[0]
[0]
[0]
[0]
[0]
[0]
[0]
[0]
[0]
[0]
[0]
[0]
[0]
[0]
[0]
[0]
[0]
[0]
[0]
[0]
[0]
[0]
[0]
[0]
[0]
[0]
[0]
[0]
[0]
[0]
[0]
[0]
[0]
[{"$f":"P6852","v":0}]
[0]
[0]
[0]
[0]
[0]
[0]
[0]
[0]
[0]
[0]
[0]
[0]
[0]
[0]
[0]
[0]
[0]
[0]
[0]
[0]
[0]
[0]
[0]
[0]
[0]
[0]
[0]
[0]
[0]
[0]
[0]
[0]
[0]
[0]
[0]
[0]
[0]
[0]
[0]
[0]
[0]
[0]
[0]
[0]
[0]
[0]
[0]
[0]
[0]
[0]
[0]
[0]
[0]
[0]
[0]
[0]
[0]
[0]
[0]
[0]
[0]
[0]
[0]
[{"$f":"P6916","v":0}]
[0]
[0]
[0]
[0]
[0]
[0]
[0]
[0]
[0]
[0]
[0]
[0]
[0]
[0]
[0]
[0]
[0]
[0]
[0]
[0]
[0]
[0]
[0]
[0]
[0]
[0]
[0]
[0]
[0]
[0]
[0]
[0]
[0]
[0]
[0]
[0]
[0]
[0]
[0]
[0]
[0]
[0]
[0]
[0]
[0]
[0]
[0]
[0]
[0]
[0]
[0]
[0]
[0]
[0]
[0]
[0]
[0]
[0]
[0]
[0]
[0]
[0]
[0]
[{"$f":"P6980","v":0}]
[0]
[0]
[0]
[0]
[0]
[0]
[0]
[0]
[0]
[0]
[0]
[0]
[0]
[0]
[0]
[0]
[0]
[0]
[0]
[0]
[0]
[0]
[0]
[0]
[0]
[0]
[0]
[0]
[0]
[0]
[0]
[0]
[0]
[0]
[0]
[0]
[0]
[0]
[0]
[0]
[0]
[0]
[0]
[0]
[0]
[0]
[0]
[0]
[0]
[0]
[0]
[0]
[0]
[0]
[0]
[0]
[0]
[0]
[0]
[0]
[0]
[0]
[0]
[{"$f":"P7044","v":0}]
[0]
[0]
[0]
[0]
[0]
[0]
[0]
[0]
[0]
[0]
[0]
[0]
[0]
[0]
[0]
[0]
[0]
[0]
[0]
[0]
[0]
[0]
[0]
[0]
[0]
[0]
[0]
[0]
[0]
[0]
[0]
[0]
[0]
[0]
[0]
[0]
[0]
[0]
[0]
[0]
[0]
[0]
[0]
[0]
[0]
[0]
[0]
[0]
[0]
[0]
[0]
[0]
[0]
[0]
[0]
[0]
[0]
[0]
[0]
[0]
[0]
[0]
[0]
[{"$f":"P7108","v":0}]
[0]
[0]
[0]
[0]
[0]
[0]
[0]
[0]
[0]
[0]
[0]
[0]
[0]
[0]
[0]
[0]
[0]
[0]
[0]
[0]
[0]
[0]
[0]
[0]
[0]
[0]
[0]
[0]
[0]
[0]
[0]
[0]
[0]
[0]
[0]
[0]
[0]
[0]
[0]
[0]
[0]
[0]
[0]
[0]
[0]
[0]
[0]
[0]
[0]
[0]
[0]
[0]
[0]
[0]
[0]
[0]
[0]
[0]
[0]
[0]
[0]
[0]
[0]
[{"$f":"P7172","v":0}]
[0]
[0]
[0]
[0]
[0]
[0]
[0]
[0]
[0]
[0]
[0]
[0]
[0]
[0]
[0]
[0]
[0]
[0]
[0]
[0]
[0]
[0]
[0]
[0]
[0]
[0]
[0]
[0]
[0]
[0]
[0]
[0]
[0]
[0]
[0]
[0]
[0]
[0]
[0]
[0]
[0]
[0]
[0]
[0]
[0]
[0]
[0]
[0]
[0]
[0]
[0]
[0]
[0]
[0]
[0]
[0]
[0]
[0]
[0]
[0]
[0]
[0]
[0]
[{"$f":"P7236","v":0}]
[0]
[0]
[0]
[0]
[0]
[0]
[0]
[0]
[0]
[0]
[0]
[0]
[0]
[0]
[0]
[0]
[0]
[0]
[0]
[0]
[0]
[0]
[0]
[0]
[0]
[0]
[0]
[0]
[0]
[0]
[0]
[0]
[0]
[0]
[0]
[0]
[0]
[0]
[0]
[0]
[0]
[0]
[0]
[0]
[0]
[0]
[0]
[0]
[0]
[0]
[0]
[0]
[0]
[0]
[0]
[0]
[0]
[0]
[0]
[0]
[0]
[0]
[0]
[{"$f":"P7300","v":0}]
[0]
[0]
[0]
[0]
[0]
[0]
[0]
[0]
[0]
[0]
[0]
[0]
[0]
[0]
[0]
[0]
[0]
[0]
[0]
[0]
[0]
[0]
[0]
[0]
[0]
[0]
[0]
[0]
[0]
[0]
[0]
[0]
[0]
[0]
[0]
[0]
[0]
[0]
[0]
[0]
[0]
[0]
[0]
[0]
[0]
[0]
[0]
[0]
[0]
[0]
[0]
[0]
[0]
[0]
[0]
[0]
[0]
[0]
[0]
[0]
[0]
[0]
[0]
[{"$f":"P7364","v":0}]
[0]
[0]
[0]
[0]
[0]
[0]
[0]
[0]
[0]
[0]
[0]
[0]
[0]
[0]
[0]
[0]
[0]
[0]
[0]
[0]
[0]
[0]
[0]
[0]
[0]
[0]
[0]
[0]
[0]
[0]
[0]
[0]
[0]
[0]
[0]
[0]
[0]
[0]
[0]
[0]
[0]
[0]
[0]
[0]
[0]
[0]
[0]
[0]
[0]
[0]
[0]
[0]
[0]
[0]
[0]
[0]
[0]
[0]
[0]
[0]
[0]
[0]
[0]
[{"$f":"P7428","v":0}]
[0]
[0]
[0]
[0]
[0]
[0]
[0]
[0]
[0]
[0]
[0]
[0]
[0]
[0]
[0]
[0]
[0]
[0]
[0]
[0]
[0]
[0]
[0]
[0]
[0]
[0]
[0]
[0]
[0]
[0]
[0]
[0]
[0]
[0]
[0]
[0]
[0]
[0]
[0]
[0]
[0]
[0]
[0]
[0]
[0]
[0]
[0]
[0]
[0]
[0]
[0]
[0]
[0]
[0]
[0]
[0]
[0]
[0]
[0]
[0]
[0]
[0]
[0]
[{"$f":"P7492","v":0}]
[0]
[0]
[0]
[0]
[0]
[0]
[0]
[0]
[0]
[0]
[0]
[0]
[0]
[0]
[0]
[0]
[0]
[0]
[0]
[0]
[0]
[0]
[0]
[0]
[0]
[0]
[0]
[0]
[0]
[0]
[0]
[0]
[0]
[0]
[0]
[0]
[0]
[0]
[0]
[0]
[0]
[0]
[0]
[0]
[0]
[0]
[0]
[0]
[0]
[0]
[0]
[0]
[0]
[0]
[0]
[0]
[0]
[0]
[0]
[0]
[0]
[0]
[0]
[{"$f":"P7556","v":0}]
[0]
[0]
[0]
[0]
[0]
[0]
[0]
[0]
[0]
[0]
[0]
[0]
[0]
[0]
[0]
[0]
[0]
[0]
[0]
[0]
[0]
[0]
[0]
[0]
[0]
[0]
[0]
[0]
[0]
[0]
[0]
[0]
[0]
[0]
[0]
[0]
[0]
[0]
[0]
[0]
[0]
[0]
[0]
[0]
[0]
[0]
[0]
[0]
[0]
[0]
[0]
[0]
[0]
[0]
[0]
[0]
[0]
[0]
[0]
[0]
[0]
[0]
[0]
[{"$f":"P7620","v":0}]
[0]
[0]
[0]
[0]
[0]
[0]
[0]
[0]
[0]
[0]
[0]
[0]
[0]
[0]
[0]
[0]
[0]
[0]
[0]
[0]
[0]
[0]
[0]
[0]
[0]
[0]
[0]
[0]
[0]
[0]
[0]
[0]
[0]
[0]
[0]
[0]
[0]
[0]
[0]
[0]
[0]
[0]
[0]
[0]
[0]
[0]
[0]
[0]
[0]
[0]
[0]
[0]
[0]
[0]
[0]
[0]
[0]
[0]
[0]
[0]
[0]
[0]
[0]
[{"$f":"P7684","v":0}]
[0]
[0]
[0]
[0]
[0]
[0]
[0]
[0]
[0]
[0]
[0]
[0]
[0]
[0]
[0]
[0]
[0]
[0]
[0]
[0]
[0]
[0]
[0]
[0]
[0]
[0]
[0]
[0]
[0]
[0]
[0]
[0]
[0]
[0]
[0]
[0]
[0]
[0]
[0]
[0]
[0]
[0]
[0]
[0]
[0]
[0]
[0]
[0]
[0]
[0]
[0]
[0]
[0]
[0]
[0]
[0]
[0]
[0]
[0]
[0]
[0]
[0]
[0]
[{"$f":"P7748","v":0}]
[0]
[0]
[0]
[0]
[0]
[0]
[0]
[0]
[0]
[0]
[0]
[0]
[0]
[0]
[0]
[0]
[0]
[0]
[0]
[0]
[0]
[0]
[0]
[0]
[0]
[0]
[0]
[0]
[0]
[0]
[0]
[0]
[0]
[0]
[0]
[0]
[0]
[0]
[0]
[0]
[0]
[0]
[0]
[0]
[0]
[0]
[0]
[0]
[0]
[0]
[0]
[0]
[0]
[0]
[0]
[0]
[0]
[0]
[0]
[0]
[0]
[0]
[0]
[{"$f":"P7812","v":0}]
[0]
[0]
[0]
[0]
[0]
[0]
[0]
[0]
[0]
[0]
[0]
[0]
[0]
[0]
[0]
[0]
[0]
[0]
[0]
[0]
[0]
[0]
[0]
[0]
[0]
[0]
[0]
[0]
[0]
[0]
[0]
[0]
[0]
[0]
[0]
[0]
[0]
[0]
[0]
[0]
[0]
[0]
[0]
[0]
[0]
[0]
[0]
[0]
[0]
[0]
[0]
[0]
[0]
[0]
[0]
[0]
[0]
[0]
[0]
[0]
[0]
[0]
[0]
[{"$f":"P7876","v":0}]
[0]
[0]
[0]
[0]
[0]
[0]
[0]
[0]
[0]
[0]
[0]
[0]
[0]
[0]
[0]
[0]
[0]
[0]
[0]
[0]
[0]
[0]
[0]
[0]
[0]
[0]
[0]
[0]
[0]
[0]
[0]
[0]
[0]
[0]
[0]
[0]
[0]
[0]
[0]
[0]
[0]
[0]
[0]
[0]
[0]
[0]
[0]
[0]
[0]
[0]
[0]
[0]
[0]
[0]
[0]
[0]
[0]
[0]
[0]
[0]
[0]
[0]
[0]
[{"$f":"P7940","v":0}]
[0]
[0]
[0]
[0]
[0]
[0]
[0]
[0]
[0]
[0]
[0]
[0]
[0]
[0]
[0]
[0]
[0]
[0]
[0]
[0]
[0]
[0]
[0]
[0]
[0]
[0]
[0]
[0]
[0]
[0]
[0]
[0]
[0]
[0]
[0]
[0]
[0]
[0]
[0]
[0]
[0]
[0]
[0]
[0]
[0]
[0]
[0]
[0]
[0]
[0]
[0]
[0]
[0]
[0]
[0]
[0]
[0]
[0]
[0]
[0]
[0]
[0]
[0]
[{"$f":"P8004","v":0}]
[0]
[0]
[0]
[0]
[0]
[0]
[0]
[0]
[0]
[0]
[0]
[0]
[0]
[0]
[0]
[0]
[0]
[0]
[0]
[0]
[0]
[0]
[0]
[0]
[0]
[0]
[0]
[0]
[0]
[0]
[0]
[0]
[0]
[0]
[0]
[0]
[0]
[0]
[0]
[0]
[0]
[0]
[0]
[0]
[0]
[0]
[0]
[0]
[0]
[0]
[0]
[0]
[0]
[0]
[0]
[0]
[0]
[0]
[0]
[0]
[0]
[0]
[0]
[{"$f":"P8068","v":0}]
[0]
[0]
[0]
[0]
[0]
[0]
[0]
[0]
[0]
[0]
[0]
[0]
[0]
[0]
[0]
[0]
[0]
[0]
[0]
[0]
[0]
[0]
[0]
[0]
[0]
[0]
[0]
[0]
[0]
[0]
[0]
[0]
[0]
[0]
[0]
[0]
[0]
[0]
[0]
[0]
[0]
[0]
[0]
[0]
[0]
[0]
[0]
[0]
[0]
[0]
[0]
[0]
[0]
[0]
[0]
[0]
[0]
[0]
[0]
[0]
[0]
[0]
[0]
[{"$f":"P8132","v":0}]
[0]
[0]
[0]
[0]
[0]
[0]
[0]
[0]
[0]
[0]
[0]
[0]
[0]
[0]
[0]
[0]
[0]
[0]
[0]
[0]
[0]
[0]
[0]
[0]
[0]
[0]
[0]
[0]
[0]
[0]
[0]
[0]
[0]
[0]
[0]
[0]
[0]
[0]
[0]
[0]
[0]
[0]
[0]
[0]
[0]
[0]
[0]
[0]
[0]
[0]
[0]
[0]
[0]
[0]
[0]
[0]
[0]
[0]
[0]
[0]
[0]
[0]
[0]
[{"$f":"P8196","v":0}]
[0]
[0]
[0]
[0]
[0]
[0]
[0]
[0]
[0]
[0]
[0]
[0]
[0]
[0]
[0]
[0]
[0]
[0]
[0]
[0]
[0]
[0]
[0]
[0]
[0]
[0]
[0]
[0]
[0]
[0]
[0]
[0]
[0]
[0]
[0]
[0]
[0]
[0]
[0]
[0]
[0]
[0]
[0]
[0]
[0]
[0]
[0]
[0]
[0]
[0]
[0]
[0]
[0]
[0]
[0]
[0]
[0]
[0]
[0]
[0]
[0]
[0]
[0]
[{"$f":"P8260","v":0}]
[0]
[0]
[0]
[0]
[0]
[0]
[0]
[0]
[0]
[0]
[0]
[0]
[0]
[0]
[0]
[0]
[0]
[0]
[0]
[0]
[0]
[0]
[0]
[0]
[0]
[0]
[0]
[0]
[0]
[0]
[0]
[0]
[0]
[0]
[0]
[0]
[0]
[0]
[0]
[0]
[0]
[0]
[0]
[0]
[0]
[0]
[0]
[0]
[0]
[0]
[0]
[0]
[0]
[0]
[0]
[0]
[0]
[0]
[0]
[0]
[0]
[0]
[0]
[{"$f":"P8324","v":0}]
[0]
[0]
[0]
[0]
[0]
[0]
[0]
[0]
[0]
[0]
[0]
[0]
[0]
[0]
[0]
[0]
[0]
[0]
[0]
[0]
[0]
[0]
[0]
[0]
[0]
[0]
[0]
[0]
[0]
[0]
[0]
[0]
[0]
[0]
[0]
[0]
[0]
[0]
[0]
[0]
[0]
[0]
[0]
[0]
[0]
[0]
[0]
[0]
[0]
[0]
[0]
[0]
[0]
[0]
[0]
[0]
[0]
[0]
[0]
[0]
[0]
[0]
[0]
[{"$f":"P8388","v":0}]
[0]
[0]
[0]
[0]
[0]
[0]
[0]
[0]
[0]
[0]
[0]
[0]
[0]
[0]
[0]
[0]
[0]
[0]
[0]
[0]
[0]
[0]
[0]
[0]
[0]
[0]
[0]
[0]
[0]
[0]
[0]
[0]
[0]
[0]
[0]
[0]
[0]
[0]
[0]
[0]
[0]
[0]
[0]
[0]
[0]
[0]
[0]
[0]
[0]
[0]
[0]
[0]
[0]
[0]
[0]
[0]
[0]
[0]
[0]
[0]
[0]
[0]
[0]
[{"$f":"P8452","v":0}]
[0]
[0]
[0]
[0]
[0]
[0]
[0]
[0]
[0]
[0]
[0]
[0]
[0]
[0]
[0]
[0]
[0]
[0]
[0]
[0]
[0]
[0]
[0]
[0]
[0]
[0]
[0]
[0]
[0]
[0]
[0]
[0]
[0]
[0]
[0]
[0]
[0]
[0]
[0]
[0]
[0]
[0]
[0]
[0]
[0]
[0]
[0]
[0]
[0]
[0]
[0]
[0]
[0]
[0]
[0]
[0]
[0]
[0]
[0]
[0]
[0]
[0]
[0]
[{"$f":"P8516","v":0}]
[0]
[0]
[0]
[0]
[0]
[0]
[0]
[0]
[0]
[0]
[0]
[0]
[0]
[0]
[0]
[0]
[0]
[0]
[0]
[0]
[0]
[0]
[0]
[0]
[0]
[0]
[0]
[0]
[0]
[0]
[0]
[0]
[0]
[0]
[0]
[0]
[0]
[0]
[0]
[0]
[0]
[0]
[0]
[0]
[0]
[0]
[0]
[0]
[0]
[0]
[0]
[0]
[0]
[0]
[0]
[0]
[0]
[0]
[0]
[0]
[0]
[0]
[0]
[{"$f":"P8580","v":0}]
[0]
[0]
[0]
[0]
[0]
[0]
[0]
[0]
[0]
[0]
[0]
[0]
[0]
[0]
[0]
[0]
[0]
[0]
[0]
[0]
[0]
[0]
[0]
[0]
[0]
[0]
[0]
[0]
[0]
[0]
[0]
[0]
[0]
[0]
[0]
[0]
[0]
[0]
[0]
[0]
[0]
[0]
[0]
[0]
[0]
[0]
[0]
[0]
[0]
[0]
[0]
[0]
[0]
[0]
[0]
[0]
[0]
[0]
[0]
[0]
[0]
[0]
[0]
[{"$f":"P8644","v":0}]
[0]
[0]
[0]
[0]
[0]
[0]
[0]
[0]
[0]
[0]
[0]
[0]
[0]
[0]
[0]
[0]
[0]
[0]
[0]
[0]
[0]
[0]
[0]
[0]
[0]
[0]
[0]
[0]
[0]
[0]
[0]
[0]
[0]
[0]
[0]
[0]
[0]
[0]
[0]
[0]
[0]
[0]
[0]
[0]
[0]
[0]
[0]
[0]
[0]
[0]
[0]
[0]
[0]
[0]
[0]
[0]
[0]
[0]
[0]
[0]
[0]
[0]
[0]
[{"$f":"P8708","v":0}]
[0]
[0]
[0]
[0]
[0]
[0]
[0]
[0]
[0]
[0]
[0]
[0]
[0]
[0]
[0]
[0]
[0]
[0]
[0]
[0]
[0]
[0]
[0]
[0]
[0]
[0]
[0]
[0]
[0]
[0]
[0]
[0]
[0]
[0]
[0]
[0]
[0]
[0]
[0]
[0]
[0]
[0]
[0]
[0]
[0]
[0]
[0]
[0]
[0]
[0]
[0]
[0]
[0]
[0]
[0]
[0]
[0]
[0]
[0]
[0]
[0]
[0]
[0]
[{"$f":"P8772","v":0}]
[0]
[0]
[0]
[0]
[0]
[0]
[0]
[0]
[0]
[0]
[0]
[0]
[0]
[0]
[0]
[0]
[0]
[0]
[0]
[0]
[0]
[0]
[0]
[0]
[0]
[0]
[0]
[0]
[0]
[0]
[0]
[0]
[0]
[0]
[0]
[0]
[0]
[0]
[0]
[0]
[0]
[0]
[0]
[0]
[0]
[0]
[0]
[0]
[0]
[0]
[0]
[0]
[0]
[0]
[0]
[0]
[0]
[0]
[0]
[0]
[0]
[0]
[0]
[{"$f":"P8836","v":0}]
[0]
[0]
[0]
[0]
[0]
[0]
[0]
[0]
[0]
[0]
[0]
[0]
[0]
[0]
[0]
[0]
[0]
[0]
[0]
[0]
[0]
[0]
[0]
[0]
[0]
[0]
[0]
[0]
[0]
[0]
[0]
[0]
[0]
[0]
[0]
[0]
[0]
[0]
[0]
[0]
[0]
[0]
[0]
[0]
[0]
[0]
[0]
[0]
[0]
[0]
[0]
[0]
[0]
[0]
[0]
[0]
[0]
[0]
[0]
[0]
[0]
[0]
[0]
[{"$f":"P8900","v":0}]
[0]
[0]
[0]
[0]
[0]
[0]
[0]
[0]
[0]
[0]
[0]
[0]
[0]
[0]
[0]
[0]
[0]
[0]
[0]
[0]
[0]
[0]
[0]
[0]
[0]
[0]
[0]
[0]
[0]
[0]
[0]
[0]
[0]
[0]
[0]
[0]
[0]
[0]
[0]
[0]
[0]
[0]
[0]
[0]
[0]
[0]
[0]
[0]
[0]
[0]
[0]
[0]
[0]
[0]
[0]
[0]
[0]
[0]
[0]
[0]
[0]
[0]
[0]
[{"$f":"P8964","v":0}]
[0]
[0]
[0]
[0]
[0]
[0]
[0]
[0]
[0]
[0]
[0]
[0]
[0]
[0]
[0]
[0]
[0]
[0]
[0]
[0]
[0]
[0]
[0]
[0]
[0]
[0]
[0]
[0]
[0]
[0]
[0]
[0]
[0]
[0]
[0]
[0]
[0]
[0]
[0]
[0]
[0]
[0]
[0]
[0]
[0]
[0]
[0]
[0]
[0]
[0]
[0]
[0]
[0]
[0]
[0]
[0]
[0]
[0]
[0]
[0]
[0]
[0]
[0]
[{"$f":"P9028","v":0}]
[0]
[0]
[0]
[0]
[0]
[0]
[0]
[0]
[0]
[0]
[0]
[0]
[0]
[0]
[0]
[0]
[0]
[0]
[0]
[0]
[0]
[0]
[0]
[0]
[0]
[0]
[0]
[0]
[0]
[0]
[0]
[0]
[0]
[0]
[0]
[0]
[0]
[0]
[0]
[0]
[0]
[0]
[0]
[0]
[0]
[0]
[0]
[0]
[0]
[0]
[0]
[0]
[0]
[0]
[0]
[0]
[0]
[0]
[0]
[0]
[0]
[0]
[0]
[{"$f":"P9092","v":0}]
[0]
[0]
[0]
[0]
[0]
[0]
[0]
[0]
[0]
[0]
[0]
[0]
[0]
[0]
[0]
[0]
[0]
[0]
[0]
[0]
[0]
[0]
[0]
[0]
[0]
[0]
[0]
[0]
[0]
[0]
[0]
[0]
[0]
[0]
[0]
[0]
[0]
[0]
[0]
[0]
[0]
[0]
[0]
[0]
[0]
[0]
[0]
[0]
[0]
[0]
[0]
[0]
[0]
[0]
[0]
[0]
[0]
[0]
[0]
[0]
[0]
[0]
[0]
[{"$f":"P9156","v":0}]
[0]
[0]
[0]
[0]
[0]
[0]
[0]
[0]
[0]
[0]
[0]
[0]
[0]
[0]
[0]
[0]
[0]
[0]
[0]
[0]
[0]
[0]
[0]
[0]
[0]
[0]
[0]
[0]
[0]
[0]
[0]
[0]
[0]
[0]
[0]
[0]
[0]
[0]
[0]
[0]
[0]
[0]
[0]
[0]
[0]
[0]
[0]
[0]
[0]
[0]
[0]
[0]
[0]
[0]
[0]
[0]
[0]
[0]
[0]
[0]
[0]
[0]
[0]
[{"$f":"P9220","v":0}]
[0]
[0]
[0]
[0]
[0]
[0]
[0]
[0]
[0]
[0]
[0]
[0]
[0]
[0]
[0]
[0]
[0]
[0]
[0]
[0]
[0]
[0]
[0]
[0]
[0]
[0]
[0]
[0]
[0]
[0]
[0]
[0]
[0]
[0]
[0]
[0]
[0]
[0]
[0]
[0]
[0]
[0]
[0]
[0]
[0]
[0]
[0]
[0]
[0]
[0]
[0]
[0]
[0]
[0]
[0]
[0]
[0]
[0]
[0]
[0]
[0]
[0]
[0]
[{"$f":"P9284","v":0}]
[0]
[0]
[0]
[0]
[0]
[0]
[0]
[0]
[0]
[0]
[0]
[0]
[0]
[0]
[0]
[0]
[0]
[0]
[0]
[0]
[0]
[0]
[0]
[0]
[0]
[0]
[0]
[0]
[0]
[0]
[0]
[0]
[0]
[0]
[0]
[0]
[0]
[0]
[0]
[0]
[0]
[0]
[0]
[0]
[0]
[0]
[0]
[0]
[0]
[0]
[0]
[0]
[0]
[0]
[0]
[0]
[0]
[0]
[0]
[0]
[0]
[0]
[0]
[{"$f":"P9348","v":0}]
[0]
[0]
[0]
[0]
[0]
[0]
[0]
[0]
[0]
[0]
[0]
[0]
[0]
[0]
[0]
[0]
[0]
[0]
[0]
[0]
[0]
[0]
[0]
[0]
[0]
[0]
[0]
[0]
[0]
[0]
[0]
[0]
[0]
[0]
[0]
[0]
[0]
[0]
[0]
[0]
[0]
[0]
[0]
[0]
[0]
[0]
[0]
[0]
[0]
[0]
[0]
[0]
[0]
[0]
[0]
[0]
[0]
[0]
[0]
[0]
[0]
[0]
[0]
[{"$f":"P9412","v":0}]
[0]
[0]
[0]
[0]
[0]
[0]
[0]
[0]
[0]
[0]
[0]
[0]
[0]
[0]
[0]
[0]
[0]
[0]
[0]
[0]
[0]
[0]
[0]
[0]
[0]
[0]
[0]
[0]
[0]
[0]
[0]
[0]
[0]
[0]
[0]
[0]
[0]
[0]
[0]
[0]
[0]
[0]
[0]
[0]
[0]
[0]
[0]
[0]
[0]
[0]
[0]
[0]
[0]
[0]
[0]
[0]
[0]
[0]
[0]
[0]
[0]
[0]
[0]
[{"$f":"P9476","v":0}]
[0]
[0]
[0]
[0]
[0]
[0]
[0]
[0]
[0]
[0]
[0]
[0]
[0]
[0]
[0]
[0]
[0]
[0]
[0]
[0]
[0]
[0]
[0]
[0]
[0]
[0]
[0]
[0]
[0]
[0]
[0]
[0]
[0]
[0]
[0]
[0]
[0]
[0]
[0]
[0]
[0]
[0]
[0]
[0]
[0]
[0]
[0]
[0]
[0]
[0]
[0]
[0]
[0]
[0]
[0]
[0]
[0]
[0]
[0]
[0]
[0]
[0]
[0]
[{"$f":"P9540","v":0}]
[0]
[0]
[0]
[0]
[0]
[0]
[0]
[0]
[0]
[0]
[0]
[0]
[0]
[0]
[0]
[0]
[0]
[0]
[0]
[0]
[0]
[0]
[0]
[0]
[0]
[0]
[0]
[0]
[0]
[0]
[0]
[0]
[0]
[0]
[0]
[0]
[0]
[0]
[0]
[0]
[0]
[0]
[0]
[0]
[0]
[0]
[0]
[0]
[0]
[0]
[0]
[0]
[0]
[0]
[0]
[0]
[0]
[0]
[0]
[0]
[0]
[0]
[0]
[{"$f":"P9604","v":0}]
[0]
[0]
[0]
[0]
[0]
[0]
[0]
[0]
[0]
[0]
[0]
[0]
[0]
[0]
[0]
[0]
[0]
[0]
[0]
[0]
[0]
[0]
[0]
[0]
[0]
[0]
[0]
[0]
[0]
[0]
[0]
[0]
[0]
[0]
[0]
[0]
[0]
[0]
[0]
[0]
[0]
[0]
[0]
[0]
[0]
[0]
[0]
[0]
[0]
[0]
[0]
[0]
[0]
[0]
[0]
[0]
[0]
[0]
[0]
[0]
[0]
[0]
[0]
[{"$f":"P9668","v":0}]
[0]
[0]
[0]
[0]
[0]
[0]
[0]
[0]
[0]
[0]
[0]
[0]
[0]
[0]
[0]
[0]
[0]
[0]
[0]
[0]
[0]
[0]
[0]
[0]
[0]
[0]
[0]
[0]
[0]
[0]
[0]
[0]
[0]
[0]
[0]
[0]
[0]
[0]
[0]
[0]
[0]
[0]
[0]
[0]
[0]
[0]
[0]
[0]
[0]
[0]
[0]
[0]
[0]
[0]
[0]
[0]
[0]
[0]
[0]
[0]
[0]
[0]
[0]
[{"$f":"P9732","v":0}]
[0]
[0]
[0]
[0]
[0]
[0]
[0]
[0]
[0]
[0]
[0]
[0]
[0]
[0]
[0]
[0]
[0]
[0]
[0]
[0]
[0]
[0]
[0]
[0]
[0]
[0]
[0]
[0]
[0]
[0]
[0]
[0]
[0]
[0]
[0]
[0]
[0]
[0]
[0]
[0]
[0]
[0]
[0]
[0]
[0]
[0]
[0]
[0]
[0]
[0]
[0]
[0]
[0]
[0]
[0]
[0]
[0]
[0]
[0]
[0]
[0]
[0]
[0]
[{"$f":"P9796","v":0}]
[0]
[0]
[0]
[0]
[0]
[0]
[0]
[0]
[0]
[0]
[0]
[0]
[0]
[0]
[0]
[0]
[0]
[0]
[0]
[0]
[0]
[0]
[0]
[0]
[0]
[0]
[0]
[0]
[0]
[0]
[0]
[0]
[0]
[0]
[0]
[0]
[0]
[0]
[0]
[0]
[0]
[0]
[0]
[0]
[0]
[0]
[0]
[0]
[0]
[0]
[0]
[0]
[0]
[0]
[0]
[0]
[0]
[0]
[0]
[0]
[0]
[0]
[0]
[{"$f":"P9860","v":0}]
[0]
[0]
[0]
[0]
[0]
[0]
[0]
[0]
[0]
[0]
[0]
[0]
[0]
[0]
[0]
[0]
[0]
[0]
[0]
[0]
[0]
[0]
[0]
[0]
[0]
[0]
[0]
[0]
[0]
[0]
[0]
[0]
[0]
[0]
[0]
[0]
[0]
[0]
[0]
[0]
[0]
[0]
[0]
[0]
[0]
[0]
[0]
[0]
[0]
[0]
[0]
[0]
[0]
[0]
[0]
[0]
[0]
[0]
[0]
[0]
[0]
[0]
[0]
[{"$f":"P9924","v":0}]
[0]
[0]
[0]
[0]
[0]
[0]
[0]
[0]
[0]
[0]
[0]
[0]
[0]
[0]
[0]
[0]
[0]
[0]
[0]
[0]
[0]
[0]
[0]
[0]
[0]
[0]
[0]
[0]
[0]
[0]
[0]
[0]
[0]
[0]
[0]
[0]
[0]
[0]
[0]
[0]
[0]
[0]
[0]
[0]
[0]
[0]
[0]
[0]
[0]
[0]
[0]
[0]
[0]
[0]
[0]
[0]
[0]
[0]
[0]
[0]
[0]
[0]
[0]
[{"$f":"P9988","v":0}]
[0]
[0]
[0]
[0]
[0]
[0]
[0]
[0]
[0]
[0]
[0]
[0]
[0]
[0]
[0]
[0]
[0]
[0]
[0]
[0]
[0]
[0]
[0]
[0]
[0]
[0]
[0]
[0]
[0]
[0]
[0]
[0]
[0]
[0]
[0]
[0]
[0]
[0]
[0]
[0]
[0]
[0]
[0]
[0]
[0]
[0]
[0]
[0]
[0]
[0]
[0]
[0]
[0]
[0]
[0]
[0]
[0]
[0]
[0]
[0]
[0]
[0]
[0]
[{"$f":"P10052","v":0}]
[0]
[0]
[0]
[0]
[0]
[0]
[0]
[0]
[0]
[0]
[0]
[0]
[0]
[0]
[0]
[0]
[0]
[0]
[0]
[0]
[0]
[0]
[0]
[0]
[0]
[0]
[0]
[0]
[0]
[0]
[0]
[0]
[0]
[0]
[0]
[0]
[0]
[0]
[0]
[0]
[0]
[0]
[0]
[0]
[0]
[0]
[0]
[0]
[0]
[0]
[0]
[0]
[0]
[0]
[0]
[0]
[0]
[0]
[0]
[0]
[0]
[0]
[0]
[{"$f":"P10116","v":0}]
[0]
[0]
[0]
[0]
[0]
[0]
[0]
[0]
[0]
[0]
[0]
[0]
[0]
[0]
[0]
[0]
[0]
[0]
[0]
[0]
[0]
[0]
[0]
[0]
[0]
[0]
[0]
[0]
[0]
[0]
[0]
[0]
[0]
[0]
[0]
[0]
[0]
[0]
[0]
[0]
[0]
[0]
[0]
[0]
[0]
[0]
[0]
[0]
[0]
[0]
[0]
[0]
[0]
[0]
[0]
[0]
[0]
[0]
[0]
[0]
[0]
[0]
[0]
[{"$f":"P10180","v":0}]
[0]
[0]
[0]
[0]
[0]
[0]
[0]
[0]
[0]
[0]
[0]
[0]
[0]
[0]
[0]
[0]
[0]
[0]
[0]
[0]
[0]
[0]
[0]
[0]
[0]
[0]
[0]
[0]
[0]
[0]
[0]
[0]
[0]
[0]
[0]
[0]
[0]
[0]
[0]
[0]
[0]
[0]
[0]
[0]
[0]
[0]
[0]
[0]
[0]
[0]
[0]
[0]
[0]
[0]
[0]
[0]
[0]
[0]
[0]
[0]
[0]
[0]
[0]
[{"$f":"P10244","v":0}]
[0]
[0]
[0]
[0]
[0]
[0]
[0]
[0]
[0]
[0]
[0]
[0]
[0]
[0]
[0]
[0]
[0]
[0]
[0]
[0]
[0]
[0]
[0]
[0]
[0]
[0]
[0]
[0]
[0]
[0]
[0]
[0]
[0]
[0]
[0]
[0]
[0]
[0]
[0]
[0]
[0]
[0]
[0]
[0]
[0]
[0]
[0]
[0]
[0]
[0]
[0]
[0]
[0]
[0]
[0]
[0]
[0]
[0]
[0]
[0]
[0]
[0]
[0]
[{"$f":"P10308","v":0}]
[0]
[0]
[0]
[0]
[0]
[0]
[0]
[0]
[0]
[0]
[0]
[0]
[0]
[0]
[0]
[0]
[0]
[0]
[0]
[0]
[0]
[0]
[0]
[0]
[0]
[0]
[0]
[0]
[0]
[0]
[0]
[0]
[0]
[0]
[0]
[0]
[0]
[0]
[0]
[0]
[0]
[0]
[0]
[0]
[0]
[0]
[0]
[0]
[0]
[0]
[0]
[0]
[0]
[0]
[0]
[0]
[0]
[0]
[0]
[0]
[0]
[0]
[0]
[{"$f":"P10372","v":0}]
[0]
[0]
[0]
[0]
[0]
[0]
[0]
[0]
[0]
[0]
[0]
[0]
[0]
[0]
[0]
[0]
[0]
[0]
[0]
[0]
[0]
[0]
[0]
[0]
[0]
[0]
[0]
[0]
[0]
[0]
[0]
[0]
[0]
[0]
[0]
[0]
[0]
[0]
[0]
[0]
[0]
[0]
[0]
[0]
[0]
[0]
[0]
[0]
[0]
[0]
[0]
[0]
[0]
[0]
[0]
[0]
[0]
[0]
[0]
[0]
[0]
[0]
[0]
[{"$f":"P10436","v":0}]
[0]
[0]
[0]
[0]
[0]
[0]
[0]
[0]
[0]
[0]
[0]
[0]
[0]
[0]
[0]
[0]
[0]
[0]
[0]
[0]
[0]
[0]
[0]
[0]
[0]
[0]
[0]
[0]
[0]
[0]
[0]
[0]
[0]
[0]
[0]
[0]
[0]
[0]
[0]
[0]
[0]
[0]
[0]
[0]
[0]
[0]
[0]
[0]
[0]
[0]
[0]
[0]
[0]
[0]
[0]
[0]
[0]
[0]
[0]
[0]
[0]
[0]
[0]
[{"$f":"P10500","v":0}]
[0]
[0]
[0]
[0]
[0]
[0]
[0]
[0]
[0]
[0]
[0]
[0]
[0]
[0]
[0]
[0]
[0]
[0]
[0]
[0]
[0]
[0]
[0]
[0]
[0]
[0]
[0]
[0]
[0]
[0]
[0]
[0]
[0]
[0]
[0]
[0]
[0]
[0]
[0]
[0]
[0]
[0]
[0]
[0]
[0]
[0]
[0]
[0]
[0]
[0]
[0]
[0]
[0]
[0]
[0]
[0]
[0]
[0]
[0]
[0]
[0]
[0]
[0]
[{"$f":"P10564","v":0}]
[0]
[0]
[0]
[0]
[0]
[0]
[0]
[0]
[0]
[0]
[0]
[0]
[0]
[0]
[0]
[0]
[0]
[0]
[0]
[0]
[0]
[0]
[0]
[0]
[0]
[0]
[0]
[0]
[0]
[0]
[0]
[0]
[0]
[0]
[0]
[0]
[0]
[0]
[0]
[0]
[0]
[0]
[0]
[0]
[0]
[0]
[0]
[0]
[0]
[0]
[0]
[0]
[0]
[0]
[0]
[0]
[0]
[0]
[0]
[0]
[0]
[0]
[0]
[{"$f":"P10628","v":0}]
[0]
[0]
[0]
[0]
[0]
[0]
[0]
[0]
[0]
[0]
[0]
[0]
[0]
[0]
[0]
[0]
[0]
[0]
[0]
[0]
[0]
[0]
[0]
[0]
[0]
[0]
[0]
[0]
[0]
[0]
[0]
[0]
[0]
[0]
[0]
[0]
[0]
[0]
[0]
[0]
[0]
[0]
[0]
[0]
[0]
[0]
[0]
[0]
[0]
[0]
[0]
[0]
[0]
[0]
[0]
[0]
[0]
[0]
[0]
[0]
[0]
[0]
[0]
[{"$f":"P10692","v":0}]
[0]
[0]
[0]
[0]
[0]
[0]
[0]
[0]
[0]
[0]
[0]
[0]
[0]
[0]
[0]
[0]
[0]
[0]
[0]
[0]
[0]
[0]
[0]
[0]
[0]
[0]
[0]
[0]
[0]
[0]
[0]
[0]
[0]
[0]
[0]
[0]
[0]
[0]
[0]
[0]
[0]
[0]
[0]
[0]
[0]
[0]
[0]
[0]
[0]
[0]
[0]
[0]
[0]
[0]
[0]
[0]
[0]
[0]
[0]
[0]
[0]
[0]
[0]
[{"$f":"P10756","v":0}]
[0]
[0]
[0]
[0]
[0]
[0]
[0]
[0]
[0]
[0]
[0]
[0]
[0]
[0]
[0]
[0]
[0]
[0]
[0]
[0]
[0]
[0]
[0]
[0]
[0]
[0]
[0]
[0]
[0]
[0]
[0]
[0]
[0]
[0]
[0]
[0]
[0]
[0]
[0]
[0]
[0]
[0]
[0]
[0]
[0]
[0]
[0]
[0]
[0]
[0]
[0]
[0]
[0]
[0]
[0]
[0]
[0]
[0]
[0]
[0]
[0]
[0]
[0]
[{"$f":"P10820","v":0}]
[0]
[0]
[0]
[0]
[0]
[0]
[0]
[0]
[0]
[0]
[0]
[0]
[0]
[0]
[0]
[0]
[0]
[0]
[0]
[0]
[0]
[0]
[0]
[0]
[0]
[0]
[0]
[0]
[0]
[0]
[0]
[0]
[0]
[0]
[0]
[0]
[0]
[0]
[0]
[0]
[0]
[0]
[0]
[0]
[0]
[0]
[0]
[0]
[0]
[0]
[0]
[0]
[0]
[0]
[0]
[0]
[0]
[0]
[0]
[0]
[0]
[0]
[0]
[{"$f":"P10884","v":0}]
[0]
[0]
[0]
[0]
[0]
[0]
[0]
[0]
[0]
[0]
[0]
[0]
[0]
[0]
[0]
[0]
[0]
[0]
[0]
[0]
[0]
[0]
[0]
[0]
[0]
[0]
[0]
[0]
[0]
[0]
[0]
[0]
[0]
[0]
[0]
[0]
[0]
[0]
[0]
[0]
[0]
[0]
[0]
[0]
[0]
[0]
[0]
[0]
[0]
[0]
[0]
[0]
[0]
[0]
[0]
[0]
[0]
[0]
[0]
[0]
[0]
[0]
[0]
[{"$f":"P10948","v":0}]
[0]
[0]
[0]
[0]
[0]
[0]
[0]
[0]
[0]
[0]
[0]
[0]
[0]
[0]
[0]
[0]
[0]
[0]
[0]
[0]
[0]
[0]
[0]
[0]
[0]
[0]
[0]
[0]
[0]
[0]
[0]
[0]
[0]
[0]
[0]
[0]
[0]
[0]
[0]
[0]
[0]
[0]
[0]
[0]
[0]
[0]
[0]
[0]
[0]
[0]
[0]
[0]
[0]
[0]
[0]
[0]
[0]
[0]
[0]
[0]
[0]
[0]
[0]
[{"$f":"P11012","v":0}]
[0]
[0]
[0]
[0]
[0]
[0]
[0]
[0]
[0]
[0]
[0]
[0]
[0]
[0]
[0]
[0]
[0]
[0]
[0]
[0]
[0]
[0]
[0]
[0]
[0]
[0]
[0]
[0]
[0]
[0]
[0]
[0]
[0]
[0]
[0]
[0]
[0]
[0]
[0]
[0]
[0]
[0]
[0]
[0]
[0]
[0]
[0]
[0]
[0]
[0]
[0]
[0]
[0]
[0]
[0]
[0]
[0]
[0]
[0]
[0]
[0]
[0]
[0]
[{"$f":"P11076","v":0}]
[0]
[0]
[0]
[0]
[0]
[0]
[0]
[0]
[0]
[0]
[0]
[0]
[0]
[0]
[0]
[0]
[0]
[0]
[0]
[0]
[0]
[0]
[0]
[0]
[0]
[0]
[0]
[0]
[0]
[0]
[0]
[0]
[0]
[0]
[0]
[0]
[0]
[0]
[0]
[0]
[0]
[0]
[0]
[0]
[0]
[0]
[0]
[0]
[0]
[0]
[0]
[0]
[0]
[0]
[0]
[0]
[0]
[0]
[0]
[0]
[0]
[0]
[0]
[{"$f":"P11140","v":0}]
[0]
[0]
[0]
[0]
[0]
[0]
[0]
[0]
[0]
[0]
[0]
[0]
[0]
[0]
[0]
[0]
[0]
[0]
[0]
[0]
[0]
[0]
[0]
[0]
[0]
[0]
[0]
[0]
[0]
[0]
[0]
[0]
[0]
[0]
[0]
[0]
[0]
[0]
[0]
[0]
[0]
[0]
[0]
[0]
[0]
[0]
[0]
[0]
[0]
[0]
[0]
[0]
[0]
[0]
[0]
[0]
[0]
[0]
[0]
[0]
[0]
[0]
[0]
[{"$f":"P11204","v":0}]
[0]
[0]
[0]
[0]
[0]
[0]
[0]
[0]
[0]
[0]
[0]
[0]
[0]
[0]
[0]
[0]
[0]
[0]
[0]
[0]
[0]
[0]
[0]
[0]
[0]
[0]
[0]
[0]
[0]
[0]
[0]
[0]
[0]
[0]
[0]
[0]
[0]
[0]
[0]
[0]
[0]
[0]
[0]
[0]
[0]
[0]
[0]
[0]
[0]
[0]
[0]
[0]
[0]
[0]
[0]
[0]
[0]
[0]
[0]
[0]
[0]
[0]
[0]
[{"$f":"P11268","v":0}]
[0]
[0]
[0]
[0]
[0]
[0]
[0]
[0]
[0]
[0]
[0]
[0]
[0]
[0]
[0]
[0]
[0]
[0]
[0]
[0]
[0]
[0]
[0]
[0]
[0]
[0]
[0]
[0]
[0]
[0]
[0]
[0]
[0]
[0]
[0]
[0]
[0]
[0]
[0]
[0]
[0]
[0]
[0]
[0]
[0]
[0]
[0]
[0]
[0]
[0]
[0]
[0]
[0]
[0]
[0]
[0]
[0]
[0]
[0]
[0]
[0]
[0]
[0]
[{"$f":"P11332","v":0}]
[0]
[0]
[0]
[0]
[0]
[0]
[0]
[0]
[0]
[0]
[0]
[0]
[0]
[0]
[0]
[0]
[0]
[0]
[0]
[0]
[0]
[0]
[0]
[0]
[0]
[0]
[0]
[0]
[0]
[0]
[0]
[0]
[0]
[0]
[0]
[0]
[0]
[0]
[0]
[0]
[0]
[0]
[0]
[0]
[0]
[0]
[0]
[0]
[0]
[0]
[0]
[0]
[0]
[0]
[0]
[0]
[0]
[0]
[0]
[0]
[0]
[0]
[0]
[{"$f":"P11396","v":0}]
[0]
[0]
[0]
[0]
[0]
[0]
[0]
[0]
[0]
[0]
[0]
[0]
[0]
[0]
[0]
[0]
[0]
[0]
[0]
[0]
[0]
[0]
[0]
[0]
[0]
[0]
[0]
[0]
[0]
[0]
[0]
[0]
[0]
[0]
[0]
[0]
[0]
[0]
[0]
[0]
[0]
[0]
[0]
[0]
[0]
[0]
[0]
[0]
[0]
[0]
[0]
[0]
[0]
[0]
[0]
[0]
[0]
[0]
[0]
[0]
[0]
[0]
[0]
[{"$f":"P11460","v":0}]
[0]
[0]
[0]
[0]
[0]
[0]
[0]
[0]
[0]
[0]
[0]
[0]
[0]
[0]
[0]
[0]
[0]
[0]
[0]
[0]
[0]
[0]
[0]
[0]
[0]
[0]
[0]
[0]
[0]
[0]
[0]
[0]
[0]
[0]
[0]
[0]
[0]
[0]
[0]
[0]
[0]
[0]
[0]
[0]
[0]
[0]
[0]
[0]
[0]
[0]
[0]
[0]
[0]
[0]
[0]
[0]
[0]
[0]
[0]
[0]
[0]
[0]
[0]
[{"$f":"P11524","v":0}]
[0]
[0]
[0]
[0]
[0]
[0]
[0]
[0]
[0]
[0]
[0]
[0]
[0]
[0]
[0]
[0]
[0]
[0]
[0]
[0]
[0]
[0]
[0]
[0]
[0]
[0]
[0]
[0]
[0]
[0]
[0]
[0]
[0]
[0]
[0]
[0]
[0]
[0]
[0]
[0]
[0]
[0]
[0]
[0]
[0]
[0]
[0]
[0]
[0]
[0]
[0]
[0]
[0]
[0]
[0]
[0]
[0]
[0]
[0]
[0]
[0]
[0]
[0]
[{"$f":"P11588","v":0}]
[0]
[0]
[0]
[0]
[0]
[0]
[0]
[0]
[0]
[0]
[0]
[0]
[0]
[0]
[0]
[0]
[0]
[0]
[0]
[0]
[0]
[0]
[0]
[0]
[0]
[0]
[0]
[0]
[0]
[0]
[0]
[0]
[0]
[0]
[0]
[0]
[0]
[0]
[0]
[0]
[0]
[0]
[0]
[0]
[0]
[0]
[0]
[0]
[0]
[0]
[0]
[0]
[0]
[0]
[0]
[0]
[0]
[0]
[0]
[0]
[0]
[0]
[0]
[{"$f":"P11652","v":0}]
[0]
[0]
[0]
[0]
[0]
[0]
[0]
[0]
[0]
[0]
[0]
[0]
[0]
[0]
[0]
[0]
[0]
[0]
[0]
[0]
[0]
[0]
[0]
[0]
[0]
[0]
[0]
[0]
[0]
[0]
[0]
[0]
[0]
[0]
[0]
[0]
[0]
[0]
[0]
[0]
[0]
[0]
[0]
[0]
[0]
[0]
[0]
[0]
[0]
[0]
[0]
[0]
[0]
[0]
[0]
[0]
[0]
[0]
[0]
[0]
[0]
[0]
[0]
[{"$f":"P11716","v":0}]
[0]
[0]
[0]
[0]
[0]
[0]
[0]
[0]
[0]
[0]
[0]
[0]
[0]
[0]
[0]
[0]
[0]
[0]
[0]
[0]
[0]
[0]
[0]
[0]
[0]
[0]
[0]
[0]
[0]
[0]
[0]
[0]
[0]
[0]
[0]
[0]
[0]
[0]
[0]
[0]
[0]
[0]
[0]
[0]
[0]
[0]
[0]
[0]
[0]
[0]
[0]
[0]
[0]
[0]
[0]
[0]
[0]
[0]
[0]
[0]
[0]
[0]
[0]
[{"$f":"P11780","v":0}]
[0]
[0]
[0]
[0]
[0]
[0]
[0]
[0]
[0]
[0]
[0]
[0]
[0]
[0]
[0]
[0]
[0]
[0]
[0]
[0]
[0]
[0]
[0]
[0]
[0]
[0]
[0]
[0]
[0]
[0]
[0]
[0]
[0]
[0]
[0]
[0]
[0]
[0]
[0]
[0]
[0]
[0]
[0]
[0]
[0]
[0]
[0]
[0]
[0]
[0]
[0]
[0]
[0]
[0]
[0]
[0]
[0]
[0]
[0]
[0]
[0]
[0]
[0]
[{"$f":"P11844","v":0}]
[0]
[0]
[0]
[0]
[0]
[0]
[0]
[0]
[0]
[0]
[0]
[0]
[0]
[0]
[0]
[0]
[0]
[0]
[0]
[0]
[0]
[0]
[0]
[0]
[0]
[0]
[0]
[0]
[0]
[0]
[0]
[0]
[0]
[0]
[0]
[0]
[0]
[0]
[0]
[0]
[0]
[0]
[0]
[0]
[0]
[0]
[0]
[0]
[0]
[0]
[0]
[0]
[0]
[0]
[0]
[0]
[0]
[0]
[0]
[0]
[0]
[0]
[0]
[{"$f":"P11908","v":0}]
[0]
[0]
[0]
[0]
[0]
[0]
[0]
[0]
[0]
[0]
[0]
[0]
[0]
[0]
[0]
[0]
[0]
[0]
[0]
[0]
[0]
[0]
[0]
[0]
[0]
[0]
[0]
[0]
[0]
[0]
[0]
[0]
[0]
[0]
[0]
[0]
[0]
[0]
[0]
[0]
[0]
[0]
[0]
[0]
[0]
[0]
[0]
[0]
[0]
[0]
[0]
[0]
[0]
[0]
[0]
[0]
[0]
[0]
[0]
[0]
[0]
[0]
[0]
[{"$f":"P11972","v":0}]
[0]
[0]
[0]
[0]
[0]
[0]
[0]
[0]
[0]
[0]
[0]
[0]
[0]
[0]
[0]
[0]
[0]
[0]
[0]
[0]
[0]
[0]
[0]
[0]
[0]
[0]
[0]
[0]
[0]
[0]
[0]
[0]
[0]
[0]
[0]
[0]
[0]
[0]
[0]
[0]
[0]
[0]
[0]
[0]
[0]
[0]
[0]
[0]
[0]
[0]
[0]
[0]
[0]
[0]
[0]
[0]
[0]
[0]
[0]
[0]
[0]
[0]
[0]
[{"$f":"P12036","v":0}]
[0]
[0]
[0]
[0]
[0]
[0]
[0]
[0]
[0]
[0]
[0]
[0]
[0]
[0]
[0]
[0]
[0]
[0]
[0]
[0]
[0]
[0]
[0]
[0]
[0]
[0]
[0]
[0]
[0]
[0]
[0]
[0]
[0]
[0]
[0]
[0]
[0]
[0]
[0]
[0]
[0]
[0]
[0]
[0]
[0]
[0]
[0]
[0]
[0]
[0]
[0]
[0]
[0]
[0]
[0]
[0]
[0]
[0]
[0]
[0]
[0]
[0]
[0]
[{"$f":"P12100","v":0}]
[0]
[0]
[0]
[0]
[0]
[0]
[0]
[0]
[0]
[0]
[0]
[0]
[0]
[0]
[0]
[0]
[0]
[0]
[0]
[0]
[0]
[0]
[0]
[0]
[0]
[0]
[0]
[0]
[0]
[0]
[0]
[0]
[0]
[0]
[0]
[0]
[0]
[0]
[0]
[0]
[0]
[0]
[0]
[0]
[0]
[0]
[0]
[0]
[0]
[0]
[0]
[0]
[0]
[0]
[0]
[0]
[0]
[0]
[0]
[0]
[0]
[0]
[0]
[{"$f":"P12164","v":0}]
[0]
[0]
[0]
[0]
[0]
[0]
[0]
[0]
[0]
[0]
[0]
[0]
[0]
[0]
[0]
[0]
[0]
[0]
[0]
[0]
[0]
[0]
[0]
[0]
[0]
[0]
[0]
[0]
[0]
[0]
[0]
[0]
[0]
[0]
[0]
[0]
[0]
[0]
[0]
[0]
[0]
[0]
[0]
[0]
[0]
[0]
[0]
[0]
[0]
[0]
[0]
[0]
[0]
[0]
[0]
[0]
[0]
[0]
[0]
[0]
[0]
[0]
[0]
[{"$f":"P12228","v":0}]
[0]
[0]
[0]
[0]
[0]
[0]
[0]
[0]

{"sheet":"Sheet2","index":3,"n_rows":199,"n_cols":14,"rows_kept":199,"cut":false,"hidden":false,"merged":[]}
[]
["JENIS","BULAN","PKD/NON PKD","VENDOR","N","OFF FAKTUR","PKD/NON PKD",null,"DEPO A","Confirmed","JANUARY","DEPO A","OFF FAKTUR","JANUARY"]
["BULAN","JANUARY","OFF FAKTUR","GPPJ","Y","ON FAKTUR","Company",null,"DEPO B","Canceled","FEBRUARY","DEPO B","ON FAKTUR","FEBRUARY"]
["PKD/NON PKD","FEBRUARY","ON FAKTUR","TRMS",null,null,null,null,null,"Rejected","MARCH",null,null,"MARCH"]
["VENDOR","MARCH",null,"SGB",null,null,null,null,null,"Confirm To Approve","APRIL",null,null,"APRIL"]
[null,"APRIL",null,"GEN",null,null,null,null,null,"Partially Approved","MAY",null,null,"MAY"]
[null,"MAY",null,null,null,null,null,null,null,"Draft","JUNE",null,null,"JUNE"]
[null,"JUNE",null,null,null,null,null,null,null,"Return to Edit","JULY",null,null,"JULY"]
[null,"JULY",null,null,null,null,null,null,null,null,"AUGUST",null,null,"AUGUST"]
[null,"AUGUST",null,null,null,null,null,null,null,null,"SEPTEMBER",null,null,"SEPTEMBER"]
[null,"SEPTEMBER",null,null,null,null,null,null,null,null,"OCTOBER",null,null,"OCTOBER"]
[null,"OCTOBER",null,null,null,null,null,null,null,null,"NOVEMBER",null,null,"NOVEMBER"]
[null,"NOVEMBER",null,null,null,null,null,null,null,null,"DECEMBER",null,null,"DECEMBER"]
[null,"DECEMBER"]
[]
[]
[]
[]
[]
[]
[]
[]
[]
[]
[]
[]
[]
[]
[]
[]
[]
[]
[]
[]
[]
[]
[]
[]
[]
[]
[]
[]
[]
[]
[]
[]
[]
[]
[]
[]
[]
[]
[]
[]
[]
[]
[]
[]
[]
[]
[]
[]
[]
[]
[]
[]
[]
[]
[]
[]
[]
[]
[]
[]
[]
[]
[]
[]
[]
[]
[]
[]
[]
[]
[]
[]
[]
[]
[]
[]
[]
[]
[]
[]
[]
[]
[]
[]
[]
[]
[]
[]
[]
[]
[]
[]
[]
[]
[]
[]
[]
[]
[]
[]
[]
[]
[]
[]
[]
[]
[]
[]
[]
[]
[]
[]
[]
[]
[]
[]
[]
[]
[]
[]
[]
[]
[]
[]
[]
[]
[]
[]
[]
[]
[]
[]
[]
[]
[]
[]
[]
[]
[]
[]
[]
[]
[]
[]
[]
[]
[]
[]
[]
[]
[]
[]
[]
[]
[]
[]
[]
[]
[]
[]
[]
[]
[]
[]
[]
[]
[]
[]
[]
[]
[]
[]
[]
[]
[]
[]
[]
[]
[]
[]
[]
[]
[]
[]
[null,null,null,null,null,null,null,null,"HO"]